Workbook
Name onev: [1]kod!$BT$34:$BT$3186
Name onev: [1]kod!$BT$34:$BT$3186
Name onev: [2]kod!$BT$34:$BT$3186

Sheet 1.sz.tábla   (2)
A1: AZ ÖNKORMÁNYZAT 2019. ÉVI KÖLTSÉGVETÉSÉNEK FŐÖSSZESÍTŐJE
A5: MEGNEVEZÉS | B5: 2019. évi eredeti ei. | C5: 2019. évi módosított ei. II. | D5: 2019. évi módosított ei. III. | E5: Eltérés
A6: I. Működési célú támogatások államháztartáson belülről | B6: ='2.sz.tábla (2)'!N7 -> 1.4582899e+09 | C6: ='2.sz.tábla (2)'!O7 -> 1.5133249e+09 | D6: ='2.sz.tábla (2)'!P7 -> 1.6144599e+09 | E6: =D6-C6 -> 101134979
A7: II. Felhalmozási célú támogatások államháztartáson belülről | B7: ='2.sz.tábla (2)'!N22 -> 1504479834 | C7: ='2.sz.tábla (2)'!O22 -> 1696173273 | D7: ='2.sz.tábla (2)'!P22 -> 2787094189 | E7: =D7-C7 -> 1090920916
A8: III. Közhatalmi bevételek | B8: ='2.sz.tábla (2)'!N30 -> 1864200000 | C8: ='2.sz.tábla (2)'!O30 -> 1864200000 | D8: ='2.sz.tábla (2)'!P30 -> 1864200000 | E8: =D8-C8 -> 0
A9: IV. Működési bevételek | B9: ='2.sz.tábla (2)'!N43 -> 839572764 | C9: ='2.sz.tábla (2)'!O43 -> 853024418 | D9: ='2.sz.tábla (2)'!P43 -> 854593495 | E9: =D9-C9 -> 1569077
A10: V. Felhalmozási bevételek | B10: ='2.sz.tábla (2)'!N58 -> 69288400 | C10: ='2.sz.tábla (2)'!O58 -> 100788400 | D10: ='2.sz.tábla (2)'!P58 -> 100788400 | E10: =D10-C10 -> 0
A11: VI. Működési célú átvett pénzeszközök | B11: ='2.sz.tábla (2)'!N66 -> 25440000 | C11: ='2.sz.tábla (2)'!O66 -> 32600559 | D11: ='2.sz.tábla (2)'!P66 -> 33900559 | E11: =D11-C11 -> 1300000
A12: VII. Felhalmozási célú átvett pénzeszközök | B12: ='2.sz.tábla (2)'!N70 -> 453634994 | C12: ='2.sz.tábla (2)'!O70 -> 606312431 | D12: ='2.sz.tábla (2)'!P70 -> 616312431 | E12: =D12-C12 -> 10000000
A13: Költségvetési bevételek összesen: | B13: =SUM(B6:B12) -> 6.2149059e+09 | C13: =SUM(C6:C12) -> 6.666424e+09 | D13: =SUM(D6:D12) -> 7.8713489e+09 | E13: =D13-C13 -> 1204924972
A14: VIII. Finanszírozási bevételek | E14: =D14-C14 -> 0
A15: 1. Költségvetési hiány belső finanszírozására szolgáló finanszírozási bevételek | B15: ='2.sz.tábla (2)'!N76 -> 4089900918 | C15: ='2.sz.tábla (2)'!O76 -> 4146748639 | D15: ='2.sz.tábla (2)'!P76 -> 4146748639 | E15: =D15-C15 -> 0
A16: 2. Költségvetési hiány külső finanszírozására szolgáló finanszírozási célú pénzügyi műveletek bevételei | B16: ='2.sz.tábla (2)'!N79 -> 1567650796 | C16: ='2.sz.tábla (2)'!O79 -> 1709004901 | D16: ='2.sz.tábla (2)'!P79 -> 1735004901 | E16: =D16-C16 -> 26000000
A17: Finanszírozási bevételek összesen: | B17: =SUM(B15:B16) -> 5657551714 | C17: =SUM(C15:C16) -> 5855753540 | D17: =SUM(D15:D16) -> 5881753540 | E17: =D17-C17 -> 26000000
A18: Bevételek összesen: | B18: =B13+B17 -> 1.1872458e+10 | C18: =C13+C17 -> 1.2522178e+10 | D18: =D13+D17 -> 1.3753102e+10 | E18: =D18-C18 -> 1230924972
E19: =D19-C19 -> 0
A20: Működési kiadások | B20: =SUM(B21:B23) -> 3405832084 | C20: =SUM(C21:C23) -> 3550659326 | D20: =SUM(D21:D23) -> 3707886254 | E20: =D20-C20 -> 157226928
A21: Önkormányzat | B21: ='5.tábla (2)'!B151 -> 2593229549 | C21: ='5.tábla (2)'!C151 -> 2705517064 | D21: ='5.tábla (2)'!D151 -> 2856532856 | E21: =D21-C21 -> 151015792
A22: Önkormányzati Hivatal | B22: ='5.tábla (2)'!B28 -> 464352277 | C22: ='5.tábla (2)'!C28 -> 481014182 | D22: ='5.tábla (2)'!D28 -> 488077685 | E22: =D22-C22 -> 7063503
A23: Intézmények | B23: ='4.sz.tábla '!AS9-'4.sz.tábla '!W9 -> 348250258 | C23: ='4.sz.tábla '!AT9-'4.sz.tábla '!X9 -> 364128080 | D23: ='4.sz.tábla '!AU9-'4.sz.tábla '!Y9 -> 363275713 | E23: =D23-C23 -> -852367
E24: =D24-C24 -> 0
A25: Felhalmozási kiadások | B25: =SUM(B26:B28) -> 8216439296 | C25: =SUM(C26:C28) -> 8793393600 | D25: =SUM(D26:D28) -> 9871221383 | E25: =D25-C25 -> 1077827783
A26: Fejlesztési kiadások | B26: ='7. sz. tábla 1'!B212 -> 8117495039 | C26: ='7. sz. tábla 1'!C212 -> 8674599615 | D26: ='7. sz. tábla 1'!D212 -> 9754340800 | E26: =D26-C26 -> 1079741185
A27: Intézm saját hatásk fejl | B27: ='4.sz.tábla '!W11 -> 12871000 | C27: ='4.sz.tábla '!X11 -> 25386628 | D27: ='4.sz.tábla '!Y11 -> 26286628 | E27: =D27-C27 -> 900000
A28: Felújítás | B28: ='7. sz. tábla 1'!B223 -> 86073257 | C28: ='7. sz. tábla 1'!C223 -> 93407357 | D28: ='7. sz. tábla 1'!D223 -> 90593955 | E28: =D28-C28 -> -2813402
E29: =D29-C29 -> 0
A30: Tartalékok | B30: =SUM(B31:B32) -> 126348942 | C30: =SUM(C31:C32) -> 54287305 | D30: =SUM(D31:D32) -> 50157566 | E30: =D30-C30 -> -4129739
A31: Általános | B31: =40000000+37810593 -> 77810593 | C31: 8747312 | D31: 5496306 | E31: =D31-C31 -> -3251006
A32: Cél | B32: =B39 -> 48538349 | C32: =C39 -> 45539993 | D32: =D39 -> 44661260 | E32: =D32-C32 -> -878733
A33: Költségvetési kiadások összesen: | B33: =SUM(B30,B25,B20) -> 11748620322 | C33: =SUM(C30,C25,C20) -> 12398340231 | D33: =SUM(D30,D25,D20) -> 13629265203 | E33: =D33-C33 -> 1230924972
A34: Hiteltörlesztés | B34: ='7. sz. tábla 1'!B215 -> 74242424 | C34: ='7. sz. tábla 1'!C215 -> 74242424 | D34: ='7. sz. tábla 1'!D215 -> 74242424 | E34: =D34-C34 -> 0
A35: Államháztartáson belüli megelőlegezés visszafizetés | B35: ='7. sz. tábla 1'!B217 -> 49594849 | C35: ='7. sz. tábla 1'!C217 -> 49594849 | D35: ='7. sz. tábla 1'!D217 -> 49594849 | E35: =D35-C35 -> 0
A36: Forgatási célú értékpapír vásárlása | B36: ='7. sz. tábla 1'!B216 -> 0 | C36: ='7. sz. tábla 1'!D216 -> 0 | D36: ='7. sz. tábla 1'!E216 -> 0 | E36: =D36-C36 -> 0
A37: Finanszírozási kiadások összesen: | B37: =SUM(B34:B36) -> 123837273 | C37: =SUM(C34:C36) -> 123837273 | D37: =SUM(D34:D36) -> 123837273 | E37: =D37-C37 -> 0
A38: Kiadások összesen: | B38: =SUM(B33,B37) -> 11872457595 | C38: =SUM(C33,C37) -> 12522177504 | D38: =SUM(D33,D37) -> 13753102476 | E38: =D38-C38 -> 1230924972 | G38: =E18-E38 -> 0
A39: Céltartalék: | B39: =SUM(B40:B53) -> 48538349 | C39: =SUM(C40:C53) -> 45539993 | D39: =SUM(D40:D53) -> 44661260 | E39: =D39-C39 -> -878733
A40: MÁK forgótőke | B40: 660000 | C40: 660000 | D40: 660000 | E40: =D40-C40 -> 0
A41: környezetvédelmi alap | B41: 0 | C41: 0 | D41: 0 | E41: =D41-C41 -> 0
A42: Polgármester saját hatáskörű keret | B42: 5000000 | C42: 0 | D42: 0 | E42: =D42-C42 -> 0
A43: Népház, posta pénzügyi alap | B43: 22849610 | C43: 18849610 | D43: 18849610 | E43: =D43-C43 -> 0
A44: Helyi védelem | B44: 3000000 | C44: 150000 | D44: 150000 | E44: =D44-C44 -> 0
A45: Közhasznú foglalkoztatás | B45: 4000000 | E45: =D45-C45 -> 0
A46: Zsinagóga felújítási alap | B46: 11918739 | C46: 11918739 | D46: 11918739 | E46: =D46-C46 -> 0
A47: Tájház pályázati önerő Lóczy u. 101.103. (203/2019.(VII.19.)) | B47: 0 | C47: 12437009 | D47: 12437009 | E47: =D47-C47 -> 0
A48: Óvodapedagógusok továbbképzésre elkülönített keret | B48: 500000 | C48: 500000 | D48: 500000 | E48: =D48-C48 -> 0
A49: Intézményi elkülönített keret | B49: 0 | C49: 414635 | D49: 145902 | E49: =D49-C49 -> -268733
A50: óvodákban évközben jelentkező SNI többletktg. | B50: 610000 | C50: 610000 | D50: 0 | E50: =D50-C50 -> -610000
A51: 2018. évi bérkompenzáció előleg | B51: 0 | E51: =D51-C51 -> 0
A52: Pedagógus II. kategóriába sorolt óvodapedagógusok kieg. támog. (lemodás) | B52: 0 | E52: =D52-C52 -> 0
A53: Zsidó temetők rekonstrukciójára kapott támogatás | B53: 0 | E53: =D53-C53 -> 0

Sheet 2.sz.tábla   (2)
A3: BEVÉTELEK ELŐIRÁNYZATA 2019. ÉV
A5: MEGNEVEZÉS | B5: ÖNKORMÁNYZAT | F5: BALATONFÜREDI KÖZÖS ÖNKORMÁNYZATI HIVATAL | J5: KÖLTSÉGVETÉSI SZERVEK | N5: ÖNKORMÁNYZAT ÖSSZESEN
B6: 2019. évi eredeti ei. | C6: 2019. évi módosított ei. II. | D6: 2019. évi módosított ei. III. | E6: Eltérés | F6: 2019. évi eredeti ei. | G6: 2019. évi módosított ei. II. | H6: 2019. évi módosított ei. III. | I6: Eltérés | J6: 2019. évi eredeti ei. | K6: 2019. évi módosított ei. II. | L6: 2019. évi módosított ei. III. | M6: Eltérés | N6: 2019. évi eredeti ei. | O6: 2019. évi módosított ei. I. | P6: 2019. évi módosított ei. III. | Q6: Eltérés
A7: I. Működési célú támogatások államháztartáson belülről | B7: =B8+B16+B17+B18+B19+B20 -> 1.3067548e+09 | C7: =C8+C16+C17+C18+C19+C20 -> 1.3525529e+09 | D7: =D8+D16+D17+D18+D19+D20 -> 1.4478128e+09 | E7: =D7-C7 -> 95259944 | F7: =F8+F16+F17+F18+F19+F20 -> 26342601 | G7: =G8+G16+G17+G18+G19+G20 -> 31072057 | H7: =H8+H16+H17+H18+H19+H20 -> 36947092 | I7: =H7-G7 -> 5875035 | J7: =J8+J16+J17+J18+J19+J20 -> 125192474 | K7: =K8+K16+K17+K18+K19+K20 -> 129699974 | L7: =L8+L16+L17+L18+L19+L20 -> 129699974 | M7: =L7-K7 -> 0 | N7: =N8+N16+N17+N18+N19+N20 -> 1.4582899e+09 | O7: =O8+O16+O17+O18+O19+O20 -> 1.5133249e+09 | P7: =P8+P16+P17+P18+P19+P20 -> 1.6144599e+09 | Q7: =Q8+Q16+Q17+Q18+Q19+Q20 -> 101134979
A8: 1. Önkormányzat működési támogatásai | B8: =SUM(B9:B15) -> 1.0086341e+09 | C8: =SUM(C9:C15) -> 1.0699294e+09 | D8: =SUM(D9:D15) -> 1.1228026e+09 | E8: =D8-C8 -> 52873253 | G8: =SUM(G9:G15) -> 0 | H8: =SUM(H9:H15) -> 0 | I8: =H8-G8 -> 0 | J8: =SUM(J9:J15) -> 0 | K8: =SUM(K9:K15) -> 0 | L8: =SUM(L9:L15) -> 0 | M8: =L8-K8 -> 0 | N8: =SUM(N9:N15) -> 1.0086341e+09 | O8: =SUM(O9:O15) -> 1.0699294e+09 | P8: =SUM(P9:P15) -> 1.1228026e+09 | Q8: =SUM(Q9:Q15) -> 52873253
A9: 1.1. Helyi önk. működésének ált. támogatása | B9: ='2b. tábla 2019 (2)'!E4 -> 522094841 | C9: ='2b. tábla 2019 (2)'!I4 -> 529647994 | D9: ='2b. tábla 2019 (2)'!K4 -> 530463326 | E9: =D9-C9 -> 815332 | N9: =SUM(B9+F9+J9) -> 522094841 | O9: =SUM(C9+G9+K9) -> 529647994 | P9: =SUM(D9+H9+L9) -> 530463326 | Q9: =SUM(E9+I9+M9) -> 815332
A10: 1.2. Települési önk. egyes köznev. feladatainak támogatása | B10: ='2b. tábla 2019 (2)'!E30 -> 2.5472833e+08 | C10: ='2b. tábla 2019 (2)'!I30 -> 2.5915053e+08 | D10: ='2b. tábla 2019 (2)'!K30 -> 2.6001984e+08 | E10: =D10-C10 -> 869307 | N10: =SUM(B10+F10+J10) -> 2.5472833e+08 | O10: =SUM(C10+G10+K10) -> 2.5915053e+08 | P10: =SUM(D10+H10+L10) -> 2.6001984e+08 | Q10: =SUM(E10+I10+M10) -> 869307
A11: 1.3. Települési önk. szoc. és gyermekjóléti feladatainak tám. | B11: ='2b. tábla 2019 (2)'!E42 -> 215151670 | C11: ='2b. tábla 2019 (2)'!I42 -> 252945371 | D11: ='2b. tábla 2019 (2)'!K42 -> 256458734 | E11: =D11-C11 -> 3513363 | N11: =SUM(B11+F11+J11) -> 215151670 | O11: =SUM(C11+G11+K11) -> 252945371 | P11: =SUM(D11+H11+L11) -> 256458734 | Q11: =SUM(E11+I11+M11) -> 3513363
A12: 1.4. Települési önk. kult. feladatainak támogatása | B12: ='2b. tábla 2019 (2)'!E73 -> 16659280 | C12: ='2b. tábla 2019 (2)'!I73 -> 20796114 | D12: ='2b. tábla 2019 (2)'!K73 -> 21637265 | E12: =D12-C12 -> 841151 | N12: =SUM(B12+F12+J12) -> 16659280 | O12: =SUM(C12+G12+K12) -> 20796114 | P12: =SUM(D12+H12+L12) -> 21637265 | Q12: =SUM(E12+I12+M12) -> 841151
A13: 1.5. Működési célú költségvetési támogatások és kiegészítő támogatások | C13: ='2b. tábla 2019 (2)'!I78 -> 7389372 | D13: ='2b. tábla 2019 (2)'!K78 -> 54223472 | E13: =D13-C13 -> 46834100 | N13: =SUM(B13+F13+J13) -> 0 | O13: =SUM(C13+G13+K13) -> 7389372 | P13: =SUM(D13+H13+L13) -> 54223472 | Q13: =SUM(E13+I13+M13) -> 46834100
A14: 1.6. Elszámolásból származó bevételek | N14: =SUM(B14+F14+J14) -> 0
A15: 1.7. Vis major
A16: 2. Elvonások, befizetések
A17: 3. Működési célú garancia- és kezességvállalásból származó megtérülések áh-n belülről
A18: 4. Működési célú visszatérítendő támogatások, kölcsönök visszatérülése áh-n belülről
A19: 5. Működési célú visszatérítendő támogatások, kölcsönök igénybevétele áh-n belülről
A20: 6. Egyéb működési célú támogatások bevételei államháztartáson belülről | B20: 298120689 | C20: 282623468 | D20: 325010159 | E20: =D20-C20 -> 42386691 | F20: ='2.a tábla ÚJ '!S13 -> 26342601 | G20: ='2.a tábla ÚJ '!T13 -> 31072057 | H20: ='2.a tábla ÚJ '!U13 -> 36947092 | I20: =H20-G20 -> 5875035 | J20: ='2.a tábla ÚJ '!N13 -> 125192474 | K20: ='2.a tábla ÚJ '!O13 -> 129699974 | L20: ='2.a tábla ÚJ '!P13 -> 129699974 | M20: =L20-K20 -> 0 | N20: =SUM(B20+F20+J20) -> 449655764 | O20: =C20+G20+K20 -> 443395499 | P20: =D20+H20+L20 -> 491657225 | Q20: =E20+I20+M20 -> 48261726
A21: ebből működési célú támogatás társadalombiztosítási alapból | I21: =H21-G21 -> 0 | J21: ='2.a tábla ÚJ '!N14 -> 120000000 | K21: ='2.a tábla ÚJ '!O14 -> 124507500 | L21: ='2.a tábla ÚJ '!P14 -> 124507500 | M21: =L21-K21 -> 0 | N21: =SUM(B21+F21+J21) -> 120000000 | O21: =C21+G21+K21 -> 124507500 | P21: =D21+H21+L21 -> 124507500 | Q21: =E21+I21+M21 -> 0
A22: II. Felhalmozási célú támogatások államháztartáson belülről | B22: =B23+B24+B25+B26+B27 -> 1504479834 | C22: =C23+C24+C25+C26+C27 -> 1696173273 | D22: =D23+D24+D25+D26+D27 -> 2786781765 | E22: =D22-C22 -> 1090608492 | F22: =F23+F24+F25+F26+F27 -> 0 | G22: =G23+G24+G25+G26+G27 -> 0 | H22: =H23+H24+H25+H26+H27 -> 0 | I22: =H22-G22 -> 0 | J22: =J23+J24+J25+J26+J27 -> 0 | K22: =K23+K24+K25+K26+K27 -> 0 | L22: =L23+L24+L25+L26+L27 -> 312424 | M22: =L22-K22 -> 312424 | N22: =SUM(B22+F22+J22) -> 1504479834 | O22: =O23+O24+O25+O26+O27 -> 1696173273 | P22: =P23+P24+P25+P26+P27 -> 2787094189 | Q22: =Q23+Q24+Q25+Q26+Q27 -> 1090920916
A23: 1. Felhalmozási célú önkormányzati támogatások | C23: ='2b. tábla 2019 (2)'!I85 -> 30000000 | D23: ='2b. tábla 2019 (2)'!K85 -> 34503000 | E23: =D23-C23 -> 4503000 | N23: =SUM(B23+F23+J23) -> 0 | O23: =SUM(C23+G23+K23) -> 30000000 | P23: =SUM(D23+H23+L23) -> 34503000 | Q23: =E23+I23+M23 -> 4503000
A24: 2. Felhalmozási célú garancia- és kezességvállalásból származó megtérülések áh-n belülről | N24: =SUM(B24+F24+J24) -> 0
A25: 3. Felhalmozási célú visszatérítendő támogatások, kölcsönök visszatérülése áh-n belülről | N25: =SUM(B25+F25+J25) -> 0
A26: 4. Felhalmozási célú visszatérítendő támogatások, kölcsönök igénybevétele áh-n belülről | N26: =SUM(B26+F26+J26) -> 0
A27: 5. Egyéb felhalmozási célú támogatások államháztartáson belülről | B27: 1504479834 | C27: 1666173273 | D27: 2752278765 | E27: =D27-C27 -> 1086105492 | J27: ='2.a tábla ÚJ '!N43 -> 0 | K27: ='2.a tábla ÚJ '!O43 -> 0 | L27: ='2.a tábla ÚJ '!H16 -> 312424 | M27: =L27-K27 -> 312424 | N27: =SUM(B27+F27+J27) -> 1504479834 | O27: =C27+G27+K27 -> 1666173273 | P27: =D27+H27+L27 -> 2752591189 | Q27: =E27+I27+M27 -> 1086417916
A28: MEGNEVEZÉS | B28: ÖNKORMÁNYZAT | F28: BALATONFÜREDI KÖZÖS ÖNKORMÁNYZATI HIVATAL | J28: KÖLTSÉGVETÉSI SZERVEK | N28: ÖNKORMÁNYZAT ÖSSZESEN
B29: 2019. évi eredeti ei. | C29: 2019. évi módosított ei. II. | D29: 2019. évi módosított ei. III. | E29: Eltérés | F29: 2019. évi eredeti ei. | G29: 2019. évi módosított ei. II. | H29: 2019. évi módosított ei. III. | I29: Eltérés | J29: 2019. évi eredeti ei. | K29: 2019. évi módosított ei. II. | L29: 2019. évi módosított ei. III. | M29: Eltérés | N29: 2019. évi eredeti ei. | O29: 2019. évi módosított ei. I. | P29: 2019. évi módosított ei. III. | Q29: Eltérés
A30: III. Közhatalmi bevételek | B30: =B31+B34+B42 -> 1863700000 | C30: =C31+C34+C42 -> 1863700000 | D30: =D31+D34+D42 -> 1863700000 | E30: =D30-C30 -> 0 | F30: =F31+F34+F42 -> 500000 | G30: =G31+G34+G42 -> 500000 | H30: =H31+H34+H42 -> 500000 | I30: =H30-G30 -> 0 | K30: =K31+K34+K42 -> 0 | L30: =L31+L34+L42 -> 0 | M30: =L30-K30 -> 0 | N30: =SUM(B30+F30+J30) -> 1864200000 | O30: =SUM(C30+G30+K30) -> 1864200000 | P30: =SUM(D30+H30+L30) -> 1864200000 | Q30: =SUM(E30+I30+M30) -> 0
A31: 1. Vagyoni típusú adók | B31: =SUM(B32:B33) -> 461800000 | C31: =SUM(C32:C33) -> 461800000 | D31: =SUM(D32:D33) -> 461800000 | E31: =D31-C31 -> 0 | F31: =SUM(F32:F33) -> 0 | I31: =G31-F31 -> 0 | N31: =SUM(B31+F31+J31) -> 461800000 | O31: =SUM(C31+G31+K31) -> 461800000 | P31: =SUM(D31+H31+L31) -> 461800000 | Q31: =SUM(E31+I31+M31) -> 0
A32: 1.1. Építményadó | B32: 438000000 | C32: 438000000 | D32: 438000000 | E32: =D32-C32 -> 0 | N32: =SUM(B32+F32+J32) -> 438000000 | O32: =SUM(C32+G32+K32) -> 438000000 | P32: =SUM(D32+H32+L32) -> 438000000 | Q32: =SUM(E32+I32+M32) -> 0
A33: 1.2. Telekadó | B33: 23800000 | C33: 23800000 | D33: 23800000 | E33: =D33-C33 -> 0 | N33: =SUM(B33+F33+J33) -> 23800000 | O33: =SUM(C33+G33+K33) -> 23800000 | P33: =SUM(D33+H33+L33) -> 23800000 | Q33: =SUM(E33+I33+M33) -> 0
A34: 2. Termékek és szolgáltatások adói | B34: =B35+B37+B38 -> 1396000000 | C34: =C35+C37+C38 -> 1396000000 | D34: =D35+D37+D38 -> 1396000000 | E34: =D34-C34 -> 0 | N34: =SUM(B34+F34+J34) -> 1396000000 | O34: =SUM(C34+G34+K34) -> 1396000000 | P34: =SUM(D34+H34+L34) -> 1396000000 | Q34: =SUM(E34+I34+M34) -> 0
A35: 2.1. Értékesítési és forgalmi adók | B35: =SUM(B36) -> 940000000 | C35: =SUM(C36) -> 940000000 | D35: =SUM(D36) -> 940000000 | E35: =D35-C35 -> 0 | N35: =SUM(B35+F35+J35) -> 940000000 | O35: =SUM(C35+G35+K35) -> 940000000 | P35: =SUM(D35+H35+L35) -> 940000000 | Q35: =SUM(E35+I35+M35) -> 0
A36: 2.1. 1. Iparűzési adó | B36: 940000000 | C36: 940000000 | D36: 940000000 | E36: =D36-C36 -> 0 | N36: =SUM(B36+F36+J36) -> 940000000 | O36: =SUM(C36+G36+K36) -> 940000000 | P36: =SUM(D36+H36+L36) -> 940000000 | Q36: =SUM(E36+I36+M36) -> 0
A37: 2.2. Gépjárműadók | B37: 56000000 | C37: 56000000 | D37: 56000000 | E37: =D37-C37 -> 0 | N37: =SUM(B37+F37+J37) -> 56000000 | O37: =SUM(C37+G37+K37) -> 56000000 | P37: =SUM(D37+H37+L37) -> 56000000 | Q37: =SUM(E37+I37+M37) -> 0
A38: 2.3. Egyéb áruhasználati és szolgáltatási adók | B38: =SUM(B39:B41) -> 400000000 | C38: =SUM(C39:C41) -> 400000000 | D38: =SUM(D39:D41) -> 400000000 | E38: =D38-C38 -> 0 | N38: =SUM(B38+F38+J38) -> 400000000 | O38: =SUM(C38+G38+K38) -> 400000000 | P38: =SUM(D38+H38+L38) -> 400000000 | Q38: =SUM(E38+I38+M38) -> 0
A39: 2.3.1. Ifa személyek u. | B39: 400000000 | C39: 400000000 | D39: 400000000 | E39: =D39-C39 -> 0 | N39: =SUM(B39+F39+J39) -> 400000000 | O39: =SUM(C39+G39+K39) -> 400000000 | P39: =SUM(D39+H39+L39) -> 400000000 | Q39: =SUM(E39+I39+M39) -> 0
A40: 2.3.2. Talajterhelési díj | E40: =D40-C40 -> 0 | N40: =SUM(B40+F40+J40) -> 0 | O40: =SUM(C40+G40+K40) -> 0 | P40: =SUM(D40+H40+L40) -> 0 | Q40: =SUM(E40+I40+M40) -> 0
A41: 2.3.3. Települési adó | E41: =D41-C41 -> 0 | N41: =SUM(B41+F41+J41) -> 0 | O41: =SUM(C41+G41+K41) -> 0 | P41: =SUM(D41+H41+L41) -> 0 | Q41: =SUM(E41+I41+M41) -> 0
A42: 3. Egyéb közhatalmi bevételek (bírság, pótlék, településrendezési szerz.) | B42: 5900000 | C42: 5900000 | D42: 5900000 | E42: =D42-C42 -> 0 | F42: ='2.a tábla ÚJ '!S20 -> 500000 | G42: ='2.a tábla ÚJ '!T20 -> 500000 | H42: ='2.a tábla ÚJ '!U20 -> 500000 | I42: =H42-G42 -> 0 | M42: =K42-J42 -> 0 | N42: =SUM(B42+F42+J42) -> 6400000 | O42: =SUM(C42+G42+K42) -> 6400000 | P42: =SUM(D42+H42+L42) -> 6400000 | Q42: =SUM(E42+I42+M42) -> 0
A43: IV. Működési bevételek | B43: =B44+B45+B47+B48+B51+B52+B53+B54+B57+B55+B56 -> 760976989 | C43: =C44+C45+C47+C48+C51+C52+C53+C54+C57+C55+C56 -> 774928643 | D43: =D44+D45+D47+D48+D51+D52+D53+D54+D57+D55+D56 -> 776697720 | E43: =D43-C43 -> 1769077 | F43: =F44+F45+F47+F48+F51+F52+F53+F54+F57+F55+F56 -> 33220024 | G43: =G44+G45+G47+G48+G51+G52+G53+G54+G57+G55+G56 -> 33220024 | H43: =H44+H45+H47+H48+H51+H52+H53+H54+H57+H55+H56 -> 33220024 | I43: =H43-G43 -> 0 | J43: =J44+J45+J47+J48+J51+J52+J53+J54+J57+J55+J56 -> 45375751 | K43: =K44+K45+K47+K48+K51+K52+K53+K54+K57+K55+K56 -> 44875751 | L43: =L44+L45+L47+L48+L51+L52+L53+L54+L57+L55+L56 -> 44675751 | M43: =L43-K43 -> -200000 | N43: =SUM(B43+F43+J43) -> 839572764 | O43: =SUM(C43+G43+K43) -> 853024418 | P43: =SUM(D43+H43+L43) -> 854593495 | Q43: =SUM(E43+I43+M43) -> 1569077
A44: 1. Készletértékesítés bevétele | E44: =D44-C44 -> 0 | I44: =H44-G44 -> 0 | N44: =SUM(B44+F44+J44) -> 0 | O44: =SUM(C44+G44+K44) -> 0 | P44: =SUM(D44+H44+L44) -> 0 | Q44: =SUM(E44+I44+M44) -> 0
A45: 2. Szolgáltatások ellenértéke | B45: 358868508 | C45: 358868508 | D45: 358868508 | E45: =D45-C45 -> 0 | F45: ='2.a tábla ÚJ '!S23 -> 21200000 | G45: ='2.a tábla ÚJ '!T23 -> 21200000 | H45: ='2.a tábla ÚJ '!U23 -> 21200000 | I45: =H45-G45 -> 0 | J45: ='2.a tábla ÚJ '!N23 -> 42741000 | K45: ='2.a tábla ÚJ '!O23 -> 42347300 | L45: ='2.a tábla ÚJ '!P23 -> 42189820 | M45: =L45-K45 -> -157480 | N45: =SUM(B45+F45+J45) -> 422809508 | O45: =SUM(C45+G45+K45) -> 422415808 | P45: =SUM(D45+H45+L45) -> 422258328 | Q45: =SUM(E45+I45+M45) -> -157480
A46: Ebből: bérleti díjak | B46: 358868508 | C46: 358868508 | D46: 358868508 | E46: =D46-C46 -> 0 | F46: ='2.a tábla ÚJ '!S24 -> 7500000 | G46: ='2.a tábla ÚJ '!T24 -> 7500000 | H46: ='2.a tábla ÚJ '!U24 -> 7500000 | I46: =H46-G46 -> 0 | M46: =L46-K46 -> 0 | N46: =SUM(B46+F46+J46) -> 366368508 | O46: =SUM(C46+G46+K46) -> 366368508 | P46: =SUM(D46+H46+L46) -> 366368508 | Q46: =SUM(E46+I46+M46) -> 0
A47: 3. Közvetített szolgáltatások ellenértéke | B47: 4700000 | C47: 4700000 | D47: 4700000 | E47: =D47-C47 -> 0 | F47: ='2.a tábla ÚJ '!S25 -> 4957499 | G47: ='2.a tábla ÚJ '!T25 -> 4957499 | H47: ='2.a tábla ÚJ '!U25 -> 4957499 | I47: =H47-G47 -> 0 | J47: ='2.a tábla ÚJ '!N25 -> 228346 | K47: ='2.a tábla ÚJ '!O25 -> 228346 | L47: ='2.a tábla ÚJ '!P25 -> 228346 | M47: =L47-K47 -> 0 | N47: =SUM(B47+F47+J47) -> 9885845 | O47: =SUM(C47+G47+K47) -> 9885845 | P47: =SUM(D47+H47+L47) -> 9885845 | Q47: =SUM(E47+I47+M47) -> 0
A48: 4. Tulajdonosi bevételek | B48: =SUM(B49:B50) -> 22661346 | C48: =SUM(C49:C50) -> 22661346 | D48: =SUM(D49:D50) -> 22661346 | E48: =D48-C48 -> 0 | J48: ='[3]2.a tábla ÚJ '!K24 -> 0 | K48: ='[3]2.a tábla ÚJ '!L24 -> 0 | L48: ='[3]2.a tábla ÚJ '!M24 -> 0 | M48: =L48-K48 -> 0 | N48: =SUM(B48+F48+J48) -> 22661346 | O48: =SUM(C48+G48+K48) -> 22661346 | P48: =SUM(D48+H48+L48) -> 22661346 | Q48: =SUM(E48+I48+M48) -> 0
A49: 4.1. Üzemeltetési díjak | B49: 6661346 | C49: 6661346 | D49: 6661346 | E49: =D49-C49 -> 0 | M49: =L49-K49 -> 0 | N49: =SUM(B49+F49+J49) -> 6661346 | O49: =SUM(C49+G49+K49) -> 6661346 | P49: =SUM(D49+H49+L49) -> 6661346 | Q49: =SUM(E49+I49+M49) -> 0
A50: 4.2. Részesedés után kapott osztalék | B50: 16000000 | C50: 16000000 | D50: 16000000 | E50: =D50-C50 -> 0 | J50: ='[3]2.a tábla ÚJ '!K26 -> 0 | K50: ='[3]2.a tábla ÚJ '!L26 -> 0 | L50: ='[3]2.a tábla ÚJ '!M26 -> 0 | M50: =L50-K50 -> 0 | N50: =SUM(B50+F50+J50) -> 16000000 | O50: =SUM(C50+G50+K50) -> 16000000 | P50: =SUM(D50+H50+L50) -> 16000000 | Q50: =SUM(E50+I50+M50) -> 0
A51: 5. Ellátási díjak | B51: 36196776 | C51: 36196776 | D51: 36196776 | E51: =D51-C51 -> 0 | J51: ='2.a tábla ÚJ '!N27 -> 854922 | K51: ='2.a tábla ÚJ '!O27 -> 854922 | L51: ='2.a tábla ÚJ '!P27 -> 854922 | M51: =L51-K51 -> 0 | N51: =SUM(B51+F51+J51) -> 37051698 | O51: =SUM(C51+G51+K51) -> 37051698 | P51: =SUM(D51+H51+L51) -> 37051698 | Q51: =SUM(E51+I51+M51) -> 0
A52: 6. Kiszámlázott Áfa | B52: 121355776 | C52: 124255198 | D52: 124255198 | E52: =D52-C52 -> 0 | F52: ='2.a tábla ÚJ '!S28 -> 7062525 | G52: ='2.a tábla ÚJ '!T28 -> 7062525 | H52: ='2.a tábla ÚJ '!U28 -> 7062525 | I52: =H52-G52 -> 0 | J52: ='2.a tábla ÚJ '!N28 -> 881483 | K52: ='2.a tábla ÚJ '!O28 -> 775183 | L52: ='2.a tábla ÚJ '!P28 -> 732663 | M52: =L52-K52 -> -42520 | N52: =SUM(B52+F52+J52) -> 129299784 | O52: =SUM(C52+G52+K52) -> 132092906 | P52: =SUM(D52+H52+L52) -> 132050386 | Q52: =SUM(E52+I52+M52) -> -42520
A53: 7. Áfa visszatérítés | B53: 161635528 | C53: 161949160 | D53: 163718237 | E53: =D53-C53 -> 1769077 | J53: ='2.a tábla ÚJ '!N29 -> 650000 | K53: ='2.a tábla ÚJ '!O29 -> 650000 | L53: ='2.a tábla ÚJ '!P29 -> 650000 | M53: =L53-K53 -> 0 | N53: =SUM(B53+F53+J53) -> 162285528 | O53: =SUM(C53+G53+K53) -> 162599160 | P53: =SUM(D53+H53+L53) -> 164368237 | Q53: =SUM(E53+I53+M53) -> 1769077
A54: 8. Kamatbevétel | B54: 53000000 | C54: 53000000 | D54: 53000000 | E54: =D54-C54 -> 0 | J54: ='[3]2.a tábla ÚJ '!K30 -> 0 | K54: ='2.a tábla ÚJ '!O30 -> 0 | L54: ='2.a tábla ÚJ '!P30 -> 0 | M54: =L54-K54 -> 0 | N54: =SUM(B54+F54+J54) -> 53000000 | O54: =SUM(C54+G54+K54) -> 53000000 | P54: =SUM(D54+H54+L54) -> 53000000 | Q54: =SUM(E54+I54+M54) -> 0
A55: 9. Egyéb pénzügyi műveletek bevételei | E55: =D55-C55 -> 0 | J55: ='[3]2.a tábla ÚJ '!K31 -> 0 | M55: =L55-K55 -> 0 | N55: =SUM(B55+F55+J55) -> 0 | O55: =SUM(C55+G55+K55) -> 0 | P55: =SUM(D55+H55+L55) -> 0 | Q55: =SUM(E55+I55+M55) -> 0
A56: 10. Biztosító által fizetett kártérítés | B56: 0 | C56: 0 | D56: 0 | E56: =D56-C56 -> 0 | J56: ='[3]2.a tábla ÚJ '!K32 -> 0 | M56: =L56-K56 -> 0 | N56: =SUM(B56+F56+J56) -> 0 | O56: =SUM(C56+G56+K56) -> 0 | P56: =SUM(D56+H56+L56) -> 0 | Q56: =SUM(E56+I56+M56) -> 0
A57: 11. Egyéb működési bevételek | B57: 2559055 | C57: 13297655 | D57: 13297655 | E57: =D57-C57 -> 0 | J57: ='2.a tábla ÚJ '!N33 -> 20000 | K57: ='2.a tábla ÚJ '!O33 -> 20000 | L57: ='2.a tábla ÚJ '!P33 -> 20000 | M57: =L57-K57 -> 0 | N57: =SUM(B57+F57+J57) -> 2579055 | O57: =SUM(C57+G57+K57) -> 13317655 | P57: =SUM(D57+H57+L57) -> 13317655 | Q57: =SUM(E57+I57+M57) -> 0
A58: V. Felhalmozási bevételek | B58: =SUM(B59:B63) -> 69288400 | C58: =SUM(C59:C63) -> 100788400 | D58: =SUM(D59:D63) -> 100788400 | E58: =D58-C58 -> 0 | F58: =SUM(F59:F63) -> 0 | G58: =SUM(G59:G63) -> 0 | H58: =SUM(H59:H63) -> 0 | I58: =SUM(I59:I63) -> 0 | J58: =SUM(J59:J63) -> 0 | K58: =SUM(K59:K63) -> 0 | L58: =SUM(L59:L63) -> 0 | M58: =L58-K58 -> 0 | N58: =SUM(N59:N63) -> 69288400 | O58: =SUM(O59:O63) -> 100788400 | P58: =SUM(P59:P63) -> 100788400 | Q58: =SUM(Q59:Q63) -> 0
A59: 1. Immateriális javak értékesítése | M59: =L59-K59 -> 0
A60: 2. Ingatlanok értékesítése | B60: 69288400 | C60: 100788400 | D60: 100788400 | E60: =D60-C60 -> 0 | M60: =L60-K60 -> 0 | N60: =B60+J60+F60 -> 69288400 | O60: =C60+K60+G60 -> 100788400 | P60: =D60+L60+H60 -> 100788400 | Q60: =E60+M60+I60 -> 0
A61: 3. Egyéb tárgyi eszközök értékesítése | F61: ='2.a tábla ÚJ '!S37 -> 0 | G61: ='2.a tábla ÚJ '!T37 -> 0 | H61: ='2.a tábla ÚJ '!U37 -> 0 | I61: =H61-G61 -> 0 | J61: ='2.a tábla ÚJ '!N37 -> 0 | K61: ='2.a tábla ÚJ '!O37 -> 0 | L61: ='2.a tábla ÚJ '!P37 -> 0 | M61: =L61-K61 -> 0 | N61: =B61+J61+F61 -> 0 | O61: =C61+K61+G61 -> 0 | P61: =D61+L61+H61 -> 0 | Q61: =E61+M61+I61 -> 0
A62: 4. Részesedések értékesítése | N62: =B62+J62+F62 -> 0 | O62: =C62+K62+G62 -> 0 | P62: =D62+L62+H62 -> 0
A63: 5. Részesedések megszűnéséhez kapcsolódó bevételek | N63: =B63+J63+F63 -> 0 | O63: =C63+K63+G63 -> 0 | P63: =D63+L63+H63 -> 0
A64: MEGNEVEZÉS | B64: ÖNKORMÁNYZAT | F64: BALATONFÜREDI KÖZÖS ÖNKORMÁNYZATI HIVATAL | J64: KÖLTSÉGVETÉSI SZERVEK | N64: ÖNKORMÁNYZAT ÖSSZESEN
B65: 2019. évi eredeti ei. | C65: 2019. évi módosított ei. II. | D65: 2019. évi módosított ei. III. | E65: Eltérés | F65: 2019. évi eredeti ei. | G65: 2019. évi módosított ei. II. | H65: 2019. évi módosított ei. III. | I65: Eltérés | J65: 2019. évi eredeti ei. | K65: 2019. évi módosított ei. II. | L65: 2019. évi módosított ei. III. | M65: Eltérés | N65: 2019. évi eredeti ei. | O65: 2019. évi módosított ei. I. | P65: 2019. évi módosított ei. III. | Q65: Eltérés
A66: VI. Működési célú átvett pénzeszközök | B66: =SUM(B67:B69) -> 25440000 | C66: =SUM(C67:C69) -> 32525559 | D66: =SUM(D67:D69) -> 33825559 | E66: =D66-C66 -> 1300000 | F66: =SUM(F67:F69) -> 0 | G66: =SUM(G67:G69) -> 0 | H66: =SUM(H67:H69) -> 0 | I66: =H66-G66 -> 0 | J66: =SUM(J67:J69) -> 0 | K66: =SUM(K67:K69) -> 75000 | L66: =SUM(L67:L69) -> 75000 | M66: =L66-K66 -> 0 | N66: =SUM(N67:N69) -> 25440000 | O66: =SUM(O67:O69) -> 32600559 | P66: =SUM(P67:P69) -> 33900559 | Q66: =SUM(Q67:Q69) -> 1300000
A67: 1. Működési célú garancia- és kezességvállalásból származó megtérülések áh-n kívülről | M67: =L67-K67 -> 0 | N67: =B67+F67+J67 -> 0 | O67: =C67+G67+K67 -> 0 | P67: =D67+H67+L67 -> 0 | Q67: =E67+I67+M67 -> 0
A68: 2. Működési célú visszatérítendő támogatások, kölcsönök visszatérülése államháztartáson kívülről | B68: 25440000 | C68: 25440000 | D68: 25440000 | E68: =D68-C68 -> 0 | M68: =L68-K68 -> 0 | N68: =B68+F68+J68 -> 25440000 | O68: =C68+G68+K68 -> 25440000 | P68: =D68+H68+L68 -> 25440000 | Q68: =E68+I68+M68 -> 0
A69: 3. Egyéb működési célú átvett pénzeszközök | B69: 0 | C69: 7085559 | D69: 8385559 | E69: =D69-C69 -> 1300000 | J69: ='2.a tábla ÚJ '!N41 -> 0 | K69: ='2.a tábla ÚJ '!O41 -> 75000 | L69: ='2.a tábla ÚJ '!P41 -> 75000 | M69: =L69-K69 -> 0 | N69: =SUM(B69+F69+J69) -> 0 | O69: =SUM(C69+G69+K69) -> 7160559 | P69: =SUM(D69+H69+L69) -> 8460559 | Q69: =SUM(E69+I69+M69) -> 1300000
A70: VII. Felhalmozási célú átvett pénzeszközök | B70: =SUM(B71:B73) -> 453634994 | C70: =SUM(C71:C73) -> 606312431 | D70: =SUM(D71:D73) -> 616312431 | E70: =D70-C70 -> 10000000 | F70: =SUM(F71:F73) -> 0 | G70: =SUM(G71:G73) -> 0 | H70: =SUM(H71:H73) -> 0 | I70: =H70-G70 -> 0 | M70: =L70-K70 -> 0 | N70: =SUM(N71:N73) -> 453634994 | O70: =SUM(O71:O73) -> 606312431 | P70: =SUM(P71:P73) -> 616312431 | Q70: =SUM(Q71:Q73) -> 10000000
A71: 1. Felhalmozási célú garancia- és kezességvállalásból származó megtérülések áh-n kívülről | N71: =B71+F71+J71 -> 0 | O71: =C71+G71+K71 -> 0 | P71: =D71+H71+L71 -> 0 | Q71: =E71+I71+M71 -> 0
A72: 2. Felhalmozási célú visszatérítendő támogatások, kölcsönök visszatérülése államháztartáson kívülről | B72: 353634994 | C72: 503634994 | D72: 503634994 | E72: =D72-C72 -> 0 | I72: =H72-G72 -> 0 | M72: =K72-J72 -> 0 | N72: =B72+F72+J72 -> 353634994 | O72: =C72+G72+K72 -> 503634994 | P72: =D72+H72+L72 -> 503634994 | Q72: =E72+I72+M72 -> 0
A73: 3. Egyéb felhalmozási célú átvett pénzeszközök | B73: 100000000 | C73: 102677437 | D73: 112677437 | E73: =D73-C73 -> 10000000 | I73: =H73-G73 -> 0 | M73: =K73-J73 -> 0 | N73: =B73+F73+J73 -> 100000000 | O73: =C73+G73+K73 -> 102677437 | P73: =D73+H73+L73 -> 112677437 | Q73: =E73+I73+M73 -> 10000000
A74: Költségvetési bevételek összesen: | B74: =B70+B66+B58+B43+B30+B22+B7 -> 5.984275e+09 | C74: =C70+C66+C58+C43+C30+C22+C7 -> 6.4269812e+09 | D74: =D70+D66+D58+D43+D30+D22+D7 -> 7.6259187e+09 | E74: =D74-C74 -> 1198937513 | F74: =F70+F66+F58+F43+F30+F22+F7 -> 60062625 | G74: =G70+G66+G58+G43+G30+G22+G7 -> 64792081 | H74: =H70+H66+H58+H43+H30+H22+H7 -> 70667116 | I74: =H74-G74 -> 5875035 | J74: =J70+J66+J58+J43+J30+J22+J7 -> 170568225 | K74: =K70+K66+K58+K43+K30+K22+K7 -> 174650725 | L74: =L70+L66+L58+L43+L30+L22+L7 -> 174763149 | M74: =L74-K74 -> 112424 | N74: =N70+N66+N58+N43+N30+N22+N7 -> 6.2149059e+09 | O74: =O70+O66+O58+O43+O30+O22+O7 -> 6.666424e+09 | P74: =P70+P66+P58+P43+P30+P22+P7 -> 7.8713489e+09 | Q74: =Q70+Q66+Q58+Q43+Q30+Q22+Q7 -> 1204924972 | R74: =L74+H74+D74 -> 7.8713489e+09
A75: VIII. Finanszírozási bevételek | B75: =B76+B79 -> 5657375438 | C75: =C76+C79 -> 5817703494 | D75: =D76+D79 -> 5843703494 | E75: =D75-C75 -> 26000000 | F75: =F76+F79 -> 0 | G75: =G76+G79 -> 23685448 | H75: =H76+H79 -> 23685448 | I75: =H75-G75 -> 0 | J75: =J76+J79 -> 176276 | K75: =K76+K79 -> 14364598 | L75: =L76+L79 -> 14364598 | M75: =L75-K75 -> 0 | N75: =N76+N79 -> 5657551714 | O75: =O76+O79 -> 5855753540 | P75: =P76+P79 -> 5881753540 | Q75: =Q76+Q79 -> 26000000
A76: 1. Költségvetési hiány belső finanszírozására szolgáló bevételek | B76: =SUM(B77:B78) -> 4089724642 | C76: =SUM(C77:C78) -> 4108698593 | D76: =SUM(D77:D78) -> 4108698593 | E76: =D76-C76 -> 0 | F76: =SUM(F77:F78) -> 0 | G76: =SUM(G77:G78) -> 23685448 | H76: =SUM(H77:H78) -> 23685448 | I76: =H76-G76 -> 0 | J76: =SUM(J77:J78) -> 176276 | K76: =SUM(K77:K78) -> 14364598 | L76: =SUM(L77:L78) -> 14364598 | M76: =L76-K76 -> 0 | N76: =B76+J76+F76 -> 4089900918 | O76: =C76+K76+G76 -> 4146748639 | P76: =D76+L76+H76 -> 4146748639 | Q76: =E76+M76+I76 -> 0
A77: 1.1. Előző év költségvetési maradványának igénybevétele működési célra | B77: 216967264 | C77: 221548950 | D77: 221548950 | E77: =D77-C77 -> 0 | F77: ='2.a tábla ÚJ '!S47 -> 0 | G77: ='2.a tábla ÚJ '!T47 -> 14511377 | H77: ='2.a tábla ÚJ '!U47 -> 14511377 | I77: =H77-G77 -> 0 | J77: ='2.a tábla ÚJ '!N47 -> 176276 | K77: ='2.a tábla ÚJ '!O47 -> 13083041 | L77: ='2.a tábla ÚJ '!P47 -> 13083041 | M77: =L77-K77 -> 0 | N77: =B77+F77+J77 -> 217143540 | O77: =C77+G77+K77 -> 249143368 | P77: =D77+H77+L77 -> 249143368 | Q77: =E77+I77+M77 -> 0
A78: 1.2. Előző év költségvetési maradványának igénybevétele felhalmozási célra | B78: 3872757378 | C78: 3887149643 | D78: 3887149643 | E78: =D78-C78 -> 0 | F78: ='2.a tábla ÚJ '!S48 -> 0 | G78: ='2.a tábla ÚJ '!T48 -> 9174071 | H78: ='2.a tábla ÚJ '!U48 -> 9174071 | I78: =H78-G78 -> 0 | J78: ='2.a tábla ÚJ '!N48 -> 0 | K78: ='2.a tábla ÚJ '!O48 -> 1281557 | L78: ='2.a tábla ÚJ '!P48 -> 1281557 | M78: =L78-K78 -> 0 | N78: =B78+F78+J78 -> 3872757378 | O78: =C78+G78+K78 -> 3897605271 | P78: =D78+H78+L78 -> 3897605271 | Q78: =E78+I78+M78 -> 0
A79: 2. Költségvetési hiány külső finanszírozására szolgáló finanszírozási bevételek | B79: =B80+B84+B89+B90 -> 1567650796 | C79: =C80+C84+C89+C90 -> 1709004901 | D79: =D80+D84+D89+D90 -> 1735004901 | E79: =D79-C79 -> 26000000 | F79: =F80+F84+F89+F90 -> 0 | G79: =G80+G84+G89+G90 -> 0 | H79: =H80+H84+H89+H90 -> 0 | I79: =H79-G79 -> 0 | J79: =J80+J84+J89+J90 -> 0 | K79: =K80+K84+K89+K90 -> 0 | L79: =L80+L84+L89+L90 -> 0 | M79: =L79-K79 -> 0 | N79: =N80+N84+N89+N90 -> 1567650796 | O79: =O80+O84+O89+O90 -> 1709004901 | P79: =P80+P84+P89+P90 -> 1735004901 | Q79: =Q80+Q84+Q89+Q90 -> 26000000
A80: 1. Hitel, kölcsön felvétele áh-n kívülről | F80: =SUM(F81:F83) -> 0 | G80: =SUM(G81:G83) -> 0 | H80: =SUM(H81:H83) -> 0 | I80: =H80-G80 -> 0 | J80: =SUM(J81:J83) -> 0 | M80: =L80-K80 -> 0 | N80: =SUM(N81:N83) -> 0 | O80: =SUM(O81:O83) -> 0 | Q80: =SUM(Q81:Q83) -> 0
A81: 1.1. Hosszú lejáratú hitelek, kölcsönök felvétele | M81: =L81-K81 -> 0 | N81: =B81+J81 -> 0 | O81: =C81+K81 -> 0 | Q81: =E81+M81 -> 0
A82: 1.2. Likviditási célú hitelek, kölcsönök felvétele pénzügyi vállalkozástól | M82: =L82-K82 -> 0 | N82: =B82+J82 -> 0 | O82: =C82+K82 -> 0 | Q82: =E82+M82 -> 0
A83: 1.3. Rövid lejáratú hitelek, kölcsönök felvétele | M83: =L83-K83 -> 0 | N83: =B83+J83 -> 0 | O83: =C83+K83 -> 0 | Q83: =E83+M83 -> 0
A84: 2. Belföldi értékpapírok bevételei | B84: =SUM(B85:B88) -> 1554850796 | C84: =SUM(C85:C88) -> 1696204901 | D84: =SUM(D85:D88) -> 1722204901 | E84: =D84-C84 -> 26000000 | I84: =H84-G84 -> 0 | M84: =L84-K84 -> 0 | N84: =B84+J84 -> 1554850796 | O84: =C84+K84 -> 1696204901 | P84: =D84+L84 -> 1722204901 | Q84: =E84+M84 -> 26000000
A85: 2.1. Forgatási célú értékpapírok beváltása, értékesítése | B85: 1554850796 | C85: 1696204901 | D85: 1722204901 | E85: =D85-C85 -> 26000000 | I85: =H85-G85 -> 0 | M85: =L85-K85 -> 0 | N85: =B85+J85 -> 1554850796 | O85: =C85+K85 -> 1696204901 | P85: =D85+L85 -> 1722204901 | Q85: =E85+M85 -> 26000000
A86: 2.2. Forgatási célú értékpapírok kibocsátása | N86: =B86+J86 -> 0 | O86: =C86+K86 -> 0 | Q86: =E86+M86 -> 0
A87: 2.3. Befektetési célú belföldi értékpapírok beváltása, értékesítése | N87: =B87+J87 -> 0 | O87: =C87+K87 -> 0 | Q87: =E87+M87 -> 0
A88: 2.4. Befektetési célú belföldi értékpapírok kibocsátása | N88: =B88+J88 -> 0 | O88: =C88+K88 -> 0 | Q88: =E88+M88 -> 0
A89: 3. Betét bevonás | N89: =B89+J89 -> 0 | O89: =C89+K89 -> 0 | Q89: =E89+M89 -> 0
A90: 4. Államháztartáson belüli megelőlegezések | B90: 12800000 | C90: 12800000 | D90: 12800000 | E90: =D90-C90 -> 0 | I90: =H90-G90 -> 0 | M90: =L90-K90 -> 0 | N90: =B90+J90 -> 12800000 | O90: =C90+K90 -> 12800000 | P90: =D90+L90 -> 12800000 | Q90: =E90+M90 -> 0
A91: Finanszírozási bevételek összesen: | B91: =B79+B76 -> 5657375438 | C91: =C79+C76 -> 5817703494 | D91: =D79+D76 -> 5843703494 | E91: =D91-C91 -> 26000000 | F91: =F79+F76 -> 0 | G91: =G79+G76 -> 23685448 | H91: =H79+H76 -> 23685448 | I91: =H91-G91 -> 0 | J91: =J79+J76 -> 176276 | K91: =K79+K76 -> 14364598 | L91: =L79+L76 -> 14364598 | M91: =L91-K91 -> 0 | N91: =B91+J91+F91:F94 -> 5657551714 | O91: =C91+K91+G91:G94 -> 5855753540 | P91: =D91+L91+H91:H94 -> 5881753540 | Q91: =E91+M91+I91 -> 26000000
A92: Összes bevétel: | B92: =B74+B91 -> 1.164165e+10 | C92: =C74+C91 -> 1.2244685e+10 | D92: =D74+D91 -> 1.3469622e+10 | E92: =D92-C92 -> 1224937513 | F92: =F74+F91 -> 60062625 | G92: =G74+G91 -> 88477529 | H92: =H74+H91 -> 94352564 | I92: =H92-G92 -> 5875035 | J92: =J74+J91 -> 170744501 | K92: =K74+K91 -> 189015323 | L92: =L74+L91 -> 189127747 | M92: =L92-K92 -> 112424 | N92: =B92+J92+F92 -> 1.1872458e+10 | O92: =C92+K92+G92 -> 1.2522178e+10 | P92: =D92+L92+H92 -> 1.3753102e+10 | Q92: =E92+M92+I92 -> 1230924972 | R92: =P91+P74 -> 1.3753102e+10
A93: Intézményi létszámok: | B93: ='2.a tábla ÚJ '!S58+'2.a tábla ÚJ '!S60 -> 18 | C93: ='2.a tábla ÚJ '!T58+'2.a tábla ÚJ '!T60 -> 22 | D93: ='2.a tábla ÚJ '!U58+'2.a tábla ÚJ '!U60 -> 22 | E93: =D93-C93 -> 0 | F93: ='2.a tábla ÚJ '!S57 -> 75.5 | G93: ='2.a tábla ÚJ '!T57 -> 74.5 | H93: ='2.a tábla ÚJ '!U57 -> 74.5 | I93: =H93-G93 -> 0 | J93: ='2.a tábla ÚJ '!N57 -> 60 | K93: ='2.a tábla ÚJ '!O57 -> 60 | L93: ='2.a tábla ÚJ '!P57 -> 60 | M93: =L93-K93 -> 0 | N93: =B93+J93+F93 -> 153.5 | O93: =C93+K93+G93 -> 156.5 | P93: =D93+L93+H93 -> 156.5 | Q93: =P93-O93:O94 -> 0
A94: ebből közfoglalkoztatott | B94: ='2.a tábla ÚJ '!S60 -> 15 | C94: ='2.a tábla ÚJ '!T60 -> 15 | D94: ='2.a tábla ÚJ '!U60 -> 15 | E94: =D94-C94 -> 0 | F94: ='2.a tábla ÚJ '!S56 -> 0 | G94: ='2.a tábla ÚJ '!T56 -> 0 | H94: ='2.a tábla ÚJ '!U56 -> 0 | I94: =H94-G94 -> 0 | J94: ='2.a tábla ÚJ '!N56 -> 5 | K94: ='2.a tábla ÚJ '!O56 -> 5 | L94: ='2.a tábla ÚJ '!P56 -> 5 | M94: =L94-K94 -> 0 | N94: =B94+J94 -> 20 | O94: =C94+K94 -> 20 | P94: =D94+L94 -> 20 | Q94: =P94-O94:O95 -> 0

Sheet 2.a tábla ÚJ 
A6: BEVÉTELEK ELŐIRÁNYZATA INTÉZMÉNYEK SZERINTI BONTÁSBAN 2019. ÉV
A10: MEGNEVEZÉS | B10: LIPTÁK GÁBOR VÁROSI KÖNYVTÁR | F10: BALATONFÜREDI VÁROSI SZAKORVOSI RENDELŐINTÉZET | J10: BALATONFÜREDI VÁROSI BÖLCSŐDE | N10: KÖLTSÉGVETÉSI SZERVEK ÖSSZESEN | S10: BALATONFÜREDI KÖZÖS ÖNKORMÁNYZATI HIVATAL
B11: 2019. évi eredeti ei. | C11: 2019. évi módosított ei. II. | D11: 2019. évi módosított ei. III. | E11: Eltérés | F11: 2019. évi eredeti ei. | G11: 2019. évi módosított ei. II. | H11: 2019. évi módosított ei. III. | I11: Eltérés | J11: 2019. évi eredeti ei. | K11: 2019. évi módosított ei. II. | L11: 2019. évi módosított ei. III. | M11: Eltérés | N11: 2019. évi eredeti ei. | O11: 2019. évi módosított ei. II. | P11: 2019. évi módosított ei. III. | Q11: Eltérés | S11: 2019. évi eredeti ei. | T11: 2019. évi módosított ei. II. | U11: 2019. évi módosított ei. III. | V11: Eltérés
A12: I. Működési célú támogatások államházatartáson belülről | B12: =B13 -> 1073750 | C12: =C13 -> 1073750 | D12: =D13 -> 1073750 | E12: =D12-C12 -> 0 | F12: =F13 -> 122147500 | G12: =G13 -> 126655000 | H12: =H13 -> 126655000 | I12: =H12-G12 -> 0 | J12: =J13 -> 1971224 | K12: =K13 -> 1971224 | L12: =L13 -> 1971224 | M12: =L12-K12 -> 0 | N12: =N13 -> 125192474 | O12: =O13 -> 129699974 | P12: =P13 -> 129699974 | Q12: =P12-O12 -> 0 | R12: =R13+R16 -> 0 | S12: =S13+S16 -> 26342601 | T12: =T13+T16 -> 31072057 | U12: =U13+U16 -> 36947092 | V12: =U12-T12 -> 5875035
A13: 6. Egyéb működési célú támogatások bevételei államháztartáson belülről | B13: 1073750 | C13: 1073750 | D13: 1073750 | E13: =D13-C13 -> 0 | F13: =120000000+2147500 -> 122147500 | G13: 126655000 | H13: 126655000 | I13: =H13-G13 -> 0 | J13: 1971224 | K13: 1971224 | L13: 1971224 | M13: =L13-K13 -> 0 | N13: =B13+F13+J13 -> 125192474 | O13: =C13+G13+K13 -> 129699974 | P13: =D13+H13+L13 -> 129699974 | Q13: =P13-O13 -> 0 | S13: 26342601 | T13: 31072057 | U13: 36947092 | V13: =U13-T13 -> 5875035
A14: ebből működési célú támogatás társadalombiztosítási alapból | F14: 120000000 | G14: 124507500 | H14: 124507500 | I14: =H14-G14 -> 0 | M14: =L14-K14 -> 0 | N14: =B14+F14+J14 -> 120000000 | O14: =C14+G14+K14 -> 124507500 | P14: =D14+H14+L14 -> 124507500 | Q14: =P14-O14 -> 0
A15: II. Felhalmozási célú támogatások államháztartáson belülről | E15: =D15-C15 -> 0 | F15: =F16 -> 0 | H15: =SUM(H16) -> 312424 | I15: =H15-G15 -> 312424 | K15: =K16 -> 0 | L15: =L16 -> 0 | M15: =L15-K15 -> 0 | N15: =B15+F15+J15 -> 0 | O15: =C15+G15+K15 -> 0 | P15: =D15+H15+L15 -> 312424 | Q15: =P15-O15 -> 312424 | R15: =R16 -> 0
A16: 4. Egyéb felhalmozási célú támogatások államháztartáson belülről | H16: 312424 | I16: =H16-G16 -> 312424 | N16: =B16+F16+J16 -> 0 | O16: =C16+G16+K16 -> 0 | P16: =D16+H16+L16 -> 312424 | Q16: =P16-O16 -> 312424
A17: II. Közhatalmi bevételek | N17: =B17+F17+J17 -> 0 | Q17: =P17-O17 -> 0 | R17: =#REF!+#REF!+#REF!+#REF!+#REF! -> #REF! | S17: =SUM(S18:S20) -> 500000 | T17: =SUM(T18:T20) -> 500000 | U17: =SUM(U18:U20) -> 500000 | V17: =U17-T17 -> 0
A18: 1. Vagyoni típusú adók | N18: =B18+F18+J18 -> 0 | Q18: =P18-O18 -> 0 | R18: =#REF!+#REF!+#REF!+#REF!+#REF!+#REF!+#REF!+#REF!+#REF!+#REF!+#REF!+#REF!+#REF!+#REF!+#REF! -> #REF!
A19: 2. Termékek és szolgáltatások adói | N19: =B19+F19+J19 -> 0 | Q19: =P19-O19 -> 0
A20: 3. Egyéb közhatalmi bevételek (bírság, pótlék,) | N20: =B20+F20+J20 -> 0 | Q20: =P20-O20 -> 0 | S20: 500000 | T20: 500000 | U20: 500000 | V20: =U20-T20 -> 0
A21: 1V. Működési bevételek | B21: =B22+B23+B25+B26+B27+B28+B29+B30+B33 -> 2790000 | C21: =C22+C23+C25+C26+C27+C28+C29+C30+C33 -> 2290000 | D21: =D22+D23+D25+D26+D27+D28+D29+D30+D33 -> 2090000 | E21: =D21-C21 -> -200000 | F21: =F22+F23+F25+F26+F27+F28+F29+F30+F33 -> 40560000 | G21: =G22+G23+G25+G26+G27+G28+G29+G30+G33 -> 40560000 | H21: =H22+H23+H25+H26+H27+H28+H29+H30+H33 -> 40560000 | I21: =H21-G21 -> 0 | J21: =J22+J23+J25+J26+J27+J28+J29+J30+J33 -> 2025751 | K21: =K22+K23+K25+K26+K27+K28+K29+K30+K33 -> 2025751 | L21: =L22+L23+L25+L26+L27+L28+L29+L30+L33 -> 2025751 | M21: =L21-K21 -> 0 | N21: =N22+N23+N25+N26+N27+N28+N29+N30+N33 -> 45375751 | O21: =O22+O23+O25+O26+O27+O28+O29+O30+O33 -> 44875751 | P21: =P22+P23+P25+P26+P27+P28+P29+P30+P33 -> 44675751 | Q21: =P21-O21 -> -200000 | R21: =R22+R23+R25+R26+R27+R28+R29+R30+R33 -> #REF! | S21: =S22+S23+S25+S26+S27+S28+S29+S30+S33 -> 33220024 | T21: =T22+T23+T25+T26+T27+T28+T29+T30+T33 -> 33220024 | U21: =U22+U23+U25+U26+U27+U28+U29+U30+U33 -> 33220024 | V21: =U21-T21 -> 0
A22: 1. Készletértékesítés bevétele | E22: =D22-C22 -> 0 | M22: =L22-K22 -> 0 | N22: =B22+F22+J22 -> 0 | Q22: =P22-O22 -> 0 | R22: =#REF!+#REF!+#REF!+#REF!+#REF! -> #REF! | V22: =U22-T22 -> 0
A23: 2. Szolgáltatások ellenértéke | B23: 2181000 | C23: =2181000-393700 -> 1787300 | D23: 1629820 | E23: =D23-C23 -> -157480 | F23: 40560000 | G23: 40560000 | H23: 40560000 | I23: =H23-G23 -> 0 | M23: =L23-K23 -> 0 | N23: =B23+F23+J23 -> 42741000 | O23: =C23+G23+K23 -> 42347300 | P23: =D23+H23+L23 -> 42189820 | Q23: =P23-O23 -> -157480 | R23: =#REF!+#REF!+#REF!+#REF!+#REF! -> #REF! | S23: 21200000 | T23: 21200000 | U23: 21200000 | V23: =U23-T23 -> 0
A24: Ebből: bérleti díj | E24: =D24-C24 -> 0 | I24: =H24-G24 -> 0 | M24: =L24-K24 -> 0 | N24: =B24+F24+J24 -> 0 | O24: =C24+G24+K24 -> 0 | P24: =D24+H24+L24 -> 0 | Q24: =P24-O24 -> 0 | R24: =#REF!+#REF!+#REF!+#REF!+#REF! -> #REF! | S24: 7500000 | T24: 7500000 | U24: 7500000 | V24: =U24-T24 -> 0
A25: 3. Közvetített szolgáltatások ellenértéke | E25: =D25-C25 -> 0 | I25: =H25-G25 -> 0 | J25: 228346 | K25: 228346 | L25: 228346 | M25: =L25-K25 -> 0 | N25: =B25+F25+J25 -> 228346 | O25: =C25+G25+K25 -> 228346 | P25: =D25+H25+L25 -> 228346 | Q25: =P25-O25 -> 0 | R25: =#REF!+#REF!+#REF!+#REF!+#REF! -> #REF! | S25: =2300000+2657499 -> 4957499 | T25: 4957499 | U25: 4957499 | V25: =U25-T25 -> 0
A26: 4. Tulajdonosi bevételek | E26: =D26-C26 -> 0 | I26: =H26-G26 -> 0 | M26: =L26-K26 -> 0 | N26: =B26+F26+J26 -> 0 | O26: =C26+G26+K26 -> 0 | P26: =D26+H26+L26 -> 0 | Q26: =P26-O26 -> 0 | R26: =#REF!+#REF!+#REF!+#REF!+#REF! -> #REF!
A27: 5. Ellátási díjak | E27: =D27-C27 -> 0 | I27: =H27-G27 -> 0 | J27: 854922 | K27: 854922 | L27: 854922 | M27: =L27-K27 -> 0 | N27: =B27+F27+J27 -> 854922 | O27: =C27+G27+K27 -> 854922 | P27: =D27+H27+L27 -> 854922 | Q27: =P27-O27 -> 0 | R27: =#REF!+#REF!+#REF!+#REF!+#REF! -> #REF!
A28: 6. Kiszámlázott Áfa | B28: 589000 | C28: =589000-106300 -> 482700 | D28: 440180 | E28: =D28-C28 -> -42520 | I28: =H28-G28 -> 0 | J28: =230829+61654 -> 292483 | K28: 292483 | L28: 292483 | M28: =L28-K28 -> 0 | N28: =B28+F28+J28 -> 881483 | O28: =C28+G28+K28 -> 775183 | P28: =D28+H28+L28 -> 732663 | Q28: =P28-O28 -> -42520 | R28: =#REF!+#REF!+#REF!+#REF!+#REF! -> #REF! | S28: 7062525 | T28: 7062525 | U28: 7062525 | V28: =U28-T28 -> 0
A29: 7. Áfa visszatérítés | E29: =D29-C29 -> 0 | I29: =H29-G29 -> 0 | J29: 650000 | K29: 650000 | L29: 650000 | M29: =L29-K29 -> 0 | N29: =B29+F29+J29 -> 650000 | O29: =C29+G29+K29 -> 650000 | P29: =D29+H29+L29 -> 650000 | Q29: =P29-O29 -> 0 | R29: =#REF!+#REF!+#REF!+#REF!+#REF! -> #REF!
A30: 8. Kamatbevétel | E30: =D30-C30 -> 0 | I30: =H30-G30 -> 0 | M30: =L30-K30 -> 0 | N30: =B30+F30+J30 -> 0 | O30: =C30+G30+K30 -> 0 | P30: =D30+H30+L30 -> 0 | Q30: =P30-O30 -> 0 | R30: =#REF!+#REF!+#REF!+#REF!+#REF! -> #REF!
A31: 9. Egyéb pénzügyi műveletek bevételei | E31: =D31-C31 -> 0 | I31: =H31-G31 -> 0 | M31: =L31-K31 -> 0 | N31: =B31+F31+J31 -> 0 | O31: =C31+G31+K31 -> 0 | P31: =D31+H31+L31 -> 0 | Q31: =P31-O31 -> 0
A32: 10. Biztosító által fizetett kártérítés | E32: =D32-C32 -> 0 | I32: =H32-G32 -> 0 | M32: =L32-K32 -> 0 | N32: =B32+F32+J32 -> 0 | O32: =C32+G32+K32 -> 0 | P32: =D32+H32+L32 -> 0 | Q32: =P32-O32 -> 0
A33: 11. Egyéb működési bevételek | B33: 20000 | C33: 20000 | D33: 20000 | E33: =D33-C33 -> 0 | I33: =H33-G33 -> 0 | M33: =L33-K33 -> 0 | N33: =B33+F33+J33 -> 20000 | O33: =C33+G33+K33 -> 20000 | P33: =D33+H33+L33 -> 20000 | Q33: =P33-O33 -> 0 | R33: =#REF!+#REF!+#REF!+#REF!+#REF! -> #REF!
A34: V. Felhalmozási bevételek | C34: =SUM(C35:C39) -> 0 | D34: =SUM(D35:D39) -> 0 | E34: =D34-C34 -> 0 | F34: =SUM(F35:F39) -> 0 | G34: =SUM(G35:G39) -> 0 | H34: =SUM(H35:H39) -> 0 | I34: =H34-G34 -> 0 | J34: =SUM(J35:J39) -> 0 | K34: =SUM(K35:K39) -> 0 | L34: =SUM(L35:L39) -> 0 | M34: =L34-K34 -> 0 | N34: =SUM(N35:N39) -> 0 | O34: =SUM(O35:O39) -> 0 | P34: =SUM(P35:P39) -> 0 | Q34: =P34-O34 -> 0 | R34: =#REF!+#REF!+#REF!+#REF!+#REF! -> #REF! | S34: =SUM(S35:S39) -> 0 | T34: =SUM(T35:T39) -> 0 | U34: =SUM(U35:U39) -> 0 | V34: =U34-T34 -> 0
A35: 1. Immateriális javak értékesítése | I35: =H35-G35 -> 0 | M35: =L35-K35 -> 0 | N35: =B35+F35+J35 -> 0 | Q35: =P35-O35 -> 0 | V35: =U35-T35 -> 0
A36: 2. Ingatlanok értékesítése | I36: =H36-G36 -> 0 | M36: =L36-K36 -> 0 | N36: =B36+F36+J36 -> 0 | Q36: =P36-O36 -> 0 | V36: =U36-T36 -> 0
A37: 3. Egyéb tárgyi eszközök értékesítése | I37: =H37-G37 -> 0 | M37: =L37-K37 -> 0 | N37: =B37+F37+J37 -> 0 | O37: =C37+G37+K37 -> 0 | P37: =D37+H37+L37 -> 0 | Q37: =P37-O37 -> 0 | V37: =U37-T37 -> 0
A38: 4. Részesedések értékesítése | I38: =H38-G38 -> 0 | M38: =L38-K38 -> 0 | N38: =B38+F38+J38 -> 0 | Q38: =P38-O38 -> 0 | V38: =U38-T38 -> 0
A39: 5. Részesedések megszűnéséhez kapcsolódó bevételek | I39: =H39-G39 -> 0 | M39: =L39-K39 -> 0 | N39: =B39+F39+J39 -> 0 | Q39: =P39-O39 -> 0 | V39: =U39-T39 -> 0
A40: VI. Működési célú átvett pénzeszközök | F40: =F41 -> 0 | G40: =G41 -> 75000 | H40: =H41 -> 75000 | I40: =H40-G40 -> 0 | K40: =K41 -> 0 | L40: =L41 -> 0 | M40: =L40-K40 -> 0 | N40: =SUM(N41) -> 0 | O40: =SUM(O41) -> 75000 | P40: =SUM(P41) -> 75000 | Q40: =P40-O40 -> 0 | R40: =#REF!+#REF!+#REF!+#REF!+#REF! -> #REF! | V40: =U40-T40 -> 0
A41: 3. Egyéb működési célú átvett pénzeszközök | G41: 75000 | H41: 75000 | I41: =H41-G41 -> 0 | M41: =L41-K41 -> 0 | N41: =B41+F41+J41 -> 0 | O41: =C41+G41+K41 -> 75000 | P41: =D41+H41+L41 -> 75000 | Q41: =P41-O41 -> 0 | V41: =U41-T41 -> 0
A42: VII. Felhalmozási célú átvett pénzeszközök | M42: =L42-K42 -> 0 | N42: =B42+F42+J42 -> 0 | O42: =C42+G42+K42 -> 0 | P42: =D42+H42+L42 -> 0 | Q42: =P42-O42 -> 0 | R42: =#REF!+#REF!+#REF!+#REF!+#REF! -> #REF! | V42: =U42-T42 -> 0
A43: 3. Egyéb felhalmozási célú átvett pénzeszközök | M43: =L43-K43 -> 0 | N43: =B43+F43+J43 -> 0 | O43: =C43+G43+K43 -> 0 | P43: =D43+H43+L43 -> 0 | Q43: =P43-O43 -> 0 | V43: =U43-T43 -> 0
A44: Költségvetési bevételek összesen: | B44: =B42+B40+B34+B21+B17+B15+B12 -> 3863750 | C44: =C42+C40+C34+C21+C17+C15+C12 -> 3363750 | D44: =D42+D40+D34+D21+D17+D15+D12 -> 3163750 | E44: =D44-C44 -> -200000 | F44: =F42+F40+F34+F21+F17+F15+F12 -> 162707500 | G44: =G42+G40+G34+G21+G17+G15+G12 -> 167290000 | H44: =H42+H40+H34+H21+H17+H15+H12 -> 167602424 | I44: =H44-G44 -> 312424 | J44: =J42+J40+J34+J21+J17+J15+J12 -> 3996975 | K44: =K42+K40+K34+K21+K17+K15+K12 -> 3996975 | L44: =L42+L40+L34+L21+L17+L15+L12 -> 3996975 | M44: =L44-K44 -> 0 | N44: =B44+F44+J44 -> 170568225 | O44: =C44+G44+K44 -> 174650725 | P44: =D44+H44+L44 -> 174763149 | Q44: =P44-O44 -> 112424 | R44: =R42+R40+R34+R21+R17+R15+R12 -> #REF! | S44: =S42+S40+S34+S21+S17+S15+S12 -> 60062625 | T44: =T42+T40+T34+T21+T17+T15+T12 -> 64792081 | U44: =U42+U40+U34+U21+U17+U15+U12 -> 70667116 | V44: =U44-T44 -> 5875035
A45: VIII. Finanszírozási bevételek | B45: =B46+B49+B50 -> 52428449 | C45: =C46+C49+C50 -> 58314715 | D45: =D46+D49+D50 -> 57895258 | E45: =D45-C45 -> -419457 | F45: =F46+F49+F50 -> 62794500 | G45: =G46+G49+G50 -> 69412976 | H45: =H46+H49+H50 -> 69827210 | I45: =H45-G45 -> 414234 | J45: =J46+J49+J50 -> 66330084 | K45: =K46+K49+K50 -> 68962221 | L45: =L46+L49+L50 -> 68902653 | M45: =L45-K45 -> -59568 | N45: =B45+F45+J45 -> 181553033 | O45: =C45+G45+K45 -> 196689912 | P45: =D45+H45+L45 -> 196625121 | Q45: =P45-O45 -> -64791 | R45: =R46+R49+R50 -> #REF! | S45: =S46+S49+S50 -> 413289652 | T45: =T46+T49+T50 -> 434396172 | U45: =U46+U49+U50 -> 435584640 | V45: =U45-T45 -> 1188468
A46: 1. Költségvetési hiány belső finanszírozására szolgáló bevételek | B46: =SUM(B47:B48) -> 0 | C46: =SUM(C47:C48) -> 3317009 | D46: =SUM(D47:D48) -> 3317009 | E46: =D46-C46 -> 0 | F46: =SUM(F47:F48) -> 0 | G46: =SUM(G47:G48) -> 7051405 | H46: =SUM(H47:H48) -> 7051405 | I46: =H46-G46 -> 0 | J46: =SUM(J47:J48) -> 176276 | K46: =SUM(K47:K48) -> 3996184 | L46: =SUM(L47:L48) -> 3996184 | M46: =L46-K46 -> 0 | N46: =SUM(N47:N48) -> 176276 | O46: =SUM(O47:O48) -> 14364598 | P46: =SUM(P47:P48) -> 14364598 | Q46: =P46-O46 -> 0 | S46: =SUM(S47:S48) -> 0 | T46: =SUM(T47:T48) -> 23685448 | U46: =SUM(U47:U48) -> 23685448 | V46: =U46-T46 -> 0
A47: 1.1. Előző év költségvetési maradványának igénybevétele működési célra | C47: =3317009-C48 -> 2821381 | D47: =3317009-D48 -> 2821381 | E47: =D47-C47 -> 0 | G47: =7051405-G48 -> 6515945 | H47: =7051405-H48 -> 6515945 | I47: =H47-G47 -> 0 | J47: 176276 | K47: =3996184-K48 -> 3745715 | L47: =3996184-L48 -> 3745715 | M47: =L47-K47 -> 0 | N47: =B47+F47+J47 -> 176276 | O47: =C47+G47+K47 -> 13083041 | P47: =D47+H47+L47 -> 13083041 | Q47: =P47-O47 -> 0 | T47: 14511377 | U47: 14511377 | V47: =U47-T47 -> 0
A48: 1.2. Előző év költségvetési maradványának igénybevétele felhalmozási célra | C48: 495628 | D48: 495628 | E48: =D48-C48 -> 0 | G48: 535460 | H48: 535460 | I48: =H48-G48 -> 0 | K48: 250469 | L48: 250469 | M48: =L48-K48 -> 0 | N48: =B48+F48+J48 -> 0 | O48: =C48+G48+K48 -> 1281557 | P48: =D48+H48+L48 -> 1281557 | Q48: =P48-O48 -> 0 | T48: 9174071 | U48: 9174071 | V48: =U48-T48 -> 0
A49: 2. Költségvetési hiány külső finanszírozására szolgáló finanszírozási bevételek | M49: =L49-K49 -> 0 | N49: =B49+F49+J49 -> 0 | Q49: =P49-O49 -> 0 | V49: =U49-T49 -> 0
A50: 3. Irányító szervi támogatások | B50: ='4.sz.tábla '!AS6-'2.a tábla ÚJ '!B44-'2.a tábla ÚJ '!B46 -> 52428449 | C50: ='4.sz.tábla '!AT6-'2.a tábla ÚJ '!C44-'2.a tábla ÚJ '!C46 -> 54997706 | D50: ='4.sz.tábla '!AU6-'2.a tábla ÚJ '!D44-'2.a tábla ÚJ '!D46 -> 54578249 | E50: =D50-C50 -> -419457 | F50: ='4.sz.tábla '!AS7-'2.a tábla ÚJ '!F44-'2.a tábla ÚJ '!F46 -> 62794500 | G50: ='4.sz.tábla '!AT7-'2.a tábla ÚJ '!G44-'2.a tábla ÚJ '!G46 -> 62361571 | H50: ='4.sz.tábla '!AU7-'2.a tábla ÚJ '!H44-'2.a tábla ÚJ '!H46 -> 62775805 | I50: =H50-G50 -> 414234 | J50: ='4.sz.tábla '!AS8-'2.a tábla ÚJ '!J44-'2.a tábla ÚJ '!J46 -> 66153808 | K50: ='4.sz.tábla '!AT8-'2.a tábla ÚJ '!K44-'2.a tábla ÚJ '!K46 -> 64966037 | L50: ='4.sz.tábla '!AU8-'2.a tábla ÚJ '!L44-'2.a tábla ÚJ '!L46 -> 64906469 | M50: =L50-K50 -> -59568 | N50: =B50+F50+J50 -> 181376757 | O50: =C50+G50+K50 -> 182325314 | P50: =D50+H50+L50 -> 182260523 | Q50: =P50-O50 -> -64791 | R50: =SUM(#REF!) -> #REF! | S50: ='5.tábla (2)'!B33-'2.a tábla ÚJ '!S44-'2.a tábla ÚJ '!S46 -> 413289652 | T50: ='5.tábla (2)'!C33-'2.a tábla ÚJ '!T44-'2.a tábla ÚJ '!T46 -> 410710724 | U50: ='5.tábla (2)'!D33-'2.a tábla ÚJ '!U44-'2.a tábla ÚJ '!U46 -> 411899192 | V50: =U50-T50 -> 1188468
A51: Összes bevétel: | B51: =B45+B44 -> 56292199 | C51: =C45+C44 -> 61678465 | D51: =D45+D44 -> 61059008 | E51: =D51-C51 -> -619457 | F51: =F45+F44 -> 225502000 | G51: =G45+G44 -> 236702976 | H51: =H45+H44 -> 237429634 | I51: =H51-G51 -> 726658 | J51: =J45+J44 -> 70327059 | K51: =K45+K44 -> 72959196 | L51: =L45+L44 -> 72899628 | M51: =L51-K51 -> -59568 | N51: =N45+N44 -> 352121258 | O51: =O45+O44 -> 371340637 | P51: =P45+P44 -> 371388270 | Q51: =P51-O51 -> 47633 | R51: =R45+R44 -> #REF! | S51: =S45+S44 -> 473352277 | T51: =T45+T44 -> 499188253 | U51: =U45+U44 -> 506251756 | V51: =U51-T51 -> 7063503
A52: Létszámadatok intézményenként | V52: =U52-T52 -> 0
A53: technikai állomány (fő) | B53: 1.5 | C53: 1.5 | D53: 1.5 | E53: =D53-C53 -> 0 | F53: 12 | G53: 12 | H53: 12 | I53: =H53-G53 -> 0 | J53: 5 | K53: 5 | L53: 5 | M53: =L53-K53 -> 0 | N53: =B53+F53+J53 -> 18.5 | O53: =C53+G53+K53 -> 18.5 | P53: =D53+H53+L53 -> 18.5 | Q53: =P53-O53 -> 0 | R53: =#REF!+#REF!+#REF!+#REF!+#REF!+#REF!+#REF!+#REF!+#REF!+#REF! -> #REF! | S53: 6 | T53: 5 | U53: 5 | V53: =U53-T53 -> 0
A54: szakmai állomány (fő) | B54: 9.5 | C54: 9.5 | D54: 9.5 | E54: =D54-C54 -> 0 | F54: 18 | G54: 18 | H54: 18 | I54: =H54-G54 -> 0 | J54: 9 | K54: 9 | L54: 9 | M54: =L54-K54 -> 0 | N54: =B54+F54+J54 -> 36.5 | O54: =C54+G54+K54 -> 36.5 | P54: =D54+H54+L54 -> 36.5 | Q54: =P54-O54 -> 0 | R54: =#REF!+#REF!+#REF!+#REF!+#REF!+#REF!+#REF!+#REF!+#REF!+#REF! -> #REF! | S54: 69 | T54: 69 | U54: 69 | V54: =U54-T54 -> 0
A55: határozott idejű (fő) | E55: =D55-C55 -> 0 | F55: 0 | G55: 0 | H55: 0 | I55: =H55-G55 -> 0 | M55: =L55-K55 -> 0 | N55: =B55+F55+J55 -> 0 | O55: =C55+G55+K55 -> 0 | P55: =D55+H55+L55 -> 0 | Q55: =P55-O55 -> 0 | R55: =#REF!+#REF!+#REF!+#REF!+#REF!+#REF!+#REF!+#REF!+#REF!+#REF! -> #REF! | S55: 0.5 | T55: 0.5 | U55: 0.5 | V55: =U55-T55 -> 0
A56: közfoglalkoztatott (fő) | B56: 1 | C56: 1 | D56: 1 | E56: =D56-C56 -> 0 | F56: 2 | G56: 2 | H56: 2 | I56: =H56-G56 -> 0 | J56: 2 | K56: 2 | L56: 2 | M56: =L56-K56 -> 0 | N56: =B56+F56+J56 -> 5 | O56: =C56+G56+K56 -> 5 | P56: =D56+H56+L56 -> 5 | Q56: =P56-O56 -> 0 | R56: =#REF!+#REF!+#REF!+#REF!+#REF!+#REF!+#REF!+#REF!+#REF!+#REF! -> #REF!
A57: Összesen (fő): | B57: =SUM(B53:B56) -> 12 | C57: =SUM(C53:C56) -> 12 | D57: =SUM(D53:D56) -> 12 | E57: =D57-C57 -> 0 | F57: =SUM(F53:F56) -> 32 | G57: =SUM(G53:G56) -> 32 | H57: =SUM(H53:H56) -> 32 | I57: =H57-G57 -> 0 | J57: =SUM(J53:J56) -> 16 | K57: =SUM(K53:K56) -> 16 | L57: =SUM(L53:L56) -> 16 | M57: =L57-K57 -> 0 | N57: =SUM(N53:N56) -> 60 | O57: =SUM(O53:O56) -> 60 | P57: =SUM(P53:P56) -> 60 | Q57: =P57-O57 -> 0 | R57: =SUM(R53:R56) -> #REF! | S57: =SUM(S53:S56) -> 75.5 | T57: =SUM(T53:T56) -> 74.5 | U57: =SUM(U53:U56) -> 74.5 | V57: =U57-T57 -> 0
A58: Önkormányzat engedélyezett létszám | R58: =#REF!+#REF!+#REF!+#REF!+#REF!+#REF!+#REF!+#REF!+#REF!+#REF! -> #REF! | S58: 3 | T58: 7 | U58: 7 | V58: =U58-T58 -> 0
A59: ebből: támogatott projektek | S59: 1 | T59: 1 | U59: 1 | V59: =U59-T59 -> 0
A60: Önkormányzat közfoglalkoztatott (fő) | R60: =#REF!+#REF!+#REF!+#REF!+#REF!+#REF!+#REF!+#REF!+#REF!+#REF! -> #REF! | S60: 15 | T60: 15 | U60: 15 | V60: =U60-T60 -> 0

Sheet 2b. tábla 2019 (2)
A1: ÁLLAMI TÁMOGATÁSOK 2019. ÉV
A2: MEGNEVEZÉS | B2: LÉTSZÁM | C2: MUTATÓ | D2: FAJLAGOS | E2: ELŐIRÁNYZAT | F2: ELTÉRÉS | G2: 2019. ÉVI MÓDOSÍTOTT EI. I. | H2: ELTÉRÉS | I2: 2019. ÉVI MÓDOSÍTOTT EI. II. | J2: ELTÉRÉS | K2: 2019. ÉVI MÓDOSÍTOTT EI. III.
A4: I. HELYI ÖNKORMÁNYZATOK MŰKÖDÉSÉNEK ÁLT.TÁMOGATÁSA | E4: =E5+E28 -> 522094841 | F4: =F5+F28 -> 1655319 | G4: =E4+F4 -> 523750160 | H4: =H5+H28 -> 5897834 | I4: =G4+H4 -> 529647994 | J4: =J5+J28 -> 815332 | K4: =I4+J4 -> 530463326
A5: 1. Települési önkormányzatok működésének támogatása | E5: =E6+E9+E19+E20+E22+E23+E25+E26 -> 522094841 | F5: =F6+F9+F19+F20+F22+F23+F25+F26 -> 0 | G5: =E5+F5 -> 522094841 | H5: =H6+H9+H19+H20+H22+H23+H25+H26+H27 -> 5093000 | I5: =G5+H5 -> 527187841 | J5: =J6+J9+J19+J20+J22+J23+J25+J26+J27 -> 0 | K5: =I5+J5 -> 527187841
A6: Önkormányzati hivatal működtetésének támogatás (beszámítás után) | E6: =E7 -> 179444400 | F6: =F7 -> 0 | G6: =E6+F6 -> 179444400 | I6: =G6+H6 -> 179444400 | K6: =I6+J6 -> 179444400
A7: Önkormányzati hivatal működtetésének támogatás elismert hivatali létsz. | C7: 39.18 | D7: 4580000 | E7: =C7*D7 -> 179444400 | G7: =E7+F7 -> 179444400 | I7: =G7+H7 -> 179444400 | K7: =I7+J7 -> 179444400
A8: Beszámítás összege | E8: 0 | G8: =E8+F8 -> 0 | I8: =G8+H8 -> 0 | K8: =I8+J8 -> 0
A9: Település üzemeltetéséhez kapcsolódó feladatellát.támog.(beszámítás után) | E9: =E10+E11+E12+E13+E14+E15+E16+E17 -> 0 | F9: =F10+F11+F12+F13+F14+F15+F16+F17 -> 0 | G9: =E9+F9 -> 0 | I9: =G9+H9 -> 0 | K9: =I9+J9 -> 0
A10: Zöldterület-gazdálk-al kapcsolatos feladatok ellátásának támog. (HA) | C10: 705.5 | D10: 22300 | E10: =C10*D10 -> 15732650 | G10: =E10+F10 -> 15732650 | I10: =G10+H10 -> 15732650 | K10: =I10+J10 -> 15732650
A11: Beszámítás összege | E11: =-E10 -> -15732650 | G11: =E11+F11 -> -15732650 | I11: =G11+H11 -> -15732650 | K11: =I11+J11 -> -15732650
A12: Közvilágítás fenntartásának támogatás | E12: 58360000 | G12: =E12+F12 -> 58360000 | I12: =G12+H12 -> 58360000 | K12: =I12+J12 -> 58360000
A13: Beszámítás összege | E13: =-E12 -> -58360000 | G13: =E13+F13 -> -58360000 | I13: =G13+H13 -> -58360000 | K13: =I13+J13 -> -58360000
A14: Köztemető fenntartással kapcsolatos feladatok támog. | E14: 2176616 | G14: =E14+F14 -> 2176616 | I14: =G14+H14 -> 2176616 | K14: =I14+J14 -> 2176616
A15: Beszámítás összege | E15: =-E14 -> -2176616 | G15: =E15+F15 -> -2176616 | I15: =G15+H15 -> -2176616 | K15: =I15+J15 -> -2176616
A16: Közutak fenntartásának támogatás | E16: 22310850 | G16: =E16+F16 -> 22310850 | I16: =G16+H16 -> 22310850 | K16: =I16+J16 -> 22310850
A17: Beszámítás összege | E17: =-E16 -> -22310850 | G17: =E17+F17 -> -22310850 | I17: =G17+H17 -> -22310850 | K17: =I17+J17 -> -22310850
A18: Egyéb önkormányzati feladatok támogatása (beszámítás után) | E18: =E19+E20 -> 0 | G18: =E18+F18 -> 0 | I18: =G18+H18 -> 0 | K18: =I18+J18 -> 0
A19: Egyéb önkormányzati feladatok támogatása | C19: 13768 | D19: 2700 | E19: =C19*D19 -> 37173600 | G19: =E19+F19 -> 37173600 | I19: =G19+H19 -> 37173600 | K19: =I19+J19 -> 37173600 | M19: Beszámítás összege
A20: Beszámítás összege | E20: =-E19 -> -37173600 | G20: =E20+F20 -> -37173600 | I20: =G20+H20 -> -37173600 | K20: =I20+J20 -> -37173600 | M20: =G20+G23+G26+G17+G15+G13+G11 -> -168006743
A21: Lakott külterületekkel kapcsolatos feladatok támogatása(beszámítás után) | E21: =E22+E23 -> 0 | G21: =E21+F21 -> 0 | I21: =G21+H21 -> 0 | K21: =I21+J21 -> 0
A22: Lakott külterületekkel kapcsolatos feladatok támogatása | C22: 117 | D22: 2550 | E22: 298350 | G22: =E22+F22 -> 298350 | I22: =G22+H22 -> 298350 | K22: =I22+J22 -> 298350
A23: Beszámítás összege | E23: =-E22 -> -298350 | G23: =E23+F23 -> -298350 | I23: =G23+H23 -> -298350 | K23: =I23+J23 -> -298350
A24: Üdülőhelyi feladatok támogatása (beszámitás után) | E24: =SUM(E25:E26) -> 342650441 | F24: =SUM(F25:F26) -> 0 | G24: =E24+F24 -> 342650441 | H24: =SUM(H25:H26) -> 0 | I24: =G24+H24 -> 342650441 | J24: =SUM(J25:J26) -> 0 | K24: =I24+J24 -> 342650441
A25: Üdülőhelyi feladatok támogatása | E25: 374605118 | G25: =E25+F25 -> 374605118 | I25: =G25+H25 -> 374605118 | K25: =I25+J25 -> 374605118
A26: Beszámítás összege | E26: -31954677 | G26: =E26+F26 -> -31954677 | I26: =G26+H26 -> -31954677 | K26: =I26+J26 -> -31954677
A27: Kiegészítő támogatás | H27: 5093000 | I27: =G27+H27 -> 5093000 | K27: =I27+J27 -> 5093000
A28: 2. 2018. évről áthúzódó és 2019. évi bérkompenzáció támogatása | E28: 0 | F28: 1655319 | G28: =E28+F28 -> 1655319 | H28: =I28-G28 -> 804834 | I28: 2460153 | J28: =K28-I28 -> 815332 | K28: 3275485
G29: =E29+F29 -> 0
A30: II. EGYES KÖZNEVELÉSI FELADATOK TÁMOGATÁSA | E30: =SUM(E31:E39)+1 -> 2.5472833e+08 | F30: =F31+F32+F33+F34+F36+F37+F38+F39 -> -647801 | G30: =E30+F30 -> 2.5408053e+08 | H30: =H31+H32+H33+H34+H36+H37+H38+H39+H35 -> 5070000 | I30: =G30+H30 -> 2.5915053e+08 | J30: =J31+J32+J33+J34+J36+J37+J38+J39+J35 -> 869307 | K30: =I30+J30 -> 2.6001984e+08
A31: Óvodapedagógusok elismert létszáma (8 hó) | B31: 35.3 | C31: =B31/12*8 -> 23.533333 | D31: 4371500 | E31: =C31*D31 -> 1.0287597e+08 | F31: -582867 | G31: =E31+F31 -> 1.022931e+08 | I31: =G31+H31 -> 1.022931e+08 | K31: =I31+J31 -> 1.022931e+08
A32: Óvodapedagógusok munkáját kvetlenül segítők (8 hó) | B32: 26 | C32: =B32/12*8 -> 17.333333 | D32: 2205000 | E32: =C32*D32 -> 38220000 | G32: =E32+F32 -> 38220000 | I32: =G32+H32 -> 38220000 | K32: =I32+J32 -> 38220000
A33: Óvodapedagógusok elismert létszáma (4 hó) | B33: 35 | C33: =B33/12*4 -> 11.666667 | D33: 4371500 | E33: =C33*D33 -> 51000833 | G33: =E33+F33 -> 51000833 | I33: =G33+H33 -> 51000833 | J33: 728584 | K33: =I33+J33 -> 51729417
A34: Óvodapedagógusok munkáját kvetlenül segítők (4 hó) | B34: 26 | C34: =B34/12*4 -> 8.6666667 | D34: 2205000 | E34: =C34*D34 -> 19110000 | G34: =E34+F34 -> 19110000 | I34: =G34+H34 -> 19110000 | K34: =I34+J34 -> 19110000
A35: Kiegészítő támogatás óvodaped. és az e ped. munkáját kvetlenül segítők bértámogatásához | H35: 5070000 | I35: =G35+H35 -> 5070000 | K35: =I35+J35 -> 5070000
A36: Gyermeklétszám (8 hó) | B36: 383 | C36: =B36/12*8 -> 255.33333 | D36: 97400 | E36: =C36*D36 -> 24869467 | F36: -64934 | G36: =E36+F36 -> 24804533 | I36: =G36+H36 -> 24804533 | K36: =I36+J36 -> 24804533
A37: Gyermeklétszám (4 hó) | B37: 379 | C37: =B37/12*4 -> 126.33333 | D37: 97400 | E37: =C37*D37 -> 12304867 | G37: =E37+F37 -> 12304867 | I37: =G37+H37 -> 12304867 | J37: 259733 | K37: =I37+J37 -> 12564600
A38: Pedagógus II. kat. sorolt óvodapedag. kieg. támog.-minősítés 2016. dec.31-ig szerezték meg | B38: 16 | C38: 16 | D38: 396700 | E38: =C38*D38 -> 6347200 | G38: =E38+F38 -> 6347200 | I38: =G38+H38 -> 6347200 | J38: -119010 | K38: =I38+J38 -> 6228190
A39: Pedagógus II. kat. sorolt óvodapedag. kieg. támog.-minősítés 2017. dec.31-ig szerezték meg | B39: 0 | C39: 0 | D39: 363642 | E39: =C39*D39 -> 0 | G39: =E39+F39 -> 0 | I39: =G39+H39 -> 0 | K39: =I39+J39 -> 0
A40: MEGNEVEZÉS | B40: LÉTSZÁM | C40: MUTATÓ | D40: FAJLAGOS | E40: ELŐIRÁNYZAT | F40: ELTÉRÉS | G40: 2019. ÉVI MÓDOSÍTOTT EI. I. | H40: ELTÉRÉS | I40: 2019. ÉVI MÓDOSÍTOTT EI. II. | J40: ELTÉRÉS | K40: 2019. ÉVI MÓDOSÍTOTT EI. III.
A42: III. SZOCIÁLIS, GYERMEKJÓLÉTI ÉS GYERMEKÉTKEZTETÉSI FELADATAI | E42: =E43+E46+E62+E67+E71 -> 215151670 | F42: =F43+F46+F62+F67+F71 -> 10418225 | G42: =E42+F42 -> 225569895 | H42: =H43+H46+H62+H67+H71 -> 27375476 | I42: =G42+H42 -> 252945371 | J42: =J43+J46+J62+J67+J71 -> 3513363 | K42: =I42+J42 -> 256458734
A43: Pénzbeli szociális juttatások | E43: =SUM(E44:E45) -> 0 | G43: =E43+F43 -> 0
A44: Pénzbeli szociális ellátások kiegészítése
A45: Települési önkormányzatok szociális feladatainak egyéb támogatása
A46: Egyes szoc.és gyermekjólétii felad.támog. | E46: =E47+E48+E50+E52+E54+E56+E53+E61 -> 93465615 | F46: =F47+F48+F50+F52+F54+F56+F53+F61 -> 0 | G46: =E46+F46 -> 93465615 | H46: =H47+H48+H50+H52+H54+H56+H53+H61+H49+H51+H55+H60 -> 14618000 | I46: =H46+G46 -> 108083615 | J46: =J47+J48+J50+J52+J54+J56+J53+J61+J49+J51+J55+J60 -> -1819680 | K46: =J46+I46 -> 106263935
A47: család- és gyermekjóléti szolgálat | C47: 7.6 | D47: 3400000 | E47: =C47*D47 -> 25840000 | G47: =E47+F47 -> 25840000 | I47: =H47+G47 -> 25840000 | K47: =J47+I47 -> 25840000
A48: család- és gyermekjóléti központ | C48: 4.7 | D48: 3300000 | E48: =C48*D48 -> 15510000 | G48: =E48+F48 -> 15510000 | I48: =H48+G48 -> 15510000 | K48: =J48+I48 -> 15510000
A49: kiegészít támogatás család- és gyermekjóléti feladatra | H49: 2888000 | I49: =H49+G49 -> 2888000 | K49: =J49+I49 -> 2888000
A50: szociális étkeztetés | B50: 92 | C50: 92 | D50: 55360 | E50: =C50*D50 -> 5093120 | G50: =E50+F50 -> 5093120 | I50: =H50+G50 -> 5093120 | J50: -719680 | K50: =J50+I50 -> 4373440
A51: kiegészítő támogatás szociális étkeztetés | H51: 920000 | I51: =H51+G51 -> 920000 | K51: =J51+I51 -> 920000
A52: házi segítségnyújtás - szociális segítés | B52: 2 | C52: 2 | D52: 25000 | E52: =C52*D52 -> 50000 | G52: =E52+F52 -> 50000 | I52: =H52+G52 -> 50000 | K52: =J52+I52 -> 50000
A53: házi segítségnyújtás - személyi gondozás - társuál által történő feladatellátás | B53: 26 | C53: 26 | D53: 429000 | E53: =D53*C53 -> 11154000 | G53: =E53+F53 -> 11154000 | I53: =H53+G53 -> 11154000 | K53: =J53+I53 -> 11154000
A54: időskorúak nappali intézényi ellátása - társulás által történő feladatellátás | B54: 39 | C54: 39 | D54: 163500 | E54: =C54*D54 -> 6376500 | G54: =E54+F54 -> 6376500 | I54: =H54+G54 -> 6376500 | K54: =J54+I54 -> 6376500
A55: kiegészítő támogatás időskorúak nappali intézényi ellátása | H55: 4739000 | I55: =H55+G55 -> 4739000 | K55: =J55+I55 -> 4739000
A56: Fogyatékos és demens személyek nappali intézményi ellátása | E56: =E57+E58+E59 -> 16060000 | G56: =E56+F56 -> 16060000 | I56: =H56+G56 -> 16060000 | J56: =J57+J58+J59 -> -1100000 | K56: =J56+I56 -> 14960000
A57: fogyatékos személyek nappali intézményi ellátása társulás általi feladatellátás | B57: 13 | C57: 13 | D57: 550000 | E57: =C57*D57 -> 7150000 | G57: =E57+F57 -> 7150000 | I57: =H57+G57 -> 7150000 | K57: =J57+I57 -> 7150000
A58: foglalkoztatási támog-ban részesülő fogyatékos nappali intézményben ellátottak | B58: 23 | C58: 23 | D58: 220000 | E58: =C58*D58 -> 5060000 | G58: =E58+F58 -> 5060000 | I58: =H58+G58 -> 5060000 | K58: =J58+I58 -> 5060000
A59: demens személyek nappali intézményi ellátása - társulás által történő feladatellátás | B59: 7 | C59: 7 | D59: 550000 | E59: =C59*D59 -> 3850000 | G59: =E59+F59 -> 3850000 | I59: =H59+G59 -> 3850000 | J59: -1100000 | K59: =J59+I59 -> 2750000
A60: Kiegészítő támogatás fogyatékos és demens személyek nappali intézményi ellátása | H60: 6071000 | I60: =H60+G60 -> 6071000 | K60: =J60+I60 -> 6071000
A61: Óvodai és iskolai szociális segítő tevékenység | E61: 13381995 | G61: =E61+F61 -> 13381995 | I61: =H61+G61 -> 13381995 | K61: =J61+I61 -> 13381995
A62: Gyermekétkeztetés támogatása | E62: =E63+E64+E65 -> 79516555 | F62: =F63+F64+F65 -> 0 | G62: =E62+F62 -> 79516555 | H62: =H63+H64+H65+H66 -> 7462906 | I62: =H62+G62 -> 86979461 | J62: =J63+J64+J65+J66 -> -212382 | K62: =J62+I62 -> 86767079
A63: Finanszírozás szempontjábol elismert dolgozók bértámogatása | C63: 24.73 | D63: 1900000 | E63: =C63*D63 -> 46987000 | G63: =E63+F63 -> 46987000 | I63: =H63+G63 -> 46987000 | K63: =J63+I63 -> 46987000
A64: Gyermekétkeztetés üzemeltetési támogatása | C64: 1091 | E64: 32184819 | G64: =E64+F64 -> 32184819 | H64: =I64-G64 -> 2516906 | I64: 34701725 | K64: 34701725
A65: A rászoruló gyermekek intézményen kívüli szünidei étkeztetésének támogatása | C65: 1008 | D65: 342 | E65: =C65*D65 -> 344736 | G65: =E65+F65 -> 344736 | I65: =G65+H65 -> 344736 | J65: -212382 | K65: =I65+J65 -> 132354
A66: Kiegészítő támogatás gyermekétkeztetés támogatására | H66: 4946000 | I66: =H66+G66 -> 4946000 | K66: =J66+I66 -> 4946000
A67: Gyermekek napközbeni ellátása | E67: =E68+E69+E70 -> 42169500 | F67: =F68+F69+F70 -> 0 | G67: =E67+F67 -> 42169500 | H67: =H70+H69+H68 -> 0 | I67: =G67+H67 -> 42169500 | K67: =I67+J67 -> 42169500
A68: finansz.szempontjából elismert szakmai dolgozók bértámogatása: felsőfokú végzettségű kisgyermeknevelők,szaktanácsadók | C68: 2 | D68: 4419000 | E68: =C68*D68 -> 8838000 | G68: =E68+F68 -> 8838000 | I68: =G68+H68 -> 8838000 | K68: =I68+J68 -> 8838000
A69: finansz.szempontjából elismert szakmai dolgozók bértámogatása: bölcsödei dajkák, középfokú végzettségű kisgyermeknevelők, szaktanácsadók | C69: 6.5 | D69: 2993000 | E69: =C69*D69 -> 19454500 | G69: =E69+F69 -> 19454500 | I69: =G69+H69 -> 19454500 | K69: =I69+J69 -> 19454500
A70: bölcsődei üzemeltetési támogatás | E70: 13877000 | G70: =E70+F70 -> 13877000 | I70: =G70+H70 -> 13877000 | K70: =I70+J70 -> 13877000
A71: Szociális ágazati összevont pótlék | F71: 10418225 | G71: =E71+F71 -> 10418225 | H71: =I71-G71 -> 5294570 | I71: 15712795 | J71: =K71-I71 -> 5545425 | K71: 21258220
G72: =E72+F72 -> 0
A73: Kulturális feladatok támogatása | E73: =E74+E75+E76 -> 16659280 | F73: =F74+F75+F76 -> 2692600 | G73: =E73+F73 -> 19351880 | H73: =H74+H75+H76+H77 -> 1444234 | I73: =H73+G73 -> 20796114 | J73: =J74+J75+J76+J77 -> 841151 | K73: =J73+I73 -> 21637265
A74: Nyilvános könyvtári és közművelődési feladatok támogatása | C74: 13768 | D74: 1210 | E74: =C74*D74 -> 16659280 | G74: =E74+F74 -> 16659280 | I74: =H74+G74 -> 16659280 | K74: =J74+I74 -> 16659280
A75: Kulturális illetménypótlék | F75: 1685600 | G75: =E75+F75 -> 1685600 | H75: 880234 | I75: =H75+G75 -> 2565834 | J75: 841151 | K75: =J75+I75 -> 3406985
A76: Könyvtári érdekeltségnövelő támogatás | F76: 1007000 | G76: =E76+F76 -> 1007000 | I76: =H76+G76 -> 1007000 | K76: =J76+I76 -> 1007000
A77: Kiegészítő támogatás nyilvános könyvtári és közművelődési feladatokra | H77: 564000 | I77: =H77+G77 -> 564000 | K77: =J77+I77 -> 564000
A78: Helyi Önkormányzatok kiegészítő támogatásai (működési) | E78: =SUM(E79:E80) -> 0 | F78: =SUM(F79:F82) -> 6489372 | G78: =E78+F78 -> 6489372 | H78: =H79+H80+H81+H82+H83 -> 900000 | I78: =G78+H78 -> 7389372 | J78: =J79+J80+J81+J82+J83 -> 46834100 | K78: =I78+J78 -> 54223472
A79: 2019. évi lakosssági víz- és csatornatámogatás | G79: =E79+F79 -> 0 | I79: =G79+H79 -> 0 | J79: 44819100 | K79: =I79+J79 -> 44819100
A80: Közösségi közlekedés támogatása | G80: =E80+F80 -> 0 | I80: =G80+H80 -> 0 | J80: 2015000 | K80: =I80+J80 -> 2015000
A81: Rendkívüli önkormányzati támogatás Tűzoltóság támogatása | F81: 6489372 | G81: =E81+F81 -> 6489372 | I81: =G81+H81 -> 6489372 | K81: =I81+J81 -> 6489372
A82: Jó adatszolgáltató önkormányzatok támogatása | G82: =E82+F82 -> 0 | H82: 900000 | I82: =G82+H82 -> 900000 | K82: =I82+J82 -> 900000
A83: Elszámolásból származó bevételek | G83: =E83+F83 -> 0 | I83: =G83+H83 -> 0 | K83: =I83+J83 -> 0
G84: =E84+F84 -> 0
A85: Felhalmozási célú önormányzati támogatások | E85: =SUM(E86:E86) -> 0 | F85: =SUM(F86:F86) -> 0 | G85: =SUM(G86:G86) -> 0 | H85: =SUM(H86:H86) -> 30000000 | I85: =SUM(I86:I86) -> 30000000 | J85: =SUM(J86:J88) -> 4503000 | K85: =I85+J85 -> 34503000
A86: Kötelező önk-i feladatot ellátó intézmények fejlesztése, felújítása (Kiserdei Óvoda) | G86: =E86+F86 -> 0 | H86: =I86-G86 -> 30000000 | I86: 30000000 | K86: =I86+J86 -> 30000000
A87: Kulturális közművelődési érdekeltségnövelő támogatás | J87: 2503000 | K87: =I87+J87 -> 2503000
A88: Kubinyi program Balatonfüredi Városi Helytörténeti Gyűjtemény | G88: =E88+F88 -> 0 | J88: 2000000 | K88: =I88+J88 -> 2000000
A89: Összesen | E89: =E73+E42+E30+E4+E85+E78 -> 1.0086341e+09 | F89: =F73+F42+F30+F4+F85+F78 -> 20607715 | G89: =E89+F89 -> 1.0292418e+09 | H89: =H73+H42+H30+H4+H85+H78 -> 70687544 | I89: =G89+H89 -> 1.0999294e+09 | J89: =J73+J42+J30+J4+J85+J78 -> 57376253 | K89: =I89+J89 -> 1.1573056e+09

Sheet 2c. tábla 2019. (2)
C1: ÁLLAMI TÁMOGATÁSOK INTÉZMÉNYENKÉNT 2019. ÉV
A3: Mell. | B3: Sorszám | C3: Megnevezés | D3: Létszám | E3: MUTATÓ | F3: FAJLAGOS | G3: EREDETI EI. | H3: ELTÉRÉS | I3: 2019. ÉVI MÓDOSÍTOTT EI. I. | J3: ELTÉRÉS | K3: 2019. ÉVI MÓDOSÍTOTT EI. II. | L3: ELTÉRÉS | M3: 2019. ÉVI MÓDOSÍTOTT EI. III.
A4: 2 | B4: II.1. | C4: Óvodapedagógusok elismert létszáma (8 hó) | D4: 13.9 | E4: =D4/12*8 -> 9.2666667 | F4: 4371500 | G4: =E4*F4 -> 40509233 | H4: -582866 | I4: =G4+H4 -> 39926367 | K4: =J4+I4 -> 39926367 | M4: =L4+K4 -> 39926367
A5: 2 | B5: II.1. | C5: Óvodapedagógusok munkáját kvetlenül segítők (8 hó) | D5: 10 | E5: =D5/12*8 -> 6.6666667 | F5: 2205000 | G5: =E5*F5 -> 14700000 | I5: =G5+H5 -> 14700000 | K5: =J5+I5 -> 14700000 | M5: =L5+K5 -> 14700000
A6: 2 | B6: II.1. | C6: Óvodapedagógusok elismert létszáma (4 hó) | D6: 13.9 | E6: =D6/12*4 -> 4.6333333 | F6: 4371500 | G6: =E6*F6 -> 20254617 | I6: =G6+H6 -> 20254617 | K6: =J6+I6 -> 20254617 | L6: 437150 | M6: =L6+K6 -> 20691767
A7: 2 | B7: II.1. | C7: Óvodapedagógusok munkáját kvetlenül segítők (4 hó) | D7: 10 | E7: =D7/12*4 -> 3.3333333 | F7: 2205000 | G7: =E7*F7 -> 7350000 | I7: =G7+H7 -> 7350000 | K7: =J7+I7 -> 7350000 | M7: =L7+K7 -> 7350000
B8: II.1. | C8: Kieg.tám.óvodaped. és az e ped. munkáját kvetlenül segítők bértám-hoz | J8: 1950000 | K8: =J8+I8 -> 1950000 | M8: =L8+K8 -> 1950000
A9: 2 | B9: II.2. | C9: Óvodaműködtetési támogatás (8 hó) | D9: 154 | E9: =D9/12*8 -> 102.66667 | F9: 97400 | G9: =E9*F9 -> 9999733.3 | H9: -194802 | I9: =G9+H9 -> 9804931.3 | K9: =J9+I9 -> 9804931.3 | M9: =L9+K9 -> 9804931.3
A10: 2 | B10: II.2. | C10: Óvodaműködtetési támogatás (4 hó) | D10: 154 | E10: =D10/12*4 -> 51.333333 | F10: 97400 | G10: =E10*F10 -> 4999866.7 | I10: =G10+H10 -> 4999866.7 | K10: =J10+I10 -> 4999866.7 | L10: 162333 | M10: =L10+K10 -> 5162199.7
A11: 2 | B11: II.4.a | C11: Pedagógus II. kategóriába sorolt óvodapedagógusok kieg. támog. | E11: 6 | F11: 396700 | G11: =E11*F11 -> 2380200 | I11: =G11+H11 -> 2380200 | K11: =J11+I11 -> 2380200 | M11: =L11+K11 -> 2380200
A12: 2 | B12: II.4.b | C12: Pedagógus II. kategóriába sorolt óvodapedagógusok kieg. támog. | E12: 0 | F12: 363642 | G12: =E12*F12 -> 0 | I12: =G12+H12 -> 0 | K12: =J12+I12 -> 0 | M12: =L12+K12 -> 0
A13: 2 | B13: III. 5.aa | C13: Gyermekétkeztetés támogatása (bértámogatás) | D13: 131 | E13: =131/1091*24.73 -> 2.9694134 | F13: 1900000 | G13: =E13*F13 -> 5641885.4 | I13: =G13+H13 -> 5641885.4 | K13: =J13+I13 -> 5641885.4 | M13: =L13+K13 -> 5641885.4
A14: 2 | B14: III. 5.ab | C14: Gyermekétkeztetés üzemeltetési támogatása | G14: 6824272 | I14: =G14+H14 -> 6824272 | J14: 406199 | K14: =J14+I14 -> 7230471 | M14: =L14+K14 -> 7230471
B15: III. 5. | C15: Kiegészítő támogatás gyermekétkeztetés támogatására | J15: 593883 | K15: =J15+I15 -> 593883 | M15: =L15+K15 -> 593883
A16: 2 | B16: I.5. | C16: 2018. évről áthúzódó és 2019. évi bérkompenzáció támogatása | H16: 0 | I16: =G16+H16 -> 0 | K16: =J16+I16 -> 0 | M16: =L16+K16 -> 0
C17: Balatonfüredi Kiserdei óvoda összesen: | G17: =SUM(G4:G16) -> 1.1265981e+08 | H17: =SUM(H4:H16) -> -777668 | I17: =G17+H17 -> 1.1188214e+08 | J17: =SUM(J4:J16) -> 2950082 | K17: =J17+I17 -> 1.1483222e+08 | L17: =SUM(L4:L16) -> 599483 | M17: =L17+K17 -> 1.154317e+08 | Q17: =L17+L32+L47+L62 -> 893982
A19: 2 | B19: II.1. | C19: Óvodapedagógusok elismert létszáma (8 hó) | D19: 11.6 | E19: =D19/12*8 -> 7.7333333 | F19: 4371500 | G19: =E19*F19 -> 33806267 | H19: 582866 | I19: =G19+H19 -> 34389133 | K19: =J19+I19 -> 34389133 | M19: =L19+K19 -> 34389133
A20: 2 | B20: II.1. | C20: Óvodapedagógusok munkáját kvetlenül segítők (8 hó) | D20: 9 | E20: =D20/12*8 -> 6 | F20: 2205000 | G20: =E20*F20 -> 13230000 | I20: =G20+H20 -> 13230000 | K20: =J20+I20 -> 13230000 | M20: =L20+K20 -> 13230000
A21: 2 | B21: II.1. | C21: Óvodapedagógusok elismert létszáma (4 hó) | D21: 11.5 | E21: =D21/12*4 -> 3.8333333 | F21: 4371500 | G21: =E21*F21 -> 16757417 | I21: =G21+H21 -> 16757417 | K21: =J21+I21 -> 16757417 | M21: =L21+K21 -> 16757417
A22: 2 | B22: II.1. | C22: Óvodapedagógusok munkáját kvetlenül segítők (4 hó) | D22: 9 | E22: =D22/12*4 -> 3 | F22: 2205000 | G22: =E22*F22 -> 6615000 | I22: =G22+H22 -> 6615000 | K22: =J22+I22 -> 6615000 | M22: =L22+K22 -> 6615000
B23: II.1. | C23: Kieg.tám.óvodaped. és az e ped. munkáját kvetlenül segítők bértám-hoz | J23: 1755000 | K23: =J23+I23 -> 1755000 | M23: =L23+K23 -> 1755000
A24: 2 | B24: II.2. | C24: Gyermeklétszám (8 hó) | D24: 126 | E24: =D24/12*8 -> 84 | F24: 97400 | G24: =E24*F24 -> 8181600 | H24: 129868 | I24: =G24+H24 -> 8311468 | K24: =J24+I24 -> 8311468 | M24: =L24+K24 -> 8311468
A25: 2 | B25: II.2. | C25: Gyermeklétszám (4 hó) | D25: 125 | E25: =D25/12*4 -> 41.666667 | F25: 97400 | G25: =E25*F25 -> 4058333.3 | I25: =G25+H25 -> 4058333.3 | K25: =J25+I25 -> 4058333.3 | M25: =L25+K25 -> 4058333.3
A26: 2 | B26: II.4.a | C26: Pedagógus II. kategóriába sorolt óvodapedagógusok kieg. támog. | E26: 6 | F26: 396700 | G26: =E26*F26 -> 2380200 | I26: =G26+H26 -> 2380200 | K26: =J26+I26 -> 2380200 | L26: -119010 | M26: =L26+K26 -> 2261190
A27: 2 | B27: II.4.b | C27: Pedagógus II. kategóriába sorolt óvodapedagógusok kieg. támog. | E27: 0 | F27: 363642 | G27: =E27*F27 -> 0 | I27: =G27+H27 -> 0 | K27: =J27+I27 -> 0 | M27: =L27+K27 -> 0
A28: 2 | B28: III. 5.aa | C28: Gyermekétkeztetés támogatása (bértámogatás) | E28: =106/1091*24.73 -> 2.4027314 | F28: 1900000 | G28: =E28*F28 -> 4565189.7 | I28: =G28+H28 -> 4565189.7 | K28: =J28+I28 -> 4565189.7 | M28: =L28+K28 -> 4565189.7
A29: 2 | B29: III. 5.ab | C29: Gyermekétkeztetés üzemeltetési támogatása | G29: 6325352 | I29: =G29+H29 -> 6325352 | J29: 360324 | K29: =J29+I29 -> 6685676 | M29: =L29+K29 -> 6685676
B30: III. 5. | C30: Kiegészítő támogatás gyermekétkeztetés támogatására | J30: 480546
A31: 2 | B31: I.5. | C31: 2018. évről áthúzódó és 2019. évi bérkompenzáció támogatása | H31: 54010 | I31: =G31+H31 -> 54010 | J31: 24814 | K31: =J31+I31 -> 78824 | L31: 24675 | M31: =L31+K31 -> 103499
C32: Balatonfüredi Óvárosi óvoda összesen: | G32: =SUM(G19:G31) -> 95919358 | H32: =SUM(H19:H31) -> 766744 | I32: =G32+H32 -> 96686102 | J32: =SUM(J19:J31) -> 2620684 | K32: =J32+I32 -> 99306786 | L32: =SUM(L19:L31) -> -94335 | M32: =L32+K32 -> 99212451
K33: =J33+I33 -> 0 | M33: =L33+K33 -> 0
A34: 2 | B34: II.1. | C34: Óvodapedagógusok elismert létszáma (8 hó) | D34: 6.8 | E34: =D34/12*8 -> 4.5333333 | F34: 4371500 | G34: =E34*F34 -> 19817467 | I34: =G34+H34 -> 19817467 | K34: =J34+I34 -> 19817467 | M34: =L34+K34 -> 19817467
A35: 2 | B35: II.1. | C35: Óvodapedagógusok munkáját kvetlenül segítők (8 hó) | D35: 5 | E35: =D35/12*8 -> 3.3333333 | F35: 2205000 | G35: =E35*F35 -> 7350000 | I35: =G35+H35 -> 7350000 | K35: =J35+I35 -> 7350000 | M35: =L35+K35 -> 7350000
A36: 2 | B36: II.1. | C36: Óvodapedagógusok elismert létszáma (4 hó) | D36: 6.8 | E36: =D36/12*4 -> 2.2666667 | F36: 4371500 | G36: =E36*F36 -> 9908733.3 | I36: =G36+H36 -> 9908733.3 | K36: =J36+I36 -> 9908733.3 | L36: -437150 | M36: =L36+K36 -> 9471583.3
A37: 2 | B37: II.1. | C37: Óvodapedagógusok munkáját kvetlenül segítők (4 hó) | D37: 5 | E37: =D37/12*4 -> 1.6666667 | F37: 2205000 | G37: =E37*F37 -> 3675000 | I37: =G37+H37 -> 3675000 | K37: =J37+I37 -> 3675000 | M37: =L37+K37 -> 3675000
B38: II.1. | C38: Kieg.tám.óvodaped. és az e ped. munkáját kvetlenül segítők bértám-hoz | J38: 975000 | K38: =J38+I38 -> 975000 | M38: =L38+K38 -> 975000
A39: 2 | B39: II.2. | C39: Gyermeklétszám (8 hó) | D39: 73 | E39: =D39/12*8 -> 48.666667 | F39: 97400 | G39: =E39*F39 -> 4740133.3 | I39: =G39+H39 -> 4740133.3 | K39: =J39+I39 -> 4740133.3 | M39: =L39+K39 -> 4740133.3
A40: 2 | B40: II.2. | C40: Gyermeklétszám (4 hó) | D40: 73 | E40: =D40/12*4 -> 24.333333 | F40: 97400 | G40: =E40*F40 -> 2370066.7 | I40: =G40+H40 -> 2370066.7 | K40: =J40+I40 -> 2370066.7 | L40: -129867 | M40: =L40+K40 -> 2240199.7
A41: 2 | B41: II.4.a | C41: Pedagógus II. kategóriába sorolt óvodapedagógusok kieg. támog. | E41: 3 | F41: 396700 | G41: =E41*F41 -> 1190100 | I41: =G41+H41 -> 1190100 | K41: =J41+I41 -> 1190100 | M41: =L41+K41 -> 1190100
A42: 2 | B42: II.4.b | C42: Pedagógus II. kategóriába sorolt óvodapedagógusok kieg. támog. | E42: 0 | F42: 363642 | G42: =E42*F42 -> 0 | I42: =G42+H42 -> 0 | K42: =J42+I42 -> 0 | M42: =L42+K42 -> 0
A43: 2 | B43: III. 5.aa | C43: Gyermekétkeztetés támogatása (bértámogatás) | E43: =62/1091*24.73 -> 1.4053712 | F43: 1900000 | G43: =E43*F43 -> 2670205.3 | I43: =G43+H43 -> 2670205.3 | K43: =J43+I43 -> 2670205.3 | M43: =L43+K43 -> 2670205.3
A44: 2 | B44: III. 5.ab | C44: Gyermekétkeztetés üzemeltetési támogatása | G44: 3309167 | I44: =G44+H44 -> 3309167 | J44: 195372 | K44: =J44+I44 -> 3504539 | M44: =L44+K44 -> 3504539
B45: III. 5. | C45: Kiegészítő támogatás gyermekétkeztetés támogatására | J45: 281074
A46: 2 | B46: I.5. | C46: 2018. évről áthúzódó és 2019. évi bérkompenzáció támogatása | H46: 4541 | I46: =G46+H46 -> 4541 | K46: =J46+I46 -> 4541 | M46: =L46+K46 -> 4541
C47: Balatonfüredi Tündérkert óvoda összesen: | G47: =SUM(G34:G46) -> 55030872 | H47: =SUM(H34:H46) -> 4541 | I47: =G47+H47 -> 55035413 | J47: =SUM(J34:J46) -> 1451446 | K47: =J47+I47 -> 56486859 | L47: =SUM(L34:L46) -> -567017 | M47: =L47+K47 -> 55919842
K48: =J48+I48 -> 0 | M48: =L48+K48 -> 0
A49: 2 | B49: II.1. | C49: Óvodapedagógusok elismert létszáma (8 hó) | D49: 3 | E49: =D49/12*8 -> 2 | F49: 4371500 | G49: =E49*F49 -> 8743000 | H49: -582867 | I49: =G49+H49 -> 8160133 | K49: =J49+I49 -> 8160133 | M49: =L49+K49 -> 8160133
A50: 2 | B50: II.1. | C50: Óvodapedagógusok munkáját kvetlenül segítők (8 hó) | D50: 2 | E50: =D50/12*8 -> 1.3333333 | F50: 2205000 | G50: =E50*F50 -> 2940000 | I50: =G50+H50 -> 2940000 | K50: =J50+I50 -> 2940000 | M50: =L50+K50 -> 2940000
A51: 2 | B51: II.1. | C51: Óvodapedagógusok elismert létszáma (4 hó) | D51: 2.8 | E51: =D51/12*4 -> 0.93333333 | F51: 4371500 | G51: =E51*F51 -> 4080066.7 | I51: =G51+H51 -> 4080066.7 | K51: =J51+I51 -> 4080066.7 | L51: 728584 | M51: =L51+K51 -> 4808650.7
A52: 2 | B52: II.1. | C52: Óvodapedagógusok munkáját kvetlenül segítők (4 hó) | D52: 2 | E52: =D52/12*4 -> 0.66666667 | F52: 2205000 | G52: =E52*F52 -> 1470000 | I52: =G52+H52 -> 1470000 | K52: =J52+I52 -> 1470000 | M52: =L52+K52 -> 1470000
B53: II.1. | C53: Kieg.tám.óvodaped. és az e ped. munkáját kvetlenül segítők bértám-hoz | J53: 390000 | K53: =J53+I53 -> 390000 | M53: =L53+K53 -> 390000
A54: 2 | B54: II.2. | C54: Gyermeklétszám (8 hó) | D54: 30 | E54: =D54/12*8 -> 20 | F54: 97400 | G54: =E54*F54 -> 1948000 | I54: =G54+H54 -> 1948000 | K54: =J54+I54 -> 1948000 | M54: =L54+K54 -> 1948000
A55: 2 | B55: II.2. | C55: Gyermeklétszám (4 hó) | D55: 27 | E55: =D55/12*4 -> 9 | F55: 97400 | G55: =E55*F55 -> 876600 | I55: =G55+H55 -> 876600 | K55: =J55+I55 -> 876600 | L55: 227267 | M55: =L55+K55 -> 1103867
A56: 2 | B56: II.4.a | C56: Pedagógus II. kategóriába sorolt óvodapedagógusok kieg. támog. | E56: 1 | F56: 396700 | G56: =E56*F56 -> 396700 | I56: =G56+H56 -> 396700 | K56: =J56+I56 -> 396700 | M56: =L56+K56 -> 396700
A57: 2 | B57: II.4.b | C57: Pedagógus II. kategóriába sorolt óvodapedagógusok kieg. támog. | E57: 0 | F57: 363642 | G57: =E57*F57 -> 0 | I57: =G57+H57 -> 0 | K57: =J57+I57 -> 0 | M57: =L57+K57 -> 0
A58: 2 | B58: III. 5.aa | C58: Gyermekétkeztetés támogatása (bértámogatás) | E58: =25/1091*24.73 -> 0.56668194 | F58: 1900000 | G58: =E58*F58 -> 1076695.7 | I58: =G58+H58 -> 1076695.7 | K58: =J58+I58 -> 1076695.7 | M58: =L58+K58 -> 1076695.7
A59: 2 | B59: III. 5.ab | C59: Gyermekétkeztetés üzemeltetési támogatása | G59: 1556923 | I59: =G59+H59 -> 1556923 | J59: 87546 | K59: =J59+I59 -> 1644469 | M59: =L59+K59 -> 1644469 | N59: =K14+K29+K44+K59 -> 19065155
B60: III. 5. | C60: Kiegészítő támogatás gyermekétkeztetés támogatására | J60: 113336
A61: 2 | B61: I.5. | C61: 2018. évről áthúzódó és 2019. évi bérkompenzáció támogatása | I61: =G61+H61 -> 0 | K61: =J61+I61 -> 0 | M61: =L61+K61 -> 0
C62: Kökörcsin Tagóvoda összesen: | G62: =SUM(G49:G61) -> 23087985 | H62: =SUM(H49:H61) -> -582867 | I62: =G62+H62 -> 22505118 | J62: =SUM(J49:J61) -> 590882 | K62: =J62+I62 -> 23096000 | L62: =SUM(L49:L61) -> 955851 | M62: =L62+K62 -> 24051851
I63: =G63+H63 -> 0
I64: =G64+H64 -> 0
A65: Mell. | B65: Sorszám | C65: Megnevezés | E65: MUTATÓ | F65: FAJLAGOS | G65: EREDETI EI. | H65: ELTÉRÉS | I65: 2019. ÉVI MÓDOSÍTOTT EI. I. | J65: ELTÉRÉS | K65: 2019. ÉVI MÓDOSÍTOTT EI. II. | L65: ELTÉRÉS | M65: 2019. ÉVI MÓDOSÍTOTT EI. III.
A66: 2 | B66: III.6. a (1) | C66: Finansz.szempontjából elismert szakmai dolgozók bértámogatása: felsőfokú végzettségű kisgyermeknevelők,szaktanácsadók | E66: 2 | F66: ='[4]2b. tábla (3)'!D60 -> 4419000 | G66: =F66*E66 -> 8838000 | I66: =G66+H66 -> 8838000 | K66: =J66+I66 -> 8838000 | M66: =L66+K66 -> 8838000
A67: 2 | B67: III.6. a (2) | C67: Finansz.szempontjából elismert szakmai dolgozók bértámogatása: bölcsödei dajkák, középfokú végzettségű kisgyermeknevelők, szaktanácsadók | E67: 6.5 | F67: ='[4]2b. tábla (3)'!D61 -> 2993000 | G67: =F67*E67 -> 19454500 | I67: =G67+H67 -> 19454500 | K67: =J67+I67 -> 19454500 | M67: =L67+K67 -> 19454500
A68: 2 | B68: III.6. b. | C68: bölcsődei üzemeltetési támogatás | G68: 13877000 | I68: =G68+H68 -> 13877000 | K68: =J68+I68 -> 13877000 | M68: =L68+K68 -> 13877000
A69: 2 | B69: III. 5.aa | C69: Gyermekétkeztetés támogatása (bértámogatás) | E69: =36/1091*24.73 -> 0.816022 | F69: 1900000 | G69: =E69*F69 -> 1550441.8 | I69: =G69+H69 -> 1550441.8 | K69: =J69+I69 -> 1550441.8 | M69: =L69+K69 -> 1550441.8
A70: 2 | B70: III. 5.ab | C70: Gyermekétkeztetés üzemeltetési támogatása | G70: 2310701 | I70: =G70+H70 -> 2310701 | J70: 133419 | K70: =J70+I70 -> 2444120 | M70: =L70+K70 -> 2444120
B71: III. 5. | C71: Kiegészítő támogatás gyermekétkeztetés támogatására | J71: 163205 | K71: =J71+I71 -> 163205 | M71: =L71+K71 -> 163205
A72: 2 | B72: I.5. | C72: 2018. évről áthúzódó és 2019. évi bérkompenzáció támogatása | H72: 187975 | I72: =G72+H72 -> 187975 | J72: 57431 | K72: =J72+I72 -> 245406 | L72: 57108 | M72: =L72+K72 -> 302514
A73: 2 | B73: III.1. | C73: Szociális ágazati összevont pótlék | H73: 493968 | I73: =G73+H73 -> 493968 | J73: 244230 | K73: =J73+I73 -> 738198 | L73: 235333 | M73: =L73+K73 -> 973531
C74: Balatonfüredi Városi Bölcsőde | G74: =SUM(G66:G73) -> 46030643 | H74: =SUM(H66:H73) -> 681943 | I74: =G74+H74 -> 46712586 | J74: =J73+J72+J71+J70+J69+J68+J67+J66 -> 598285 | K74: =J74+I74 -> 47310871 | L74: =L73+L72+L71+L70+L69+L68+L67+L66 -> 292441 | M74: =L74+K74 -> 47603312
I75: =G75+H75 -> 0 | K75: =J75+I75 -> 0 | M75: =L75+K75 -> 0
B76: III.3. | C76: Egyes szociális és gyermekjóléti feladatok támog. | I76: =G76+H76 -> 0 | K76: =J76+I76 -> 0 | M76: =L76+K76 -> 0
A77: 2 | B77: III.3. a.+III.3. oa | C77: család- és gyermekjóléti szolgálat | E77: 7.6 | F77: 3400000 | G77: =E77*F77 -> 25840000 | I77: =G77+H77 -> 25840000 | K77: =J77+I77 -> 25840000 | M77: =L77+K77 -> 25840000
A78: 2 | C78: kiegészít támogatás család- és gyermekjóléti feladatra | J78: 2888000 | K78: =J78+I78 -> 2888000 | M78: =L78+K78 -> 2888000
A79: 2 | B79: III.3. b.+III.3. oa | C79: család- és gyermekjóléti központ | E79: 4.7 | F79: 3300000 | G79: =E79*F79 -> 15510000 | I79: =G79+H79 -> 15510000 | K79: =J79+I79 -> 15510000 | M79: =L79+K79 -> 15510000
A80: 2 | B80: III.3. c. | C80: szociális étkeztetés | E80: 92 | F80: 55360 | G80: =E80*F80 -> 5093120 | I80: =G80+H80 -> 5093120 | K80: =J80+I80 -> 5093120 | L80: -719680 | M80: =L80+K80 -> 4373440
B81: III.3. c. | C81: kiegészítő támogatás szociális étkeztetés | J81: 920000 | K81: =J81+I81 -> 920000 | M81: =L81+K81 -> 920000
A82: 2 | B82: III.3. da | C82: házi segítségnyújtás - szociális segítés | E82: 2 | F82: 25000 | G82: =E82*F82 -> 50000 | I82: =G82+H82 -> 50000 | K82: =J82+I82 -> 50000 | M82: =L82+K82 -> 50000
A83: 2 | B83: III.3. db + III.3. oa | C83: házi segítségnyújtás - személyi gondozás - társuál által történő feladatellátás | E83: 26 | F83: 429000 | G83: =F83*E83 -> 11154000 | I83: =G83+H83 -> 11154000 | K83: =J83+I83 -> 11154000 | M83: =L83+K83 -> 11154000
A84: 2 | B84: III.3. f. | C84: időskorúak nappali intézényi ellátása - társulás által történő feladatellátás | E84: 39 | F84: 163500 | G84: =F84*E84 -> 6376500 | I84: =G84+H84 -> 6376500 | K84: =J84+I84 -> 6376500 | M84: =L84+K84 -> 6376500
A85: 2 | B85: III.3. f. | C85: kiegészítő támogatás időskorúak nappali intézényi ellátása | J85: 4739000 | K85: =J85+I85 -> 4739000 | M85: =L85+K85 -> 4739000
A86: 2 | B86: III.3. g. | C86: Fogyatékos és demens személyek nappali intézményi ellátása | G86: =G87+G88+G89 -> 16060000 | I86: =G86+H86 -> 16060000 | K86: =J86+I86 -> 16060000 | L86: =L87+L88+L89 -> -1100000 | M86: =L86+K86 -> 14960000
A87: 2 | B87: III.3. g(2) | C87: fogyatékos személyek nappali intézményi ellátása | E87: 13 | F87: 550000 | G87: =F87*E87 -> 7150000 | I87: =G87+H87 -> 7150000 | K87: =J87+I87 -> 7150000 | M87: =L87+K87 -> 7150000
B88: III.3. g (4) | C88: foglalkoztatási támog-ban részesülő fogyatékos nappali intézményben ellátottak | E88: 23 | F88: 220000 | G88: =F88*E88 -> 5060000 | I88: =G88+H88 -> 5060000 | K88: =J88+I88 -> 5060000 | M88: =L88+K88 -> 5060000
A89: 2 | B89: III.3. g (6) | C89: demens személyek nappali int-i ellát - társulás által történő feladatellátás | E89: 7 | F89: 550000 | G89: =F89*E89 -> 3850000 | I89: =G89+H89 -> 3850000 | K89: =J89+I89 -> 3850000 | L89: -1100000 | M89: =L89+K89 -> 2750000
B90: III.3. g. | C90: Kieg.támog.fogyatékos és demens szem. nappali int.ellátása | J90: 6071000 | K90: =J90+I90 -> 6071000 | M90: =L90+K90 -> 6071000
A91: 2 | B91: III.3. n. (6) | C91: Óvodai és iskolai szociális segítő tevékenység | G91: 13381995 | I91: =G91+H91 -> 13381995 | K91: =J91+I91 -> 13381995 | M91: =L91+K91 -> 13381995
A92: 2 | B92: I.5. | C92: 2018. évről áthúzódó és 2019. évi bérkompenzáció támogatása | H92: 811288 | I92: =G92+H92 -> 811288 | J92: 397394 | K92: =J92+I92 -> 1208682 | L92: 395149 | M92: =L92+K92 -> 1603831
A93: 2 | B93: III.1. | C93: Szociális ágazati összevont pótlék | H93: 9924257 | I93: =G93+H93 -> 9924257 | J93: 5050340 | K93: =J93+I93 -> 14974597 | L93: 5310092 | M93: =L93+K93 -> 20284689
A94: 2 | C94: Balatonfüredi Szociális Alapszolgáltatási Központ összesen: | G94: =G77+G79+G80+G82+G84+G86+G83+G92+G93+G91 -> 93465615 | H94: =H77+H79+H80+H82+H84+H86+H83+H92+H93+H91 -> 10735545 | I94: =G94+H94 -> 104201160 | J94: =J77+J79+J80+J82+J84+J86+J83+J92+J93+J91+J90+J85+J81+J78 -> 20065734 | K94: =J94+I94 -> 124266894 | L94: =L77+L79+L80+L82+L84+L86+L83+L92+L93+L91+L90+L85+L81+L78 -> 3885561 | M94: =L94+K94 -> 128152455
I95: =G95+H95 -> 0 | K95: =J95+I95 -> 0 | M95: =L95+K95 -> 0
A96: 2 | B96: I.1.a. | C96: Önkormányzati hivatal működtetésének támogatás | E96: 39.18 | F96: 4580000 | G96: =E96*F96 -> 179444400 | I96: =G96+H96 -> 179444400 | K96: =J96+I96 -> 179444400 | M96: =L96+K96 -> 179444400
B97: I.1. | C97: Kiegészítő támogatás | J97: 5093000 | K97: =J97+I97 -> 5093000 | M97: =L97+K97 -> 5093000
B98: I.5. | C98: 2018. évről áthúzódó és 2019. évi bérkompenzáció támogatása | H98: 117825 | I98: =G98+H98 -> 117825 | J98: 44668 | K98: =J98+I98 -> 162493 | L98: 44415 | M98: =L98+K98 -> 206908
B99: I.6. | C99: Jó adatszolgáltató önkormányzatok támogatása | J99: 900000 | K99: =J99+I99 -> 900000 | M99: =L99+K99 -> 900000
C100: Balatonfüredi Közös Önkormányzati Hivatal összesen: | G100: =G96+G98 -> 179444400 | H100: =H96+H98 -> 117825 | I100: =G100+H100 -> 179562225 | J100: =J98+J97+J96+J99 -> 6037668 | K100: =J100+I100 -> 185599893 | L100: =L98+L97+L96+L99 -> 44415 | M100: =L100+K100 -> 185644308
I101: =G101+H101 -> 0 | K101: =J101+I101 -> 0 | M101: =L101+K101 -> 0
A102: 2 | B102: IV. 1.d. | C102: Nyilvános könyvtári feladatok támogatása | E102: ='[5]2b. tábla 2018 (2)'!C68 -> 13768 | F102: 1210 | G102: =E102*F102 -> 16659280 | H102: -2100000 | I102: =G102+H102 -> 14559280 | K102: =J102+I102 -> 14559280 | M102: =L102+K102 -> 14559280
...

Sheet 3.sz. tábla  (2)
A3: BALATONFÜRED VÁROS ÖNKORMÁNYZAT BEVÉTELI ELŐIRÁNYZATAI KÖLTSÉGVETÉSI SZERVEK SZERINTI BONTÁSBAN 2019. ÉV | R3: BALATONFÜRED VÁROS ÖNKORMÁNYZAT BEVÉTELI ELŐIRÁNYZATAI KÖLTSÉGVETÉSI SZERVEK SZERINTI BONTÁSBAN 2019. ÉV
A6: MEGNEVEZÉS | B6: ÁLLAMI TÁMOGATÁS | F6: ÖNKORMÁNYZATI TÁMOGATÁS | J6: IRÁNYÍTÓ SZERVTŐL KAPOTT TÁMOGATÁS | N6: SAJÁT BEVÉTEL | R6: MEGNEVEZÉS | S6: MARADVÁNY IGÉNYBEVÉTEL | W6: FINANSZÍROZÁSI CÉLÚ BEVÉTELEK | AA6: BEVÉTELEK ÖSSZESEN | AE6: 2019. ÉV
AE7: Kötelező feladatok | AF7: Önként vállalt feladatok | AH7: Államigazgatási feladatok
B8: 2019. évi eredeti ei. | C8: 2019. évi módosított ei. II. | D8: 2019. évi módosított ei. III. | E8: Eltérés | F8: 2019. évi eredeti ei. | G8: 2019. évi módosított ei. II. | H8: 2019. évi módosított ei. III. | I8: Eltérés | J8: 2019. évi eredeti ei. | K8: 2019. évi módosított ei. II. | L8: 2019. évi módosított ei. III. | M8: Eltérés | N8: 2019. évi eredeti ei. | O8: 2019. évi módosított ei. II. | P8: 2019. évi módosított ei. III. | Q8: Eltérés | S8: 2019. évi eredeti ei. | T8: 2019. évi módosított ei. II. | U8: 2019. évi módosított ei. III. | V8: Eltérés | W8: 2019. évi eredeti ei. | X8: 2019. évi módosított ei. II. | Y8: 2019. évi módosított ei. III. | Z8: Eltérés | AA8: 2019. évi eredeti ei. | AB8: 2019. évi módosított ei. II. | AC8: 2019. évi módosított ei. III. | AD8: Eltérés | AF8: Állami támogatás, saját bevétel és költségvetési maradvány | AG8: Önkormányzati támogatás | AH8: Állami támogatás, saját bevétel és költségvetési maradvány | AI8: Önkormányzati támogatás
A9: Lipták Gábor Városi Könyvtár | B9: ='2c. tábla 2019. (2)'!G107 -> 16659280 | C9: ='2c. tábla 2019. (2)'!K107 -> 18871213 | D9: ='2c. tábla 2019. (2)'!M107 -> 19745502 | E9: =D9-C9 -> 874289 | F9: ='2.a tábla ÚJ '!B50-'3.sz. tábla (2)'!B9 -> 35769169 | G9: ='2.a tábla ÚJ '!C50-'3.sz. tábla (2)'!C9 -> 36126493 | H9: ='2.a tábla ÚJ '!D50-'3.sz. tábla (2)'!D9 -> 34832747 | I9: =H9-G9 -> -1293746 | J9: =B9+F9 -> 52428449 | K9: =C9+G9 -> 54997706 | L9: =D9+H9 -> 54578249 | M9: =L9-K9 -> -419457 | N9: ='2.a tábla ÚJ '!B44 -> 3863750 | O9: ='2.a tábla ÚJ '!C44 -> 3363750 | P9: ='2.a tábla ÚJ '!D44 -> 3163750 | Q9: =P9-O9 -> -200000 | R9: Lipták Gábor Városi Könyvtár | S9: ='2.a tábla ÚJ '!B46 -> 0 | T9: ='2.a tábla ÚJ '!C46 -> 3317009 | U9: ='2.a tábla ÚJ '!D46 -> 3317009 | V9: =U9-T9 -> 0 | Z9: =X9-W9 -> 0 | AA9: =J9+N9+S9+W9 -> 56292199 | AB9: =K9+O9+T9+X9 -> 61678465 | AC9: =L9+P9+U9+Y9 -> 61059008 | AD9: =M9+Q9+V9+Z9 -> -619457 | AE9: =AC9 -> 61059008 | AJ9: =SUM(AE9:AG9) -> 61059008
A10: Balatonfüredi Városi Szakorvosi Rendelőintézet | B10: ='2c. tábla 2019. (2)'!G110 -> 0 | C10: ='2c. tábla 2019. (2)'!K110 -> 585108 | D10: ='2c. tábla 2019. (2)'!M110 -> 845955 | E10: =D10-C10 -> 260847 | F10: ='2.a tábla ÚJ '!F50-'3.sz. tábla (2)'!B10 -> 62794500 | G10: ='2.a tábla ÚJ '!G50-'3.sz. tábla (2)'!C10 -> 61776463 | H10: ='2.a tábla ÚJ '!H50-'3.sz. tábla (2)'!D10 -> 61929850 | I10: =H10-G10 -> 153387 | J10: =B10+F10 -> 62794500 | K10: =C10+G10 -> 62361571 | L10: =D10+H10 -> 62775805 | M10: =L10-K10 -> 414234 | N10: ='2.a tábla ÚJ '!F44 -> 162707500 | O10: ='2.a tábla ÚJ '!G44 -> 167290000 | P10: ='2.a tábla ÚJ '!H44 -> 167602424 | Q10: =P10-O10 -> 312424 | R10: Balatonfüredi Városi Szakorvosi Rendelőintézet | S10: ='2.a tábla ÚJ '!F46 -> 0 | T10: ='2.a tábla ÚJ '!G46 -> 7051405 | U10: ='2.a tábla ÚJ '!H46 -> 7051405 | V10: =U10-T10 -> 0 | Z10: =X10-W10 -> 0 | AA10: =J10+N10+S10+W10 -> 225502000 | AB10: =K10+O10+T10+X10 -> 236702976 | AC10: =L10+P10+U10+Y10 -> 237429634 | AD10: =M10+Q10+V10+Z10 -> 726658 | AE10: =123284540+535460+1674000+326000+3230016+853000-200000+3507500+600000-23900+223500-12055-400000+39113-300000-410000+900000 -> 133827174 | AF10: =78162000+1000000+75000+175665+86386+85659+300000 -> 79884710 | AG10: =24055460-175665+200000-86386-600000-85659+410000 -> 23717750 | AJ10: =SUM(AE10:AG10) -> 237429634
A11: Balatonfüredi Városi Bölcsőde | B11: ='2c. tábla 2019. (2)'!G74 -> 46030643 | C11: ='2c. tábla 2019. (2)'!K74 -> 47310871 | D11: ='2c. tábla 2019. (2)'!M74 -> 47603312 | E11: =D11-C11 -> 292441 | F11: ='2.a tábla ÚJ '!J50-'3.sz. tábla (2)'!B11 -> 20123165 | G11: ='2.a tábla ÚJ '!K50-'3.sz. tábla (2)'!C11 -> 17655166 | H11: ='2.a tábla ÚJ '!L50-'3.sz. tábla (2)'!D11 -> 17303157 | I11: =H11-G11 -> -352009 | J11: =B11+F11 -> 66153808 | K11: =C11+G11 -> 64966037 | L11: =D11+H11 -> 64906469 | M11: =L11-K11 -> -59568 | N11: ='2.a tábla ÚJ '!J44 -> 3996975 | O11: ='2.a tábla ÚJ '!K44 -> 3996975 | P11: ='2.a tábla ÚJ '!L44 -> 3996975 | Q11: =P11-O11 -> 0 | R11: Balatonfüredi Városi Bölcsőde | S11: ='2.a tábla ÚJ '!J46 -> 176276 | T11: ='2.a tábla ÚJ '!K46 -> 3996184 | U11: ='2.a tábla ÚJ '!L46 -> 3996184 | V11: =U11-T11 -> 0 | Z11: =X11-W11 -> 0 | AA11: =J11+N11+S11+W11 -> 70327059 | AB11: =K11+O11+T11+X11 -> 72959196 | AC11: =L11+P11+U11+Y11 -> 72899628 | AD11: =M11+Q11+V11+Z11 -> -59568 | AE11: =66649134+662000+129001+566043+250469+728000+296624-59568 -> 69221703 | AG11: 3677925 | AJ11: =SUM(AE11:AG11) -> 72899628
A12: Intézmények összesen: | B12: =B9+B10+B11 -> 62689923 | C12: =C9+C10+C11 -> 66767192 | D12: =D9+D10+D11 -> 68194769 | E12: =E9+E10+E11 -> 1427577 | F12: =F9+F10+F11 -> 1.1868683e+08 | G12: =G9+G10+G11 -> 1.1555812e+08 | H12: =H9+H10+H11 -> 1.1406575e+08 | I12: =I9+I10+I11 -> -1492368 | J12: =B12+F12 -> 181376757 | K12: =C12+G12 -> 182325314 | L12: =D12+H12 -> 182260523 | M12: =M9+M10+M11 -> -64791 | N12: =N9+N10+N11 -> 170568225 | O12: =O9+O10+O11 -> 174650725 | P12: =P9+P10+P11 -> 174763149 | Q12: =Q9+Q10+Q11 -> 112424 | R12: Intézmények összesen: | S12: =S9+S10+S11 -> 176276 | T12: =T9+T10+T11 -> 14364598 | U12: =U9+U10+U11 -> 14364598 | V12: =V9+V10+V11 -> 0 | Z12: =Z9+Z10+Z11 -> 0 | AA12: =AA9+AA10+AA11 -> 352121258 | AB12: =AB9+AB10+AB11 -> 371340637 | AC12: =AC9+AC10+AC11 -> 371388270 | AD12: =AD9+AD10+AD11 -> 47633 | AE12: =SUM(AE9:AE11) -> 264107885 | AF12: =SUM(AF9:AF11) -> 79884710 | AG12: =SUM(AG9:AG11) -> 27395675 | AI12: =SUM(AI9:AI11) -> 0 | AJ12: =SUM(AE12:AG12) -> 371388270
A13: Balatonfüredi Közös Önkormányzati Hivatal | B13: ='2c. tábla 2019. (2)'!G100 -> 179444400 | C13: ='2c. tábla 2019. (2)'!K100 -> 185599893 | D13: ='2c. tábla 2019. (2)'!M100 -> 185644308 | E13: =D13-C13 -> 44415 | F13: ='2.a tábla ÚJ '!S50-'3.sz. tábla (2)'!B13 -> 233845252 | G13: ='2.a tábla ÚJ '!T50-'3.sz. tábla (2)'!C13 -> 225110831 | H13: ='2.a tábla ÚJ '!U50-'3.sz. tábla (2)'!D13 -> 226254884 | I13: =H13-G13 -> 1144053 | J13: =B13+F13 -> 413289652 | K13: =C13+G13 -> 410710724 | L13: =D13+H13 -> 411899192 | M13: =L13-K13 -> 1188468 | N13: ='2.a tábla ÚJ '!S44 -> 60062625 | O13: ='2.a tábla ÚJ '!T44 -> 64792081 | P13: ='2.a tábla ÚJ '!U44 -> 70667116 | Q13: =P13-O13 -> 5875035 | R13: Balatonfüredi Közös Önkormányzati Hivatal | S13: ='2.a tábla ÚJ '!S46 -> 0 | T13: ='2.a tábla ÚJ '!T46 -> 23685448 | U13: ='2.a tábla ÚJ '!U46 -> 23685448 | V13: =U13-T13 -> 0 | Z13: =X13-W13 -> 0 | AA13: =J13+N13+S13+W13 -> 473352277 | AB13: =K13+O13+T13+X13 -> 499188253 | AC13: =L13+P13+U13+Y13 -> 506251756 | AD13: =M13+Q13+V13+Z13 -> 7063503 | AE13: ='4.sz.tábla '!AW10 -> 391790399 | AG13: ='4.sz.tábla '!AX10-AF13 -> 6188192 | AH13: ='9. sz. tábla (2)'!C84+'9. sz. tábla (2)'!C93 -> 57056285 | AI13: ='4.sz.tábla '!AY10-'3.sz. tábla (2)'!AH13 -> 51216880 | AJ13: =SUM(AE13:AI13) -> 506251756 | AK13: =SUM(AH13:AI13) -> 108273165
A14: Költségvetési szervek összesen: | B14: =SUM(B12:B13) -> 2.4213432e+08 | C14: =SUM(C12:C13) -> 2.5236708e+08 | D14: =SUM(D12:D13) -> 2.5383908e+08 | E14: =SUM(E12:E13) -> 1471992 | F14: =SUM(F12:F13) -> 3.5253209e+08 | G14: =SUM(G12:G13) -> 3.4066895e+08 | H14: =SUM(H12:H13) -> 3.4032064e+08 | I14: =SUM(I12:I13) -> -348315 | ... Q14: =SUM(Q12:Q13) -> 5987459 | R14: Költségvetési szervek összesen: | S14: =SUM(S12:S13) -> 176276 | T14: =SUM(T12:T13) -> 38050046 | U14: =SUM(U12:U13) -> 38050046 | V14: =SUM(V12:V13) -> 0 | Z14: =SUM(Z12:Z13) -> 0 | AA14: =SUM(AA12:AA13) -> 825473535 | AB14: =SUM(AB12:AB13) -> 870528890 | AC14: =SUM(AC12:AC13) -> 877640026 | AD14: =SUM(AD12:AD13) -> 7111136 | AE14: =SUM(AE12:AE13) -> 655898284 | AF14: =SUM(AF12:AF13) -> 79884710 | AG14: =SUM(AG12:AG13) -> 33583867 | ... AI14: =SUM(AI12:AI13) -> 51216880 | AJ14: =SUM(AE14:AI14) -> 877640026 | AK14: =SUM(AH14:AI14) -> 108273165
A15: Önkormányzat | B15: =B18-B14 -> 7.664998e+08 | C15: =C18-C14 -> 8.475623e+08 | D15: =D18-D14 -> 9.0346656e+08 | E15: =E18-E14 -> 55904261 | F15: =-F14 -> -3.5253209e+08 | G15: =-G14 -> -3.4066895e+08 | H15: =-H14 -> -3.4032064e+08 | I15: =H15-G15 -> 348315 | N15: ='2.sz.tábla (2)'!B92-'2.sz.tábla (2)'!B75-'2.sz.tábla (2)'!B8 -> 4.9756409e+09 | O15: ='2.sz.tábla (2)'!C92-'2.sz.tábla (2)'!C75-'2.sz.tábla (2)'!C8-'2.sz.tábla (2)'!C23 -> 5.3270518e+09 | P15: ='2.sz.tábla (2)'!D92-'2.sz.tábla (2)'!D75-'2.sz.tábla (2)'!D8-'2.sz.tábla (2)'!D23 -> 6.468613e+09 | Q15: =P15-O15 -> 1141561260 | R15: Önkormányzat | S15: ='2.sz.tábla (2)'!B76 -> 4089724642 | T15: ='2.sz.tábla (2)'!C76 -> 4108698593 | U15: ='2.sz.tábla (2)'!D76 -> 4108698593 | V15: =U15-T15 -> 0 | W15: ='2.sz.tábla (2)'!B79 -> 1567650796 | X15: ='2.sz.tábla (2)'!C79 -> 1709004901 | Y15: ='2.sz.tábla (2)'!D79 -> 1735004901 | Z15: =Y15-X15 -> 26000000 | AA15: =J15+N15+S15+W15+F15+B15 -> 1.1046984e+10 | AB15: =K15+O15+T15+X15+G15+C15 -> 1.1651649e+10 | AC15: =L15+P15+U15+Y15+H15+D15 -> 1.2875462e+10 | AD15: =M15+Q15+V15+Z15+I15+E15 -> 1223813836
A16: Mindösszesen: | B16: =SUM(B14:B15) -> 1.0086341e+09 | C16: =SUM(C14:C15) -> 1.0999294e+09 | D16: =SUM(D14:D15) -> 1.1573056e+09 | E16: =SUM(E14:E15) -> 57376253 | F16: =SUM(F14:F15) -> 0 | I16: =SUM(I14:I15) -> 0 | J16: =SUM(J14:J15) -> 594666409 | K16: =SUM(K14:K15) -> 593036038 | L16: =SUM(L14:L15) -> 594159715 | M16: =SUM(M14:M15) -> 1123677 | N16: =SUM(N14:N15) -> 5.2062718e+09 | O16: =SUM(O14:O15) -> 5.5664946e+09 | P16: =SUM(P14:P15) -> 6.7140433e+09 | Q16: =SUM(Q14:Q15) -> 1147548719 | R16: Mindösszesen: | S16: =SUM(S14:S15) -> 4089900918 | T16: =SUM(T14:T15) -> 4146748639 | U16: =SUM(U14:U15) -> 4146748639 | V16: =SUM(V14:V15) -> 0 | W16: =SUM(W14:W15) -> 1567650796 | X16: =SUM(X14:X15) -> 1709004901 | Y16: =SUM(Y14:Y15) -> 1735004901 | Z16: =SUM(Z14:Z15) -> 26000000 | ... AD16: =SUM(AD14:AD15) -> 1230924972
B18: ='2c. tábla 2019. (2)'!G136 -> 1.0086341e+09 | C18: ='2c. tábla 2019. (2)'!K136 -> 1.0999294e+09 | D18: ='2c. tábla 2019. (2)'!M136 -> 1.1573056e+09 | E18: ='2c. tábla 2019. (2)'!L136 -> 57376253

Sheet 4.sz.tábla 
A1: BALATONFÜRED VÁROS ÖNKORMÁNYZAT BEVÉTELI ELŐIRÁNYZATAI KÖLTSÉGVETÉSI SZERVEK SZERINTI BONTÁSBAN
A2: AZ ÖNKORMÁNYZAT KIADÁSI ELŐIRÁNYZATAI INTÉZMÉNYEK SZERINTI BONTÁSBAN KIEMELT ELŐIRÁNYZATONKÉNT 2019. ÉV | N2: AZ ÖNKORMÁNYZAT KIADÁSI ELŐIRÁNYZATAI INTÉZMÉNYEK SZERINTI BONTÁSBAN KIEMELT ELŐIRÁNYZATONKÉNT 2019. ÉV | AA2: AZ ÖNKORMÁNYZAT KIADÁSI ELŐIRÁNYZATAI INTÉZMÉNYEK SZERINTI BONTÁSBAN KIEMELT ELŐIRÁNYZATONKÉNT 2019. ÉV | AN2: AZ ÖNKORMÁNYZAT KIADÁSI ELŐIRÁNYZATAI INTÉZMÉNYEK SZERINTI BONTÁSBAN KIEMELT ELŐIRÁNYZATONKÉNT 2019. ÉV
A4: MEGNEVEZÉS | B4: SZEMÉLYI JUTTATÁS | F4: MUNKAADÓKAT TERH. JÁRULÉKOK ÉS SZOCIÁLIS HOZZÁJÁRULÁSI ADÓ | J4: DOLOGI KIADÁSOK | N4: MEGNEVEZÉS | O4: ELLÁTOTTAK PÉNZBELI JUTTATÁSAI | S4: EGYÉB MŰKÖDÉSI CÉLÚ KIADÁSOK | W4: BERUHÁZÁSOK | AA4: MEGNEVEZÉS | AB4: FELÚJÍTÁSOK | AF4: EGYÉB FELHALMOZÁSI KIADÁSOK | AJ4: FINANSZÍROZÁSI KIADÁSOK | AN4: MEGNEVEZÉS | AO4: TARTALÉKOK | AS4: ÖSSZESEN | AW4: 2019. ÉV
B5: 2019. évi eredeti ei. | C5: 2019. évi módosított ei. II. | D5: 2019. évi módosított ei. III. | E5: Eltérés | F5: 2019. évi eredeti ei. | G5: 2019. évi módosított ei. II. | H5: 2019. évi módosított ei. III. | I5: Eltérés | J5: 2019. évi eredeti ei. | K5: 2019. évi módosított ei. II. | L5: 2019. évi módosított ei. III. | M5: Eltérés | O5: 2019. évi eredeti ei. | P5: 2019. évi módosított ei. I. | Q5: 2019. évi módosított ei. II. | R5: Eltérés | S5: 2019. évi eredeti ei. | T5: 2019. évi módosított ei. II. | U5: 2019. évi módosított ei. III. | V5: Eltérés | W5: 2019. évi eredeti ei. | X5: 2019. évi módosított ei. II. | Y5: 2019. évi módosított ei. III. | Z5: Eltérés | AB5: 2019. évi eredeti ei. | AC5: 2019. évi módosított ei. II. | AD5: 2019. évi módosított ei. III. | AE5: Eltérés | AF5: 2019. évi eredeti ei. | AG5: 2019. évi módosított ei. II. | AH5: 2019. évi módosított ei. III. | AI5: Eltérés | AJ5: 2019. évi eredeti ei. | AK5: 2019. évi módosított ei. II. | AL5: 2019. évi módosított ei. III. | AM5: Eltérés | AO5: 2019. évi eredeti ei. | AP5: 2019. évi módosított ei. II. | AQ5: 2019. évi módosított ei. III. | AR5: Eltérés | AS5: 2019. évi eredeti ei. | AT5: 2019. évi módosított ei. II. | AU5: 2019. évi módosított ei. III. | AV5: Eltérés | AW5: Kötelező feladatok | AX5: Önként vállalt feladatok | AY5: Államigazgatási feladatok
A6: Lipták Gábor Városi Könyvtár | B6: 36029164 | C6: 36322156 | D6: 35992170 | E6: =D6-C6 -> -329986 | F6: 6854035 | G6: 6909980 | H6: 6820509 | I6: =H6-G6 -> -89471 | J6: 10338000 | K6: 13972701 | L6: 13772701 | M6: =L6-K6 -> -200000 | N6: Lipták Gábor Városi Könyvtár | R6: =P6-O6 -> 0 | V6: =U6-T6 -> 0 | W6: ='4a. sz. tábla (3)'!C5 -> 3071000 | X6: ='4a. sz. tábla (3)'!D5 -> 4473628 | Y6: ='4a. sz. tábla (3)'!E5 -> 4473628 | Z6: =Y6-X6 -> 0 | AA6: Lipták Gábor Városi Könyvtár | AE6: =AD6-AC6 -> 0 | AI6: =AH6-AG6 -> 0 | AM6: =AL6-AK6 -> 0 | AN6: Lipták Gábor Városi Könyvtár | AR6: =AP6-AO6 -> 0 | AS6: =SUM(AB6,AF6,AJ6,W6,S6,O6,J6,F6,B6) -> 56292199 | AT6: =SUM(AC6,AG6,AK6,X6,T6,P6,K6,G6,C6) -> 61678465 | AU6: =SUM(AD6,AH6,AL6,Y6,U6,Q6,L6,H6,D6) -> 61059008 | AV6: =SUM(AE6,AI6,AM6,Z6,V6,R6,M6,I6,E6) -> -619457 | AW6: 61059008 | AZ6: =SUM(AW6:AY6) -> 61059008
A7: Balatonfüredi Városi Szakorvosi Rendelőintézet | B7: 111536000 | C7: 117245500 | D7: 117445100 | E7: =D7-C7 -> 199600 | F7: 22040000 | G7: 22438000 | H7: 22065058 | I7: =H7-G7 -> -372942 | J7: 91426000 | K7: 94931016 | L7: 94931016 | M7: =L7-K7 -> 0 | N7: Balatonfüredi Városi Szakorvosi Rendelőintézet | R7: =P7-O7 -> 0 | V7: =U7-T7 -> 0 | W7: ='4a. sz. tábla (3)'!C17 -> 500000 | X7: 2088460 | Y7: 2988460 | Z7: =Y7-X7 -> 900000 | AA7: Balatonfüredi Városi Szakorvosi Rendelőintézet | AE7: =AD7-AC7 -> 0 | AI7: =AH7-AG7 -> 0 | AM7: =AL7-AK7 -> 0 | AN7: Balatonfüredi Városi Szakorvosi Rendelőintézet | AR7: =AP7-AO7 -> 0 | AS7: =SUM(AB7,AF7,AJ7,W7,S7,O7,J7,F7,B7) -> 225502000 | AT7: =SUM(AC7,AG7,AK7,X7,T7,P7,K7,G7,C7) -> 236702976 | AU7: =SUM(AD7,AH7,AL7,Y7,U7,Q7,L7,H7,D7) -> 237429634 | AV7: =SUM(AE7,AI7,AM7,Z7,V7,R7,M7,I7,E7) -> 726658 | AW7: =123284540+1674000+326000+3230016+535460+853000-200000+3507500+500000+100000+900000+262613-400000-35955-300000-410000 -> 133827174 | AX7: =102217460+1000000+75000+200000-600000+300000+410000 -> 103602460 | AZ7: =SUM(AW7:AY7) -> 237429634
A8: Balatonfüredi Városi Bölcsőde | B8: 46407000 | C8: 47801884 | D8: 47759038 | E8: =D8-C8 -> -42846 | F8: 8992000 | G8: 9109405 | H8: 9092683 | I8: =H8-G8 -> -16722 | J8: 14628059 | K8: 15390726 | L8: 15390726 | M8: =L8-K8 -> 0 | N8: Balatonfüredi Városi Bölcsőde | R8: =P8-O8 -> 0 | T8: 6712 | U8: 6712 | V8: =U8-T8 -> 0 | W8: ='4a. sz. tábla (3)'!C12 -> 300000 | X8: 650469 | Y8: 650469 | Z8: =Y8-X8 -> 0 | AA8: Balatonfüredi Városi Bölcsőde | AE8: =AD8-AC8 -> 0 | AI8: =AH8-AG8 -> 0 | AM8: =AL8-AK8 -> 0 | AN8: Balatonfüredi Városi Bölcsőde | AR8: =AP8-AO8 -> 0 | AS8: =SUM(AB8,AF8,AJ8,W8,S8,O8,J8,F8,B8) -> 70327059 | AT8: =SUM(AC8,AG8,AK8,X8,T8,P8,K8,G8,C8) -> 72959196 | AU8: =SUM(AD8,AH8,AL8,Y8,U8,Q8,L8,H8,D8) -> 72899628 | AV8: =SUM(AE8,AI8,AM8,Z8,V8,R8,M8,I8,E8) -> -59568 | AW8: =66649134+662000+129001+566043+250469+728000+296624-59568 -> 69221703 | AX8: 3677925 | AZ8: =SUM(AW8:AY8) -> 72899628
A9: Intézmények összesen: | B9: =B6+B7+B8 -> 193972164 | C9: =C6+C7+C8 -> 201369540 | D9: =D6+D7+D8 -> 201196308 | E9: =D9-C9 -> -173232 | F9: =F6+F7+F8 -> 37886035 | G9: =G6+G7+G8 -> 38457385 | H9: =H6+H7+H8 -> 37978250 | I9: =H9-G9 -> -479135 | J9: =J6+J7+J8 -> 116392059 | K9: =K6+K7+K8 -> 124294443 | L9: =L6+L7+L8 -> 124094443 | M9: =L9-K9 -> -200000 | N9: Intézmények összesen: | O9: =O6+O7+O8 -> 0 | P9: =P6+P7+P8 -> 0 | Q9: =Q6+Q7+Q8 -> 0 | R9: =Q9-P9 -> 0 | S9: =S6+S7+S8 -> 0 | T9: =T6+T7+T8 -> 6712 | U9: =U6+U7+U8 -> 6712 | V9: =U9-T9 -> 0 | W9: =W6+W7+W8 -> 3871000 | X9: =X6+X7+X8 -> 7212557 | Y9: =Y6+Y7+Y8 -> 8112557 | Z9: =Y9-X9 -> 900000 | AA9: Intézmények összesen: | AB9: =AB6+AB7+AB8 -> 0 | AC9: =AC6+AC7+AC8 -> 0 | AD9: =AD6+AD7+AD8 -> 0 | AE9: =AE6+AE7+AE8 -> 0 | AF9: =AF6+AF7+AF8 -> 0 | AG9: =AG6+AG7+AG8 -> 0 | AH9: =AH6+AH7+AH8 -> 0 | AI9: =AI6+AI7+AI8 -> 0 | ... AL9: =AL6+AL7+AL8 -> 0 | AM9: =AL9-AK9 -> 0 | AN9: Intézmények összesen: | AO9: =AO6+AO7+AO8 -> 0 | AP9: =AP6+AP7+AP8 -> 0 | AQ9: =AQ6+AQ7+AQ8 -> 0 | AR9: =AR6+AR7+AR8 -> 0 | AS9: =AS6+AS7+AS8 -> 352121258 | AT9: =AT6+AT7+AT8 -> 371340637 | AU9: =AU6+AU7+AU8 -> 371388270 | AV9: =AV6+AV7+AV8 -> 47633 | AW9: =SUM(AW6:AW8) -> 264107885 | AX9: =SUM(AX6:AX8) -> 107280385 | AY9: =SUM(AY6:AY8) -> 0 | AZ9: =SUM(AW9:AY9) -> 371388270
A10: Balatonfüredi Közös Önkormányzati Hivatal | B10: ='5.tábla (2)'!B7 -> 317071498 | C10: ='5.tábla (2)'!C7 -> 324239853 | D10: ='5.tábla (2)'!D7 -> 329975352 | E10: =D10-C10 -> 5735499 | F10: ='5.tábla (2)'!B12 -> 67932755 | G10: ='5.tábla (2)'!C12 -> 69704757 | H10: ='5.tábla (2)'!D12 -> 70790270 | I10: =H10-G10 -> 1085513 | J10: ='5.tábla (2)'!B17 -> 77752024 | K10: ='5.tábla (2)'!C17 -> 83154904 | L10: ='5.tábla (2)'!D17 -> 83397395 | M10: =L10-K10 -> 242491 | N10: Balatonfüredi Közös Önkormányzati Hivatal | O10: ='5.tábla (2)'!B23+'5.tábla (2)'!B25 -> 1596000 | P10: ='5.tábla (2)'!C23+'5.tábla (2)'!C25 -> 1596000 | Q10: ='5.tábla (2)'!D23+'5.tábla (2)'!D25 -> 1596000 | R10: =Q10-P10 -> 0 | S10: ='5.tábla (2)'!B27 -> 0 | T10: ='5.tábla (2)'!C27 -> 2318668 | U10: ='5.tábla (2)'!D27 -> 2318668 | V10: =U10-T10 -> 0 | W10: ='5.tábla (2)'!B29 -> 9000000 | X10: ='5.tábla (2)'!C29 -> 18174071 | Y10: ='5.tábla (2)'!D29 -> 18174071 | Z10: =Y10-X10 -> 0 | AA10: Balatonfüredi Közös Önkormányzati Hivatal | AE10: =AD10-AC10 -> 0 | AI10: =AH10-AG10 -> 0 | AM10: =AL10-AK10 -> 0 | AN10: Balatonfüredi Közös Önkormányzati Hivatal | AR10: =AP10-AO10 -> 0 | AS10: =SUM(AB10,AF10,AJ10,W10,S10,O10,J10,F10,B10) -> 473352277 | AT10: =SUM(AC10,AG10,AK10,X10,T10,P10,K10,G10,C10) -> 499188253 | AU10: =SUM(AD10,AH10,AL10,Y10,U10,Q10,L10,H10,D10) -> 506251756 | AV10: =SUM(AE10,AI10,AM10,Z10,V10,R10,M10,I10,E10) -> 7063503 | AW10: =AU10-AX10-AY10 -> 391790399 | AX10: ='9. sz. tábla (2)'!H51 -> 6188192 | AY10: ='9. sz. tábla (2)'!H84+'9. sz. tábla (2)'!H93 -> 108273165 | AZ10: =SUM(AW10:AY10) -> 506251756
A11: Költségvetési szervek összesen: | B11: =SUM(B9:B10) -> 511043662 | C11: =SUM(C9:C10) -> 525609393 | D11: =SUM(D9:D10) -> 531171660 | E11: =D11-C11 -> 5562267 | F11: =SUM(F9:F10) -> 105818790 | G11: =SUM(G9:G10) -> 108162142 | H11: =SUM(H9:H10) -> 108768520 | I11: =H11-G11 -> 606378 | J11: =SUM(J9:J10) -> 194144083 | K11: =SUM(K9:K10) -> 207449347 | L11: =SUM(L9:L10) -> 207491838 | M11: =L11-K11 -> 42491 | N11: Költségvetési szervek összesen: | O11: =SUM(O9:O10) -> 1596000 | P11: =SUM(P9:P10) -> 1596000 | Q11: =SUM(Q9:Q10) -> 1596000 | R11: =Q11-P11 -> 0 | S11: =SUM(S9:S10) -> 0 | T11: =SUM(T9:T10) -> 2325380 | U11: =SUM(U9:U10) -> 2325380 | V11: =U11-T11 -> 0 | W11: =SUM(W9:W10) -> 12871000 | X11: =SUM(X9:X10) -> 25386628 | Y11: =SUM(Y9:Y10) -> 26286628 | Z11: =Y11-X11 -> 900000 | AA11: Költségvetési szervek összesen: | AB11: =SUM(AB9:AB10) -> 0 | AE11: =AD11-AC11 -> 0 | AF11: =SUM(AF9:AF10) -> 0 | AG11: =SUM(AG9:AG10) -> 0 | AH11: =SUM(AH9:AH10) -> 0 | AI11: =SUM(AI9:AI10) -> 0 | AJ11: =SUM(AJ9:AJ10) -> 0 | AK11: =SUM(AK9:AK10) -> 0 | AL11: =SUM(AL9:AL10) -> 0 | AM11: =AK11-AJ11 -> 0 | AN11: Költségvetési szervek összesen: | AO11: =SUM(AO9:AO10) -> 0 | AP11: =SUM(AP9:AP10) -> 0 | AQ11: =SUM(AQ9:AQ10) -> 0 | AR11: =SUM(AR9:AR10) -> 0 | AS11: =SUM(AS9:AS10) -> 825473535 | AT11: =SUM(AT9:AT10) -> 870528890 | AU11: =SUM(AU9:AU10) -> 877640026 | AV11: =SUM(AV9:AV10) -> 7111136 | ... AY11: =SUM(AY9:AY10) -> 108273165 | AZ11: =SUM(AW11:AY11) -> 877640026
A12: Önkormányzat | B12: ='5.tábla (2)'!B37 -> 160977192 | C12: ='5.tábla (2)'!C37 -> 173112087 | D12: ='5.tábla (2)'!D37 -> 174712087 | E12: =D12-C12 -> 1600000 | F12: ='5.tábla (2)'!B57 -> 29657574 | G12: ='5.tábla (2)'!C57 -> 31364528 | H12: ='5.tábla (2)'!D57 -> 32564528 | I12: =H12-G12 -> 1200000 | J12: ='5.tábla (2)'!B76 -> 1047384650 | K12: ='5.tábla (2)'!C76 -> 1143364020 | L12: ='5.tábla (2)'!D76 -> 1234264730 | M12: =L12-K12 -> 90900710 | N12: Önkormányzat | O12: ='5.tábla (2)'!B129 -> 28100000 | P12: ='5.tábla (2)'!C129 -> 28100000 | Q12: ='5.tábla (2)'!D129 -> 28100000 | R12: =Q12-P12 -> 0 | S12: ='5.tábla (2)'!B139 -> 1327110133 | T12: ='5.tábla (2)'!C139 -> 1329576429 | U12: ='5.tábla (2)'!D139 -> 1386891511 | V12: =U12-T12 -> 57315082 | W12: ='7. sz. tábla 1'!B142 -> 7902103500 | X12: ='7. sz. tábla 1'!C142 -> 8282599260 | Y12: ='7. sz. tábla 1'!D142 -> 8755358772 | Z12: =Y12-X12 -> 472759512 | AA12: Önkormányzat | AB12: ='7. sz. tábla 1'!B223 -> 86073257 | AC12: ='7. sz. tábla 1'!C223 -> 93407357 | AD12: ='7. sz. tábla 1'!D223 -> 90593955 | AE12: =AD12-AC12 -> -2813402 | AF12: ='7. sz. tábla 1'!B211 -> 215391539 | AG12: ='7. sz. tábla 1'!C211 -> 392000355 | AH12: ='7. sz. tábla 1'!D211 -> 998982028 | AI12: =AH12-AG12 -> 606981673 | AJ12: ='7. sz. tábla 1'!B218 -> 123837273 | AK12: ='7. sz. tábla 1'!C218 -> 123837273 | AL12: ='7. sz. tábla 1'!D218 -> 123837273 | AM12: =AL12-AK12 -> 0 | AN12: Önkormányzat | AO12: ='1.sz.tábla (2)'!B30 -> 126348942 | AP12: ='1.sz.tábla (2)'!C30 -> 54287305 | AQ12: ='1.sz.tábla (2)'!D30 -> 50157566 | AR12: =AQ12-AP12 -> -4129739 | AS12: =SUM(AB12,AF12,AJ12,W12,S12,O12,J12,F12,B12,AO12) -> 11046984060 | AT12: =SUM(AC12,AG12,AK12,X12,T12,P12,K12,G12,C12,AP12) -> 11651648614 | AU12: =SUM(AD12,AH12,AL12,Y12,U12,Q12,L12,H12,D12,AQ12) -> 12875462450 | AV12: =SUM(AE12,AI12,AM12,Z12,V12,R12,M12,I12,E12,AR12) -> 1223813836
A13: Mindösszesen: | B13: =SUM(B11:B12) -> 672020854 | C13: =SUM(C11:C12) -> 698721480 | D13: =SUM(D11:D12) -> 705883747 | E13: =D13-C13 -> 7162267 | F13: =SUM(F11:F12) -> 135476364 | G13: =SUM(G11:G12) -> 139526670 | H13: =SUM(H11:H12) -> 141333048 | I13: =H13-G13 -> 1806378 | J13: =SUM(J11:J12) -> 1241528733 | K13: =SUM(K11:K12) -> 1350813367 | L13: =SUM(L11:L12) -> 1441756568 | M13: =L13-K13 -> 90943201 | N13: Mindösszesen: | O13: =SUM(O11:O12) -> 29696000 | P13: =SUM(P11:P12) -> 29696000 | Q13: =SUM(Q11:Q12) -> 29696000 | R13: =Q13-P13 -> 0 | S13: =SUM(S11:S12) -> 1327110133 | T13: =SUM(T11:T12) -> 1331901809 | U13: =SUM(U11:U12) -> 1389216891 | V13: =U13-T13 -> 57315082 | W13: =SUM(W11:W12) -> 7914974500 | X13: =SUM(X11:X12) -> 8307985888 | Y13: =SUM(Y11:Y12) -> 8781645400 | Z13: =Y13-X13 -> 473659512 | AA13: Mindösszesen: | AB13: =SUM(AB11:AB12) -> 86073257 | AC13: =SUM(AC11:AC12) -> 93407357 | AD13: =SUM(AD11:AD12) -> 90593955 | AE13: =AD13-AC13 -> -2813402 | AF13: =SUM(AF11:AF12) -> 215391539 | AG13: =SUM(AG11:AG12) -> 392000355 | AH13: =SUM(AH11:AH12) -> 998982028 | AI13: =AH13-AG13 -> 606981673 | AJ13: =SUM(AJ11:AJ12) -> 123837273 | AK13: =SUM(AK11:AK12) -> 123837273 | AL13: =SUM(AL11:AL12) -> 123837273 | AM13: =AL13-AK13 -> 0 | AN13: Mindösszesen: | AO13: =SUM(AO11:AO12) -> 126348942 | AP13: =SUM(AP11:AP12) -> 54287305 | AQ13: =SUM(AQ11:AQ12) -> 50157566 | AR13: =AQ13-AP13 -> -4129739 | AS13: =SUM(AS11:AS12) -> 11872457595 | AT13: =SUM(AT11:AT12) -> 12522177504 | AU13: =SUM(AU11:AU12) -> 13753102476 | AV13: =SUM(AV11:AV12) -> 1230924972
R39: =Q39-#REF! -> #REF!
R40: =Q40-#REF! -> #REF!

Sheet 4a. sz. tábla  (3)
A2: INTÉZMÉNYI SAJÁTHATÁSKÖRŰ FEJLESZTÉSEK 2019. ÉV
A3: Intézmény | B3: Megnevezés | C3: 2019. évi eredeti ei. | D3: 2019. évi módosított ei. II. | E3: 2019. évi módosított ei. III. | F3: Eltérés
A5: LIPTÁK GÁBOR VÁROSI KÖNYVTÁR | C5: =SUM(C6:C10) -> 3071000 | D5: =SUM(D6:D10) -> 4473628 | E5: =SUM(E6:E10) -> 4473628 | F5: =E5-D5 -> 0
B6: Dokumentumbeszerzés (könyvtár) | C6: 2544000 | D6: 3157650 | E6: 3185022 | F6: =E6-D6 -> 27372
B7: Egyéb kisértékű eszközök (könyvtár) | C7: 127000 | D7: 100000 | E7: 129980 | F7: =E7-D7 -> 29980
B8: Informatikai eszközök | F8: =E8-D8 -> 0
B9: Informatikai eszközök (zsinagóga) | C9: 400000 | F9: =E9-D9 -> 0
B10: Bútor | D10: 1215978 | E10: 1158626 | F10: =E10-D10 -> -57352
F11: =E11-D11 -> 0
A12: BALATONFÜREDI VÁROSI BÖLCSÖDE | C12: =SUM(C13:C15) -> 300000 | D12: =SUM(D13:D15) -> 650469 | E12: =SUM(E13:E15) -> 650469 | F12: =E12-D12 -> 0
B13: fűnyíró | D13: 84000 | E13: 84000 | F13: =E13-D13 -> 0
B14: hűtő | F14: =E14-D14 -> 0
B15: egyéb kisértékű eszközök | C15: 300000 | D15: 566469 | E15: 566469 | F15: =E15-D15 -> 0
F16: =E16-D16 -> 0
A17: BALATONFÜREDI VÁROSI SZAKORVOSI RENDELŐINTÉZET | C17: =SUM(C18:C20) -> 500000 | D17: =SUM(D18:D22) -> 2088460 | E17: =SUM(E18:E22) -> 2988460 | F17: =E17-D17 -> 900000
B18: informatikai eszközök | E18: 910000 | F18: =E18-D18 -> 910000
B19: Orvosi műszerek | D19: 1150000 | E19: 1150000 | F19: =E19-D19 -> 0
B20: egyéb kisértékű eszközök | C20: 500000 | D20: 147460 | E20: 137460 | F20: =E20-D20 -> -10000
B21: Bútorok | D21: 791000 | E21: 791000 | F21: =E21-D21 -> 0
B22: Klíma | D22: 0 | E22: 0 | F22: =E22-D22 -> 0
F23: =E23-D23 -> 0
A24: BALATONFÜREDI KÖZÖS ÖNKORMÁNYZATI HIVATAL | C24: =SUM(C25:C27) -> 9000000 | D24: =SUM(D25:D27) -> 18174071 | E24: =SUM(E25:E27) -> 18174071 | F24: =E24-D24 -> 0
B25: Informatikai eszközök | C25: 8000000 | D25: 16390675 | E25: 16390675 | F25: =E25-D25 -> 0
B26: bútor, egyéb nagyértékű eszközök | D26: 450000 | E26: 450000 | F26: =E26-D26 -> 0
B27: egyéb kisértékű eszközök | C27: 1000000 | D27: 1333396 | E27: 1333396 | F27: =E27-D27 -> 0
A28: ÖSSZESEN: | C28: =SUM(C5+C12+C17+C24) -> 12871000 | D28: =SUM(D5+D12+D17+D24) -> 25386628 | E28: =SUM(E5+E12+E17+E24) -> 26286628 | F28: =SUM(F5+F12+F17+F24) -> 900000

Sheet 5.tábla (2)
A3: MŰKÖDÉSI KIADÁSOK ÖNKORMÁNYZAT, HIVATAL BONTÁSBAN 2019. ÉV
A5: MEGNEVEZÉS | B5: 2019. évi eredeti ei. | C5: 2019. évi módosított ei. II. | D5: 2019. évi módosított ei. III. | E5: Eltérés
A6: I. Balatonfüredi Közös Önkormányzati Hivatal költségvetése
A7: 1. Személyi juttatás | B7: 317071498 | C7: 324239853 | D7: 329975352 | E7: =D7-C7 -> 5735499
A8: ebből: KÖFOP-1.2.1. ASP központhoz való csatlakozás (migráció) | C8: 487741 | D8: 487741 | E8: =D8-C8 -> 0
A9: TOP-1.1.2-15 Balatonfüred és Balatonalmádi közös helyi foglalkoztatási együttműködés | C9: 2297872 | D9: 2297872 | E9: =D9-C9 -> 0
A10: TOP-3.2.1-16-VE2-2017-00001 Fenntartható Energia és Klíma Akcióterv (SECAP) kidolgozása Veszprém megyében | D10: 1100336 | E10: =D10-C10 -> 1100336
A11: TOP-1.1.2-15 Balatonfüred és Balatonalmádi közös helyi foglalkoztatási együttműködés | D11: 1845600 | E11: =D11-C11 -> 1845600
A12: 2. Munkaadót terhelő járulékok | B12: 67932755 | C12: 69704757 | D12: 70790270 | E12: =D12-C12 -> 1085513
A13: ebből: KÖFOP-1.2.1. ASP központhoz való csatlakozás | C13: 95109 | D13: 95109 | E13: =D13-C13 -> 0
A14: TOP-1.1.2-15 Balatonfüred és Balatonalmádi közös helyi foglalkoztatási együttműködés | C14: 402128 | D14: 402128 | E14: =D14-C14 -> 0
A15: TOP-3.2.1-16-VE2-2017-00001 Fenntartható Energia és Klíma Akcióterv (SECAP) kidolgozása Veszprém megyében | D15: 182364 | E15: =D15-C15 -> 182364
A16: TOP-1.1.2-15 Balatonfüred és Balatonalmádi közös helyi foglalkoztatási együttműködés | D16: 359892 | E16: =D16-C16 -> 359892
A17: 3. Dologi kiadások | B17: =SUM(B18:B22) -> 77752024 | C17: =SUM(C18:C22) -> 83154904 | D17: =SUM(D18:D22) -> 83397395 | E17: =D17-C17 -> 242491
A18: Igazgatás dologi Balatonfüred | B18: =57000000+3375024 -> 60375024 | C18: 65777904 | D18: 66020395 | E18: =D18-C18 -> 242491
A19: Telephelyek dologi | B19: 1400000 | C19: 1400000 | D19: 1400000 | E19: =D19-C19 -> 0
A20: Családi iroda | B20: 403000 | C20: 403000 | D20: 403000 | E20: =D20-C20 -> 0
A21: Közösségi Ház | B21: 10000000 | C21: 10000000 | D21: 10000000 | E21: =D21-C21 -> 0
A22: Befizetendő áfa | B22: 5574000 | C22: 5574000 | D22: 5574000 | E22: =D22-C22 -> 0
A23: 4.1. Ellátottak pénzbeli juttatásai Balatonfüred | B23: =B24 -> 1500000 | C23: =C24 -> 1500000 | D23: =D24 -> 1500000 | E23: =D23-C23 -> 0
A24: Rendszeres gyermekvédelmi támogatás | B24: 1500000 | C24: 1500000 | D24: 1500000 | E24: =D24-C24 -> 0
A25: 4.2. Ellátottak pénzbeli juttatásai telephelyek | B25: =SUM(B26:B26) -> 96000 | C25: =SUM(C26:C26) -> 96000 | D25: =SUM(D26:D26) -> 96000 | E25: =D25-C25 -> 0
A26: Rendszeres gyermekvédelmi támogatás | B26: 96000 | C26: 96000 | D26: 96000 | E26: =D26-C26 -> 0
A27: 5. Egyéb működési célú kiadások áh-n belülre | B27: 0 | C27: 2318668 | D27: 2318668 | E27: =D27-C27 -> 0
A28: Hivatal működési kiadások összesen: | B28: =B27+B25+B23+B17+B12+B7 -> 464352277 | C28: =C27+C25+C23+C17+C12+C7 -> 481014182 | D28: =D27+D25+D23+D17+D12+D7 -> 488077685 | E28: =D28-C28 -> 7063503
A29: 6. Saját hatáskörű fejlesztések | B29: =SUM(B30:B32) -> 9000000 | C29: =SUM(C30:C32) -> 18174071 | D29: =SUM(D30:D32) -> 18174071 | E29: =D29-C29 -> 0
A30: Informatikai fejlesztések (kisértékű, nagyértékű) | B30: 8000000 | C30: 16390675 | D30: 16390675 | E30: =D30-C30 -> 0
A31: Kisértékű tárgyi eszközök | B31: 1000000 | C31: =1783396-C32 -> 1333396 | D31: =1783396-D32 -> 1333396 | E31: =D31-C31 -> 0
A32: bútor, egyéb nagyértékű eszköz | C32: 450000 | D32: 450000 | E32: =D32-C32 -> 0
A33: I. Balatonfüredi Közös Önkormányzati Hivatal összesen: | B33: =B29+B28 -> 473352277 | C33: =C29+C28 -> 499188253 | D33: =D29+D28 -> 506251756 | E33: =D33-C33 -> 7063503
A35: MEGNEVEZÉS | B35: 2019. évi eredeti ei. | C35: 2019. évi módosított ei. II. | D35: 2019. évi módosított ei. III. | E35: Eltérés
A36: II. Balatonfüred Város Önkormányzat költségvetése
A37: 1. Személyi juttatások | B37: =SUM(B38:B55) -> 160977192 | C37: =SUM(C38:C56) -> 173112087 | D37: =SUM(D38:D56) -> 174712087 | E37: =D37-C37 -> 1600000
A38: Képviselő-testület személyi juttatásai | B38: 29065722 | C38: 29165722 | D38: 29165722 | E38: =D38-C38 -> 0
A39: Foglalkoztatottak személyi juttatásai | C39: 7877400 | D39: 8177400 | E39: =D39-C39 -> 300000
A40: Közfoglalkoztatás +diákmunka | B40: 14675400 | C40: 14675400 | D40: 14675400 | E40: =D40-C40 -> 0
A41: Megbízási díjak | B41: 9616600 | C41: 4581600 | D41: 4381600 | E41: =D41-C41 -> -200000
A42: Szent Benedek Általános Iskola, Középiskola, Alapfokú Művészeti Iskola és Kollégium nyugdíjasa részére elmaradt jub. jutalom | C42: 1689975 | D42: 1689975 | E42: =D42-C42 -> 0
A43: Városi Kitüntetések | B43: 1200000 | C43: 1120000 | D43: 1120000 | E43: =D43-C43 -> 0
A44: Ösztöndíjak | B44: 5800000 | C44: 5800000 | D44: 5800000 | E44: =D44-C44 -> 0
A45: Rendezvényekhez kapcsolódó személyi | B45: 2900000 | C45: 10007792 | D45: 11507792 | E45: =D45-C45 -> 1500000
A46: Magyarországi Zsidó örökség Közalapítványtól támogatás a felhagyott zsidó temető rehabilitációjára | B46: 15000 | C46: 15000 | D46: 15000 | E46: =D46-C46 -> 0
A47: KÖFOP-1.2.1. ASP központhoz való csatlakozás | B47: 176509 | C47: 176509 | D47: 176509 | E47: =D47-C47 -> 0
A48: TOP-1.2.1-15 Széchényi Strand turisztikai infrastruktúra fejlesztés | B48: 184709 | C48: 184709 | D48: 184709 | E48: =D48-C48 -> 0
A49: TOP-4.1.1-15 Egészségügyi alapellátás fejlesztése | B49: 661112 | C49: 661112 | D49: 661112 | E49: =D49-C49 -> 0
A50: TOP-1.1.2-15 Balatonfüred és Balatonalmádi közös helyi foglalkoztatási együttműködés | B50: 9837178 | C50: 9837178 | D50: 9837178 | E50: =D50-C50 -> 0
A51: EFOP-1.5.2-16-2017-00016 Humán közszolgáltatások fejlesztése az Észak-Balatoni térségben | B51: 81735371 | C51: 81735371 | D51: 81735371 | E51: =D51-C51 -> 0
A52: EFOP-4.1.8-16-2017-00140 A könyvtárral a tudásért - megújult épületben, korszerű technikával Balatonfüreden | B52: 1584780 | C52: 1584780 | D52: 1584780 | E52: =D52-C52 -> 0
A53: GINOP-7.1.9-17-2017-0001 Gyógyhelyfejlesztés Balatonfüred Városában | B53: 2114811 | C53: 2114811 | D53: 2114811 | E53: =D53-C53 -> 0
A54: TOP-3.2.1-16-VE2-2017-00001 Fenntartható Energia és Klíma Akcióterv (SECAP) kidolgozása Veszprém megyében | B54: 450000 | C54: 450000 | D54: 450000 | E54: =D54-C54 -> 0
A55: GINOP-7.1.9-17-2018-00008 Turisztikailag frekventált térségek integrált termék- és szolgáltatás fejlesztése | B55: 960000 | C55: 0 | D55: 0 | E55: =D55-C55 -> 0
A56: TOP-3.2.1-16-VE1-2018-00033 A Balatonfüredi Lipták Gábor Városi Könyvtár energetikai korszerűsítése | C56: 1434728 | D56: 1434728 | E56: =D56-C56 -> 0
A57: 2. Munkaadót terhelő járulékok és szociális hozzájárulási adó | B57: =SUM(B58:B73) -> 29657574 | C57: =SUM(C58:C74) -> 31364528 | D57: =SUM(D58:D74) -> 32564528 | E57: =D57-C57 -> 1200000
A58: Képviselő-testület személyi juttatásai | B58: 5712426 | C58: 5715848 | D58: 5615848 | E58: =D58-C58 -> -100000
A59: Közfoglalkoztatás +diákmunka | B59: 1430852 | C59: 1430852 | D59: 1430852 | E59: =D59-C59 -> 0
A60: Megbízási díjak | B60: 1687713 | C60: 821621 | D60: 821621 | E60: =D60-C60 -> 0
A61: Szent Benedek Általános Iskola, Középiskola, Alapfokú Művészeti Iskola és Kollégium nyugdíjasa részére elmaradt jub. jutalom | C61: 295746 | D61: 295746 | E61: =D61-C61 -> 0
A62: Városi Kitüntetések | B62: 234000 | C62: 234000 | D62: 234000 | E62: =D62-C62 -> 0
A63: Rendezvényekhez kapcsolódó járulék és kifizetői adó | B63: 1180590 | C63: 3378930 | D63: 4678930 | E63: =D63-C63 -> 1300000
A64: Magyarországi Zsidó örökség Közalapítványtól támogatás a felhagyott zsidó temető rehabilitációjára | B64: 2634 | C64: 0 | D64: 0 | E64: =D64-C64 -> 0
A65: KÖFOP-1.2.1. ASP központhoz való csatlakozás | B65: 48292 | C65: 48292 | D65: 48292 | E65: =D65-C65 -> 0
A66: TOP-1.2.1-15 Széchényi Strand turisztikai infrastruktúra fejlesztés | B66: 65546 | C66: 65546 | D66: 65546 | E66: =D66-C66 -> 0
A67: TOP-4.1.1-15 Egészségügyi alapellátás fejlesztése | B67: 205689 | C67: 205689 | D67: 205689 | E67: =D67-C67 -> 0
A68: TOP-1.1.2-15 Balatonfüred és Balatonalmádi közös helyi foglalkoztatási együttműködés | B68: 2020027 | C68: 2020027 | D68: 2020027 | E68: =D68-C68 -> 0
A69: EFOP-1.5.2-16-2017-00016 Humán közszolgáltatások fejlesztése az Észak-Balatoni térségben | B69: 15860837 | C69: 15860837 | D69: 15860837 | E69: =D69-C69 -> 0
A70: EFOP-4.1.8-16-2017-00140 A könyvtárral a tudásért - megújult épületben, korszerű technikával Balatonfüreden | B70: 369230 | C70: 369230 | D70: 369230 | E70: =D70-C70 -> 0
A71: GINOP-7.1.9-17-2017-0001 Gyógyhelyfejlesztés Balatonfüred Városában | B71: 520388 | C71: 520388 | D71: 520388 | E71: =D71-C71 -> 0
A72: TOP-3.2.1-16-VE2-2017-00001 Fenntartható Energia és Klíma Akcióterv (SECAP) kidolgozása Veszprém megyében | B72: 117750 | C72: 117750 | D72: 117750 | E72: =D72-C72 -> 0
A73: GINOP-7.1.9-17-2018-00008 Turisztikailag frekventált térségek integrált termék- és szolgáltatás fejlesztése | B73: 201600 | C73: 0 | D73: 0 | E73: =D73-C73 -> 0
A74: TOP-3.2.1-16-VE1-2018-00033 A Balatonfüredi Lipták Gábor Városi Könyvtár energetikai korszerűsítése | C74: 279772 | D74: 279772 | E74: =D74-C74 -> 0
A75: MEGNEVEZÉS | B75: 2019. évi eredeti ei. | C75: 2019. évi módosított ei. II. | D75: 2019. évi módosított ei. III. | E75: Eltérés
A76: 3. Dologi kiadások | B76: =SUM(B77:B127) -> 1047384650 | C76: =SUM(C77:C127) -> 1143364020 | D76: =SUM(D77:D128) -> 1234264730 | E76: =SUM(E77:E128) -> 90900710
A77: Építés és településfejlesztés | B77: 6640000 | C77: 6640000 | D77: 6640000 | E77: =D77-C77 -> 0
A78: Városüzemeltetés | B78: 169960000 | C78: 177496223 | D78: 174299181 | E78: =D78-C78 -> -3197042
A79: Idegenforgalmi feladatok | B79: 29200000 | C79: 31960120 | D79: 30460120 | E79: =D79-C79 -> -1500000
A80: Oktatás, nevelés | B80: 2650000 | C80: 2068240 | D80: 2068240 | E80: =D80-C80 -> 0
A81: Közművelődés | B81: 14150000 | C81: 11551987 | D81: 8051987 | E81: =D81-C81 -> -3500000
A82: Sport | B82: 3140000 | C82: 2769470 | D82: 2769470 | E82: =D82-C82 -> 0
A83: TV és újság | B83: 954000 | C83: 954000 | D83: 954000 | E83: =D83-C83 -> 0
A84: Lakásgazdálkodás | B84: 11000000 | C84: 8273587 | D84: 7553587 | E84: =D84-C84 -> -720000
A85: Vagyonhasznosítás | B85: 55960960 | C85: 58965621 | D85: 63645621 | E85: =D85-C85 -> 4680000
A86: Zákonyi u. mélygarázs fenntartási ktg. | B86: 12700000 | C86: 12700000 | D86: 14500000 | E86: =D86-C86 -> 1800000
A87: ÁFA befizetés | B87: 214224112 | C87: 265441840 | D87: 263069342 | E87: =D87-C87 -> -2372498
A88: Munkaegészségügyi ellát | B88: 1200000 | C88: 1200000 | D88: 700000 | E88: =D88-C88 -> -500000
... A96: Önkormányzati Tűzoltóság tagdíj | B96: 11500000 | C96: 12600000 | D96: 12600000 | E96: =D96-C96 -> 0
A97: GINOP-7.1.9-17-2018-00008 Turisztikailag frekventált térségek integrált termék- és szolgáltatás fejlesztése | C97: 1475232 | D97: 1475232 | E97: =D97-C97 -> 0
A98: TOP-3.2.1-16-VE1-2018-00033 A Balatonfüredi Lipták Gábor Városi Könyvtár energetikai korszerűsítése | C98: 3527061 | D98: 3527061 | E98: =D98-C98 -> 0
A99: Magyarországi Zsidó örökség Közalapítványtól támogatás a felhagyott zsidó temető rehabilitációjára | B99: 40000 | C99: 15000 | D99: 15000 | E99: =D99-C99 -> 0
A100: TOP-4.1.1.-15 VE Egészségügyi alapellátás infrastruktúrális fejlesztése pályázat előkészítés | B100: 2219000 | C100: 2219000 | D100: 2219000 | E100: =D100-C100 -> 0
A101: KÖFOP-1.2.1. ASP központhoz való csatlakozás | B101: 6109875 | C101: 5527025 | D101: 5527025 | E101: =D101-C101 -> 0
A102: TOP-1.1.1.-15 Ipari parkok, iparterületek fejlesztése pályázat | B102: 22494206 | C102: 22494206 | D102: 0 | E102: =D102-C102 -> -22494206
A103: TOP-1.1.2-15 Balatonfüred és Balatonalmádi közös helyi foglalkoztatási együttműködés | B103: 30063866 | C103: 27363866 | D103: 26518866 | E103: =D103-C103 -> -845000 | G103: =E100+E101+E102+E103+E105+E107+E109+E110+E112+E114+E115+E116 -> 29885089
A104: TOP-2.1.3.-16 Csapadékcsatorna hálózat fejlesztése pályázat | E104: =D104-C104 -> 0
A105: TOP-1.2.1-15 Széchenyi strand fejlesztése pályázat | B105: 8861940 | C105: 8861940 | D105: 63368935 | E105: =D105-C105 -> 54506995
A106: TOP-2.1.2-15 Zöld város kialakítása pályázat | B106: 0 | C106: 0 | D106: 0 | E106: =D106-C106 -> 0
A107: EFOP-1.5.2-16-2017-00016 Humán közszolgáltatások fejlesztése az Észak-Balatoni térségben | B107: 144455679 | C107: 144455679 | D107: 144455679 | E107: =D107-C107 -> 0
A108: TOP-3.2.2-15-VE1-2016-00002 Biomassza alapú ORC erőmű Balatonfüred | B108: 27686000 | C108: 27686000 | D108: 27686000 | E108: =D108-C108 -> 0
A109: EFOP-4.1.8-16-2017-00140 A könyvtárral a tudásért - megújult épületben, korszerű technikával Balatonfüreden | B109: 425450 | C109: 425450 | D109: 425450 | E109: =D109-C109 -> 0
A110: TOP-2.1.3-16-VE1-2017-00008 Balatonfüred csapadékcsatorna hálózatának fejlesztése | B110: 4953000 | C110: 4953000 | D110: 4953000 | E110: =D110-C110 -> 0
A111: MEGNEVEZÉS | B111: 2019. évi eredeti ei. | C111: 2019. évi módosított ei. II. | D111: 2019. évi módosított ei. III. | E111: Eltérés
...

Sheet 5b. sz. tábla  (2)
A2: TÁMOGATÁSOK 2019. ÉV
A4: MEGNEVEZÉS | B4: 2019. évi eredeti ei. | C4: 2019. évi módosított ei. II. | D4: 2019. évi módosított ei. III. | E4: Eltérés
A5: Működési célú támogatások áh-n belülre: | B5: =SUM(B6:B11) -> 519843244 | C5: =SUM(C6:C11) -> 517664543 | D5: =SUM(D6:D11) -> 510640525 | E5: =D5-C5 -> -7024018
A6: Országos Mentőszolgálat támogatás | E6: =D6-C6 -> 0
A7: Veszprém Megyei Rendőr-főkapitányság | C7: 1775559 | D7: 1775559 | E7: =D7-C7 -> 0
A8: BURSA Hungarica ösztöndíj | B8: 1350000 | C8: 1350000 | D8: 1350000 | E8: =D8-C8 -> 0
A9: Balatonfüredi Többcélú Társulás BSZAK | B9: 157513843 | C9: 151358319 | D9: 143129169 | E9: =D9-C9 -> -8229150
A10: Közoktatási Intézményfenntartó Társulás Óvodák | B10: 360979401 | C10: 362284269 | D10: 363489401 | E10: =D10-C10 -> 1205132
A11: Veszrpém Megyei Kormányhivatal Balatonfüredi Járási Hivatala közfoglalkoztatási előleg visszafizetés | C11: 896396 | D11: 896396 | E11: =D11-C11 -> 0
A12: Működési célú támogatások áh-n kívülre: | B12: =SUM(B13:B70) -> 801891048 | C12: =SUM(C13:C71) -> 805531956 | D12: =SUM(D13:D72) -> 854871056 | E12: =D12-C12 -> 49339100
A13: Önkéntes Tűzoltóság | C13: 6489372 | D13: 6489372 | E13: =D13-C13 -> 0
A14: Vagyonvédelmi Alapítvány | B14: 1500000 | C14: 300000 | D14: 300000 | E14: =D14-C14 -> 0
A15: Váll. Fejl. Közalapítvány | B15: 1000000 | C15: 1000000 | D15: 1000000 | E15: =D15-C15 -> 0
A16: ÉNYKK (Balaton Volán jogutódja) | B16: 49141700 | C16: 54141700 | D16: 54141700 | E16: =D16-C16 -> 0
A17: Városért Közalapítvány | B17: 1400000 | C17: 1400000 | D17: 1400000 | E17: =D17-C17 -> 0
A18: Balatonfüred Város Közalapítvány Tempevölgy | B18: 2500000 | C18: 2500000 | D18: 2500000 | E18: =D18-C18 -> 0
A19: Kovászna Testvérvárosi Egyesület | B19: 200000 | C19: 200000 | D19: 200000 | E19: =D19-C19 -> 0
A20: Opatija Testvérvárosi Egyesület | B20: 200000 | C20: 200000 | D20: 200000 | E20: =D20-C20 -> 0
A21: Kouvala Testvérvárosi Egyesület | B21: 400000 | C21: 400000 | D21: 400000 | E21: =D21-C21 -> 0
A22: QUASIMODO Alapítvány | B22: 2000000 | C22: 2000000 | D22: 2000000 | E22: =D22-C22 -> 0
A23: Fordítóház Alapítvány | B23: 2100000 | C23: 2100000 | D23: 2100000 | E23: =D23-C23 -> 0
A24: Sport támogatási keretösszeg | B24: =102190000-23440000 -> 78750000 | C24: =102190000-23440000 -> 78750000 | D24: =102190000-23440000 -> 78750000 | E24: =D24-C24 -> 0
A25: Balatonfüredi Kézilabda Klub | B25: 23440000 | C25: 23440000 | D25: 23440000 | E25: =D25-C25 -> 0
A26: SOS Alapítvány Vállalkozásfejlesztő Aliroda | B26: 600000 | C26: 600000 | D26: 600000 | E26: =D26-C26 -> 0
A27: Balatonfüred Református Egyházközség | B27: 484000 | C27: 484000 | D27: 484000 | E27: =D27-C27 -> 0
A28: Balatonfüred-Arács Református Egyházközség | B28: 326000 | C28: 326000 | D28: 326000 | E28: =D28-C28 -> 0
A29: Balatonfüred-Dörgicse Evangélikus Egyházközség | B29: 246000 | C29: 246000 | D29: 246000 | E29: =D29-C29 -> 0
A30: Római Katolikus Plébánia | B30: 2288000 | C30: 2288000 | D30: 2288000 | E30: =D30-C30 -> 0
A31: Civil pályázati alap | B31: 4279000 | C31: 4463147 | D31: 4463147 | E31: =D31-C31 -> 0
A32: Polgármesteri keret | B32: 400000 | C32: 290000 | D32: 290000 | E32: =D32-C32 -> 0
A33: Alpolgármesteri keret | B33: 270000 | C33: 230000 | D33: 230000 | E33: =D33-C33 -> 0
A34: Képviselői keret | B34: 1675000 | C34: 1473000 | D34: 1473000 | E34: =D34-C34 -> 0
A35: Érzékeny Gyermekeinkét Alapít. (liszt és szűróvizsgálat is) | B35: 800000 | C35: 800000 | D35: 800000 | E35: =D35-C35 -> 0
A36: Gitár fesztivál-Balatonfüredi Nemzetközi Gitárfesztivál Alapítvány | B36: 3500000 | C36: 3500000 | D36: 3500000 | E36: =D36-C36 -> 0
... A42: "S.O.S. és Könyvelő" Szociálisan Rászorultakat Segítő Kft | B42: 1810140 | C42: 1810140 | D42: 1810140 | E42: =D42-C42 -> 0
A43: TÁMOGATÁSOK 2019. ÉV
A45: MEGNEVEZÉS | B45: 2019. évi eredeti ei. | C45: 2019. évi módosított ei. II. | D45: 2019. évi módosított ei. III. | E45: Eltérés
A46: Probio Zrt közszolgáltatási feladatok | B46: 213987824 | C46: 204672345 | D46: 204672345 | E46: =D46-C46 -> 0
A47: Sportesemények támogatása: Magyar Vitorlás Szövetség Kékszalag Fesztivál | B47: 4000000 | C47: 4000000 | D47: 4000000 | E47: =D47-C47 -> 0
A48: Sportesemények támogatása: Úszó Világkupa | B48: 4000000 | C48: 0 | D48: 0 | E48: =D48-C48 -> 0
A49: Balatonfüred Kulturális Nonprofit Kft. | B49: 188497000 | C49: 192497000 | D49: 196997000 | E49: =D49-C49 -> 4500000
A50: Múzsák Egyesülete Sirály táncfesztivál | B50: 800000 | C50: 800000 | D50: 800000 | E50: =D50-C50 -> 0
A51: Balatonfüredi Néptánc Egyesület | B51: 1000000 | C51: 1000000 | D51: 1000000 | E51: =D51-C51 -> 0
A52: Rákóczy Szövetség | B52: 100000 | C52: 100000 | D52: 100000 | E52: =D52-C52 -> 0
A53: Füred Studió Kft. | B53: 32887000 | C53: 32887000 | D53: 32887000 | E53: =D53-C53 -> 0
A54: Veszprémi Református Egyházközség | B54: 60000 | C54: 0 | D54: 0 | E54: =D54-C54 -> 0
A55: Siloam Református Otthon támogatása | B55: 1100000 | C55: 1100000 | D55: 1100000 | E55: =D55-C55 -> 0
A56: Konferencia Központ Kft. | B56: 91000000 | C56: 91000000 | D56: 91000000 | E56: =D56-C56 -> 0
A57: DRV Zrt. 2019. évi víz- és csatornaszolgáltatás támogatása | B57: 0 | C57: 0 | D57: 44819100 | E57: =D57-C57 -> 44819100
... A67: Cimbora Alapítvány az Egészséges és Kulturált Gyermekekért | B67: 2000000 | C67: 2000000 | D67: 2000000 | E67: =D67-C67 -> 0
A68: Magyar Szkander Szövetség magyar bajnokság támogatása | C68: 1000000 | D68: 1000000 | E68: =D68-C68 -> 0
A69: Balatonfüredi Református Egyházegyházközség hittantábor támogatása | C69: 50000 | D69: 50000 | E69: =D69-C69 -> 0
A70: Zsidó Kiválóságok Háza Alapítvány | B70: 27500000 | C70: 27500000 | D70: 27500000 | E70: =D70-C70 -> 0
A71: Magyar Fitkid Szövetség XVII. FITKID Európa Kupa támogatása | C71: 400000 | D71: 400000 | E71: =D71-C71 -> 0
A72: Kelemen Ház adomány | D72: 20000 | E72: =D72-C72 -> 20000
A73: Összesen: | B73: =B12+B5 -> 1321734292 | C73: =C12+C5 -> 1323196499 | D73: =D12+D5 -> 1365511581 | E73: =D73-C73 -> 42315082

Sheet 6.sz.tábla  (2)
A2: FELÚJÍTÁSOK 2019. ÉV
A4: Intézmény / munkanemek | B4: 2019. évi eredeti ei. | C4: 2019. évi módosított ei. II. | D4: 2019. évi módosított ei. III. | E4: Eltérés
A5: 1. Kiserdei Óvoda Park u.
A6: ÉK-i csoportszoba beázás javítása, tető javítása | B6: 497459 | C6: 497459 | D6: 497459 | E6: =D6-C6 -> 0
A7: Konyhában régi tűzhely eltávolítása, burkolás | B7: 399999 | C7: 399999 | D7: 399999 | E7: =D7-C7 -> 0
A8: Konyha ajtó csere | B8: 300000 | C8: 300000 | D8: 300000 | E8: =D8-C8 -> 0
A9: Villamos szekrény felújítása | B9: 2800000 | C9: 2800000 | D9: 2800000 | E9: =D9-C9 -> 0
A10: Melegvíz ellátás kézmosókhoz | B10: 1300000 | C10: 1300000 | D10: 1300000 | E10: =D10-C10 -> 0
A11: Ivókút kiépítése | C11: 0 | D11: 0 | E11: =D11-C11 -> 0
A12: Bordás fal és függönytartó | C12: 0 | D12: 0 | E12: =D12-C12 -> 0
A13: udvari kapu kiépítése | C13: 0 | D13: 0 | E13: =D13-C13 -> 0
A14: Konyha mennyezet gipszkarton | D14: 444500 | E14: =D14-C14 -> 444500
A15: Összesen: | B15: =SUM(B6:B10) -> 5297458 | C15: =SUM(C6:C13) -> 5297458 | D15: =SUM(D6:D14) -> 5741958 | E15: =D15-C15 -> 444500
A17: 2. Református Óvoda - Iskolalépcső u.
A18: Ivókút kiépítése | C18: 415000 | D18: 415000 | E18: =D18-C18 -> 0
A19: Bordás fal és függönytartó | C19: 38100 | D19: 38100 | E19: =D19-C19 -> 0
A20: udvari kapu kiépítése | C20: 381000 | D20: 381000 | E20: =D20-C20 -> 0
A21: Összesen: | B21: 0 | C21: =SUM(C18:C20) -> 834100 | D21: =SUM(D18:D20) -> 834100 | E21: =D21-C21 -> 0
A23: 3. Hunyadi u. Óvoda
A24: Épület DNY-i sarok helyreállítása | B24: 1498600 | C24: 1498600 | D24: 1498600 | E24: =D24-C24 -> 0
A25: Csúszda megerősítése, stabilizálása | B25: 100000 | C25: 100000 | D25: 100000 | E25: =D25-C25 -> 0
A26: Kertrendezési terv kert felújításhoz | B26: 150000 | C26: 150000 | D26: 0 | E26: =D26-C26 -> -150000
A27: Összesen: | B27: =SUM(B24:B26) -> 1748600 | C27: =SUM(C24:C26) -> 1748600 | D27: =SUM(D24:D26) -> 1598600 | E27: =D27-C27 -> -150000
A29: 4. Tündérkert Óvoda
A30: Világítótestek cseréje | B30: 2597150 | C30: 2597150 | D30: 2597150 | E30: =D30-C30 -> 0
A31: Folyosó PVC padló felújítása | B31: 3000000 | C31: 3000000 | D31: 3000000 | E31: =D31-C31 -> 0
A32: Balesetveszélyes udvari játékok cseréje | B32: 1498600 | C32: 1498600 | D32: 1498600 | E32: =D32-C32 -> 0
A33: Zsámoly (konyhai sütő) betáp kábel átépítése | B33: 199390 | C33: 199390 | D33: 199390 | E33: =D33-C33 -> 0
A34: Irodák PVC padló felújítása | B34: 896620 | C34: 896620 | D34: 896620 | E34: =D34-C34 -> 0
A35: Füvesítés három szakaszban | B35: 2499999 | C35: 2499999 | D35: 2499999 | E35: =D35-C35 -> 0
A36: Solar rendszer beüzemelése | B36: 2496820 | C36: 2496820 | D36: 2496820 | E36: =D36-C36 -> 0
A37: Füvesítés folytatása következő szakasz | B37: 2500000 | C37: 2500000 | D37: 2500000 | E37: =D37-C37 -> 0
A38: Udvari játékok | B38: 2000000 | C38: 2000000 | D38: 2000000 | E38: =D38-C38 -> 0
A39: Udvari ivókút | B39: 300000 | C39: 300000 | D39: 300000 | E39: =D39-C39 -> 0
A40: Összesen: | B40: =SUM(B30:B39) -> 17988579 | C40: =SUM(C30:C39) -> 17988579 | D40: =SUM(D30:D39) -> 17988579 | E40: =D40-C40 -> 0
A42: Intézmény / munkanemek | B42: Eltérés | C42: 2019. évi módosított ei. II. | D42: 2019. évi módosított ei. III. | E42: Eltérés
A43: 5. Városi Bölcsőde
A44: Füvesítés három szakaszban | B44: 2499999 | C44: 2499999 | D44: 2499999 | E44: =D44-C44 -> 0
A45: Faház | B45: 2481115 | C45: 2481115 | D45: 0 | E45: =D45-C45 -> -2481115
A46: Füvesítés folytatása következő szakasz | B46: 2500000 | C46: 2500000 | D46: 2500000 | E46: =D46-C46 -> 0
A47: Összesen: | B47: =SUM(B44:B46) -> 7481114 | C47: =SUM(C44:C46) -> 7481114 | D47: =SUM(D44:D46) -> 4999999 | E47: =D47-C47 -> -2481115
A49: 6. Óvárosi Óvoda
A50: Kossuth utcai külső homlokzat javítás, falfestés | B50: 1996440 | C50: 1996440 | D50: 1996440 | E50: =D50-C50 -> 0
A51: Kossuth utcai homlokzat eresz csatorna felújítása | B51: 3994150 | C51: 3994150 | D51: 3994150 | E51: =D51-C51 -> 0
A52: Világítás felújítása | B52: 2499360 | C52: 2499360 | D52: 2499360 | E52: =D52-C52 -> 0
A53: Kertrendezési terv kert felújításhoz | B53: 150000 | C53: 150000 | D53: 0 | E53: =D53-C53 -> -150000
A54: Külső falfelület felújítása | B54: 2500000 | C54: 0 | D54: 0 | E54: =D54-C54 -> 0
A55: Ereszcsatorna felújítása | C55: 2500000 | D55: 2500000 | E55: =D55-C55 -> 0
A56: Összesen: | B56: =SUM(B50:B54) -> 11139950 | C56: =SUM(C50:C55) -> 11139950 | D56: =SUM(D50:D55) -> 10989950 | E56: =D56-C56 -> -150000
A58: 7. Mogyoró u. Óvoda
A59: Összesen: | B59: 0 | E59: =D59-C59 -> 0
A61: 8. Eötvös Loránd Általános Iskola
A62: tornaterem festés (előző évi kötelezettségvállalás) | E62: =D62-C62 -> 0
A63: Összesen: | B63: =SUM(B62:B62) -> 0 | E63: =D63-C63 -> 0
A65: 9. Református Általános Iskola
A66: főépület kémények bontása | B66: 1218885 | C66: 1218885 | D66: 0 | E66: =D66-C66 -> -1218885
A67: Összesen: | B67: =SUM(B66) -> 1218885 | C67: =SUM(C66) -> 1218885 | D67: =SUM(D66) -> 0 | E67: =D67-C67 -> -1218885
A69: 10. Radnóti Miklós Általános Iskola
A70: Összesen: | B70: 0 | E70: =D70-C70 -> 0
A72: 11. Fekete István Általános Iskola
A73: Összesen: | B73: 0 | E73: =D73-C73 -> 0
A75: 12. Ferencsik János Zeneiskola
A76: Összesen: | B76: 0 | E76: =D76-C76 -> 0
A78: 13. Szent Benedek Gimnázium
A79: Összesen | B79: 0 | E79: =D79-C79 -> 0
A80: Intézmény / munkanemek | B80: 2019. évi eredeti ei. | C80: 2019. évi módosított ei. II. | D80: 2019. évi módosított ei. III. | E80: Eltérés
A82: 14. Lóczy Lajos Gimnázium
A83: Összesen | B83: 0 | E83: =D83-C83 -> 0
A85: 15. Közösségi Ház
A86: Összesen: | B86: 0 | E86: =D86-C86 -> 0
A88: 16. BSZAK
A89: Kert renedzés, felújítás | B89: 1996440 | C89: 1996440 | D89: 1996440 | E89: =D89-C89 -> 0
A90: Ereszcsatorna bekötése csapadékaknába | B90: 300000 | C90: 300000 | D90: 300000 | E90: =D90-C90 -> 0
A91: Összesen: | B91: =SUM(B89:B90) -> 2296440 | C91: =SUM(C89:C90) -> 2296440 | D91: =SUM(D89:D90) -> 2296440 | E91: =D91-C91 -> 0
A93: 17. Városi Szakorvosi Rendelőintézet
A94: Összesen: | B94: 0 | E94: =D94-C94 -> 0
A96: 18. Lipták Gábor Városi Könyvtár
A97: Összesen: | E97: =D97-C97 -> 0
A99: 22. Balatonfüredi Közös Önkormányzati Hivatal épülete
A100: Viharkár miatti homlokzat felújítás (K., ÉK. oldal) | B100: 2044484 | C100: 2044484 | D100: 2044484 | E100: =D100-C100 -> 0
A101: B épület iroda felújítás (padló, villany, klíma) | B101: 998220 | C101: 998220 | D101: 998220 | E101: =D101-C101 -> 0
A102: Tetőfelújítás, tetősík ablakok cseréje | B102: 15700000 | C102: 16200000 | D102: 15700000 | E102: =D102-C102 -> -500000
A103: Összesen: | B103: =SUM(B100:B102) -> 18742704 | C103: =SUM(C100:C102) -> 19242704 | D103: =SUM(D100:D102) -> 18742704 | E103: =D103-C103 -> -500000
E104: =D104-C104 -> 0
A105: 23. Arácsi Népház, Posta | E105: =D105-C105 -> 0
A106: Iroda felújítás | B106: 0 | C106: 2000000 | D106: 2000000 | E106: =D106-C106 -> 0
A107: Külső lábazat vízszigetelése, felújítása | B107: 0 | C107: 2000000 | D107: 2000000 | E107: =D107-C107 -> 0
A108: Összesen: | B108: =SUM(B106:B107) -> 0 | C108: =SUM(C106:C107) -> 4000000 | D108: =SUM(D106:D107) -> 4000000 | E108: =D108-C108 -> 0
E109: =D109-C109 -> 0
A110: 24. Konferencia Központ | E110: =D110-C110 -> 0
A111: Összesen: | E111: =D111-C111 -> 0
E112: =D112-C112 -> 0
A113: 25. Tartalék | D113: 1242098 | E113: =D113-C113 -> 1242098
A114: 26. Lakásfelújítás 2019 évi | B114: 9000000 | C114: 11000000 | D114: 11000000 | E114: =D114-C114 -> 0
A115: 27.Egyéb épület: | E115: =D115-C115 -> 0
A116: Astória homlokzat felújítás | B116: 5359527 | C116: 5359527 | D116: 5359527 | E116: =D116-C116 -> 0
A117: Astória homlokzat felújítás folytatása | B117: 5800000 | C117: 5800000 | D117: 5800000 | E117: =D117-C117 -> 0
A118: Összesen: | B118: =SUM(B116:B117) -> 11159527 | C118: =SUM(C116:C117) -> 11159527 | D118: =SUM(D116:D117) -> 11159527 | E118: =D118-C118 -> 0
A119: Mindösszesen: | B119: =B114+B103+B97+B94+B91+B86+B83+B70+B67+B63+B59+B56+B47+B40+B27+B21+B15+B76+B113+B111+B108+B73+B79+B118 -> 86073257 | C119: =C114+C103+C97+C94+C91+C86+C83+C70+C67+C63+C59+C56+C47+C40+C27+C21+C15+C76+C113+C111+C108+C73+C79+C118 -> 93407357 | D119: =D114+D103+D97+D94+D91+D86+D83+D70+D67+D63+D59+D56+D47+D40+D27+D21+D15+D76+D113+D111+D108+D73+D79+D118 -> 90593955 | E119: =D119-C119 -> -2813402
A120: Kötelezettségek | B120: =B116+B101+B100+B89+B52+B51+B50+B25+B44+B36+B35+B34+B33+B32+B31+B30+B24+B7+B6 -> 37073257 | C120: =C116+C101+C100+C89+C52+C51+C50+C25+C44+C36+C35+C34+C33+C32+C31+C30+C24+C7+C6 -> 37073257 | D120: =D116+D101+D100+D89+D52+D51+D50+D25+D44+D36+D35+D34+D33+D32+D31+D30+D24+D7+D6 -> 37073257 | E120: =E116+E101+E100+E89+E52+E51+E50+E25+E44+E36+E35+E34+E33+E32+E31+E30+E24+E7+E6 -> 0
...

Sheet 7. sz. tábla 1
A1: FELHALMOZÁSI KIADÁSOK 2019. ÉV
A3: Megnevezés | B3: 2019. évi eredeti ei. | C3: 2019. évi módosított ei. II. | D3: 2019. évi módosított ei. III. | E3: Eltérés
A4: I. Kötelezettséggel terhelt fejlesztések
A5: Savanyúvizes kutak védterület kijelölése (340/2007 sz. hat.) hidrogeológiai geodéziai anyag készítése | B5: 0 | E5: =D5-C5 -> 0
A6: Tervek, megvalósítási tanulmányok, pályázatok | B6: 2921000 | C6: 2921000 | D6: 2921000 | E6: =D6-C6 -> 0
A7: Zsinagóga építés | B7: 50000 | C7: 50000 | D7: 50000 | E7: =D7-C7 -> 0
A8: 072 hrsz-ú ingatlan megvásárlása 2016. évi ütem | B8: 45111110 | C8: 45111110 | D8: 45111110 | E8: =D8-C8 -> 0
A9: Morvai J. u. ivóvíz házlózat tervezése | B9: 349250 | C9: 349250 | D9: 349250 | E9: =D9-C9 -> 0
A10: Vizes VB parkolófejlesztés Zákonyi mélygarázs | B10: 1492248 | C10: 1492248 | D10: 1492248 | E10: =D10-C10 -> 0
A11: TOP-1.2.1.-15 Széchenyi strand fejlesztése | B11: 193737563 | C11: 193737563 | D11: 139230568 | E11: =D11-C11 -> -54506995
A12: TOP-1.1.1.-15 Térségi kihatással bíró ipartelepítés infrastrukturálás feltételeinek megteremtése | B12: 584500650 | C12: 584500650 | D12: 0 | E12: =D12-C12 -> -584500650
A13: TOP-4.1.1.-15 Egészségügyi alapellátás fejlesztése Balatonfüreden | B13: 83425953 | C13: 83425953 | D13: 83425953 | E13: =D13-C13 -> 0
A14: Annagóra Park Bevásárlóközpont Társasház 41,11 % tulajdoni hányad megvásárlása | B14: 42000000 | C14: 42000000 | D14: 42000000 | E14: =D14-C14 -> 0
A15: 122/4 hrsz-ú ingatlanon épülő mélygarázsban 58db parkoló megvásárlása | B15: 73660000 | C15: 73660000 | D15: 73660000 | E15: =D15-C15 -> 0
A16: Lóczy L. u. 52. ingatlan felújítás | B16: 1905000 | C16: 3619500 | D16: 3619500 | E16: =D16-C16 -> 0
A17: Forgalomtechnikai feladatok tervezése | B17: 1290320 | C17: 1290320 | D17: 1290320 | E17: =D17-C17 -> 0
... A34: Kovászna Parkban vízkivételi mű létesítése | B34: 5110480 | C34: 5110480 | D34: 5745048 | E34: =D34-C34 -> 634568
A35: Megnevezés | B35: 2019. évi eredeti ei. | C35: 2019. évi módosított ei. II. | D35: 2019. évi módosított ei. III. | E35: Eltérés
A36: Brázay étterem, csónakkikötő tervezés előkészítés | B36: 4365625 | C36: 4365625 | D36: 4365625 | E36: =D36-C36 -> 0
A37: Horgász Klubház | B37: 114445321 | C37: 114641917 | D37: 114641917 | E37: =D37-C37 -> 0
A38: Ingatlanok vásárlása közpark részére (071/76,069/27-069/30,071/68,071/70,071/101,071/102 | B38: 889948 | C38: 889948 | D38: 889948 | E38: =D38-C38 -> 0
A39: Bajcsy-Zs. U. és Vázsonyi út közötti szakasz útépítési engedélyezési terv felülvizsgálata | B39: 660400 | C39: 660400 | D39: 660400 | E39: =D39-C39 -> 0
A40: P. Horváth Á. U. közművek tervezése | B40: 1394460 | C40: 1394460 | D40: 1394460 | E40: =D40-C40 -> 0
A41: TOP-2.1.2.-16VE1 Ófalu településrész fejlesztése tanulmányterv | B41: 9779000 | C41: 9779000 | D41: 9779000 | E41: =D41-C41 -> 0
A42: Ófalu településrész fejlesztése ingatlanok megvásárlása | B42: 336778400 | C42: 336778400 | D42: 331698400 | E42: =D42-C42 -> -5080000
A43: EFOP-4.1.8-16-2017-00140 A könyvtárral a tudásért - megújult épületben, korszerű technikával Balatonfüreden | B43: 40661762 | C43: 138744432 | D43: 138744432 | E43: =D43-C43 -> 0
A44: EFOP-1.5.2-16-2017-00016 Humán közszolgáltatások fejlesztése az Észak-Balatoni térségben | B44: 19185827 | C44: 19185827 | D44: 19185827 | E44: =D44-C44 -> 0
A45: TOP-2.1.2-16-VE1-2017-00009 azonosítószámú, Balatonfüred Ófalu fejlesztése | B45: 853855902 | C45: 898305902 | D45: 898305902 | E45: =D45-C45 -> 0
A46: TOP-2.1.3-16-VE1-2017-00008 Balatonfüred csapadékcsatorna hálózatának fejlesztése | B46: 106866924 | C46: 105380494 | D46: 105380494 | E46: =D46-C46 -> 0
A47: GINOP-7.1.9-17-2017-0001 Gyógyhelyfejlesztés Balatonfüred Városában | B47: 815784138 | C47: 818869138 | D47: 818869138 | E47: =D47-C47 -> 0
... A59: Papsoka felhagyott temetők felújítása III. ütemben történő rehabilitációja | B59: 29999755 | C59: 29999755 | D59: 30045015 | E59: =D59-C59 -> 45260
A60: I. összesen: | B60: =SUM(B5:B59) -> 4888893798 | C60: =SUM(C5:C59) -> 5036555623 | D60: =SUM(D5:D59) -> 4393655806 | E60: =D60-C60 -> -642899817
A61: Megnevezés | B61: 2019. évi eredeti ei. | C61: 2019. évi módosított ei. II. | D61: 2019. évi módosított ei. III. | E61: Eltérés
A62: II. Javasolt fejlesztések
A63: Beruházás előkészítő és tervezési kiadások | B63: 15000000 | C63: 1249162 | D63: 615902 | E63: =D63-C63 -> -633260
A64: Útépítések 2019. évi | B64: 100000000 | C64: 99111000 | D64: 94891798 | E64: =D64-C64 -> -4219202
A65: ZP-1-2019 zártkeri besorolású földrészletek mg-i hasznosítását segítő, infrastrukturális hátterét biztosító fejlesztések | D65: 14219202 | E65: =D65-C65 -> 14219202
A66: P. Horváth Á. Utca (járda, légvezeték) | B66: 80000000 | C66: 80000000 | D66: 90000000 | E66: =D66-C66 -> 10000000
A67: Légvezeték kiváltás | B67: 20000000 | C67: 20000000 | D67: 20000000 | E67: =D67-C67 -> 0
A68: Hulladékgyűjtők, utcabútorok cseréje 2019. évi | B68: 6000000 | C68: 6000000 | D68: 6000000 | E68: =D68-C68 -> 0
A69: Temető felújítás | B69: 7000000 | C69: 7000000 | D69: 7000000 | E69: =D69-C69 -> 0
A70: Városi zöldfelület fejlesztés 2019. | B70: 9000000 | C70: 9000000 | D70: 8555970 | E70: =D70-C70 -> -444030
A71: Morvai utca vízvezeték hálózat építés | B71: 5000000 | C71: 5000000 | D71: 4555500 | E71: =D71-C71 -> -444500
A72: Térinformatikai rendszer bevezetése | B72: 2000000 | C72: 497 | D72: 497 | E72: =D72-C72 -> 0
A73: Zákonyi sétány stabilizált gyöngykavics burkolat | B73: 6000000 | C73: 6000000 | D73: 6000000 | E73: =D73-C73 -> 0
A74: TOP-3.2.2-15-VE1-2016-00002 Biomassza alapú ORC erőmű Balatonfüred | B74: 601785000 | C74: 601785000 | D74: 601785000 | E74: =D74-C74 -> 0
A75: Könyvtár bővítéshez, felújításhoz többlet forrás | B75: 184189407 | C75: 0 | D75: 0 | E75: =D75-C75 -> 0
A76: Könyvtár belső felújítás TOP 7.1.1-16-H-030-4 | C76: 122199565 | D76: 122199565 | E76: =D76-C76 -> 0
A77: Könyvtár bútorok | B77: 20000000 | C77: 20000000 | D77: 21112333 | E77: =D77-C77 -> 1112333
A78: Könyvtár környezetrendezés | C78: 120000 | D78: 120000 | E78: =D78-C78 -> 0
A79: területszerzés, kisajátítás | B79: 30000000 | C79: 19500000 | D79: 19500000 | E79: =D79-C79 -> 0
A80: Süttői mészkő csere | B80: 6000000 | C80: 6000000 | D80: 6000000 | E80: =D80-C80 -> 0
A81: Zákonyi sétány dobogó felújítás | B81: 3000000 | C81: 0 | D81: 0 | E81: =D81-C81 -> 0
A82: játszóterek felújítása, bővítése 2019. | B82: 12000000 | C82: 12000000 | D82: 12000000 | E82: =D82-C82 -> 0
A83: Kéki patak vízkivételi mű | B83: 5000000 | C83: 500000 | D83: 500000 | E83: =D83-C83 -> 0
A84: Lakóterületi belső út felújítása | B84: 10000000 | C84: 10000000 | D84: 10000000 | E84: =D84-C84 -> 0
A85: Buszvárók cseréje | B85: 5000000 | C85: 5000000 | D85: 5000000 | E85: =D85-C85 -> 0
A86: Információs táblarendszer 2019. év | B86: 2000000 | C86: 2000000 | D86: 2000000 | E86: =D86-C86 -> 0
A87: Közvilágítás bővítés 2019. év | B87: 10000000 | C87: 10000000 | D87: 10000000 | E87: =D87-C87 -> 0
A88: Kemping kerítés és térbeton bontása | B88: 2000000 | C88: 0 | D88: 0 | E88: =D88-C88 -> 0
A89: Kemping fejlesztés I. ütem | B89: 8000000 | C89: 8000000 | D89: 8000000 | E89: =D89-C89 -> 0
A90: Forrás Sportpark fejlesztés | B90: 11430000 | C90: 11430000 | D90: 11430000 | E90: =D90-C90 -> 0
... A92: Hunyadi utcai óvoda beruházás 2019. évi ütem | B92: 70000000 | C92: 59111000 | D92: 59111000 | E92: =D92-C92 -> 0
A93: Hunyadi utcai óvoda infrastruktúrális fejlesztése hazai forrás | C93: 40000000 | D93: 40000000 | E93: =D93-C93 -> 0
A94: Hunyadi utcai óvoda eszközbeszerzés | C94: 677437 | D94: 677437 | E94: =D94-C94 -> 0
A95: Horgász kikötő | B95: 50000000 | C95: 50000000 | D95: 50000000 | E95: =D95-C95 -> 0
A96: Brázay étterem | B96: 15000000 | C96: 14580000 | D96: 14580000 | E96: =D96-C96 -> 0
A97: Brázay park | B97: 10000000 | C97: 10000000 | D97: 10000000 | E97: =D97-C97 -> 0
A98: Rendőrségi útjelzők | B98: 2500000 | C98: 0 | D98: 0 | E98: =D98-C98 -> 0
A99: Tesco sétány | B99: 2500000 | C99: 2877249 | D99: 2877249 | E99: =D99-C99 -> 0
A100: Széchényi park emléktáblák cseréje | B100: 2000000 | C100: 1622751 | D100: 1622751 | E100: =D100-C100 -> 0
A101: Kiserdő felújítás | B101: 8000000 | C101: 8000000 | D101: 8000000 | E101: =D101-C101 -> 0
A102: Hulladékgyűjtő szigetek takarása (Köztársaság u. 11, Noszopy G.u.) | B102: 1500000 | C102: 1500000 | D102: 1500000 | E102: =D102-C102 -> 0
A103: Gyepmesteri telephely kialakítás (tervezés, engedélyezés) | B103: 1000000 | C103: 0 | D103: 0 | E103: =D103-C103 -> 0
A104: Megnevezés | B104: 2019. évi eredeti ei. | C104: 2019. évi módosított ei. II. | D104: 2019. évi módosított ei. III. | E104: Eltérés
A105: GINOP 7.1.9. Gyógyhelyfejlesztés Balatonfüred Városában pótmunkák | B105: 170000000 | C105: 224415394 | D105: 224415394 | E105: =D105-C105 -> 0
A106: Elkerülő út saját forrás | B106: 50000000 | C106: 50000000 | D106: 50000000 | E106: =D106-C106 -> 0
A107: Lakás vásárlás Kéki u. II.104. lakás | B107: 30000000 | C107: 45000000 | D107: 45000000 | E107: =D107-C107 -> 0
A108: Lakás vásárlás Kéki u. II.102. lakás | C108: 21000000 | D108: 21000000 | E108: =D108-C108 -> 0
A109: Lakás vásárlás Kéki u. II.103. lakás | C109: 25000000 | D109: 25000000 | E109: =D109-C109 -> 0
A110: TOP-3.2.1-16-VE1-2018-00033 A Balatonfüredi Lipták Gábor Városi Könyvtár energetikai korszerűsítése | B110: 15373071 | C110: 115412686 | D110: 115412686 | E110: =D110-C110 -> 0
A111: Zákonyi mélygarázs feletti üzletek hálózatfejlesztés | C111: 7095744 | D111: 7095744 | E111: =D111-C111 -> 0
A112: Eszterházy villa villamos energia ellátás közmű | C112: 15121636 | D112: 15121636 | E112: =D112-C112 -> 0
A113: Papsoka felhagyott temetők felújítása IV. ütemben történő rehabilitációja | B113: 15000000 | C113: 15000000 | D113: 15000000 | E113: =D113-C113 -> 0
A114: GINOP-7.1.9-17-2018-00008 Turisztikailag frekventált térségek integrált termék- és szolgáltatás fejlesztése | B114: 44790551 | C114: 56884000 | D114: 56884000 | E114: =D114-C114 -> 0
A115: GINOP Balatoni Vízi megállóhelyek létesítése | B115: 140612195 | C115: 140612195 | D115: 140612195 | E115: =D115-C115 -> 0
A116: GINOP Négy évszakos kulturális és rendezvényhelyszín fejlesztése Balatonfüreden | B116: 1147414478 | C116: 1147414478 | D116: 1147414478 | E116: =D116-C116 -> 0
A117: 078/2 hrsz-ú ingatlanból 23 m2 megvásárlása | B117: 115000 | C117: 115000 | D117: 115000 | E117: =D117-C117 -> 0
A118: Világháborús emlékmű felújítása | C118: 6022003 | D118: 6515832 | E118: =D118-C118 -> 493829
A119: P. Horváth M. u. 77/a ingatlan vásárlás | C119: 10882500 | D119: 3382500 | E119: =D119-C119 -> -7500000
A120: Tamási Áron és Ferencsik János utcák kereszteződésében a közvilágítási légvezeték hálózat kiváltása földkábelre | C120: 1000000 | D120: 1000000 | E120: =D120-C120 -> 0
A121: 352/3 hrsz-ú ingatlan 16/1496-od rész megvás. Táncsics u. 7/A | C121: 500000 | D121: 500000 | E121: =D121-C121 -> 0
A122: Siske u. 9. 1992 hrsz-ú ingatlan megvásárlása 2019. évi rész | C122: 10000000 | D122: 10000000 | E122: =D122-C122 -> 0
A123: Indiai külügyminiszter emléktábla faültetésnél | C123: 500000 | D123: 500000 | E123: =D123-C123 -> 0
A124: Bocsár dülő 0118/33 ingatlanon létesítendő KIF hálózati kábel kiépítése | C124: 2506980 | D124: 2506980 | E124: =D124-C124 -> 0
A125: 054 hrsz-ú „rét, szántó, kivett út, szőlő, gyümölcsös” művelési ágú ingatlan megvásárlása a Nemzeti Földalapkezelő Szervezettől | C125: 24770000 | D125: 24770000 | E125: =D125-C125 -> 0
A126: Petőfi S. utca- Séta utca csomópont döntés előkészítő terv | D126: 444500 | E126: =D126-C126 -> 444500
A127: TOP-1.1.2-15 Balatonfüred és Balatonalmádi közös helyi foglalkoztatási együttműködés eszközbeszerzés | D127: 845000 | E127: =D127-C127 -> 845000
A128: TOP-1.1.1-16 Ipari parkok, iparterületek fejlesztése (Új pályázatként) | D128: 1086856142 | E128: =D128-C128 -> 1086856142
A129: GIRO kártyaolvasó | D129: 12700 | E129: =D129-C129 -> 12700
...

Sheet 8. sz. tábla  (3)
A4: Az Önkormányzat működési bevételei és kiadásai 2019. év
A6: 1. Működési bevételek | B6: 2019. évi eredeti ei. | C6: 2019. évi módosított ei. II. | D6: 2019. évi módosított ei. III. | E6: Eltérés | F6: 2. Működési kiadások | G6: 2019. évi eredeti ei. | H6: 2019. évi módosított ei. II. | I6: 2019. évi módosított ei. III. | J6: Eltérés
A7: 1. Működési célú támogatások államháztartáson belülről | B7: ='2.sz.tábla (2)'!N7 -> 1.4582899e+09 | C7: ='2.sz.tábla (2)'!O7 -> 1.5133249e+09 | D7: ='2.sz.tábla (2)'!P7 -> 1.6144599e+09 | E7: =D7-C7 -> 101134979 | F7: 1. Személyi juttatások | G7: ='4.sz.tábla '!B13 -> 672020854 | H7: ='4.sz.tábla '!C13 -> 698721480 | I7: ='4.sz.tábla '!D13 -> 705883747 | J7: =I7-H7 -> 7162267
A8: 2. Közhatalmi bevételek | B8: ='2.sz.tábla (2)'!N30 -> 1864200000 | C8: ='2.sz.tábla (2)'!O30 -> 1864200000 | D8: ='2.sz.tábla (2)'!P30 -> 1864200000 | E8: =D8-C8 -> 0 | F8: 2. Munkaadót terhelő járulékok és szoc.hj. Adó | G8: ='4.sz.tábla '!F13 -> 135476364 | H8: ='4.sz.tábla '!G13 -> 139526670 | I8: ='4.sz.tábla '!H13 -> 141333048 | J8: =I8-H8 -> 1806378
A9: 3. Működési bevételek | B9: ='2.sz.tábla (2)'!N43-'8. sz. tábla (3)'!B33 -> 464262869 | C9: ='2.sz.tábla (2)'!O43-'8. sz. tábla (3)'!C33 -> 477400891 | D9: ='2.sz.tábla (2)'!P43-'8. sz. tábla (3)'!D33 -> 727145342 | E9: =D9-C9 -> 249744451 | F9: 3. Dologi kiadások | G9: ='4.sz.tábla '!J13 -> 1241528733 | H9: ='4.sz.tábla '!K13 -> 1350813367 | I9: ='4.sz.tábla '!L13 -> 1441756568 | J9: =I9-H9 -> 90943201
A10: 4. Működési célú átvett pénzeszközök államháztartáson kivülről | B10: ='2.sz.tábla (2)'!N66 -> 25440000 | C10: ='2.sz.tábla (2)'!O66 -> 32600559 | D10: ='2.sz.tábla (2)'!P66 -> 33900559 | E10: =D10-C10 -> 1300000 | F10: 4. Ellátottak pénzbeli juttatásai | G10: ='4.sz.tábla '!O13 -> 29696000 | H10: ='4.sz.tábla '!P13 -> 29696000 | I10: ='4.sz.tábla '!Q13 -> 29696000 | J10: =I10-H10 -> 0
E11: =D11-C11 -> 0 | F11: 5. Egyéb működési célú kiadások | G11: =SUM(G12:G15) -> 1327110133 | H11: =SUM(H12:H15) -> 1331901809 | I11: =SUM(I12:I15) -> 1389216891 | J11: =I11-H11 -> 57315082
F12: 5.1. Elvonások, befizetések | G12: ='5.tábla (2)'!B140 -> 5375841 | H12: ='5.tábla (2)'!C140 -> 5379930 | I12: ='5.tábla (2)'!D140 -> 5379930 | J12: =I12-H12 -> 0
F13: 5.2. Egyéb működési célú támogatások áh-n belülre | G13: ='5.tábla (2)'!B144 -> 519843244 | H13: ='5.tábla (2)'!C144+'5.tábla (2)'!C27+'4.sz.tábla '!T9 -> 519989923 | I13: ='5.tábla (2)'!D144+'5.tábla (2)'!D27+'4.sz.tábla '!U9 -> 512965905 | J13: =I13-H13 -> -7024018
F14: 5.4. Egyéb működési célú támogatások áh-n kívülre | G14: ='5.tábla (2)'!B149 -> 801891048 | H14: ='5.tábla (2)'!C149 -> 805531956 | I14: ='5.tábla (2)'!D149 -> 854871056 | J14: =I14-H14 -> 49339100
F15: 5.5. Működési célú visszatérítendő támogatások, kölcsönök nyújtása áh-n kívülre | G15: ='5.tábla (2)'!B146 -> 0 | H15: ='5.tábla (2)'!C146 -> 1000000 | I15: ='5.tábla (2)'!D146 -> 16000000 | J15: =I15-H15 -> 15000000
F16: 6. Pénzforgalom nélküli kiadások (tartalék) | G16: ='1.sz.tábla (2)'!B30-'8. sz. tábla (3)'!G38 -> 88580593 | H16: ='1.sz.tábla (2)'!C30-'8. sz. tábla (3)'!H38 -> 10931947 | I16: ='1.sz.tábla (2)'!D30-'8. sz. tábla (3)'!I38 -> 6802208 | J16: =I16-H16 -> -4129739
A17: Összes költségvetési működési bevétel: | B17: =SUM(B7:B16) -> 3.8121928e+09 | C17: =SUM(C7:C16) -> 3.8875263e+09 | D17: =SUM(D7:D16) -> 4.2397058e+09 | E17: =D17-C17 -> 352179430 | F17: Összes költségvetési működési kiadás: | G17: =G7+G8+G9+G10+G11+G16 -> 3494412677 | H17: =H7+H8+H9+H10+H11+H16 -> 3561591273 | I17: =I7+I8+I9+I10+I11+I16 -> 3714688462 | J17: =I17-H17 -> 153097189
A18: Működési többlet: | B18: =B17-G17 -> 3.1778008e+08 | C18: =C17-H17 -> 3.2593506e+08 | D18: =D17-I17 -> 5.250173e+08 | E18: =D18-C18 -> 199082241 | F18: Működési hiány: | J18: =H18-G18 -> 0
A19: Költségvetési hiány belső finanszírozása működési célú | B19: =SUM(B20) -> 217143540 | C19: =SUM(C20) -> 249143368 | D19: =SUM(D20) -> 249143368 | E19: =D19-C19 -> 0 | F19: Finanszírozási célú műveletek kiadásai működési célú | G19: =SUM(G20:G23) -> 49594849 | H19: =SUM(H20:H23) -> 49594849 | I19: =SUM(I20:I23) -> 49594849 | J19: =I19-H19 -> 0
A20: 5. Költségvetési Maradvány | B20: ='2.sz.tábla (2)'!N77 -> 217143540 | C20: ='2.sz.tábla (2)'!O77 -> 249143368 | D20: ='2.sz.tábla (2)'!P77 -> 249143368 | E20: =D20-C20 -> 0 | F20: 7. Államháztartáson belüli megelőlegezés visszafizetése | G20: ='7. sz. tábla 1'!B217 -> 49594849 | H20: ='7. sz. tábla 1'!C217 -> 49594849 | I20: ='7. sz. tábla 1'!D217 -> 49594849 | J20: =I20-H20 -> 0
A21: Költségvetési hiány külső finanszírozása működési célú | B21: =SUM(B22:B24) -> 102083868 | C21: =SUM(C22:C24) -> 102083868 | D21: =SUM(D22:D24) -> 117083868 | E21: =D21-C21 -> 15000000 | F21: 8. Hitelek törlesztése
A22: 6. Értékpapír kibocsátás, értékesítés | B22: 89283868 | C22: =89283868 -> 89283868 | D22: =89283868+15000000 -> 104283868 | E22: =D22-C22 -> 15000000 | F22: 9. Betét vásárlás
A23: 7. Hitelfelvétel | F23: 10. Forgatási célú értékpapír vásárlás | G23: ='7. sz. tábla 1'!B216 -> 0 | H23: ='7. sz. tábla 1'!C216 -> 0 | I23: ='7. sz. tábla 1'!D216 -> 0 | J23: ='7. sz. tábla 1'!E216 -> 0
A24: 8. Állami támogatás megelőlegezés visszafizetése | B24: ='2.sz.tábla (2)'!N90 -> 12800000 | C24: ='2.sz.tábla (2)'!O90 -> 12800000 | D24: ='2.sz.tábla (2)'!P90 -> 12800000 | E24: ='2.sz.tábla (2)'!Q90 -> 0
A25: Összes működési bevétel: | B25: =B17+B19+B21 -> 4.1314202e+09 | C25: =C17+C19+C21 -> 4.2387536e+09 | D25: =D17+D19+D21 -> 4.605933e+09 | E25: =D25-C25 -> 367179430 | F25: Összes működési kiadás | G25: =G19+G17 -> 3544007526 | H25: =H19+H17 -> 3611186122 | I25: =I19+I17 -> 3764283311 | J25: =I25-H25 -> 153097189
A27: Az Önkormányzat felhalmozási bevételei és kiadásai 2019. év
A29: 1. Felhalmozási bevételek | B29: 2019. évi eredeti ei. | C29: 2019. évi módosított ei. II. | D29: 2019. évi módosított ei. III. | E29: Eltérés | F29: 2. Felhalmozási kiadások | G29: 2019. évi eredeti ei. | H29: 2019. évi módosított ei. II. | I29: 2019. évi módosított ei. III. | J29: Eltérés
A30: 1. Felhalmozási célú támogatások államháztartáson belülről | B30: ='2.sz.tábla (2)'!N22 -> 1504479834 | C30: ='2.sz.tábla (2)'!O22 -> 1696173273 | D30: ='2.sz.tábla (2)'!P22 -> 2787094189 | E30: =D30-C30 -> 1090920916 | F30: 1.1. Beruházások | G30: ='7. sz. tábla 1'!B142 -> 7902103500 | H30: ='7. sz. tábla 1'!C142 -> 8282599260 | I30: ='7. sz. tábla 1'!D142 -> 8755358772 | J30: =I30-H30 -> 472759512
A31: 2. Felhalmozási bev. | B31: ='2.sz.tábla (2)'!N58 -> 69288400 | C31: ='2.sz.tábla (2)'!O58 -> 100788400 | D31: ='2.sz.tábla (2)'!P58 -> 100788400 | E31: =D31-C31 -> 0 | F31: 1.2. Int.saját hatáskörű fejlesztések | G31: ='4.sz.tábla '!W11 -> 12871000 | H31: ='4.sz.tábla '!X11 -> 25386628 | I31: ='4.sz.tábla '!Y11 -> 26286628 | J31: =I31-H31 -> 900000
A32: 3. Felhalmozási célú átvett pénzeszközök | B32: ='2.sz.tábla (2)'!N70 -> 453634994 | C32: ='2.sz.tábla (2)'!O70 -> 606312431 | D32: ='2.sz.tábla (2)'!P70 -> 616312431 | E32: =D32-C32 -> 10000000 | F32: 2. Felújítások | G32: ='7. sz. tábla 1'!B223 -> 86073257 | H32: ='7. sz. tábla 1'!C223 -> 93407357 | I32: ='7. sz. tábla 1'!D223 -> 90593955 | J32: =I32-H32 -> -2813402
A33: 4. Működési bevételek áfa visszatérülés (felhalm.) | B33: =375309895 -> 375309895 | C33: =375309895+313632 -> 375623527 | D33: =134198153-25405650+18655650 -> 127448153 | E33: =D33-C33 -> -248175374 | F33: 3. Egyéb felhalmozási kiadások | G33: =SUM(G34:G37) -> 215391539 | H33: =SUM(H34:H37) -> 392000355 | I33: =SUM(I34:I37) -> 998982028 | J33: =I33-H33 -> 606981673
E34: =C34-B34 -> 0 | F34: 3.1. Egyéb felhalmozási célú támogatások áh-n kívülre | G34: ='7. sz. tábla 1'!B162 -> 180900478 | H34: ='7. sz. tábla 1'!C162 -> 189059294 | I34: ='7. sz. tábla 1'!D162 -> 197028543 | J34: =I34-H34 -> 7969249
F35: 3.2. Egyéb felhalmozási célú támogatások áh-n belülre | G35: ='7. sz. tábla 1'!B152 -> 23400000 | H35: ='7. sz. tábla 1'!C152 -> 32250000 | I35: ='7. sz. tábla 1'!D152 -> 625762424 | J35: =I35-H35 -> 593512424
F36: 3.3. Felhalmozási célú visszatérítendő támogatások, kölcsönök nyújtása áh-n belülre | G36: ='7. sz. tábla 1'!B151 -> 0 | H36: ='7. sz. tábla 1'!C151 -> 0 | I36: ='7. sz. tábla 1'!D151 -> 0 | J36: =I36-H36 -> 0
F37: 3.3. Felhalmozási célú visszatérítendő támogatások, kölcsönök nyújtása áh-n kívülre | G37: ='7. sz. tábla 1'!B145 -> 11091061 | H37: ='7. sz. tábla 1'!C145 -> 170691061 | I37: ='7. sz. tábla 1'!D145 -> 176191061 | J37: =I37-H37 -> 5500000
F38: 4. Pénzforgalom nélküli kiadások (tartalék) | G38: ='1.sz.tábla (2)'!B43+'1.sz.tábla (2)'!B44+'1.sz.tábla (2)'!B46 -> 37768349 | H38: ='1.sz.tábla (2)'!C43+'1.sz.tábla (2)'!C44+'1.sz.tábla (2)'!C46+'1.sz.tábla (2)'!C47 -> 43355358 | I38: ='1.sz.tábla (2)'!D43+'1.sz.tábla (2)'!D44+'1.sz.tábla (2)'!D46+'1.sz.tábla (2)'!D47 -> 43355358 | J38: =I38-H38 -> 0
A39: Összes költségvetési felhalmozási bevétel: | B39: =SUM(B30:B36) -> 2402713123 | C39: =SUM(C30:C36) -> 2778897631 | D39: =SUM(D30:D36) -> 3631643173 | E39: =D39-C39 -> 852745542 | F39: Összes költségvetési felhalmozási kiadás: | G39: =G30+G31+G32+G33+G38 -> 8254207645 | H39: =H30+H31+H32+H33+H38 -> 8836748958 | I39: =I30+I31+I32+I33+I38 -> 9914576741 | J39: =I39-H39 -> 1077827783
A40: Felhalmozási többlet: | F40: Felhalmozási hiány: | G40: =B39-G39 -> -5851494522 | H40: =C39-H39 -> -6057851327 | I40: =D39-I39 -> -6282933568 | J40: =I40-H40 -> -225082241
A41: Költségvetési hiány belső finanszírozása felhalmozási célú | B41: =SUM(B42) -> 3872757378 | C41: =SUM(C42) -> 3897605271 | D41: =SUM(D42) -> 3897605271 | E41: =D41-C41 -> 0 | F41: Finanszírozási célú műveletek kiadásai felhalmozási célú | G41: =SUM(G42:G43) -> 74242424 | H41: =SUM(H42:H43) -> 74242424 | I41: =SUM(I42:I43) -> 74242424 | J41: =I41-H41 -> 0
A42: 4.Költségvetési maradvány | B42: ='2.sz.tábla (2)'!N78 -> 3872757378 | C42: ='2.sz.tábla (2)'!O78 -> 3897605271 | D42: ='2.sz.tábla (2)'!P78 -> 3897605271 | E42: =D42-C42 -> 0 | F42: 4. Értékpapírok vásárlása | J42: =H42-G42 -> 0
A43: Költségvetési hiány külső finanszírozása felhalmozási célú | B43: =SUM(B44:B45) -> 1465566928 | C43: =SUM(C44:C45) -> 1606921033 | D43: =SUM(D44:D45) -> 1617921033 | E43: =D43-C43 -> 11000000 | F43: 5. Hitelek törlesztése | G43: ='[3]6. sz. tábla 1'!B241 -> 74242424 | H43: ='[3]6. sz. tábla 1'!C241 -> 74242424 | I43: ='[3]6. sz. tábla 1'!D241 -> 74242424 | J43: =I43-H43 -> 0
A44: 5. Értékpapír kibocsátás, értékesítés | B44: ='2.sz.tábla (2)'!N85-B22 -> 1465566928 | C44: ='2.sz.tábla (2)'!O85-C22 -> 1606921033 | D44: ='2.sz.tábla (2)'!P85-D22 -> 1617921033 | E44: =D44-C44 -> 11000000 | F44: 6. Államháztartáson belüli megelőlegezés visszafizetése
A45: 6. Hitelfelvétel
A46: Összes felhalmozási bevétel: | B46: =B39+B41+B43 -> 7741037429 | C46: =C39+C41+C43 -> 8283423935 | D46: =D39+D41+D43 -> 9147169477 | E46: =D46-C46 -> 863745542 | F46: Összes felhalmozási kiadás | G46: =G39+G41 -> 8328450069 | H46: =H39+H41 -> 8910991382 | I46: =I39+I41 -> 9988819165 | J46: =I46-H46 -> 1077827783
A48: Bevétele és kiadások mérlege 2019. év
A50: BEVÉTELEK | B50: 2019. évi eredeti ei. | C50: 2019. évi módosított ei. II. | D50: 2019. évi módosított ei. III. | E50: Eltérés | F50: KIADÁSOK | G50: 2019. évi eredeti ei. | H50: 2019. évi módosított ei. II. | I50: 2019. évi módosított ei. III. | J50: Eltérés
A51: Költségvetési működési bevételek | B51: =B17 -> 3.8121928e+09 | C51: =C17 -> 3.8875263e+09 | D51: =D17 -> 4.2397058e+09 | E51: =D51-C51 -> 352179430 | F51: Költségvetési működési kiadások | G51: =G17 -> 3494412677 | H51: =H17 -> 3561591273 | I51: =I17 -> 3714688462 | J51: =I51-H51 -> 153097189
A52: Költségvetési felhalmozási bevételek | B52: =B39 -> 2402713123 | C52: =C39 -> 2778897631 | D52: =D39 -> 3631643173 | E52: =D52-C52 -> 852745542 | F52: Költségvetési felhalmozási kiadások | G52: =G39 -> 8254207645 | H52: =H39 -> 8836748958 | I52: =I39 -> 9914576741 | J52: =I52-H52 -> 1077827783
A53: Költségvetési bevételek összesen: | B53: =SUM(B51:B52) -> 6.2149059e+09 | C53: =SUM(C51:C52) -> 6.666424e+09 | D53: =SUM(D51:D52) -> 7.8713489e+09 | E53: =D53-C53 -> 1204924972 | F53: Költségvetési kiadások összesen: | G53: =SUM(G51:G52) -> 11748620322 | H53: =SUM(H51:H52) -> 12398340231 | I53: =SUM(I51:I52) -> 13629265203 | J53: =I53-H53 -> 1230924972
A54: Költségvetési többlet: | F54: Költségvetési hiány / többlet: | G54: =B53-G53 -> -5.5337144e+09 | H54: =C53-H53 -> -5.7319163e+09 | I54: =D53-I53 -> -5.7579163e+09 | J54: =I54-H54 -> -26000000
A55: Költségvetési hiány belső finanszírozása: | B55: =SUM(B56:B57) -> 4089900918 | C55: =SUM(C56:C57) -> 4146748639 | D55: =SUM(D56:D57) -> 4146748639 | E55: =D55-C55 -> 0 | F55: Finanszírozási célú műveletek kiadásai összesen: | G55: =SUM(G56:G57) -> 123837273 | H55: =SUM(H56:H57) -> 123837273 | I55: =SUM(I56:I57) -> 123837273 | J55: =I55-H55 -> 0
A56: Költségvetési hiány belső finanszírozása működési célú | B56: =B19 -> 217143540 | C56: =C19 -> 249143368 | D56: =D19 -> 249143368 | E56: =D56-C56 -> 0 | F56: Finanszírozási célú műveletek működési kiadásai | G56: =G19 -> 49594849 | H56: =H19 -> 49594849 | I56: =I19 -> 49594849 | J56: =I56-H56 -> 0
A57: Költségvetési hiány belső finanszírozása felhalmozási célú | B57: =B41 -> 3872757378 | C57: =C41 -> 3897605271 | D57: =D41 -> 3897605271 | E57: =E41 -> 0 | F57: Finanszírozási célú műveletek felhalmozási kiadásai | G57: =G41 -> 74242424 | H57: =H41 -> 74242424 | I57: =I41 -> 74242424 | J57: =J41 -> 0
A58: Költségvetési hiány külső finanszírozása: | B58: =SUM(B59:B60) -> 1567650796 | C58: =SUM(C59:C60) -> 1709004901 | D58: =SUM(D59:D60) -> 1735004901 | E58: =D58-C58 -> 26000000
A59: Költségvetési hiány külső finanszírozása működési célú | B59: =B21 -> 102083868 | C59: =C21 -> 102083868 | D59: =D21 -> 117083868 | E59: =D59-C59 -> 15000000
A60: Költségvetési hiány külső finanszírozása felhalmozási célú | B60: =B43 -> 1465566928 | C60: =C43 -> 1606921033 | D60: =D43 -> 1617921033 | E60: =D60-C60 -> 11000000
A61: Összes bevétel: | B61: =B53+B55+B58 -> 1.1872458e+10 | C61: =C53+C55+C58 -> 1.2522178e+10 | D61: =D53+D55+D58 -> 1.3753102e+10 | E61: =D61-C61 -> 1230924972 | F61: Összes kiadás: | G61: =G53+G55 -> 11872457595 | H61: =H53+H55 -> 12522177504 | I61: =I53+I55 -> 13753102476 | J61: =I61-H61 -> 1230924972
G62: =B61-G61 -> 0.33333206 | H62: =C61-H61 -> 0.33333206 | I62: =D61-I61 -> 0.33333206 | J62: =E61-J61 -> 0 | K62: =E61-J61 -> 0

Sheet 8a. sz. tábla  (4)
A3: AZ ÖNKORMÁNYZAT MŰKÖDÉSI ÉS FELHALMOZÁSI MÉRLEGE KÖLTSÉGVETÉSI SZERVEK ÉS ÖNKORMÁNYZAT BONTÁSBAN 2019. ÉV
A5: Az Önkormányzat működési bevételei és kiadásai 2019. év
A7: 1. Működési bevételek | B7: Költségve-tési szervek | C7: Önkormányzat | D7: Önkormányzat összesen | E7: 2. Működési kiadások | F7: Költségve-tési szervek | G7: Önkormányzat | H7: Önkormányzat összesen
A8: 1. Működési célú támogatások államháztartáson belülről | B8: ='2.sz.tábla (2)'!H7+'2.sz.tábla (2)'!L7 -> 166647066 | C8: ='2.sz.tábla (2)'!D7 -> 1.4478128e+09 | D8: =SUM(B8:C8) -> 1.6144599e+09 | E8: 1. Személyi juttatások | F8: ='4.sz.tábla '!D11 -> 531171660 | G8: ='4.sz.tábla '!D12 -> 174712087 | H8: =SUM(F8:G8) -> 705883747
A9: 2. Közhatalmi bevételek | B9: ='2.sz.tábla (2)'!H30+'2.sz.tábla (2)'!L30 -> 500000 | C9: ='2.sz.tábla (2)'!D30 -> 1863700000 | D9: =SUM(B9:C9) -> 1864200000 | E9: 2. Munkaadót terhelő járulékok és szoc.hj. Adó | F9: ='4.sz.tábla '!H11 -> 108768520 | G9: ='4.sz.tábla '!H12 -> 32564528 | H9: =SUM(F9:G9) -> 141333048
A10: 3. Működési bevételek | B10: ='2.sz.tábla (2)'!H43+'2.sz.tábla (2)'!L43 -> 77895775 | C10: ='2.sz.tábla (2)'!D43-'8a. sz. tábla (4)'!D34 -> 649249567 | D10: =SUM(B10:C10) -> 727145342 | E10: 3. Dologi kiadások | F10: ='4.sz.tábla '!L11 -> 207491838 | G10: ='4.sz.tábla '!L12 -> 1234264730 | H10: =SUM(F10:G10) -> 1441756568
A11: 4. Működési célú átvett pénzeszközök államháztartáson kivülről | B11: ='2.sz.tábla (2)'!G66+'2.sz.tábla (2)'!L66 -> 75000 | C11: ='2.sz.tábla (2)'!D66 -> 33825559 | D11: =SUM(B11:C11) -> 33900559 | E11: 4. Ellátottak pénzbeli juttatásai | F11: ='4.sz.tábla '!Q11 -> 1596000 | G11: ='4.sz.tábla '!Q12 -> 28100000 | H11: =SUM(F11:G11) -> 29696000
D12: =SUM(B12:C12) -> 0 | E12: 5. Egyéb működési célú kiadások
D13: =SUM(B13:C13) -> 0 | E13: 5.1. Elvonások, befizetések | G13: ='5.tábla (2)'!D140 -> 5379930 | H13: =SUM(F13:G13) -> 5379930
D14: =SUM(B14:C14) -> 0 | E14: 5.2. Egyéb működési célú támogatások áh-n belülre | F14: ='5.tábla (2)'!D27+'4.sz.tábla '!U9 -> 2325380 | G14: ='5.tábla (2)'!D144 -> 510640525 | H14: =SUM(F14:G14) -> 512965905
E15: 5.4. Egyéb működési célú támogatások áh-n kívülre | G15: ='5.tábla (2)'!D149 -> 854871056 | H15: =SUM(F15:G15) -> 854871056
E16: 5.5. Működési célú visszatérítendő támogatások, kölcsönök nyújtása áh-n kívülre | G16: ='5.tábla (2)'!D146 -> 16000000 | H16: =SUM(F16:G16) -> 16000000
E17: 6. Pénzforgalom nélküli kiadások (tartalék) | G17: ='8. sz. tábla (3)'!I16 -> 6802208 | H17: =SUM(F17:G17) -> 6802208
A18: Összes költségvetési működési bevétel: | B18: =SUM(B8:B17) -> 245117841 | C18: =SUM(C8:C17) -> 3.9945879e+09 | D18: =SUM(D8:D17) -> 4.2397058e+09 | E18: Összes költségvetési működési kiadás: | F18: =F8+F9+F10+F11+F12+F17+F14 -> 851353398 | G18: =SUM(G8:G17) -> 2863335064 | H18: =H8+H9+H10+H11+H14+H15+H16+H17+H13 -> 3714688462 | I18: =SUM(F18:G18) -> 3714688462
A19: Működési többlet: | B19: =B18-F18 -> -606235557 | C19: =C18-G18 -> 1.1312529e+09 | D19: =D18-H18 -> 5.250173e+08 | E19: Működési hiány:
A20: Költségvetési hiány belső finanszírozása működési célú | B20: =SUM(B21) -> 27594418 | C20: =SUM(C21) -> 221548950 | D20: =SUM(B20:C20) -> 249143368 | E20: Finanszírozási célú műveletek kiadásai működési célú | F20: =SUM(F21:F21) -> 0 | G20: =SUM(G21:G25) -> 49594849 | H20: =G20-F20 -> 49594849
A21: 5. Költségvetési Maradvány | B21: ='2.sz.tábla (2)'!H77+'2.sz.tábla (2)'!L77 -> 27594418 | C21: ='2.sz.tábla (2)'!D77 -> 221548950 | D21: =SUM(B21:C21) -> 249143368 | E21: 7. Államháztartáson belüli megelőlegezés visszafizetése | G21: ='7. sz. tábla 1'!D217 -> 49594849 | H21: =SUM(F21:G21) -> 49594849
A22: Költségvetési hiány külső finanszírozása működési célú | C22: =SUM(C23:C25) -> 117083868 | D22: =SUM(B22:C22) -> 117083868 | E22: 8. Hitelek törlesztése | H22: =SUM(F22:G22) -> 0
A23: 6. Értékpapír kibocsátás, értékesítés | C23: ='8. sz. tábla (3)'!D22 -> 104283868 | D23: =SUM(B23:C23) -> 104283868 | E23: 9. Betét vásárlás | H23: =SUM(F23:G23) -> 0
A24: 7. Hitelfelvétel | E24: 10. Forgatási célú értékpapír vásárlás | H24: =SUM(F24:G24) -> 0
A25: 8. Állami támogatás megelőlegezés visszafizetése | C25: ='2.sz.tábla (2)'!D90 -> 12800000 | D25: =SUM(B25:C25) -> 12800000
A26: Összes működési bevétel: | B26: =B18+B20+B22 -> 272712259 | C26: =C18+C20+C22 -> 4.3332207e+09 | D26: =D18+D20+D22 -> 4.605933e+09 | E26: Összes működési kiadás | F26: =F18+F20 -> 851353398 | G26: =G18+G20 -> 2912929913 | H26: =H18+H20 -> 3764283311
A28: Az Önkormányzat felhalmozási bevételei és kiadásai 2019. év
A30: 1. Felhalmozási bevételek | B30: Költségve-tési szervek | C30: Önkormányzat | D30: Önkormányzat összesen | E30: 2. Felhalmozási kiadások | F30: Költségve-tési szervek | G30: Önkormányzat | H30: Önkormányzat összesen
A31: 1. Felhalmozási célú támogatások államháztartáson belülről | B31: ='2.sz.tábla (2)'!H22+'2.sz.tábla (2)'!L22 -> 312424 | C31: ='2.sz.tábla (2)'!D22 -> 2786781765 | D31: =SUM(B31:C31) -> 2787094189 | E31: 1.1. Beruházások | G31: ='7. sz. tábla 1'!D142 -> 8755358772 | H31: =SUM(F31:G31) -> 8755358772
A32: 2. Felhalmozási bev. | B32: ='2.sz.tábla (2)'!G58+'2.sz.tábla (2)'!K58 -> 0 | C32: ='2.sz.tábla (2)'!D58 -> 100788400 | D32: =SUM(B32:C32) -> 100788400 | E32: 1.2. Int.saját hatáskörű fejlesztések | F32: ='4.sz.tábla '!Y11 -> 26286628 | H32: =SUM(F32:G32) -> 26286628
A33: 3. Felhalmozási célú átvett pénzeszközök | B33: ='2.sz.tábla (2)'!G70+'2.sz.tábla (2)'!K70 -> 0 | C33: ='2.sz.tábla (2)'!D70 -> 616312431 | D33: =SUM(B33:C33) -> 616312431 | E33: 2. Felújítások | G33: ='7. sz. tábla 1'!D223 -> 90593955 | H33: =SUM(F33:G33) -> 90593955
A34: 4. Működési bevételek áfa visszatérülés (felhalm.) | C34: ='8. sz. tábla (3)'!D33 -> 127448153 | D34: =SUM(B34:C34) -> 127448153 | E34: 3. Egyéb felhalmozási kiadások
E35: 3.1. Egyéb felhalmozási célú támogatások áh-n kívülre | G35: ='7. sz. tábla 1'!D162 -> 197028543 | H35: =SUM(F35:G35) -> 197028543
E36: 3.2. Egyéb felhalmozási célú támogatások áh-n belülre | G36: ='7. sz. tábla 1'!D152 -> 625762424 | H36: =SUM(F36:G36) -> 625762424
E37: 3.3. Felhalmozási célú visszatérítendő támogatások, kölcsönök nyújtása áh-n belülre | G37: ='7. sz. tábla 1'!D151 -> 0 | H37: =SUM(F37:G37) -> 0
E38: 3.4. Felhalmozási célú visszatérítendő támogatások, kölcsönök nyújtása áh-n kívülre | G38: ='7. sz. tábla 1'!D145 -> 176191061 | H38: =SUM(F38:G38) -> 176191061
E39: 4. Pénzforgalom nélküli kiadások (tartalék) | G39: ='8. sz. tábla (3)'!I38 -> 43355358 | H39: =SUM(F39:G39) -> 43355358
A40: Összes költségvetési felhalmozási bevétel: | B40: =SUM(B31:B37) -> 312424 | C40: =SUM(C31:C37) -> 3631330749 | D40: =SUM(D31:D37) -> 3631643173 | E40: Összes költségvetési felhalmozási kiadás: | F40: =SUM(F31:F34) -> 26286628 | G40: =SUM(G31:G39) -> 9888290113 | H40: =H31+H32+H33+H35+H36+H37+H38+H39 -> 9914576741 | I40: =SUM(F40:G40) -> 9914576741
A41: Felhalmozási többlet: | E41: Felhalmozási hiány: | F41: =B40-F40 -> -25974204 | G41: =C40-G40 -> -6256959364 | H41: =D40-H40 -> -6282933568
A42: Költségvetési hiány belső finanszírozása felhalmozási célú | B42: =SUM(B43) -> 10455628 | C42: =SUM(C43) -> 3887149643 | D42: =SUM(D43) -> 3897605271 | E42: Finanszírozási célú műveletek kiadásai felhalmozási célú | F42: =SUM(F43:F44) -> 0 | G42: =SUM(G43:G44) -> 74242424 | H42: =SUM(H43:H45) -> 74242424
A43: 4.Költségvetési maradvány | B43: ='2.sz.tábla (2)'!H78+'2.sz.tábla (2)'!L78 -> 10455628 | C43: ='2.sz.tábla (2)'!D78 -> 3887149643 | D43: =SUM(B43:C43) -> 3897605271 | E43: 4. Értékpapírok visszavásárlása | G43: ='7. sz. tábla 1'!E216 -> 0 | H43: =SUM(F43:G43) -> 0
A44: Költségvetési hiány külső finanszírozása felhalmozási célú | B44: =SUM(B45:B46) -> 0 | C44: =SUM(C45:C46) -> 1617921033 | D44: =SUM(D45:D46) -> 1617921033 | E44: 5. Hitelek törlesztése | G44: ='7. sz. tábla 1'!D215 -> 74242424 | H44: =SUM(F44:G44) -> 74242424
A45: 5. Értékpapír kibocsátás, értékesítés | C45: ='2.sz.tábla (2)'!D85-'8a. sz. tábla (4)'!D23 -> 1617921033 | D45: =SUM(B45:C45) -> 1617921033 | E45: 6. Államháztartáson belüli megelőlegezés visszafizetése
A46: 6. Hitelfelvétel
A47: Összes felhalmozási bevétel: | B47: =B40+B42+B44 -> 10768052 | C47: =C40+C42+C44 -> 9136401425 | D47: =D40+D42+D44 -> 9147169477 | E47: Összes felhalmozási kiadás | F47: =F40+F42 -> 26286628 | G47: =G40+G42 -> 9962532537 | H47: =H40+H42 -> 9988819165
A49: Bevétele és kiadások mérlege 2019. év
A51: BEVÉTELEK | B51: Költségve-tési szervek | C51: Önkormányzat | D51: Önkormányzat összesen | E51: KIADÁSOK | F51: Költségve-tési szervek | G51: Önkormányzat | H51: Önkormányzat összesen
A52: Költségvetési működési bevételek | B52: =B18 -> 245117841 | C52: =C18 -> 3.9945879e+09 | D52: =D18 -> 4.2397058e+09 | E52: Költségvetési működési kiadások | F52: =F18 -> 851353398 | G52: =G18 -> 2863335064 | H52: =H18 -> 3714688462 | I52: =SUM(F52:G52) -> 3714688462
A53: Költségvetési felhalmozási bevételek | B53: =B40 -> 312424 | C53: =C40 -> 3631330749 | D53: =D40 -> 3631643173 | E53: Költségvetési felhalmozási kiadások | F53: =F40 -> 26286628 | G53: =G40 -> 9888290113 | H53: =H40 -> 9914576741 | I53: =SUM(F53:G53) -> 9914576741
A54: Költségvetési bevételek összesen: | B54: =SUM(B52:B53) -> 245430265 | C54: =SUM(C52:C53) -> 7.6259187e+09 | D54: =SUM(D52:D53) -> 7.8713489e+09 | E54: Költségvetési kiadások összesen: | F54: =SUM(F52:F53) -> 877640026 | G54: =SUM(G52:G53) -> 12751625177 | H54: =SUM(H52:H53) -> 13629265203 | I54: =SUM(F54:G54) -> 13629265203
A55: Költségvetési többlet: | E55: Költségvetési hiány: | F55: =B54-F54 -> -632209761 | G55: =C54-G54 -> -5.1257065e+09 | H55: =D54-H54 -> -5.7579163e+09 | I55: =SUM(F55:G55) -> -5.7579163e+09
A56: Költségvetési hiány belső finanszírozása: | B56: =SUM(B57:B58) -> 38050046 | C56: =SUM(C57:C58) -> 4108698593 | D56: =SUM(D57:D58) -> 4146748639 | E56: Finanszírozási célú műveletek kiadásai összesen: | F56: =SUM(F57:F58) -> 0 | G56: =SUM(G57:G58) -> 123837273 | H56: =SUM(H57:H58) -> 123837273 | I56: =SUM(F56:G56) -> 123837273
A57: Költségvetési hiány belső finanszírozása működési célú | B57: =B20 -> 27594418 | C57: =C20 -> 221548950 | D57: =D20 -> 249143368 | E57: Finanszírozási célú műveletek működési kiadásai | F57: =F20 -> 0 | G57: =G20 -> 49594849 | H57: =H20 -> 49594849 | I57: =SUM(F57:G57) -> 49594849
A58: Költségvetési hiány belső finanszírozása felhalmozási célú | B58: =B42 -> 10455628 | C58: =C42 -> 3887149643 | D58: =D42 -> 3897605271 | E58: Finanszírozási célú műveletek felhalmozási kiadásai | F58: =F42 -> 0 | G58: =G42 -> 74242424 | H58: =H42 -> 74242424 | I58: =SUM(F58:G58) -> 74242424
A59: Költségvetési hiány külső finanszírozása: | B59: =SUM(B60:B61) -> 0 | C59: =SUM(C60:C61) -> 1735004901 | D59: =SUM(D60:D61) -> 1735004901 | I59: =SUM(F59:G59) -> 0
A60: Költségvetési hiány külső finanszírozása működési célú | B60: =B22 -> 0 | C60: =C22 -> 117083868 | D60: =D22 -> 117083868 | I60: =SUM(F60:G60) -> 0
A61: Költségvetési hiány külső finanszírozása felhalmozási célú | B61: =B44 -> 0 | C61: =C44 -> 1617921033 | D61: =D44 -> 1617921033
A62: Összes bevétel: | B62: =B54+B56+B59 -> 283480311 | C62: =C54+C56+C59 -> 1.3469622e+10 | D62: =D54+D56+D59 -> 1.3753102e+10 | E62: Összes kiadás: | F62: =F54+F56 -> 877640026 | G62: =G54+G56 -> 12875462450 | H62: =H54+H56 -> 13753102476
A63: Intézményfinanszírozás | B63: =B62-F62 -> -594159715 | C63: =C62-G62 -> 5.9415972e+08 | D63: =D62-H62 -> 0.33333206 | H63: =F62+G62 -> 13753102476
D64: =SUM(B62:C62) -> 1.3753102e+10 | H64: ='8. sz. tábla (3)'!H61-'8a. sz. tábla (4)'!H62 -> -1230924972
D66: ='8. sz. tábla (3)'!C61-'8a. sz. tábla (4)'!D62 -> -1230924972

Sheet 9. sz. tábla (2)
A1: Az önkormányzat működési bevételei és kiadásai, a felhalmozási bevételei és kiadásai kiemelt előirányzatok, és kötelező feladatok, önként vállalt feladatok és államigazgatási feladatok bontásban 2019. év
A5: Az Önkormányzat kötelező feladatok bevételei és kiadásai 2019. év
A7: 1. Működési bevételek | B7: Intézmények | C7: Önkormányzati Hivatal | D7: Önkormányzat | E7: Önkormányzat összesen | F7: 2. Működési kiadások | G7: Intézmények | H7: Önkormányzati Hivatal | I7: Önkormányzat | J7: Önkormányzat összesen
A8: Működési bevételek | F8: Működési kiadások
A9: 1. Működési támogatások államháztartáson belülről | B9: ='3.sz. tábla (2)'!D12+'2.a tábla ÚJ '!P12-'9. sz. tábla (2)'!B39 -> 1.4115403e+08 | C9: ='3.sz. tábla (2)'!D13+'2.a tábla ÚJ '!U13-'9. sz. tábla (2)'!C72 -> 1.7633118e+08 | D9: ='3.sz. tábla (2)'!D15-'2c. tábla 2019. (2)'!M130-'2c. tábla 2019. (2)'!M131-'2c. tábla 2019. (2)'!M132+'2.sz.tábla (2)'!D20-D39 -> 9.2796358e+08 | E9: =SUM(B9:D9) -> 1.2454488e+09 | F9: 1. Személyi juttatások | G9: ='4.sz.tábla '!D9-'9. sz. tábla (2)'!G39 -> 157080545 | H9: ='5.tábla (2)'!D7-'9. sz. tábla (2)'!H39-'9. sz. tábla (2)'!H72 -> 254854730 | I9: ='4.sz.tábla '!D12-'9. sz. tábla (2)'!I39 -> 60257251 | J9: =SUM(G9:I9) -> 472192526 | K9: =I9+I39 -> 174712087
A10: 2. Közhatalmi bevételek | C10: ='2.a tábla ÚJ '!U17-'9. sz. tábla (2)'!C73 -> 0 | D10: ='2.sz.tábla (2)'!D30 -> 1863700000 | E10: =SUM(B10:D10) -> 1863700000 | F10: 2. Munkaadót terhelő járulékok | G10: ='4.sz.tábla '!H9-'9. sz. tábla (2)'!G40 -> 29171583 | H10: ='5.tábla (2)'!D12-'9. sz. tábla (2)'!H40-'9. sz. tábla (2)'!H73 -> 54793932 | I10: ='4.sz.tábla '!H12-'9. sz. tábla (2)'!I40 -> 8771304 | J10: =SUM(G10:I10) -> 92736819 | K10: =I10+I40 -> 32564528
A11: 3. Működési bevételek | B11: ='2.a tábla ÚJ '!P21-'9. sz. tábla (2)'!B41 -> 21906751 | C11: ='2.a tábla ÚJ '!U21-'9. sz. tábla (2)'!C74 -> 28220024 | D11: ='2.sz.tábla (2)'!D43-'9. sz. tábla (2)'!D41-'9. sz. tábla (2)'!D56-'9. sz. tábla (2)'!D26 -> 114670700 | E11: =SUM(B11:D11) -> 164797475 | F11: 3. Dologi kiadások | G11: ='4.sz.tábla '!L9-'9. sz. tábla (2)'!G41 -> 70846488 | H11: ='5.tábla (2)'!D17-'9. sz. tábla (2)'!H41-'9. sz. tábla (2)'!H74 -> 64589496 | I11: ='4.sz.tábla '!L12-'9. sz. tábla (2)'!I41 -> 678147993 | J11: =SUM(G11:I11) -> 813583977 | K11: =I11+I41 -> 1234264730
A12: 4. Működési célú átvett pénzeszközök államháztartáson kivülről | B12: ='2.a tábla ÚJ '!O40-'9. sz. tábla (2)'!B42 -> 0 | D12: ='2.sz.tábla (2)'!D66-'9. sz. tábla (2)'!D42 -> 0 | E12: =SUM(B12:D12) -> 0 | F12: 4. Ellátottak pénzbeli juttatásai | H12: ='4.sz.tábla '!Q10 -> 1596000 | I12: ='4.sz.tábla '!Q12-'9. sz. tábla (2)'!I42 -> 28100000 | J12: =SUM(G12:I12) -> 29696000 | K12: =I12+I42 -> 28100000
F13: 5. Egyéb működési célú kiadások | J13: =SUM(G13:I13) -> 0 | K13: =I13+I43 -> 0
F14: 5.1. Elvonások, befizetések | I14: ='5.tábla (2)'!D140 -> 5379930 | J14: =SUM(G14:I14) -> 5379930 | K14: =I14+I44 -> 5379930
F15: 5.2. Egyéb működési célú támogatások áh-n belülre | G15: ='4.sz.tábla '!U9 -> 6712 | H15: ='5.tábla (2)'!D27-'9. sz. tábla (2)'!H78 -> 1845892 | I15: ='5.tábla (2)'!D144-'9. sz. tábla (2)'!I45 -> 488318155 | J15: =SUM(G15:I15) -> 490170759 | K15: =I15+I45 -> 510640525
F16: 5.4. Egyéb működési célú támogatások áh-n kívülre | I16: ='5.tábla (2)'!D149-'9. sz. tábla (2)'!I46 -> 255980817 | J16: =SUM(G16:I16) -> 255980817 | K16: =I16+I46 -> 854871056
F17: 5.5. Működési célú visszatérítendő támogatások, kölcsönök nyújtása áh-n kívülre | I17: ='5.tábla (2)'!D146-I47 -> 0 | J17: =SUM(G17:I17) -> 0 | K17: =I17+I47 -> 16000000
F18: 6. Pénzforgalom nélküli kiadások (tartalék) | I18: ='8a. sz. tábla (4)'!H17 -> 6802208 | J18: =SUM(G18:I18) -> 6802208 | K18: =I18+I48 -> 6802208
A19: Költségvetési működési bevételek kötelező feladatok szerinti bontásban | B19: =SUM(B9:B18) -> 1.6306078e+08 | C19: =SUM(C9:C18) -> 2.0455121e+08 | D19: =SUM(D9:D18) -> 2.9063343e+09 | E19: =SUM(E9:E18) -> 3.2739463e+09 | F19: Költségvetési működési kiadások kötelező feladatok szerinti bontásban | G19: =SUM(G9:G18) -> 257105328 | H19: =SUM(H9:H18) -> 377680050 | I19: =SUM(I9:I18) -> 1531757658 | J19: =SUM(J9:J18) -> 2166543036 | K19: =I19+I49 -> 2863335064
A20: Finanszírozási bevételek | B20: ='2.a tábla ÚJ '!P47-'9. sz. tábla (2)'!B50 -> 13083041 | C20: ='2.a tábla ÚJ '!U47-'9. sz. tábla (2)'!C83 -> 11266633 | D20: ='2.sz.tábla (2)'!D77+'2.sz.tábla (2)'!D90+104283868-'9. sz. tábla (2)'!D50 -> 96890113 | E20: =SUM(B20:D20) -> 121239787 | F20: Finanszírozási kiadások | I20: ='8a. sz. tábla (4)'!G21 -> 49594849 | J20: =SUM(G20:I20) -> 49594849 | K20: =I20+I50+I32 -> 123837273
A21: Működési bevételek kiemelt előirányzatonként kötelező feladatok szerinti bontásban | B21: =B19+B20 -> 1.7614382e+08 | C21: =C19+C20 -> 2.1581784e+08 | D21: =D19+D20 -> 3.0032244e+09 | E21: =E19+E20 -> 3.3951861e+09 | F21: Működési kiadások kiemelt előirányzatonként kötelező feladatok szerinti bontásban | G21: =G19+G20 -> 257105328 | H21: =H19+H20 -> 377680050 | I21: =I19+I20 -> 1581352507 | J21: =J19+J20 -> 2216137885
A22: Felhalmozási bevételek | F22: Felhalmozási kiadások
A23: 1. Felhalmozási célú támogatások államháztartáson belülről | B23: ='2.sz.tábla (2)'!L22-'9. sz. tábla (2)'!B53 -> 12424 | D23: ='2.sz.tábla (2)'!D22-'9. sz. tábla (2)'!D53 -> 1115458680 | E23: =SUM(B23:D23) -> 1115471104 | F23: 1.1. Beruházások | I23: ='7. sz. tábla 1'!D142-'9. sz. tábla (2)'!I53 -> 3464242155 | J23: =SUM(G23:I23) -> 3464242155 | K23: =I23+I53 -> 8755358772
A24: 2. Felhalmozási bevételek | B24: ='[6]2.a tábla ÚJ '!M34-'9. sz. tábla (2)'!B54 -> 0 | D24: ='2.sz.tábla (2)'!D58-'9. sz. tábla (2)'!D54 -> 31500000 | E24: =SUM(B24:D24) -> 31500000 | F24: 1.2. Int.saját hatáskörű fejlesztések | G24: ='4.sz.tábla '!Y9-'9. sz. tábla (2)'!G54 -> 7002557 | H24: ='5.tábla (2)'!D29-'9. sz. tábla (2)'!H87 -> 14110349 | J24: =SUM(G24:I24) -> 21112906 | K24: =I24+I54 -> 0
A25: 3. Felhalmozási célú átvett pénzeszközök áh-n kívülről | B25: ='[6]2.a tábla ÚJ '!M42-'9. sz. tábla (2)'!B88 -> 0 | D25: ='2.sz.tábla (2)'!D70-'9. sz. tábla (2)'!D55 -> 112677437 | E25: =SUM(B25:D25) -> 112677437 | F25: 2. Felújítások | I25: ='7. sz. tábla 1'!D223-'9. sz. tábla (2)'!I55 -> 79434428 | J25: =SUM(G25:I25) -> 79434428 | K25: =I25+I55 -> 90593955
A26: 4. Működési bevételek áfa visszatérülés (felhalm.) | D26: ='2.sz.tábla (2)'!D53-'9. sz. tábla (2)'!D56 -> 68209288 | E26: =SUM(B26:D26) -> 68209288 | F26: 3. Egyéb felhalmozási célú kiadások | J26: =SUM(G26:I26) -> 0 | K26: =I26+I56 -> 0
F27: 3.1. Egyéb felhalmozási célú pénzeszköz átadás áh-n kívülre | I27: ='7. sz. tábla 1'!D162-'9. sz. tábla (2)'!I57 -> 6390667 | J27: =SUM(G27:I27) -> 6390667 | K27: =I27+I57 -> 197028543
F28: 3.2. Egyéb felhalmozási célú pénzeszköz átadás áh-n belülre | I28: ='7. sz. tábla 1'!D152-'9. sz. tábla (2)'!I58 -> 8362424 | J28: =SUM(G28:I28) -> 8362424 | K28: =I28+I58 -> 625762424
F29: 3.4. Felhalmozási célú visszatérítendő támogatások, kölcsönök nyújtása áh-n kívülre | I29: ='7. sz. tábla 1'!D145-'9. sz. tábla (2)'!I60 -> 0 | J29: =SUM(G29:I29) -> 0 | K29: =I29+I60 -> 176191061
F30: 4. Pénzforgalom nélküli kiadások (tartalék) | I30: ='8a. sz. tábla (4)'!G39 -> 43355358 | J30: =SUM(G30:I30) -> 43355358 | K30: =I30 -> 43355358
A31: Költségvetési felhalmozási bevételek kötelező feladatok szerinti bontásban | B31: =SUM(B23:B29) -> 12424 | C31: =SUM(C23:C29) -> 0 | D31: =SUM(D23:D29) -> 1327845405 | E31: =SUM(E23:E29) -> 1327857829 | F31: Költségvetési felhalmozási kiadások kötelező feladatok szerinti bontásban | G31: =SUM(G23:G29) -> 7002557 | H31: =SUM(H23:H29) -> 14110349 | I31: =SUM(I23:I30) -> 3601785032 | J31: =SUM(J23:J30) -> 3622897938 | K31: =SUM(K23:K30) -> 9888290113
A32: Finanszírozási bevételek | B32: ='2.a tábla ÚJ '!P48-'9. sz. tábla (2)'!B62 -> 1281557 | C32: ='2.a tábla ÚJ '!U48-'9. sz. tábla (2)'!C91 -> 7122749 | D32: ='2.sz.tábla (2)'!D78+1617921033-'9. sz. tábla (2)'!D62 -> 1849791428 | E32: =SUM(B32:D32) -> 1858195734 | F32: Finanszírozási kiadások | I32: ='[6]7. sz. tábla 1'!D246-I62 -> 74242424 | J32: =SUM(G32:I32) -> 74242424
A33: Felhalmozási bevételek kiemelt előirányzatonként kötelező feladatok szerinti bontásban | B33: =B31+B32 -> 1293981 | C33: =C31+C32 -> 7122749 | D33: =D31+D32 -> 3177636833 | E33: =E31+E32 -> 3186053563 | F33: Felhalmozási kiadások kiemelt előirányzatonként kötelező feladatok szerinti bontásban | G33: =G31+G32 -> 7002557 | H33: =H31+H32 -> 14110349 | I33: =I31+I32 -> 3676027456 | J33: =J31+J32 -> 3697140362
B34: =B33+B21 -> 1.7743781e+08 | C34: =C33+C21 -> 2.2294059e+08 | D34: =D33+D21 -> 6.1808612e+09 | E34: =E33+E21 -> 6.5812396e+09 | G34: =G33+G21 -> 264107885 | H34: =H33+H21 -> 391790399 | I34: =I33+I21 -> 5257379963 | J34: =J33+J21 -> 5913278247
A35: Az Önkormányzat önként vállalt feladatok bevételei és kiadásai 2019. év
A37: 1. Működési bevételek | B37: Intézmények | C37: Önkormányzati Hivatal | D37: Önkormányzat | E37: Önkormányzat összesen | F37: 2. Működési kiadások | G37: Intézmények | H37: Önkormányzati Hivatal | I37: Önkormányzat | J37: Önkormányzat összesen
A38: Működési bevételek | F38: Működési kiadások
A39: 1. Működési támogatások államháztartáson belülről | B39: =55393000+1000000+175665+86386+85659 -> 56740710 | D39: 266010144 | E39: =SUM(B39:D39) -> 322750854 | F39: 1. Személyi juttatások | G39: =41049667+3066096 -> 44115763 | H39: =1845600+2297872+1100336 -> 5243808 | I39: 114454836 | J39: =SUM(G39:I39) -> 163814407
A40: 2. Közhatalmi bevételek | E40: =SUM(B40:D40) -> 0 | F40: 2. Munkaadót terhelő járulékok | G40: =8194838+611829 -> 8806667 | H40: =359892+402128+182364 -> 944384 | I40: 23793224 | J40: =SUM(G40:I40) -> 33544275
A41: 3. Működési bevételek | B41: =22769000 -> 22769000 | D41: =593817732-D56 -> 498308783 | E41: =SUM(B41:D41) -> 521077783 | F41: 3. Dologi kiadások | G41: =52772955+1075000-600000 -> 53247955 | I41: 556116737 | J41: =SUM(G41:I41) -> 609364692
A42: 4. Működési célú átvett pénzeszközök államháztartáson kivülről | B42: 75000 | D42: =26625559+5900000+1300000 -> 33825559 | E42: =SUM(B42:D42) -> 33900559 | F42: 4. Ellátottak pénzbeli juttatásai | J42: =SUM(G42:I42) -> 0
E43: =SUM(B43:D43) -> 0 | F43: 5. Egyéb működési célú kiadások | J43: =SUM(G43:I43) -> 0
F44: 5.1. Elvonások, befizetések | J44: =SUM(G44:I44) -> 0
F45: 5.2. Egyéb működési célú támogatások áh-n belülre | I45: 22322370 | J45: =SUM(G45:I45) -> 22322370
F46: 5.4. Egyéb működési célú támogatások áh-n kívülre | I46: 598890239 | J46: =SUM(G46:I46) -> 598890239
F47: 5.5. Működési célú visszatérítendő támogatások, kölcsönök nyújtása áh-n kívülre | I47: 16000000 | J47: =SUM(G47:I47) -> 16000000
F48: 6. Pénzforgalom nélküli kiadások (tartalék)
A49: Költségvetési működési bevételek önként vállalt feladatok szerinti bontásban | B49: =SUM(B39:B48) -> 79584710 | C49: =SUM(C39:C48) -> 0 | D49: =SUM(D39:D48) -> 798144486 | E49: =SUM(E39:E48) -> 877729196 | F49: Költségvetési működési kiadások önként vállalt feladatok szerinti bontásban | G49: =SUM(G39:G48) -> 106170385 | H49: =SUM(H39:H48) -> 6188192 | I49: =SUM(I39:I48) -> 1331577406 | J49: =SUM(J39:J48) -> 1443935983
A50: Finanszírozási bevételek | D50: =197101571+44641134 -> 241742705 | E50: =SUM(B50:D50) -> 241742705 | F50: Finanszírozási kiadások | I50: ='[6]8a. sz. tábla (4)'!G43 -> 0 | J50: =SUM(G50:I50) -> 0
A51: Működési bevételek kiemelt előirányzatonként önként vállalt feladatok szerinti bontásban | B51: =B49+B50 -> 79584710 | C51: =C49+C50 -> 0 | D51: =D49+D50 -> 1039887191 | E51: =E49+E50 -> 1119471901 | F51: Működési kiadások kiemelt előirányzatonként önként vállalt feladatok szerinti bontásban | G51: =G49+G50 -> 106170385 | H51: =H49+H50 -> 6188192 | I51: =I49+I50 -> 1331577406 | J51: =J49+J50 -> 1443935983
A52: Felhalmozási bevételek | F52: Felhalmozási kiadások
A53: 1. Felhalmozási célú támogatások államháztartáson belülről | B53: 300000 | D53: 1671323085 | E53: =SUM(B53:D53) -> 1671623085 | F53: 1.1. Beruházások | I53: 5291116617 | J53: =SUM(G53:I53) -> 5291116617
A54: 2. Felhalmozási bevételek | D54: 69288400 | E54: =SUM(B54:D54) -> 69288400 | F54: 1.2. Int.saját hatáskörű fejlesztések | G54: =200000+200000+710000 -> 1110000 | J54: =SUM(G54:I54) -> 1110000
A55: 3. Felhalmozási célú átvett pénzeszközök áh-n kívülről | D55: =353634994+150000000 -> 503634994 | E55: =SUM(B55:D55) -> 503634994 | F55: 2. Felújítások | I55: 11159527 | J55: =SUM(G55:I55) -> 11159527
A56: 4. Működési bevételek áfa visszatérülés (felhalm.) | D56: 95508949 | E56: =SUM(B56:D56) -> 95508949 | F56: 3. Egyéb felhalmozási célú kiadások | J56: =SUM(G56:I56) -> 0
F57: 3.1. Egyéb felhalmozási célú pénzeszköz átadás áh-n kívülre | I57: 190637876 | J57: =SUM(G57:I57) -> 190637876
F58: 3.2. Egyéb felhalmozási célú pénzeszköz átadás áh-n belülre | I58: 617400000 | J58: =SUM(G58:I58) -> 617400000
F59: 3.3. Felhalmozási célú visszatérítendő támogatások, kölcsönök nyújtása áh-n belülre | I59: 0 | J59: =SUM(G59:I59) -> 0
F60: 3.4. Felhalmozási célú visszatérítendő támogatások, kölcsönök nyújtása áh-n kívülre | I60: 176191061 | J60: =SUM(G60:I60) -> 176191061
A61: Költségvetési felhalmozási bevételek önként vállalt feladatok szerinti bontásban | B61: =SUM(B53:B59) -> 300000 | C61: =SUM(C53:C59) -> 0 | D61: =SUM(D53:D59) -> 2339755428 | E61: =SUM(E53:E59) -> 2340055428 | F61: Költségvetési felhalmozási kiadások önként vállalt feladatok szerinti bontásban | G61: =SUM(G53:G59) -> 1110000 | H61: =SUM(H53:H59) -> 0 | I61: =SUM(I53:I60) -> 6286505081 | J61: =SUM(J53:J60) -> 6287615081
A62: Finanszírozási bevételek | D62: =3265526760+389752488 -> 3655279248 | E62: =SUM(B62:D62) -> 3655279248 | F62: Finanszírozási kiadások | I62: 0 | J62: =SUM(G62:I62) -> 0
A64: Felhalmozási bevételek kiemelt előirányzatonként önként vállalt feladatok szerinti bontásban | B64: =B61+B62 -> 300000 | C64: =C61+C62 -> 0 | D64: =D61+D62 -> 5995034676 | E64: =E61+E62 -> 5995334676 | F64: Felhalmozási kiadások kiemelt előirányzatonként önként vállalt feladatok szerinti bontásban | G64: =G61+G62 -> 1110000 | H64: =H61+H62 -> 0 | I64: =I61+I62 -> 6286505081 | J64: =J61+J62 -> 6287615081
B65: =B64+B51 -> 79884710 | C65: =C64+C51 -> 0 | D65: =D64+D51 -> 7034921867 | E65: =E64+E51 -> 7114806577 | G65: =G64+G51 -> 107280385 | H65: =H64+H51 -> 6188192 | I65: =I64+I51 -> 7618082487 | J65: =J64+J51 -> 7731551064
A68: Az Önkormányzat államigazgatási feladatok bevételei és kiadásai 2019. év
A70: 1. Működési bevételek | B70: Intézmények | C70: Önkormányzati Hivatal | D70: Önkormányzat | E70: Önkormányzat összesen | F70: 2. Működési kiadások | G70: Intézmények | H70: Önkormányzati Hivatal | I70: Önkormányzat | J70: Önkormányzat összesen
A71: Működési bevételek | F71: Működési kiadások
A72: 1. Működési támogatások államháztartáson belülről | C72: =(158635578+117825+44668+5093000)*0.2236+20808822*0.2039+26342601*0.2039 -> 46260219 | E72: =SUM(B72:D72) -> 46260219 | F72: 1. Személyi juttatások | H72: 69876814 | J72: =SUM(G72:I72) -> 69876814
A73: 2. Közhatalmi bevételek | C73: 500000 | E73: =SUM(B73:D73) -> 500000 | F73: 2. Munkaadót terhelő járulékok | H73: 15051954 | J73: =SUM(G73:I73) -> 15051954
A74: 3. Működési bevételek | B74: 0 | C74: 5000000 | E74: =SUM(B74:D74) -> 5000000 | F74: 3. Dologi kiadások | H74: 18807899 | J74: =SUM(G74:I74) -> 18807899
A75: 4. Működési célú átvett pénzeszközök államháztartáson kivülről | F75: 4. Ellátottak pénzbeli juttatásai | J75: =SUM(G75:I75) -> 0
F76: 5. Egyéb működési célú kiadások | J76: =SUM(G76:I76) -> 0
F77: 5.1. Elvonások, befizetések | J77: =SUM(G77:I77) -> 0
F78: 5.2. Egyéb működési célú támogatások áh-n belülre | H78: 472776 | J78: =SUM(G78:I78) -> 472776
F79: 5.4. Egyéb működési célú támogatások áh-n kívülre
F80: 5.5. Működési célú visszatérítendő támogatások, kölcsönök nyújtása áh-n kívülre
F81: 6. Pénzforgalom nélküli kiadások (tartalék)
A82: Költségvetési működési bevételek állami (államigazgatási) feladatok szerinti bontásban | B82: =SUM(B72:B81) -> 0 | C82: =SUM(C72:C81) -> 51760219 | D82: =SUM(D72:D81) -> 0 | E82: =SUM(E72:E81) -> 51760219 | F82: Költségvetési működési kiadások állami (államigazgatási) feladatok szerinti bontásban | G82: =SUM(G72:G81) -> 0 | H82: =SUM(H72:H81) -> 104209443 | I82: =SUM(I72:I81) -> 0 | J82: =SUM(J72:J81) -> 104209443
A83: Finanszírozási bevételek | C83: 3244744 | E83: =SUM(B83:D83) -> 3244744 | F83: Finanszírozási kiadások
A84: Működési bevételek kiemelt előirányzatonként állami (államigazgatási) feladatok szerinti bontásban | B84: =B82+B83 -> 0 | C84: =C82+C83 -> 55004963 | D84: =D82+D83 -> 0 | E84: =E82+E83 -> 55004963 | F84: Működési kiadások kiemelt előirányzatonként állami (államigazgatási) feladatok szerinti bontásban | G84: =G82+G83 -> 0 | H84: =H82+H83 -> 104209443 | I84: =I82+I83 -> 0 | J84: =J82+J83 -> 104209443
A85: Felhalmozási bevételek | F85: Felhalmozási kiadások
A86: 1. Felhalmozási célú támogatások államháztartáson belülről | F86: 1.1. Beruházások | J86: =SUM(G86:I86) -> 0
A87: 2. Felhalmozási bevételek | F87: 1.2. Int.saját hatáskörű fejlesztések | H87: 4063722 | J87: =SUM(G87:I87) -> 4063722
A88: 3. Felhalmozási célú átvett pénzeszközök áh-n kívülről | F88: 2. Felújítások | J88: =SUM(G88:I88) -> 0
F89: 3. Egyéb felhalmozási célú kiadások | J89: =SUM(G89:I89) -> 0
A90: Költségvetési felhalmozási bevételek önként vállalt feladatok szerinti bontásban | B90: =SUM(B86:B88) -> 0 | C90: =SUM(C86:C88) -> 0 | D90: =SUM(D86:D88) -> 0 | E90: =SUM(E86:E88) -> 0 | F90: 3.1. Egyéb felhalmozási célú pénzeszköz átadás áh-n kívülre | J90: =SUM(G90:I90) -> 0
A91: Finanszírozási bevételek | C91: 2051322 | E91: =SUM(B91:D91) -> 2051322 | F91: 3.2. Egyéb felhalmozási célú pénzeszköz átadás áh-n belülre | J91: =SUM(G91:I91) -> 0
F92: 3.3. Felhalmozási célú visszatérítendő támogatások, kölcsönök nyújtása áh-n kívülre
A93: Felhalmozási bevételek kiemelt előirányzatonként állami (államigazgatási) feladatok szerinti bontásban | B93: =SUM(B86:B92) -> 0 | C93: =SUM(C86:C92) -> 2051322 | D93: =SUM(D86:D92) -> 0 | E93: =SUM(E86:E92) -> 2051322 | F93: Felhalmozási kiadások kiemelt előirányzatonként állami (államigazgatási) feladatok szerinti bontásban | G93: =SUM(G86:G92) -> 0 | H93: =SUM(H86:H92) -> 4063722 | I93: =SUM(I86:I92) -> 0 | J93: =SUM(J86:J92) -> 4063722
