Workbook
Name onev: [1]kod!$BT$34:$BT$3186
Name onev: [1]kod!$BT$34:$BT$3186
Name onev: [2]kod!$BT$34:$BT$3186

Sheet 1.sz.tábla   (2)
A1: AZ ÖNKORMÁNYZAT 2019. ÉVI KÖLTSÉGVETÉSÉNEK FŐÖSSZESÍTŐJE
A5: MEGNEVEZÉS | B5: 2019. évi eredeti ei. | C5: 2019. évi módosított ei. II. | D5: 2019. évi módosított ei. III. | E5: Eltérés
A6: I. Működési célú támogatások államháztartáson belülről | B6: ='2.sz.tábla (2)'!N7 -> 1.4582899e+09 | C6: ='2.sz.tábla (2)'!O7 -> 1.5133249e+09 | D6: ='2.sz.tábla (2)'!P7 -> 1.6144599e+09 | E6: =D6-C6 -> 101134979
A7: II. Felhalmozási célú támogatások államháztartáson belülről | B7: ='2.sz.tábla (2)'!N22 -> 1504479834 | C7: ='2.sz.tábla (2)'!O22 -> 1696173273 | D7: ='2.sz.tábla (2)'!P22 -> 2787094189 | E7: =D7-C7 -> 1090920916
A8: III. Közhatalmi bevételek | B8: ='2.sz.tábla (2)'!N30 -> 1864200000 | C8: ='2.sz.tábla (2)'!O30 -> 1864200000 | D8: ='2.sz.tábla (2)'!P30 -> 1864200000 | E8: =D8-C8 -> 0
A9: IV. Működési bevételek | B9: ='2.sz.tábla (2)'!N43 -> 839572764 | C9: ='2.sz.tábla (2)'!O43 -> 853024418 | D9: ='2.sz.tábla (2)'!P43 -> 854593495 | E9: =D9-C9 -> 1569077
A10: V. Felhalmozási bevételek | B10: ='2.sz.tábla (2)'!N58 -> 69288400 | C10: ='2.sz.tábla (2)'!O58 -> 100788400 | D10: ='2.sz.tábla (2)'!P58 -> 100788400 | E10: =D10-C10 -> 0
A11: VI. Működési célú átvett pénzeszközök | B11: ='2.sz.tábla (2)'!N66 -> 25440000 | C11: ='2.sz.tábla (2)'!O66 -> 32600559 | D11: ='2.sz.tábla (2)'!P66 -> 33900559 | E11: =D11-C11 -> 1300000
A12: VII. Felhalmozási célú átvett pénzeszközök | B12: ='2.sz.tábla (2)'!N70 -> 453634994 | C12: ='2.sz.tábla (2)'!O70 -> 606312431 | D12: ='2.sz.tábla (2)'!P70 -> 616312431 | E12: =D12-C12 -> 10000000
A13: Költségvetési bevételek összesen: | B13: =SUM(B6:B12) -> 6.2149059e+09 | C13: =SUM(C6:C12) -> 6.666424e+09 | D13: =SUM(D6:D12) -> 7.8713489e+09 | E13: =D13-C13 -> 1204924972
A14: VIII. Finanszírozási bevételek | E14: =D14-C14 -> 0
A15: 1. Költségvetési hiány belső finanszírozására szolgáló finanszírozási bevételek | B15: ='2.sz.tábla (2)'!N76 -> 4089900918 | C15: ='2.sz.tábla (2)'!O76 -> 4146748639 | D15: ='2.sz.tábla (2)'!P76 -> 4146748639 | E15: =D15-C15 -> 0
A16: 2. Költségvetési hiány külső finanszírozására szolgáló finanszírozási célú pénzügyi műveletek bevételei | B16: ='2.sz.tábla (2)'!N79 -> 1567650796 | C16: ='2.sz.tábla (2)'!O79 -> 1709004901 | D16: ='2.sz.tábla (2)'!P79 -> 1735004901 | E16: =D16-C16 -> 26000000
A17: Finanszírozási bevételek összesen: | B17: =SUM(B15:B16) -> 5657551714 | C17: =SUM(C15:C16) -> 5855753540 | D17: =SUM(D15:D16) -> 5881753540 | E17: =D17-C17 -> 26000000
A18: Bevételek összesen: | B18: =B13+B17 -> 1.1872458e+10 | C18: =C13+C17 -> 1.2522178e+10 | D18: =D13+D17 -> 1.3753102e+10 | E18: =D18-C18 -> 1230924972
E19: =D19-C19 -> 0
A20: Működési kiadások | B20: =SUM(B21:B23) -> 3405832084 | C20: =SUM(C21:C23) -> 3550659326 | D20: =SUM(D21:D23) -> 3707886254 | E20: =D20-C20 -> 157226928
A21: Önkormányzat | B21: ='5.tábla (2)'!B151 -> 2593229549 | C21: ='5.tábla (2)'!C151 -> 2705517064 | D21: ='5.tábla (2)'!D151 -> 2856532856 | E21: =D21-C21 -> 151015792
A22: Önkormányzati Hivatal | B22: ='5.tábla (2)'!B28 -> 464352277 | C22: ='5.tábla (2)'!C28 -> 481014182 | D22: ='5.tábla (2)'!D28 -> 488077685 | E22: =D22-C22 -> 7063503
A23: Intézmények | B23: ='4.sz.tábla '!AS9-'4.sz.tábla '!W9 -> 348250258 | C23: ='4.sz.tábla '!AT9-'4.sz.tábla '!X9 -> 364128080 | D23: ='4.sz.tábla '!AU9-'4.sz.tábla '!Y9 -> 363275713 | E23: =D23-C23 -> -852367
E24: =D24-C24 -> 0
A25: Felhalmozási kiadások | B25: =SUM(B26:B28) -> 8216439296 | C25: =SUM(C26:C28) -> 8793393600 | D25: =SUM(D26:D28) -> 9871221383 | E25: =D25-C25 -> 1077827783
A26: Fejlesztési kiadások | B26: ='7. sz. tábla 1'!B212 -> 8117495039 | C26: ='7. sz. tábla 1'!C212 -> 8674599615 | D26: ='7. sz. tábla 1'!D212 -> 9754340800 | E26: =D26-C26 -> 1079741185
A27: Intézm saját hatásk fejl | B27: ='4.sz.tábla '!W11 -> 12871000 | C27: ='4.sz.tábla '!X11 -> 25386628 | D27: ='4.sz.tábla '!Y11 -> 26286628 | E27: =D27-C27 -> 900000
A28: Felújítás | B28: ='7. sz. tábla 1'!B223 -> 86073257 | C28: ='7. sz. tábla 1'!C223 -> 93407357 | D28: ='7. sz. tábla 1'!D223 -> 90593955 | E28: =D28-C28 -> -2813402
E29: =D29-C29 -> 0
A30: Tartalékok | B30: =SUM(B31:B32) -> 126348942 | C30: =SUM(C31:C32) -> 54287305 | D30: =SUM(D31:D32) -> 50157566 | E30: =D30-C30 -> -4129739
A31: Általános | B31: =40000000+37810593 -> 77810593 | C31: 8747312 | D31: 5496306 | E31: =D31-C31 -> -3251006
A32: Cél | B32: =B39 -> 48538349 | C32: =C39 -> 45539993 | D32: =D39 -> 44661260 | E32: =D32-C32 -> -878733
A33: Költségvetési kiadások összesen: | B33: =SUM(B30,B25,B20) -> 11748620322 | C33: =SUM(C30,C25,C20) -> 12398340231 | D33: =SUM(D30,D25,D20) -> 13629265203 | E33: =D33-C33 -> 1230924972
A34: Hiteltörlesztés | B34: ='7. sz. tábla 1'!B215 -> 74242424 | C34: ='7. sz. tábla 1'!C215 -> 74242424 | D34: ='7. sz. tábla 1'!D215 -> 74242424 | E34: =D34-C34 -> 0
A35: Államháztartáson belüli megelőlegezés visszafizetés | B35: ='7. sz. tábla 1'!B217 -> 49594849 | C35: ='7. sz. tábla 1'!C217 -> 49594849 | D35: ='7. sz. tábla 1'!D217 -> 49594849 | E35: =D35-C35 -> 0
A36: Forgatási célú értékpapír vásárlása | B36: ='7. sz. tábla 1'!B216 -> 0 | C36: ='7. sz. tábla 1'!D216 -> 0 | D36: ='7. sz. tábla 1'!E216 -> 0 | E36: =D36-C36 -> 0
A37: Finanszírozási kiadások összesen: | B37: =SUM(B34:B36) -> 123837273 | C37: =SUM(C34:C36) -> 123837273 | D37: =SUM(D34:D36) -> 123837273 | E37: =D37-C37 -> 0
A38: Kiadások összesen: | B38: =SUM(B33,B37) -> 11872457595 | C38: =SUM(C33,C37) -> 12522177504 | D38: =SUM(D33,D37) -> 13753102476 | E38: =D38-C38 -> 1230924972 | G38: =E18-E38 -> 0
A39: Céltartalék: | B39: =SUM(B40:B53) -> 48538349 | C39: =SUM(C40:C53) -> 45539993 | D39: =SUM(D40:D53) -> 44661260 | E39: =D39-C39 -> -878733
A40: MÁK forgótőke | B40: 660000 | C40: 660000 | D40: 660000 | E40: =D40-C40 -> 0
A41: környezetvédelmi alap | B41: 0 | C41: 0 | D41: 0 | E41: =D41-C41 -> 0
A42: Polgármester saját hatáskörű keret | B42: 5000000 | C42: 0 | D42: 0 | E42: =D42-C42 -> 0
A43: Népház, posta pénzügyi alap | B43: 22849610 | C43: 18849610 | D43: 18849610 | E43: =D43-C43 -> 0
...

Sheet 2.sz.tábla   (2)
A3: BEVÉTELEK ELŐIRÁNYZATA 2019. ÉV
A5: MEGNEVEZÉS | B5: ÖNKORMÁNYZAT | F5: BALATONFÜREDI KÖZÖS ÖNKORMÁNYZATI HIVATAL | J5: KÖLTSÉGVETÉSI SZERVEK | N5: ÖNKORMÁNYZAT ÖSSZESEN
B6: 2019. évi eredeti ei. | C6: 2019. évi módosított ei. II. | D6: 2019. évi módosított ei. III. | E6: Eltérés | F6: 2019. évi eredeti ei. | G6: 2019. évi módosított ei. II. | H6: 2019. évi módosított ei. III. | I6: Eltérés | J6: 2019. évi eredeti ei. | K6: 2019. évi módosított ei. II. | L6: 2019. évi módosított ei. III. | M6: Eltérés | N6: 2019. évi eredeti ei. | O6: 2019. évi módosított ei. I. | P6: 2019. évi módosított ei. III. | Q6: Eltérés
A7: I. Működési célú támogatások államháztartáson belülről | B7: =B8+B16+B17+B18+B19+B20 -> 1.3067548e+09 | C7: =C8+C16+C17+C18+C19+C20 -> 1.3525529e+09 | D7: =D8+D16+D17+D18+D19+D20 -> 1.4478128e+09 | E7: =D7-C7 -> 95259944 | F7: =F8+F16+F17+F18+F19+F20 -> 26342601 | G7: =G8+G16+G17+G18+G19+G20 -> 31072057 | H7: =H8+H16+H17+H18+H19+H20 -> 36947092 | I7: =H7-G7 -> 5875035 | J7: =J8+J16+J17+J18+J19+J20 -> 125192474 | K7: =K8+K16+K17+K18+K19+K20 -> 129699974 | L7: =L8+L16+L17+L18+L19+L20 -> 129699974 | M7: =L7-K7 -> 0 | N7: =N8+N16+N17+N18+N19+N20 -> 1.4582899e+09 | O7: =O8+O16+O17+O18+O19+O20 -> 1.5133249e+09 | P7: =P8+P16+P17+P18+P19+P20 -> 1.6144599e+09 | Q7: =Q8+Q16+Q17+Q18+Q19+Q20 -> 101134979
A8: 1. Önkormányzat működési támogatásai | B8: =SUM(B9:B15) -> 1.0086341e+09 | C8: =SUM(C9:C15) -> 1.0699294e+09 | D8: =SUM(D9:D15) -> 1.1228026e+09 | E8: =D8-C8 -> 52873253 | G8: =SUM(G9:G15) -> 0 | H8: =SUM(H9:H15) -> 0 | I8: =H8-G8 -> 0 | J8: =SUM(J9:J15) -> 0 | K8: =SUM(K9:K15) -> 0 | L8: =SUM(L9:L15) -> 0 | M8: =L8-K8 -> 0 | N8: =SUM(N9:N15) -> 1.0086341e+09 | O8: =SUM(O9:O15) -> 1.0699294e+09 | P8: =SUM(P9:P15) -> 1.1228026e+09 | Q8: =SUM(Q9:Q15) -> 52873253
A9: 1.1. Helyi önk. működésének ált. támogatása | B9: ='2b. tábla 2019 (2)'!E4 -> 522094841 | C9: ='2b. tábla 2019 (2)'!I4 -> 529647994 | D9: ='2b. tábla 2019 (2)'!K4 -> 530463326 | E9: =D9-C9 -> 815332 | N9: =SUM(B9+F9+J9) -> 522094841 | O9: =SUM(C9+G9+K9) -> 529647994 | P9: =SUM(D9+H9+L9) -> 530463326 | Q9: =SUM(E9+I9+M9) -> 815332
A10: 1.2. Települési önk. egyes köznev. feladatainak támogatása | B10: ='2b. tábla 2019 (2)'!E30 -> 2.5472833e+08 | C10: ='2b. tábla 2019 (2)'!I30 -> 2.5915053e+08 | D10: ='2b. tábla 2019 (2)'!K30 -> 2.6001984e+08 | E10: =D10-C10 -> 869307 | N10: =SUM(B10+F10+J10) -> 2.5472833e+08 | O10: =SUM(C10+G10+K10) -> 2.5915053e+08 | P10: =SUM(D10+H10+L10) -> 2.6001984e+08 | Q10: =SUM(E10+I10+M10) -> 869307
A11: 1.3. Települési önk. szoc. és gyermekjóléti feladatainak tám. | B11: ='2b. tábla 2019 (2)'!E42 -> 215151670 | C11: ='2b. tábla 2019 (2)'!I42 -> 252945371 | D11: ='2b. tábla 2019 (2)'!K42 -> 256458734 | E11: =D11-C11 -> 3513363 | N11: =SUM(B11+F11+J11) -> 215151670 | O11: =SUM(C11+G11+K11) -> 252945371 | P11: =SUM(D11+H11+L11) -> 256458734 | Q11: =SUM(E11+I11+M11) -> 3513363
A12: 1.4. Települési önk. kult. feladatainak támogatása | B12: ='2b. tábla 2019 (2)'!E73 -> 16659280 | C12: ='2b. tábla 2019 (2)'!I73 -> 20796114 | D12: ='2b. tábla 2019 (2)'!K73 -> 21637265 | E12: =D12-C12 -> 841151 | N12: =SUM(B12+F12+J12) -> 16659280 | O12: =SUM(C12+G12+K12) -> 20796114 | P12: =SUM(D12+H12+L12) -> 21637265 | Q12: =SUM(E12+I12+M12) -> 841151
A13: 1.5. Működési célú költségvetési támogatások és kiegészítő támogatások | C13: ='2b. tábla 2019 (2)'!I78 -> 7389372 | D13: ='2b. tábla 2019 (2)'!K78 -> 54223472 | E13: =D13-C13 -> 46834100 | N13: =SUM(B13+F13+J13) -> 0 | O13: =SUM(C13+G13+K13) -> 7389372 | P13: =SUM(D13+H13+L13) -> 54223472 | Q13: =SUM(E13+I13+M13) -> 46834100
A14: 1.6. Elszámolásból származó bevételek | N14: =SUM(B14+F14+J14) -> 0
A15: 1.7. Vis major
A16: 2. Elvonások, befizetések
A17: 3. Működési célú garancia- és kezességvállalásból származó megtérülések áh-n belülről
A18: 4. Működési célú visszatérítendő támogatások, kölcsönök visszatérülése áh-n belülről
A19: 5. Működési célú visszatérítendő támogatások, kölcsönök igénybevétele áh-n belülről
A20: 6. Egyéb működési célú támogatások bevételei államháztartáson belülről | B20: 298120689 | C20: 282623468 | D20: 325010159 | E20: =D20-C20 -> 42386691 | F20: ='2.a tábla ÚJ '!S13 -> 26342601 | G20: ='2.a tábla ÚJ '!T13 -> 31072057 | H20: ='2.a tábla ÚJ '!U13 -> 36947092 | I20: =H20-G20 -> 5875035 | J20: ='2.a tábla ÚJ '!N13 -> 125192474 | K20: ='2.a tábla ÚJ '!O13 -> 129699974 | L20: ='2.a tábla ÚJ '!P13 -> 129699974 | M20: =L20-K20 -> 0 | N20: =SUM(B20+F20+J20) -> 449655764 | O20: =C20+G20+K20 -> 443395499 | P20: =D20+H20+L20 -> 491657225 | Q20: =E20+I20+M20 -> 48261726
A21: ebből működési célú támogatás társadalombiztosítási alapból | I21: =H21-G21 -> 0 | J21: ='2.a tábla ÚJ '!N14 -> 120000000 | K21: ='2.a tábla ÚJ '!O14 -> 124507500 | L21: ='2.a tábla ÚJ '!P14 -> 124507500 | M21: =L21-K21 -> 0 | N21: =SUM(B21+F21+J21) -> 120000000 | O21: =C21+G21+K21 -> 124507500 | P21: =D21+H21+L21 -> 124507500 | Q21: =E21+I21+M21 -> 0
A22: II. Felhalmozási célú támogatások államháztartáson belülről | B22: =B23+B24+B25+B26+B27 -> 1504479834 | C22: =C23+C24+C25+C26+C27 -> 1696173273 | D22: =D23+D24+D25+D26+D27 -> 2786781765 | E22: =D22-C22 -> 1090608492 | F22: =F23+F24+F25+F26+F27 -> 0 | G22: =G23+G24+G25+G26+G27 -> 0 | H22: =H23+H24+H25+H26+H27 -> 0 | I22: =H22-G22 -> 0 | J22: =J23+J24+J25+J26+J27 -> 0 | K22: =K23+K24+K25+K26+K27 -> 0 | L22: =L23+L24+L25+L26+L27 -> 312424 | M22: =L22-K22 -> 312424 | N22: =SUM(B22+F22+J22) -> 1504479834 | O22: =O23+O24+O25+O26+O27 -> 1696173273 | P22: =P23+P24+P25+P26+P27 -> 2787094189 | Q22: =Q23+Q24+Q25+Q26+Q27 -> 1090920916
A23: 1. Felhalmozási célú önkormányzati támogatások | C23: ='2b. tábla 2019 (2)'!I85 -> 30000000 | D23: ='2b. tábla 2019 (2)'!K85 -> 34503000 | E23: =D23-C23 -> 4503000 | N23: =SUM(B23+F23+J23) -> 0 | O23: =SUM(C23+G23+K23) -> 30000000 | P23: =SUM(D23+H23+L23) -> 34503000 | Q23: =E23+I23+M23 -> 4503000
A24: 2. Felhalmozási célú garancia- és kezességvállalásból származó megtérülések áh-n belülről | N24: =SUM(B24+F24+J24) -> 0
A25: 3. Felhalmozási célú visszatérítendő támogatások, kölcsönök visszatérülése áh-n belülről | N25: =SUM(B25+F25+J25) -> 0
A26: 4. Felhalmozási célú visszatérítendő támogatások, kölcsönök igénybevétele áh-n belülről | N26: =SUM(B26+F26+J26) -> 0
A27: 5. Egyéb felhalmozási célú támogatások államháztartáson belülről | B27: 1504479834 | C27: 1666173273 | D27: 2752278765 | E27: =D27-C27 -> 1086105492 | J27: ='2.a tábla ÚJ '!N43 -> 0 | K27: ='2.a tábla ÚJ '!O43 -> 0 | L27: ='2.a tábla ÚJ '!H16 -> 312424 | M27: =L27-K27 -> 312424 | N27: =SUM(B27+F27+J27) -> 1504479834 | O27: =C27+G27+K27 -> 1666173273 | P27: =D27+H27+L27 -> 2752591189 | Q27: =E27+I27+M27 -> 1086417916
A28: MEGNEVEZÉS | B28: ÖNKORMÁNYZAT | F28: BALATONFÜREDI KÖZÖS ÖNKORMÁNYZATI HIVATAL | J28: KÖLTSÉGVETÉSI SZERVEK | N28: ÖNKORMÁNYZAT ÖSSZESEN
B29: 2019. évi eredeti ei. | C29: 2019. évi módosított ei. II. | D29: 2019. évi módosított ei. III. | E29: Eltérés | F29: 2019. évi eredeti ei. | G29: 2019. évi módosított ei. II. | H29: 2019. évi módosított ei. III. | I29: Eltérés | J29: 2019. évi eredeti ei. | K29: 2019. évi módosított ei. II. | L29: 2019. évi módosított ei. III. | M29: Eltérés | N29: 2019. évi eredeti ei. | O29: 2019. évi módosított ei. I. | P29: 2019. évi módosított ei. III. | Q29: Eltérés
A30: III. Közhatalmi bevételek | B30: =B31+B34+B42 -> 1863700000 | C30: =C31+C34+C42 -> 1863700000 | D30: =D31+D34+D42 -> 1863700000 | E30: =D30-C30 -> 0 | F30: =F31+F34+F42 -> 500000 | G30: =G31+G34+G42 -> 500000 | H30: =H31+H34+H42 -> 500000 | I30: =H30-G30 -> 0 | K30: =K31+K34+K42 -> 0 | L30: =L31+L34+L42 -> 0 | M30: =L30-K30 -> 0 | N30: =SUM(B30+F30+J30) -> 1864200000 | O30: =SUM(C30+G30+K30) -> 1864200000 | P30: =SUM(D30+H30+L30) -> 1864200000 | Q30: =SUM(E30+I30+M30) -> 0
A31: 1. Vagyoni típusú adók | B31: =SUM(B32:B33) -> 461800000 | C31: =SUM(C32:C33) -> 461800000 | D31: =SUM(D32:D33) -> 461800000 | E31: =D31-C31 -> 0 | F31: =SUM(F32:F33) -> 0 | I31: =G31-F31 -> 0 | N31: =SUM(B31+F31+J31) -> 461800000 | O31: =SUM(C31+G31+K31) -> 461800000 | P31: =SUM(D31+H31+L31) -> 461800000 | Q31: =SUM(E31+I31+M31) -> 0
A32: 1.1. Építményadó | B32: 438000000 | C32: 438000000 | D32: 438000000 | E32: =D32-C32 -> 0 | N32: =SUM(B32+F32+J32) -> 438000000 | O32: =SUM(C32+G32+K32) -> 438000000 | P32: =SUM(D32+H32+L32) -> 438000000 | Q32: =SUM(E32+I32+M32) -> 0
A33: 1.2. Telekadó | B33: 23800000 | C33: 23800000 | D33: 23800000 | E33: =D33-C33 -> 0 | N33: =SUM(B33+F33+J33) -> 23800000 | O33: =SUM(C33+G33+K33) -> 23800000 | P33: =SUM(D33+H33+L33) -> 23800000 | Q33: =SUM(E33+I33+M33) -> 0
A34: 2. Termékek és szolgáltatások adói | B34: =B35+B37+B38 -> 1396000000 | C34: =C35+C37+C38 -> 1396000000 | D34: =D35+D37+D38 -> 1396000000 | E34: =D34-C34 -> 0 | N34: =SUM(B34+F34+J34) -> 1396000000 | O34: =SUM(C34+G34+K34) -> 1396000000 | P34: =SUM(D34+H34+L34) -> 1396000000 | Q34: =SUM(E34+I34+M34) -> 0
A35: 2.1. Értékesítési és forgalmi adók | B35: =SUM(B36) -> 940000000 | C35: =SUM(C36) -> 940000000 | D35: =SUM(D36) -> 940000000 | E35: =D35-C35 -> 0 | N35: =SUM(B35+F35+J35) -> 940000000 | O35: =SUM(C35+G35+K35) -> 940000000 | P35: =SUM(D35+H35+L35) -> 940000000 | Q35: =SUM(E35+I35+M35) -> 0
A36: 2.1. 1. Iparűzési adó | B36: 940000000 | C36: 940000000 | D36: 940000000 | E36: =D36-C36 -> 0 | N36: =SUM(B36+F36+J36) -> 940000000 | O36: =SUM(C36+G36+K36) -> 940000000 | P36: =SUM(D36+H36+L36) -> 940000000 | Q36: =SUM(E36+I36+M36) -> 0
A37: 2.2. Gépjárműadók | B37: 56000000 | C37: 56000000 | D37: 56000000 | E37: =D37-C37 -> 0 | N37: =SUM(B37+F37+J37) -> 56000000 | O37: =SUM(C37+G37+K37) -> 56000000 | P37: =SUM(D37+H37+L37) -> 56000000 | Q37: =SUM(E37+I37+M37) -> 0
A38: 2.3. Egyéb áruhasználati és szolgáltatási adók | B38: =SUM(B39:B41) -> 400000000 | C38: =SUM(C39:C41) -> 400000000 | D38: =SUM(D39:D41) -> 400000000 | E38: =D38-C38 -> 0 | N38: =SUM(B38+F38+J38) -> 400000000 | O38: =SUM(C38+G38+K38) -> 400000000 | P38: =SUM(D38+H38+L38) -> 400000000 | Q38: =SUM(E38+I38+M38) -> 0
A39: 2.3.1. Ifa személyek u. | B39: 400000000 | C39: 400000000 | D39: 400000000 | E39: =D39-C39 -> 0 | N39: =SUM(B39+F39+J39) -> 400000000 | O39: =SUM(C39+G39+K39) -> 400000000 | P39: =SUM(D39+H39+L39) -> 400000000 | Q39: =SUM(E39+I39+M39) -> 0
A40: 2.3.2. Talajterhelési díj | E40: =D40-C40 -> 0 | N40: =SUM(B40+F40+J40) -> 0 | O40: =SUM(C40+G40+K40) -> 0 | P40: =SUM(D40+H40+L40) -> 0 | Q40: =SUM(E40+I40+M40) -> 0
A41: 2.3.3. Települési adó | E41: =D41-C41 -> 0 | N41: =SUM(B41+F41+J41) -> 0 | O41: =SUM(C41+G41+K41) -> 0 | P41: =SUM(D41+H41+L41) -> 0 | Q41: =SUM(E41+I41+M41) -> 0
A42: 3. Egyéb közhatalmi bevételek (bírság, pótlék, településrendezési szerz.) | B42: 5900000 | C42: 5900000 | D42: 5900000 | E42: =D42-C42 -> 0 | F42: ='2.a tábla ÚJ '!S20 -> 500000 | G42: ='2.a tábla ÚJ '!T20 -> 500000 | H42: ='2.a tábla ÚJ '!U20 -> 500000 | I42: =H42-G42 -> 0 | M42: =K42-J42 -> 0 | N42: =SUM(B42+F42+J42) -> 6400000 | O42: =SUM(C42+G42+K42) -> 6400000 | P42: =SUM(D42+H42+L42) -> 6400000 | Q42: =SUM(E42+I42+M42) -> 0
A43: IV. Működési bevételek | B43: =B44+B45+B47+B48+B51+B52+B53+B54+B57+B55+B56 -> 760976989 | C43: =C44+C45+C47+C48+C51+C52+C53+C54+C57+C55+C56 -> 774928643 | D43: =D44+D45+D47+D48+D51+D52+D53+D54+D57+D55+D56 -> 776697720 | E43: =D43-C43 -> 1769077 | F43: =F44+F45+F47+F48+F51+F52+F53+F54+F57+F55+F56 -> 33220024 | G43: =G44+G45+G47+G48+G51+G52+G53+G54+G57+G55+G56 -> 33220024 | H43: =H44+H45+H47+H48+H51+H52+H53+H54+H57+H55+H56 -> 33220024 | I43: =H43-G43 -> 0 | J43: =J44+J45+J47+J48+J51+J52+J53+J54+J57+J55+J56 -> 45375751 | K43: =K44+K45+K47+K48+K51+K52+K53+K54+K57+K55+K56 -> 44875751 | L43: =L44+L45+L47+L48+L51+L52+L53+L54+L57+L55+L56 -> 44675751 | M43: =L43-K43 -> -200000 | N43: =SUM(B43+F43+J43) -> 839572764 | O43: =SUM(C43+G43+K43) -> 853024418 | P43: =SUM(D43+H43+L43) -> 854593495 | Q43: =SUM(E43+I43+M43) -> 1569077
...

Sheet 2.a tábla ÚJ 
A6: BEVÉTELEK ELŐIRÁNYZATA INTÉZMÉNYEK SZERINTI BONTÁSBAN 2019. ÉV
A10: MEGNEVEZÉS | B10: LIPTÁK GÁBOR VÁROSI KÖNYVTÁR | F10: BALATONFÜREDI VÁROSI SZAKORVOSI RENDELŐINTÉZET | J10: BALATONFÜREDI VÁROSI BÖLCSŐDE | N10: KÖLTSÉGVETÉSI SZERVEK ÖSSZESEN | S10: BALATONFÜREDI KÖZÖS ÖNKORMÁNYZATI HIVATAL
B11: 2019. évi eredeti ei. | C11: 2019. évi módosított ei. II. | D11: 2019. évi módosított ei. III. | E11: Eltérés | F11: 2019. évi eredeti ei. | G11: 2019. évi módosított ei. II. | H11: 2019. évi módosított ei. III. | I11: Eltérés | J11: 2019. évi eredeti ei. | K11: 2019. évi módosított ei. II. | L11: 2019. évi módosított ei. III. | M11: Eltérés | N11: 2019. évi eredeti ei. | O11: 2019. évi módosított ei. II. | P11: 2019. évi módosított ei. III. | Q11: Eltérés | S11: 2019. évi eredeti ei. | T11: 2019. évi módosított ei. II. | U11: 2019. évi módosított ei. III. | V11: Eltérés
A12: I. Működési célú támogatások államházatartáson belülről | B12: =B13 -> 1073750 | C12: =C13 -> 1073750 | D12: =D13 -> 1073750 | E12: =D12-C12 -> 0 | F12: =F13 -> 122147500 | G12: =G13 -> 126655000 | H12: =H13 -> 126655000 | I12: =H12-G12 -> 0 | J12: =J13 -> 1971224 | K12: =K13 -> 1971224 | L12: =L13 -> 1971224 | M12: =L12-K12 -> 0 | N12: =N13 -> 125192474 | O12: =O13 -> 129699974 | P12: =P13 -> 129699974 | Q12: =P12-O12 -> 0 | R12: =R13+R16 -> 0 | S12: =S13+S16 -> 26342601 | T12: =T13+T16 -> 31072057 | U12: =U13+U16 -> 36947092 | V12: =U12-T12 -> 5875035
A13: 6. Egyéb működési célú támogatások bevételei államháztartáson belülről | B13: 1073750 | C13: 1073750 | D13: 1073750 | E13: =D13-C13 -> 0 | F13: =120000000+2147500 -> 122147500 | G13: 126655000 | H13: 126655000 | I13: =H13-G13 -> 0 | J13: 1971224 | K13: 1971224 | L13: 1971224 | M13: =L13-K13 -> 0 | N13: =B13+F13+J13 -> 125192474 | O13: =C13+G13+K13 -> 129699974 | P13: =D13+H13+L13 -> 129699974 | Q13: =P13-O13 -> 0 | S13: 26342601 | T13: 31072057 | U13: 36947092 | V13: =U13-T13 -> 5875035
A14: ebből működési célú támogatás társadalombiztosítási alapból | F14: 120000000 | G14: 124507500 | H14: 124507500 | I14: =H14-G14 -> 0 | M14: =L14-K14 -> 0 | N14: =B14+F14+J14 -> 120000000 | O14: =C14+G14+K14 -> 124507500 | P14: =D14+H14+L14 -> 124507500 | Q14: =P14-O14 -> 0
A15: II. Felhalmozási célú támogatások államháztartáson belülről | E15: =D15-C15 -> 0 | F15: =F16 -> 0 | H15: =SUM(H16) -> 312424 | I15: =H15-G15 -> 312424 | K15: =K16 -> 0 | L15: =L16 -> 0 | M15: =L15-K15 -> 0 | N15: =B15+F15+J15 -> 0 | O15: =C15+G15+K15 -> 0 | P15: =D15+H15+L15 -> 312424 | Q15: =P15-O15 -> 312424 | R15: =R16 -> 0
A16: 4. Egyéb felhalmozási célú támogatások államháztartáson belülről | H16: 312424 | I16: =H16-G16 -> 312424 | N16: =B16+F16+J16 -> 0 | O16: =C16+G16+K16 -> 0 | P16: =D16+H16+L16 -> 312424 | Q16: =P16-O16 -> 312424
A17: II. Közhatalmi bevételek | N17: =B17+F17+J17 -> 0 | Q17: =P17-O17 -> 0 | R17: =#REF!+#REF!+#REF!+#REF!+#REF! -> #REF! | S17: =SUM(S18:S20) -> 500000 | T17: =SUM(T18:T20) -> 500000 | U17: =SUM(U18:U20) -> 500000 | V17: =U17-T17 -> 0
A18: 1. Vagyoni típusú adók | N18: =B18+F18+J18 -> 0 | Q18: =P18-O18 -> 0 | R18: =#REF!+#REF!+#REF!+#REF!+#REF!+#REF!+#REF!+#REF!+#REF!+#REF!+#REF!+#REF!+#REF!+#REF!+#REF! -> #REF!
A19: 2. Termékek és szolgáltatások adói | N19: =B19+F19+J19 -> 0 | Q19: =P19-O19 -> 0
A20: 3. Egyéb közhatalmi bevételek (bírság, pótlék,) | N20: =B20+F20+J20 -> 0 | Q20: =P20-O20 -> 0 | S20: 500000 | T20: 500000 | U20: 500000 | V20: =U20-T20 -> 0
A21: 1V. Működési bevételek | B21: =B22+B23+B25+B26+B27+B28+B29+B30+B33 -> 2790000 | C21: =C22+C23+C25+C26+C27+C28+C29+C30+C33 -> 2290000 | D21: =D22+D23+D25+D26+D27+D28+D29+D30+D33 -> 2090000 | E21: =D21-C21 -> -200000 | F21: =F22+F23+F25+F26+F27+F28+F29+F30+F33 -> 40560000 | G21: =G22+G23+G25+G26+G27+G28+G29+G30+G33 -> 40560000 | H21: =H22+H23+H25+H26+H27+H28+H29+H30+H33 -> 40560000 | I21: =H21-G21 -> 0 | J21: =J22+J23+J25+J26+J27+J28+J29+J30+J33 -> 2025751 | K21: =K22+K23+K25+K26+K27+K28+K29+K30+K33 -> 2025751 | L21: =L22+L23+L25+L26+L27+L28+L29+L30+L33 -> 2025751 | M21: =L21-K21 -> 0 | N21: =N22+N23+N25+N26+N27+N28+N29+N30+N33 -> 45375751 | O21: =O22+O23+O25+O26+O27+O28+O29+O30+O33 -> 44875751 | P21: =P22+P23+P25+P26+P27+P28+P29+P30+P33 -> 44675751 | Q21: =P21-O21 -> -200000 | R21: =R22+R23+R25+R26+R27+R28+R29+R30+R33 -> #REF! | S21: =S22+S23+S25+S26+S27+S28+S29+S30+S33 -> 33220024 | T21: =T22+T23+T25+T26+T27+T28+T29+T30+T33 -> 33220024 | U21: =U22+U23+U25+U26+U27+U28+U29+U30+U33 -> 33220024 | V21: =U21-T21 -> 0
A22: 1. Készletértékesítés bevétele | E22: =D22-C22 -> 0 | M22: =L22-K22 -> 0 | N22: =B22+F22+J22 -> 0 | Q22: =P22-O22 -> 0 | R22: =#REF!+#REF!+#REF!+#REF!+#REF! -> #REF! | V22: =U22-T22 -> 0
A23: 2. Szolgáltatások ellenértéke | B23: 2181000 | C23: =2181000-393700 -> 1787300 | D23: 1629820 | E23: =D23-C23 -> -157480 | F23: 40560000 | G23: 40560000 | H23: 40560000 | I23: =H23-G23 -> 0 | M23: =L23-K23 -> 0 | N23: =B23+F23+J23 -> 42741000 | O23: =C23+G23+K23 -> 42347300 | P23: =D23+H23+L23 -> 42189820 | Q23: =P23-O23 -> -157480 | R23: =#REF!+#REF!+#REF!+#REF!+#REF! -> #REF! | S23: 21200000 | T23: 21200000 | U23: 21200000 | V23: =U23-T23 -> 0
A24: Ebből: bérleti díj | E24: =D24-C24 -> 0 | I24: =H24-G24 -> 0 | M24: =L24-K24 -> 0 | N24: =B24+F24+J24 -> 0 | O24: =C24+G24+K24 -> 0 | P24: =D24+H24+L24 -> 0 | Q24: =P24-O24 -> 0 | R24: =#REF!+#REF!+#REF!+#REF!+#REF! -> #REF! | S24: 7500000 | T24: 7500000 | U24: 7500000 | V24: =U24-T24 -> 0
A25: 3. Közvetített szolgáltatások ellenértéke | E25: =D25-C25 -> 0 | I25: =H25-G25 -> 0 | J25: 228346 | K25: 228346 | L25: 228346 | M25: =L25-K25 -> 0 | N25: =B25+F25+J25 -> 228346 | O25: =C25+G25+K25 -> 228346 | P25: =D25+H25+L25 -> 228346 | Q25: =P25-O25 -> 0 | R25: =#REF!+#REF!+#REF!+#REF!+#REF! -> #REF! | S25: =2300000+2657499 -> 4957499 | T25: 4957499 | U25: 4957499 | V25: =U25-T25 -> 0
A26: 4. Tulajdonosi bevételek | E26: =D26-C26 -> 0 | I26: =H26-G26 -> 0 | M26: =L26-K26 -> 0 | N26: =B26+F26+J26 -> 0 | O26: =C26+G26+K26 -> 0 | P26: =D26+H26+L26 -> 0 | Q26: =P26-O26 -> 0 | R26: =#REF!+#REF!+#REF!+#REF!+#REF! -> #REF!
A27: 5. Ellátási díjak | E27: =D27-C27 -> 0 | I27: =H27-G27 -> 0 | J27: 854922 | K27: 854922 | L27: 854922 | M27: =L27-K27 -> 0 | N27: =B27+F27+J27 -> 854922 | O27: =C27+G27+K27 -> 854922 | P27: =D27+H27+L27 -> 854922 | Q27: =P27-O27 -> 0 | R27: =#REF!+#REF!+#REF!+#REF!+#REF! -> #REF!
A28: 6. Kiszámlázott Áfa | B28: 589000 | C28: =589000-106300 -> 482700 | D28: 440180 | E28: =D28-C28 -> -42520 | I28: =H28-G28 -> 0 | J28: =230829+61654 -> 292483 | K28: 292483 | L28: 292483 | M28: =L28-K28 -> 0 | N28: =B28+F28+J28 -> 881483 | O28: =C28+G28+K28 -> 775183 | P28: =D28+H28+L28 -> 732663 | Q28: =P28-O28 -> -42520 | R28: =#REF!+#REF!+#REF!+#REF!+#REF! -> #REF! | S28: 7062525 | T28: 7062525 | U28: 7062525 | V28: =U28-T28 -> 0
A29: 7. Áfa visszatérítés | E29: =D29-C29 -> 0 | I29: =H29-G29 -> 0 | J29: 650000 | K29: 650000 | L29: 650000 | M29: =L29-K29 -> 0 | N29: =B29+F29+J29 -> 650000 | O29: =C29+G29+K29 -> 650000 | P29: =D29+H29+L29 -> 650000 | Q29: =P29-O29 -> 0 | R29: =#REF!+#REF!+#REF!+#REF!+#REF! -> #REF!
A30: 8. Kamatbevétel | E30: =D30-C30 -> 0 | I30: =H30-G30 -> 0 | M30: =L30-K30 -> 0 | N30: =B30+F30+J30 -> 0 | O30: =C30+G30+K30 -> 0 | P30: =D30+H30+L30 -> 0 | Q30: =P30-O30 -> 0 | R30: =#REF!+#REF!+#REF!+#REF!+#REF! -> #REF!
A31: 9. Egyéb pénzügyi műveletek bevételei | E31: =D31-C31 -> 0 | I31: =H31-G31 -> 0 | M31: =L31-K31 -> 0 | N31: =B31+F31+J31 -> 0 | O31: =C31+G31+K31 -> 0 | P31: =D31+H31+L31 -> 0 | Q31: =P31-O31 -> 0
A32: 10. Biztosító által fizetett kártérítés | E32: =D32-C32 -> 0 | I32: =H32-G32 -> 0 | M32: =L32-K32 -> 0 | N32: =B32+F32+J32 -> 0 | O32: =C32+G32+K32 -> 0 | P32: =D32+H32+L32 -> 0 | Q32: =P32-O32 -> 0
A33: 11. Egyéb működési bevételek | B33: 20000 | C33: 20000 | D33: 20000 | E33: =D33-C33 -> 0 | I33: =H33-G33 -> 0 | M33: =L33-K33 -> 0 | N33: =B33+F33+J33 -> 20000 | O33: =C33+G33+K33 -> 20000 | P33: =D33+H33+L33 -> 20000 | Q33: =P33-O33 -> 0 | R33: =#REF!+#REF!+#REF!+#REF!+#REF! -> #REF!
A34: V. Felhalmozási bevételek | C34: =SUM(C35:C39) -> 0 | D34: =SUM(D35:D39) -> 0 | E34: =D34-C34 -> 0 | F34: =SUM(F35:F39) -> 0 | G34: =SUM(G35:G39) -> 0 | H34: =SUM(H35:H39) -> 0 | I34: =H34-G34 -> 0 | J34: =SUM(J35:J39) -> 0 | K34: =SUM(K35:K39) -> 0 | L34: =SUM(L35:L39) -> 0 | M34: =L34-K34 -> 0 | N34: =SUM(N35:N39) -> 0 | O34: =SUM(O35:O39) -> 0 | P34: =SUM(P35:P39) -> 0 | Q34: =P34-O34 -> 0 | R34: =#REF!+#REF!+#REF!+#REF!+#REF! -> #REF! | S34: =SUM(S35:S39) -> 0 | T34: =SUM(T35:T39) -> 0 | U34: =SUM(U35:U39) -> 0 | V34: =U34-T34 -> 0
A35: 1. Immateriális javak értékesítése | I35: =H35-G35 -> 0 | M35: =L35-K35 -> 0 | N35: =B35+F35+J35 -> 0 | Q35: =P35-O35 -> 0 | V35: =U35-T35 -> 0
A36: 2. Ingatlanok értékesítése | I36: =H36-G36 -> 0 | M36: =L36-K36 -> 0 | N36: =B36+F36+J36 -> 0 | Q36: =P36-O36 -> 0 | V36: =U36-T36 -> 0
A37: 3. Egyéb tárgyi eszközök értékesítése | I37: =H37-G37 -> 0 | M37: =L37-K37 -> 0 | N37: =B37+F37+J37 -> 0 | O37: =C37+G37+K37 -> 0 | P37: =D37+H37+L37 -> 0 | Q37: =P37-O37 -> 0 | V37: =U37-T37 -> 0
A38: 4. Részesedések értékesítése | I38: =H38-G38 -> 0 | M38: =L38-K38 -> 0 | N38: =B38+F38+J38 -> 0 | Q38: =P38-O38 -> 0 | V38: =U38-T38 -> 0
A39: 5. Részesedések megszűnéséhez kapcsolódó bevételek | I39: =H39-G39 -> 0 | M39: =L39-K39 -> 0 | N39: =B39+F39+J39 -> 0 | Q39: =P39-O39 -> 0 | V39: =U39-T39 -> 0
A40: VI. Működési célú átvett pénzeszközök | F40: =F41 -> 0 | G40: =G41 -> 75000 | H40: =H41 -> 75000 | I40: =H40-G40 -> 0 | K40: =K41 -> 0 | L40: =L41 -> 0 | M40: =L40-K40 -> 0 | N40: =SUM(N41) -> 0 | O40: =SUM(O41) -> 75000 | P40: =SUM(P41) -> 75000 | Q40: =P40-O40 -> 0 | R40: =#REF!+#REF!+#REF!+#REF!+#REF! -> #REF! | V40: =U40-T40 -> 0
A41: 3. Egyéb működési célú átvett pénzeszközök | G41: 75000 | H41: 75000 | I41: =H41-G41 -> 0 | M41: =L41-K41 -> 0 | N41: =B41+F41+J41 -> 0 | O41: =C41+G41+K41 -> 75000 | P41: =D41+H41+L41 -> 75000 | Q41: =P41-O41 -> 0 | V41: =U41-T41 -> 0
A42: VII. Felhalmozási célú átvett pénzeszközök | M42: =L42-K42 -> 0 | N42: =B42+F42+J42 -> 0 | O42: =C42+G42+K42 -> 0 | P42: =D42+H42+L42 -> 0 | Q42: =P42-O42 -> 0 | R42: =#REF!+#REF!+#REF!+#REF!+#REF! -> #REF! | V42: =U42-T42 -> 0
A43: 3. Egyéb felhalmozási célú átvett pénzeszközök | M43: =L43-K43 -> 0 | N43: =B43+F43+J43 -> 0 | O43: =C43+G43+K43 -> 0 | P43: =D43+H43+L43 -> 0 | Q43: =P43-O43 -> 0 | V43: =U43-T43 -> 0
A44: Költségvetési bevételek összesen: | B44: =B42+B40+B34+B21+B17+B15+B12 -> 3863750 | C44: =C42+C40+C34+C21+C17+C15+C12 -> 3363750 | D44: =D42+D40+D34+D21+D17+D15+D12 -> 3163750 | E44: =D44-C44 -> -200000 | F44: =F42+F40+F34+F21+F17+F15+F12 -> 162707500 | G44: =G42+G40+G34+G21+G17+G15+G12 -> 167290000 | H44: =H42+H40+H34+H21+H17+H15+H12 -> 167602424 | I44: =H44-G44 -> 312424 | J44: =J42+J40+J34+J21+J17+J15+J12 -> 3996975 | K44: =K42+K40+K34+K21+K17+K15+K12 -> 3996975 | L44: =L42+L40+L34+L21+L17+L15+L12 -> 3996975 | M44: =L44-K44 -> 0 | N44: =B44+F44+J44 -> 170568225 | O44: =C44+G44+K44 -> 174650725 | P44: =D44+H44+L44 -> 174763149 | Q44: =P44-O44 -> 112424 | R44: =R42+R40+R34+R21+R17+R15+R12 -> #REF! | S44: =S42+S40+S34+S21+S17+S15+S12 -> 60062625 | T44: =T42+T40+T34+T21+T17+T15+T12 -> 64792081 | U44: =U42+U40+U34+U21+U17+U15+U12 -> 70667116 | V44: =U44-T44 -> 5875035
A45: VIII. Finanszírozási bevételek | B45: =B46+B49+B50 -> 52428449 | C45: =C46+C49+C50 -> 58314715 | D45: =D46+D49+D50 -> 57895258 | E45: =D45-C45 -> -419457 | F45: =F46+F49+F50 -> 62794500 | G45: =G46+G49+G50 -> 69412976 | H45: =H46+H49+H50 -> 69827210 | I45: =H45-G45 -> 414234 | J45: =J46+J49+J50 -> 66330084 | K45: =K46+K49+K50 -> 68962221 | L45: =L46+L49+L50 -> 68902653 | M45: =L45-K45 -> -59568 | N45: =B45+F45+J45 -> 181553033 | O45: =C45+G45+K45 -> 196689912 | P45: =D45+H45+L45 -> 196625121 | Q45: =P45-O45 -> -64791 | R45: =R46+R49+R50 -> #REF! | S45: =S46+S49+S50 -> 413289652 | T45: =T46+T49+T50 -> 434396172 | U45: =U46+U49+U50 -> 435584640 | V45: =U45-T45 -> 1188468
A46: 1. Költségvetési hiány belső finanszírozására szolgáló bevételek | B46: =SUM(B47:B48) -> 0 | C46: =SUM(C47:C48) -> 3317009 | D46: =SUM(D47:D48) -> 3317009 | E46: =D46-C46 -> 0 | F46: =SUM(F47:F48) -> 0 | G46: =SUM(G47:G48) -> 7051405 | H46: =SUM(H47:H48) -> 7051405 | I46: =H46-G46 -> 0 | J46: =SUM(J47:J48) -> 176276 | K46: =SUM(K47:K48) -> 3996184 | L46: =SUM(L47:L48) -> 3996184 | M46: =L46-K46 -> 0 | N46: =SUM(N47:N48) -> 176276 | O46: =SUM(O47:O48) -> 14364598 | P46: =SUM(P47:P48) -> 14364598 | Q46: =P46-O46 -> 0 | S46: =SUM(S47:S48) -> 0 | T46: =SUM(T47:T48) -> 23685448 | U46: =SUM(U47:U48) -> 23685448 | V46: =U46-T46 -> 0
A47: 1.1. Előző év költségvetési maradványának igénybevétele működési célra | C47: =3317009-C48 -> 2821381 | D47: =3317009-D48 -> 2821381 | E47: =D47-C47 -> 0 | G47: =7051405-G48 -> 6515945 | H47: =7051405-H48 -> 6515945 | I47: =H47-G47 -> 0 | J47: 176276 | K47: =3996184-K48 -> 3745715 | L47: =3996184-L48 -> 3745715 | M47: =L47-K47 -> 0 | N47: =B47+F47+J47 -> 176276 | O47: =C47+G47+K47 -> 13083041 | P47: =D47+H47+L47 -> 13083041 | Q47: =P47-O47 -> 0 | T47: 14511377 | U47: 14511377 | V47: =U47-T47 -> 0
A48: 1.2. Előző év költségvetési maradványának igénybevétele felhalmozási célra | C48: 495628 | D48: 495628 | E48: =D48-C48 -> 0 | G48: 535460 | H48: 535460 | I48: =H48-G48 -> 0 | K48: 250469 | L48: 250469 | M48: =L48-K48 -> 0 | N48: =B48+F48+J48 -> 0 | O48: =C48+G48+K48 -> 1281557 | P48: =D48+H48+L48 -> 1281557 | Q48: =P48-O48 -> 0 | T48: 9174071 | U48: 9174071 | V48: =U48-T48 -> 0
...

Sheet 2b. tábla 2019 (2)
A1: ÁLLAMI TÁMOGATÁSOK 2019. ÉV
A2: MEGNEVEZÉS | B2: LÉTSZÁM | C2: MUTATÓ | D2: FAJLAGOS | E2: ELŐIRÁNYZAT | F2: ELTÉRÉS | G2: 2019. ÉVI MÓDOSÍTOTT EI. I. | H2: ELTÉRÉS | I2: 2019. ÉVI MÓDOSÍTOTT EI. II. | J2: ELTÉRÉS | K2: 2019. ÉVI MÓDOSÍTOTT EI. III.
A4: I. HELYI ÖNKORMÁNYZATOK MŰKÖDÉSÉNEK ÁLT.TÁMOGATÁSA | E4: =E5+E28 -> 522094841 | F4: =F5+F28 -> 1655319 | G4: =E4+F4 -> 523750160 | H4: =H5+H28 -> 5897834 | I4: =G4+H4 -> 529647994 | J4: =J5+J28 -> 815332 | K4: =I4+J4 -> 530463326
A5: 1. Települési önkormányzatok működésének támogatása | E5: =E6+E9+E19+E20+E22+E23+E25+E26 -> 522094841 | F5: =F6+F9+F19+F20+F22+F23+F25+F26 -> 0 | G5: =E5+F5 -> 522094841 | H5: =H6+H9+H19+H20+H22+H23+H25+H26+H27 -> 5093000 | I5: =G5+H5 -> 527187841 | J5: =J6+J9+J19+J20+J22+J23+J25+J26+J27 -> 0 | K5: =I5+J5 -> 527187841
A6: Önkormányzati hivatal működtetésének támogatás (beszámítás után) | E6: =E7 -> 179444400 | F6: =F7 -> 0 | G6: =E6+F6 -> 179444400 | I6: =G6+H6 -> 179444400 | K6: =I6+J6 -> 179444400
A7: Önkormányzati hivatal működtetésének támogatás elismert hivatali létsz. | C7: 39.18 | D7: 4580000 | E7: =C7*D7 -> 179444400 | G7: =E7+F7 -> 179444400 | I7: =G7+H7 -> 179444400 | K7: =I7+J7 -> 179444400
A8: Beszámítás összege | E8: 0 | G8: =E8+F8 -> 0 | I8: =G8+H8 -> 0 | K8: =I8+J8 -> 0
A9: Település üzemeltetéséhez kapcsolódó feladatellát.támog.(beszámítás után) | E9: =E10+E11+E12+E13+E14+E15+E16+E17 -> 0 | F9: =F10+F11+F12+F13+F14+F15+F16+F17 -> 0 | G9: =E9+F9 -> 0 | I9: =G9+H9 -> 0 | K9: =I9+J9 -> 0
A10: Zöldterület-gazdálk-al kapcsolatos feladatok ellátásának támog. (HA) | C10: 705.5 | D10: 22300 | E10: =C10*D10 -> 15732650 | G10: =E10+F10 -> 15732650 | I10: =G10+H10 -> 15732650 | K10: =I10+J10 -> 15732650
A11: Beszámítás összege | E11: =-E10 -> -15732650 | G11: =E11+F11 -> -15732650 | I11: =G11+H11 -> -15732650 | K11: =I11+J11 -> -15732650
A12: Közvilágítás fenntartásának támogatás | E12: 58360000 | G12: =E12+F12 -> 58360000 | I12: =G12+H12 -> 58360000 | K12: =I12+J12 -> 58360000
A13: Beszámítás összege | E13: =-E12 -> -58360000 | G13: =E13+F13 -> -58360000 | I13: =G13+H13 -> -58360000 | K13: =I13+J13 -> -58360000
A14: Köztemető fenntartással kapcsolatos feladatok támog. | E14: 2176616 | G14: =E14+F14 -> 2176616 | I14: =G14+H14 -> 2176616 | K14: =I14+J14 -> 2176616
A15: Beszámítás összege | E15: =-E14 -> -2176616 | G15: =E15+F15 -> -2176616 | I15: =G15+H15 -> -2176616 | K15: =I15+J15 -> -2176616
A16: Közutak fenntartásának támogatás | E16: 22310850 | G16: =E16+F16 -> 22310850 | I16: =G16+H16 -> 22310850 | K16: =I16+J16 -> 22310850
A17: Beszámítás összege | E17: =-E16 -> -22310850 | G17: =E17+F17 -> -22310850 | I17: =G17+H17 -> -22310850 | K17: =I17+J17 -> -22310850
A18: Egyéb önkormányzati feladatok támogatása (beszámítás után) | E18: =E19+E20 -> 0 | G18: =E18+F18 -> 0 | I18: =G18+H18 -> 0 | K18: =I18+J18 -> 0
A19: Egyéb önkormányzati feladatok támogatása | C19: 13768 | D19: 2700 | E19: =C19*D19 -> 37173600 | G19: =E19+F19 -> 37173600 | I19: =G19+H19 -> 37173600 | K19: =I19+J19 -> 37173600 | M19: Beszámítás összege
A20: Beszámítás összege | E20: =-E19 -> -37173600 | G20: =E20+F20 -> -37173600 | I20: =G20+H20 -> -37173600 | K20: =I20+J20 -> -37173600 | M20: =G20+G23+G26+G17+G15+G13+G11 -> -168006743
A21: Lakott külterületekkel kapcsolatos feladatok támogatása(beszámítás után) | E21: =E22+E23 -> 0 | G21: =E21+F21 -> 0 | I21: =G21+H21 -> 0 | K21: =I21+J21 -> 0
A22: Lakott külterületekkel kapcsolatos feladatok támogatása | C22: 117 | D22: 2550 | E22: 298350 | G22: =E22+F22 -> 298350 | I22: =G22+H22 -> 298350 | K22: =I22+J22 -> 298350
A23: Beszámítás összege | E23: =-E22 -> -298350 | G23: =E23+F23 -> -298350 | I23: =G23+H23 -> -298350 | K23: =I23+J23 -> -298350
A24: Üdülőhelyi feladatok támogatása (beszámitás után) | E24: =SUM(E25:E26) -> 342650441 | F24: =SUM(F25:F26) -> 0 | G24: =E24+F24 -> 342650441 | H24: =SUM(H25:H26) -> 0 | I24: =G24+H24 -> 342650441 | J24: =SUM(J25:J26) -> 0 | K24: =I24+J24 -> 342650441
A25: Üdülőhelyi feladatok támogatása | E25: 374605118 | G25: =E25+F25 -> 374605118 | I25: =G25+H25 -> 374605118 | K25: =I25+J25 -> 374605118
A26: Beszámítás összege | E26: -31954677 | G26: =E26+F26 -> -31954677 | I26: =G26+H26 -> -31954677 | K26: =I26+J26 -> -31954677
A27: Kiegészítő támogatás | H27: 5093000 | I27: =G27+H27 -> 5093000 | K27: =I27+J27 -> 5093000
A28: 2. 2018. évről áthúzódó és 2019. évi bérkompenzáció támogatása | E28: 0 | F28: 1655319 | G28: =E28+F28 -> 1655319 | H28: =I28-G28 -> 804834 | I28: 2460153 | J28: =K28-I28 -> 815332 | K28: 3275485
G29: =E29+F29 -> 0
A30: II. EGYES KÖZNEVELÉSI FELADATOK TÁMOGATÁSA | E30: =SUM(E31:E39)+1 -> 2.5472833e+08 | F30: =F31+F32+F33+F34+F36+F37+F38+F39 -> -647801 | G30: =E30+F30 -> 2.5408053e+08 | H30: =H31+H32+H33+H34+H36+H37+H38+H39+H35 -> 5070000 | I30: =G30+H30 -> 2.5915053e+08 | J30: =J31+J32+J33+J34+J36+J37+J38+J39+J35 -> 869307 | K30: =I30+J30 -> 2.6001984e+08
A31: Óvodapedagógusok elismert létszáma (8 hó) | B31: 35.3 | C31: =B31/12*8 -> 23.533333 | D31: 4371500 | E31: =C31*D31 -> 1.0287597e+08 | F31: -582867 | G31: =E31+F31 -> 1.022931e+08 | I31: =G31+H31 -> 1.022931e+08 | K31: =I31+J31 -> 1.022931e+08
A32: Óvodapedagógusok munkáját kvetlenül segítők (8 hó) | B32: 26 | C32: =B32/12*8 -> 17.333333 | D32: 2205000 | E32: =C32*D32 -> 38220000 | G32: =E32+F32 -> 38220000 | I32: =G32+H32 -> 38220000 | K32: =I32+J32 -> 38220000
A33: Óvodapedagógusok elismert létszáma (4 hó) | B33: 35 | C33: =B33/12*4 -> 11.666667 | D33: 4371500 | E33: =C33*D33 -> 51000833 | G33: =E33+F33 -> 51000833 | I33: =G33+H33 -> 51000833 | J33: 728584 | K33: =I33+J33 -> 51729417
A34: Óvodapedagógusok munkáját kvetlenül segítők (4 hó) | B34: 26 | C34: =B34/12*4 -> 8.6666667 | D34: 2205000 | E34: =C34*D34 -> 19110000 | G34: =E34+F34 -> 19110000 | I34: =G34+H34 -> 19110000 | K34: =I34+J34 -> 19110000
A35: Kiegészítő támogatás óvodaped. és az e ped. munkáját kvetlenül segítők bértámogatásához | H35: 5070000 | I35: =G35+H35 -> 5070000 | K35: =I35+J35 -> 5070000
A36: Gyermeklétszám (8 hó) | B36: 383 | C36: =B36/12*8 -> 255.33333 | D36: 97400 | E36: =C36*D36 -> 24869467 | F36: -64934 | G36: =E36+F36 -> 24804533 | I36: =G36+H36 -> 24804533 | K36: =I36+J36 -> 24804533
A37: Gyermeklétszám (4 hó) | B37: 379 | C37: =B37/12*4 -> 126.33333 | D37: 97400 | E37: =C37*D37 -> 12304867 | G37: =E37+F37 -> 12304867 | I37: =G37+H37 -> 12304867 | J37: 259733 | K37: =I37+J37 -> 12564600
A38: Pedagógus II. kat. sorolt óvodapedag. kieg. támog.-minősítés 2016. dec.31-ig szerezték meg | B38: 16 | C38: 16 | D38: 396700 | E38: =C38*D38 -> 6347200 | G38: =E38+F38 -> 6347200 | I38: =G38+H38 -> 6347200 | J38: -119010 | K38: =I38+J38 -> 6228190
A39: Pedagógus II. kat. sorolt óvodapedag. kieg. támog.-minősítés 2017. dec.31-ig szerezték meg | B39: 0 | C39: 0 | D39: 363642 | E39: =C39*D39 -> 0 | G39: =E39+F39 -> 0 | I39: =G39+H39 -> 0 | K39: =I39+J39 -> 0
A40: MEGNEVEZÉS | B40: LÉTSZÁM | C40: MUTATÓ | D40: FAJLAGOS | E40: ELŐIRÁNYZAT | F40: ELTÉRÉS | G40: 2019. ÉVI MÓDOSÍTOTT EI. I. | H40: ELTÉRÉS | I40: 2019. ÉVI MÓDOSÍTOTT EI. II. | J40: ELTÉRÉS | K40: 2019. ÉVI MÓDOSÍTOTT EI. III.
A42: III. SZOCIÁLIS, GYERMEKJÓLÉTI ÉS GYERMEKÉTKEZTETÉSI FELADATAI | E42: =E43+E46+E62+E67+E71 -> 215151670 | F42: =F43+F46+F62+F67+F71 -> 10418225 | G42: =E42+F42 -> 225569895 | H42: =H43+H46+H62+H67+H71 -> 27375476 | I42: =G42+H42 -> 252945371 | J42: =J43+J46+J62+J67+J71 -> 3513363 | K42: =I42+J42 -> 256458734
...

Sheet 2c. tábla 2019. (2)
C1: ÁLLAMI TÁMOGATÁSOK INTÉZMÉNYENKÉNT 2019. ÉV
A3: Mell. | B3: Sorszám | C3: Megnevezés | D3: Létszám | E3: MUTATÓ | F3: FAJLAGOS | G3: EREDETI EI. | H3: ELTÉRÉS | I3: 2019. ÉVI MÓDOSÍTOTT EI. I. | J3: ELTÉRÉS | K3: 2019. ÉVI MÓDOSÍTOTT EI. II. | L3: ELTÉRÉS | M3: 2019. ÉVI MÓDOSÍTOTT EI. III.
A4: 2 | B4: II.1. | C4: Óvodapedagógusok elismert létszáma (8 hó) | D4: 13.9 | E4: =D4/12*8 -> 9.2666667 | F4: 4371500 | G4: =E4*F4 -> 40509233 | H4: -582866 | I4: =G4+H4 -> 39926367 | K4: =J4+I4 -> 39926367 | M4: =L4+K4 -> 39926367
A5: 2 | B5: II.1. | C5: Óvodapedagógusok munkáját kvetlenül segítők (8 hó) | D5: 10 | E5: =D5/12*8 -> 6.6666667 | F5: 2205000 | G5: =E5*F5 -> 14700000 | I5: =G5+H5 -> 14700000 | K5: =J5+I5 -> 14700000 | M5: =L5+K5 -> 14700000
A6: 2 | B6: II.1. | C6: Óvodapedagógusok elismert létszáma (4 hó) | D6: 13.9 | E6: =D6/12*4 -> 4.6333333 | F6: 4371500 | G6: =E6*F6 -> 20254617 | I6: =G6+H6 -> 20254617 | K6: =J6+I6 -> 20254617 | L6: 437150 | M6: =L6+K6 -> 20691767
A7: 2 | B7: II.1. | C7: Óvodapedagógusok munkáját kvetlenül segítők (4 hó) | D7: 10 | E7: =D7/12*4 -> 3.3333333 | F7: 2205000 | G7: =E7*F7 -> 7350000 | I7: =G7+H7 -> 7350000 | K7: =J7+I7 -> 7350000 | M7: =L7+K7 -> 7350000
B8: II.1. | C8: Kieg.tám.óvodaped. és az e ped. munkáját kvetlenül segítők bértám-hoz | J8: 1950000 | K8: =J8+I8 -> 1950000 | M8: =L8+K8 -> 1950000
A9: 2 | B9: II.2. | C9: Óvodaműködtetési támogatás (8 hó) | D9: 154 | E9: =D9/12*8 -> 102.66667 | F9: 97400 | G9: =E9*F9 -> 9999733.3 | H9: -194802 | I9: =G9+H9 -> 9804931.3 | K9: =J9+I9 -> 9804931.3 | M9: =L9+K9 -> 9804931.3
A10: 2 | B10: II.2. | C10: Óvodaműködtetési támogatás (4 hó) | D10: 154 | E10: =D10/12*4 -> 51.333333 | F10: 97400 | G10: =E10*F10 -> 4999866.7 | I10: =G10+H10 -> 4999866.7 | K10: =J10+I10 -> 4999866.7 | L10: 162333 | M10: =L10+K10 -> 5162199.7
A11: 2 | B11: II.4.a | C11: Pedagógus II. kategóriába sorolt óvodapedagógusok kieg. támog. | E11: 6 | F11: 396700 | G11: =E11*F11 -> 2380200 | I11: =G11+H11 -> 2380200 | K11: =J11+I11 -> 2380200 | M11: =L11+K11 -> 2380200
A12: 2 | B12: II.4.b | C12: Pedagógus II. kategóriába sorolt óvodapedagógusok kieg. támog. | E12: 0 | F12: 363642 | G12: =E12*F12 -> 0 | I12: =G12+H12 -> 0 | K12: =J12+I12 -> 0 | M12: =L12+K12 -> 0
A13: 2 | B13: III. 5.aa | C13: Gyermekétkeztetés támogatása (bértámogatás) | D13: 131 | E13: =131/1091*24.73 -> 2.9694134 | F13: 1900000 | G13: =E13*F13 -> 5641885.4 | I13: =G13+H13 -> 5641885.4 | K13: =J13+I13 -> 5641885.4 | M13: =L13+K13 -> 5641885.4
A14: 2 | B14: III. 5.ab | C14: Gyermekétkeztetés üzemeltetési támogatása | G14: 6824272 | I14: =G14+H14 -> 6824272 | J14: 406199 | K14: =J14+I14 -> 7230471 | M14: =L14+K14 -> 7230471
B15: III. 5. | C15: Kiegészítő támogatás gyermekétkeztetés támogatására | J15: 593883 | K15: =J15+I15 -> 593883 | M15: =L15+K15 -> 593883
A16: 2 | B16: I.5. | C16: 2018. évről áthúzódó és 2019. évi bérkompenzáció támogatása | H16: 0 | I16: =G16+H16 -> 0 | K16: =J16+I16 -> 0 | M16: =L16+K16 -> 0
C17: Balatonfüredi Kiserdei óvoda összesen: | G17: =SUM(G4:G16) -> 1.1265981e+08 | H17: =SUM(H4:H16) -> -777668 | I17: =G17+H17 -> 1.1188214e+08 | J17: =SUM(J4:J16) -> 2950082 | K17: =J17+I17 -> 1.1483222e+08 | L17: =SUM(L4:L16) -> 599483 | M17: =L17+K17 -> 1.154317e+08 | Q17: =L17+L32+L47+L62 -> 893982
A19: 2 | B19: II.1. | C19: Óvodapedagógusok elismert létszáma (8 hó) | D19: 11.6 | E19: =D19/12*8 -> 7.7333333 | F19: 4371500 | G19: =E19*F19 -> 33806267 | H19: 582866 | I19: =G19+H19 -> 34389133 | K19: =J19+I19 -> 34389133 | M19: =L19+K19 -> 34389133
A20: 2 | B20: II.1. | C20: Óvodapedagógusok munkáját kvetlenül segítők (8 hó) | D20: 9 | E20: =D20/12*8 -> 6 | F20: 2205000 | G20: =E20*F20 -> 13230000 | I20: =G20+H20 -> 13230000 | K20: =J20+I20 -> 13230000 | M20: =L20+K20 -> 13230000
A21: 2 | B21: II.1. | C21: Óvodapedagógusok elismert létszáma (4 hó) | D21: 11.5 | E21: =D21/12*4 -> 3.8333333 | F21: 4371500 | G21: =E21*F21 -> 16757417 | I21: =G21+H21 -> 16757417 | K21: =J21+I21 -> 16757417 | M21: =L21+K21 -> 16757417
A22: 2 | B22: II.1. | C22: Óvodapedagógusok munkáját kvetlenül segítők (4 hó) | D22: 9 | E22: =D22/12*4 -> 3 | F22: 2205000 | G22: =E22*F22 -> 6615000 | I22: =G22+H22 -> 6615000 | K22: =J22+I22 -> 6615000 | M22: =L22+K22 -> 6615000
B23: II.1. | C23: Kieg.tám.óvodaped. és az e ped. munkáját kvetlenül segítők bértám-hoz | J23: 1755000 | K23: =J23+I23 -> 1755000 | M23: =L23+K23 -> 1755000
A24: 2 | B24: II.2. | C24: Gyermeklétszám (8 hó) | D24: 126 | E24: =D24/12*8 -> 84 | F24: 97400 | G24: =E24*F24 -> 8181600 | H24: 129868 | I24: =G24+H24 -> 8311468 | K24: =J24+I24 -> 8311468 | M24: =L24+K24 -> 8311468
A25: 2 | B25: II.2. | C25: Gyermeklétszám (4 hó) | D25: 125 | E25: =D25/12*4 -> 41.666667 | F25: 97400 | G25: =E25*F25 -> 4058333.3 | I25: =G25+H25 -> 4058333.3 | K25: =J25+I25 -> 4058333.3 | M25: =L25+K25 -> 4058333.3
A26: 2 | B26: II.4.a | C26: Pedagógus II. kategóriába sorolt óvodapedagógusok kieg. támog. | E26: 6 | F26: 396700 | G26: =E26*F26 -> 2380200 | I26: =G26+H26 -> 2380200 | K26: =J26+I26 -> 2380200 | L26: -119010 | M26: =L26+K26 -> 2261190
A27: 2 | B27: II.4.b | C27: Pedagógus II. kategóriába sorolt óvodapedagógusok kieg. támog. | E27: 0 | F27: 363642 | G27: =E27*F27 -> 0 | I27: =G27+H27 -> 0 | K27: =J27+I27 -> 0 | M27: =L27+K27 -> 0
A28: 2 | B28: III. 5.aa | C28: Gyermekétkeztetés támogatása (bértámogatás) | E28: =106/1091*24.73 -> 2.4027314 | F28: 1900000 | G28: =E28*F28 -> 4565189.7 | I28: =G28+H28 -> 4565189.7 | K28: =J28+I28 -> 4565189.7 | M28: =L28+K28 -> 4565189.7
A29: 2 | B29: III. 5.ab | C29: Gyermekétkeztetés üzemeltetési támogatása | G29: 6325352 | I29: =G29+H29 -> 6325352 | J29: 360324 | K29: =J29+I29 -> 6685676 | M29: =L29+K29 -> 6685676
B30: III. 5. | C30: Kiegészítő támogatás gyermekétkeztetés támogatására | J30: 480546
A31: 2 | B31: I.5. | C31: 2018. évről áthúzódó és 2019. évi bérkompenzáció támogatása | H31: 54010 | I31: =G31+H31 -> 54010 | J31: 24814 | K31: =J31+I31 -> 78824 | L31: 24675 | M31: =L31+K31 -> 103499
C32: Balatonfüredi Óvárosi óvoda összesen: | G32: =SUM(G19:G31) -> 95919358 | H32: =SUM(H19:H31) -> 766744 | I32: =G32+H32 -> 96686102 | J32: =SUM(J19:J31) -> 2620684 | K32: =J32+I32 -> 99306786 | L32: =SUM(L19:L31) -> -94335 | M32: =L32+K32 -> 99212451
K33: =J33+I33 -> 0 | M33: =L33+K33 -> 0
A34: 2 | B34: II.1. | C34: Óvodapedagógusok elismert létszáma (8 hó) | D34: 6.8 | E34: =D34/12*8 -> 4.5333333 | F34: 4371500 | G34: =E34*F34 -> 19817467 | I34: =G34+H34 -> 19817467 | K34: =J34+I34 -> 19817467 | M34: =L34+K34 -> 19817467
A35: 2 | B35: II.1. | C35: Óvodapedagógusok munkáját kvetlenül segítők (8 hó) | D35: 5 | E35: =D35/12*8 -> 3.3333333 | F35: 2205000 | G35: =E35*F35 -> 7350000 | I35: =G35+H35 -> 7350000 | K35: =J35+I35 -> 7350000 | M35: =L35+K35 -> 7350000
A36: 2 | B36: II.1. | C36: Óvodapedagógusok elismert létszáma (4 hó) | D36: 6.8 | E36: =D36/12*4 -> 2.2666667 | F36: 4371500 | G36: =E36*F36 -> 9908733.3 | I36: =G36+H36 -> 9908733.3 | K36: =J36+I36 -> 9908733.3 | L36: -437150 | M36: =L36+K36 -> 9471583.3
A37: 2 | B37: II.1. | C37: Óvodapedagógusok munkáját kvetlenül segítők (4 hó) | D37: 5 | E37: =D37/12*4 -> 1.6666667 | F37: 2205000 | G37: =E37*F37 -> 3675000 | I37: =G37+H37 -> 3675000 | K37: =J37+I37 -> 3675000 | M37: =L37+K37 -> 3675000
B38: II.1. | C38: Kieg.tám.óvodaped. és az e ped. munkáját kvetlenül segítők bértám-hoz | J38: 975000 | K38: =J38+I38 -> 975000 | M38: =L38+K38 -> 975000
A39: 2 | B39: II.2. | C39: Gyermeklétszám (8 hó) | D39: 73 | E39: =D39/12*8 -> 48.666667 | F39: 97400 | G39: =E39*F39 -> 4740133.3 | I39: =G39+H39 -> 4740133.3 | K39: =J39+I39 -> 4740133.3 | M39: =L39+K39 -> 4740133.3
A40: 2 | B40: II.2. | C40: Gyermeklétszám (4 hó) | D40: 73 | E40: =D40/12*4 -> 24.333333 | F40: 97400 | G40: =E40*F40 -> 2370066.7 | I40: =G40+H40 -> 2370066.7 | K40: =J40+I40 -> 2370066.7 | L40: -129867 | M40: =L40+K40 -> 2240199.7
A41: 2 | B41: II.4.a | C41: Pedagógus II. kategóriába sorolt óvodapedagógusok kieg. támog. | E41: 3 | F41: 396700 | G41: =E41*F41 -> 1190100 | I41: =G41+H41 -> 1190100 | K41: =J41+I41 -> 1190100 | M41: =L41+K41 -> 1190100
A42: 2 | B42: II.4.b | C42: Pedagógus II. kategóriába sorolt óvodapedagógusok kieg. támog. | E42: 0 | F42: 363642 | G42: =E42*F42 -> 0 | I42: =G42+H42 -> 0 | K42: =J42+I42 -> 0 | M42: =L42+K42 -> 0
...

Sheet 3.sz. tábla  (2)
A3: BALATONFÜRED VÁROS ÖNKORMÁNYZAT BEVÉTELI ELŐIRÁNYZATAI KÖLTSÉGVETÉSI SZERVEK SZERINTI BONTÁSBAN 2019. ÉV | R3: BALATONFÜRED VÁROS ÖNKORMÁNYZAT BEVÉTELI ELŐIRÁNYZATAI KÖLTSÉGVETÉSI SZERVEK SZERINTI BONTÁSBAN 2019. ÉV
A6: MEGNEVEZÉS | B6: ÁLLAMI TÁMOGATÁS | F6: ÖNKORMÁNYZATI TÁMOGATÁS | J6: IRÁNYÍTÓ SZERVTŐL KAPOTT TÁMOGATÁS | N6: SAJÁT BEVÉTEL | R6: MEGNEVEZÉS | S6: MARADVÁNY IGÉNYBEVÉTEL | W6: FINANSZÍROZÁSI CÉLÚ BEVÉTELEK | AA6: BEVÉTELEK ÖSSZESEN | AE6: 2019. ÉV
AE7: Kötelező feladatok | AF7: Önként vállalt feladatok | AH7: Államigazgatási feladatok
B8: 2019. évi eredeti ei. | C8: 2019. évi módosított ei. II. | D8: 2019. évi módosított ei. III. | E8: Eltérés | F8: 2019. évi eredeti ei. | G8: 2019. évi módosított ei. II. | H8: 2019. évi módosított ei. III. | I8: Eltérés | J8: 2019. évi eredeti ei. | K8: 2019. évi módosított ei. II. | L8: 2019. évi módosított ei. III. | M8: Eltérés | N8: 2019. évi eredeti ei. | O8: 2019. évi módosított ei. II. | P8: 2019. évi módosított ei. III. | Q8: Eltérés | S8: 2019. évi eredeti ei. | T8: 2019. évi módosított ei. II. | U8: 2019. évi módosított ei. III. | V8: Eltérés | W8: 2019. évi eredeti ei. | X8: 2019. évi módosított ei. II. | Y8: 2019. évi módosított ei. III. | Z8: Eltérés | AA8: 2019. évi eredeti ei. | AB8: 2019. évi módosított ei. II. | AC8: 2019. évi módosított ei. III. | AD8: Eltérés | AF8: Állami támogatás, saját bevétel és költségvetési maradvány | AG8: Önkormányzati támogatás | AH8: Állami támogatás, saját bevétel és költségvetési maradvány | AI8: Önkormányzati támogatás
A9: Lipták Gábor Városi Könyvtár | B9: ='2c. tábla 2019. (2)'!G107 -> 16659280 | C9: ='2c. tábla 2019. (2)'!K107 -> 18871213 | D9: ='2c. tábla 2019. (2)'!M107 -> 19745502 | E9: =D9-C9 -> 874289 | F9: ='2.a tábla ÚJ '!B50-'3.sz. tábla (2)'!B9 -> 35769169 | G9: ='2.a tábla ÚJ '!C50-'3.sz. tábla (2)'!C9 -> 36126493 | H9: ='2.a tábla ÚJ '!D50-'3.sz. tábla (2)'!D9 -> 34832747 | I9: =H9-G9 -> -1293746 | J9: =B9+F9 -> 52428449 | K9: =C9+G9 -> 54997706 | L9: =D9+H9 -> 54578249 | M9: =L9-K9 -> -419457 | N9: ='2.a tábla ÚJ '!B44 -> 3863750 | O9: ='2.a tábla ÚJ '!C44 -> 3363750 | P9: ='2.a tábla ÚJ '!D44 -> 3163750 | Q9: =P9-O9 -> -200000 | R9: Lipták Gábor Városi Könyvtár | S9: ='2.a tábla ÚJ '!B46 -> 0 | T9: ='2.a tábla ÚJ '!C46 -> 3317009 | U9: ='2.a tábla ÚJ '!D46 -> 3317009 | V9: =U9-T9 -> 0 | Z9: =X9-W9 -> 0 | AA9: =J9+N9+S9+W9 -> 56292199 | AB9: =K9+O9+T9+X9 -> 61678465 | AC9: =L9+P9+U9+Y9 -> 61059008 | AD9: =M9+Q9+V9+Z9 -> -619457 | AE9: =AC9 -> 61059008 | AJ9: =SUM(AE9:AG9) -> 61059008
A10: Balatonfüredi Városi Szakorvosi Rendelőintézet | B10: ='2c. tábla 2019. (2)'!G110 -> 0 | C10: ='2c. tábla 2019. (2)'!K110 -> 585108 | D10: ='2c. tábla 2019. (2)'!M110 -> 845955 | E10: =D10-C10 -> 260847 | F10: ='2.a tábla ÚJ '!F50-'3.sz. tábla (2)'!B10 -> 62794500 | G10: ='2.a tábla ÚJ '!G50-'3.sz. tábla (2)'!C10 -> 61776463 | H10: ='2.a tábla ÚJ '!H50-'3.sz. tábla (2)'!D10 -> 61929850 | I10: =H10-G10 -> 153387 | J10: =B10+F10 -> 62794500 | K10: =C10+G10 -> 62361571 | L10: =D10+H10 -> 62775805 | M10: =L10-K10 -> 414234 | N10: ='2.a tábla ÚJ '!F44 -> 162707500 | O10: ='2.a tábla ÚJ '!G44 -> 167290000 | P10: ='2.a tábla ÚJ '!H44 -> 167602424 | Q10: =P10-O10 -> 312424 | R10: Balatonfüredi Városi Szakorvosi Rendelőintézet | S10: ='2.a tábla ÚJ '!F46 -> 0 | T10: ='2.a tábla ÚJ '!G46 -> 7051405 | U10: ='2.a tábla ÚJ '!H46 -> 7051405 | V10: =U10-T10 -> 0 | Z10: =X10-W10 -> 0 | AA10: =J10+N10+S10+W10 -> 225502000 | AB10: =K10+O10+T10+X10 -> 236702976 | AC10: =L10+P10+U10+Y10 -> 237429634 | AD10: =M10+Q10+V10+Z10 -> 726658 | AE10: =123284540+535460+1674000+326000+3230016+853000-200000+3507500+600000-23900+223500-12055-400000+39113-300000-410000+900000 -> 133827174 | AF10: =78162000+1000000+75000+175665+86386+85659+300000 -> 79884710 | AG10: =24055460-175665+200000-86386-600000-85659+410000 -> 23717750 | AJ10: =SUM(AE10:AG10) -> 237429634
A11: Balatonfüredi Városi Bölcsőde | B11: ='2c. tábla 2019. (2)'!G74 -> 46030643 | C11: ='2c. tábla 2019. (2)'!K74 -> 47310871 | D11: ='2c. tábla 2019. (2)'!M74 -> 47603312 | E11: =D11-C11 -> 292441 | F11: ='2.a tábla ÚJ '!J50-'3.sz. tábla (2)'!B11 -> 20123165 | G11: ='2.a tábla ÚJ '!K50-'3.sz. tábla (2)'!C11 -> 17655166 | H11: ='2.a tábla ÚJ '!L50-'3.sz. tábla (2)'!D11 -> 17303157 | I11: =H11-G11 -> -352009 | J11: =B11+F11 -> 66153808 | K11: =C11+G11 -> 64966037 | L11: =D11+H11 -> 64906469 | M11: =L11-K11 -> -59568 | N11: ='2.a tábla ÚJ '!J44 -> 3996975 | O11: ='2.a tábla ÚJ '!K44 -> 3996975 | P11: ='2.a tábla ÚJ '!L44 -> 3996975 | Q11: =P11-O11 -> 0 | R11: Balatonfüredi Városi Bölcsőde | S11: ='2.a tábla ÚJ '!J46 -> 176276 | T11: ='2.a tábla ÚJ '!K46 -> 3996184 | U11: ='2.a tábla ÚJ '!L46 -> 3996184 | V11: =U11-T11 -> 0 | Z11: =X11-W11 -> 0 | AA11: =J11+N11+S11+W11 -> 70327059 | AB11: =K11+O11+T11+X11 -> 72959196 | AC11: =L11+P11+U11+Y11 -> 72899628 | AD11: =M11+Q11+V11+Z11 -> -59568 | AE11: =66649134+662000+129001+566043+250469+728000+296624-59568 -> 69221703 | AG11: 3677925 | AJ11: =SUM(AE11:AG11) -> 72899628
A12: Intézmények összesen: | B12: =B9+B10+B11 -> 62689923 | C12: =C9+C10+C11 -> 66767192 | D12: =D9+D10+D11 -> 68194769 | E12: =E9+E10+E11 -> 1427577 | F12: =F9+F10+F11 -> 1.1868683e+08 | G12: =G9+G10+G11 -> 1.1555812e+08 | H12: =H9+H10+H11 -> 1.1406575e+08 | I12: =I9+I10+I11 -> -1492368 | J12: =B12+F12 -> 181376757 | K12: =C12+G12 -> 182325314 | L12: =D12+H12 -> 182260523 | M12: =M9+M10+M11 -> -64791 | N12: =N9+N10+N11 -> 170568225 | O12: =O9+O10+O11 -> 174650725 | P12: =P9+P10+P11 -> 174763149 | Q12: =Q9+Q10+Q11 -> 112424 | R12: Intézmények összesen: | S12: =S9+S10+S11 -> 176276 | T12: =T9+T10+T11 -> 14364598 | U12: =U9+U10+U11 -> 14364598 | V12: =V9+V10+V11 -> 0 | Z12: =Z9+Z10+Z11 -> 0 | AA12: =AA9+AA10+AA11 -> 352121258 | AB12: =AB9+AB10+AB11 -> 371340637 | AC12: =AC9+AC10+AC11 -> 371388270 | AD12: =AD9+AD10+AD11 -> 47633 | AE12: =SUM(AE9:AE11) -> 264107885 | AF12: =SUM(AF9:AF11) -> 79884710 | AG12: =SUM(AG9:AG11) -> 27395675 | AI12: =SUM(AI9:AI11) -> 0 | AJ12: =SUM(AE12:AG12) -> 371388270
A13: Balatonfüredi Közös Önkormányzati Hivatal | B13: ='2c. tábla 2019. (2)'!G100 -> 179444400 | C13: ='2c. tábla 2019. (2)'!K100 -> 185599893 | D13: ='2c. tábla 2019. (2)'!M100 -> 185644308 | E13: =D13-C13 -> 44415 | F13: ='2.a tábla ÚJ '!S50-'3.sz. tábla (2)'!B13 -> 233845252 | G13: ='2.a tábla ÚJ '!T50-'3.sz. tábla (2)'!C13 -> 225110831 | H13: ='2.a tábla ÚJ '!U50-'3.sz. tábla (2)'!D13 -> 226254884 | I13: =H13-G13 -> 1144053 | J13: =B13+F13 -> 413289652 | K13: =C13+G13 -> 410710724 | L13: =D13+H13 -> 411899192 | M13: =L13-K13 -> 1188468 | N13: ='2.a tábla ÚJ '!S44 -> 60062625 | O13: ='2.a tábla ÚJ '!T44 -> 64792081 | P13: ='2.a tábla ÚJ '!U44 -> 70667116 | Q13: =P13-O13 -> 5875035 | R13: Balatonfüredi Közös Önkormányzati Hivatal | S13: ='2.a tábla ÚJ '!S46 -> 0 | T13: ='2.a tábla ÚJ '!T46 -> 23685448 | U13: ='2.a tábla ÚJ '!U46 -> 23685448 | V13: =U13-T13 -> 0 | Z13: =X13-W13 -> 0 | AA13: =J13+N13+S13+W13 -> 473352277 | AB13: =K13+O13+T13+X13 -> 499188253 | AC13: =L13+P13+U13+Y13 -> 506251756 | AD13: =M13+Q13+V13+Z13 -> 7063503 | AE13: ='4.sz.tábla '!AW10 -> 391790399 | AG13: ='4.sz.tábla '!AX10-AF13 -> 6188192 | AH13: ='9. sz. tábla (2)'!C84+'9. sz. tábla (2)'!C93 -> 57056285 | AI13: ='4.sz.tábla '!AY10-'3.sz. tábla (2)'!AH13 -> 51216880 | AJ13: =SUM(AE13:AI13) -> 506251756 | AK13: =SUM(AH13:AI13) -> 108273165
A14: Költségvetési szervek összesen: | B14: =SUM(B12:B13) -> 2.4213432e+08 | C14: =SUM(C12:C13) -> 2.5236708e+08 | D14: =SUM(D12:D13) -> 2.5383908e+08 | E14: =SUM(E12:E13) -> 1471992 | F14: =SUM(F12:F13) -> 3.5253209e+08 | G14: =SUM(G12:G13) -> 3.4066895e+08 | H14: =SUM(H12:H13) -> 3.4032064e+08 | I14: =SUM(I12:I13) -> -348315 | ... Q14: =SUM(Q12:Q13) -> 5987459 | R14: Költségvetési szervek összesen: | S14: =SUM(S12:S13) -> 176276 | T14: =SUM(T12:T13) -> 38050046 | U14: =SUM(U12:U13) -> 38050046 | V14: =SUM(V12:V13) -> 0 | Z14: =SUM(Z12:Z13) -> 0 | AA14: =SUM(AA12:AA13) -> 825473535 | AB14: =SUM(AB12:AB13) -> 870528890 | AC14: =SUM(AC12:AC13) -> 877640026 | AD14: =SUM(AD12:AD13) -> 7111136 | AE14: =SUM(AE12:AE13) -> 655898284 | AF14: =SUM(AF12:AF13) -> 79884710 | AG14: =SUM(AG12:AG13) -> 33583867 | ... AI14: =SUM(AI12:AI13) -> 51216880 | AJ14: =SUM(AE14:AI14) -> 877640026 | AK14: =SUM(AH14:AI14) -> 108273165
A15: Önkormányzat | B15: =B18-B14 -> 7.664998e+08 | C15: =C18-C14 -> 8.475623e+08 | D15: =D18-D14 -> 9.0346656e+08 | E15: =E18-E14 -> 55904261 | F15: =-F14 -> -3.5253209e+08 | G15: =-G14 -> -3.4066895e+08 | H15: =-H14 -> -3.4032064e+08 | I15: =H15-G15 -> 348315 | N15: ='2.sz.tábla (2)'!B92-'2.sz.tábla (2)'!B75-'2.sz.tábla (2)'!B8 -> 4.9756409e+09 | O15: ='2.sz.tábla (2)'!C92-'2.sz.tábla (2)'!C75-'2.sz.tábla (2)'!C8-'2.sz.tábla (2)'!C23 -> 5.3270518e+09 | P15: ='2.sz.tábla (2)'!D92-'2.sz.tábla (2)'!D75-'2.sz.tábla (2)'!D8-'2.sz.tábla (2)'!D23 -> 6.468613e+09 | Q15: =P15-O15 -> 1141561260 | R15: Önkormányzat | S15: ='2.sz.tábla (2)'!B76 -> 4089724642 | T15: ='2.sz.tábla (2)'!C76 -> 4108698593 | U15: ='2.sz.tábla (2)'!D76 -> 4108698593 | V15: =U15-T15 -> 0 | W15: ='2.sz.tábla (2)'!B79 -> 1567650796 | X15: ='2.sz.tábla (2)'!C79 -> 1709004901 | Y15: ='2.sz.tábla (2)'!D79 -> 1735004901 | Z15: =Y15-X15 -> 26000000 | AA15: =J15+N15+S15+W15+F15+B15 -> 1.1046984e+10 | AB15: =K15+O15+T15+X15+G15+C15 -> 1.1651649e+10 | AC15: =L15+P15+U15+Y15+H15+D15 -> 1.2875462e+10 | AD15: =M15+Q15+V15+Z15+I15+E15 -> 1223813836
A16: Mindösszesen: | B16: =SUM(B14:B15) -> 1.0086341e+09 | C16: =SUM(C14:C15) -> 1.0999294e+09 | D16: =SUM(D14:D15) -> 1.1573056e+09 | E16: =SUM(E14:E15) -> 57376253 | F16: =SUM(F14:F15) -> 0 | I16: =SUM(I14:I15) -> 0 | J16: =SUM(J14:J15) -> 594666409 | K16: =SUM(K14:K15) -> 593036038 | L16: =SUM(L14:L15) -> 594159715 | M16: =SUM(M14:M15) -> 1123677 | N16: =SUM(N14:N15) -> 5.2062718e+09 | O16: =SUM(O14:O15) -> 5.5664946e+09 | P16: =SUM(P14:P15) -> 6.7140433e+09 | Q16: =SUM(Q14:Q15) -> 1147548719 | R16: Mindösszesen: | S16: =SUM(S14:S15) -> 4089900918 | T16: =SUM(T14:T15) -> 4146748639 | U16: =SUM(U14:U15) -> 4146748639 | V16: =SUM(V14:V15) -> 0 | W16: =SUM(W14:W15) -> 1567650796 | X16: =SUM(X14:X15) -> 1709004901 | Y16: =SUM(Y14:Y15) -> 1735004901 | Z16: =SUM(Z14:Z15) -> 26000000 | ... AD16: =SUM(AD14:AD15) -> 1230924972
B18: ='2c. tábla 2019. (2)'!G136 -> 1.0086341e+09 | C18: ='2c. tábla 2019. (2)'!K136 -> 1.0999294e+09 | D18: ='2c. tábla 2019. (2)'!M136 -> 1.1573056e+09 | E18: ='2c. tábla 2019. (2)'!L136 -> 57376253

Sheet 4.sz.tábla 
A1: BALATONFÜRED VÁROS ÖNKORMÁNYZAT BEVÉTELI ELŐIRÁNYZATAI KÖLTSÉGVETÉSI SZERVEK SZERINTI BONTÁSBAN
A2: AZ ÖNKORMÁNYZAT KIADÁSI ELŐIRÁNYZATAI INTÉZMÉNYEK SZERINTI BONTÁSBAN KIEMELT ELŐIRÁNYZATONKÉNT 2019. ÉV | N2: AZ ÖNKORMÁNYZAT KIADÁSI ELŐIRÁNYZATAI INTÉZMÉNYEK SZERINTI BONTÁSBAN KIEMELT ELŐIRÁNYZATONKÉNT 2019. ÉV | AA2: AZ ÖNKORMÁNYZAT KIADÁSI ELŐIRÁNYZATAI INTÉZMÉNYEK SZERINTI BONTÁSBAN KIEMELT ELŐIRÁNYZATONKÉNT 2019. ÉV | AN2: AZ ÖNKORMÁNYZAT KIADÁSI ELŐIRÁNYZATAI INTÉZMÉNYEK SZERINTI BONTÁSBAN KIEMELT ELŐIRÁNYZATONKÉNT 2019. ÉV
A4: MEGNEVEZÉS | B4: SZEMÉLYI JUTTATÁS | F4: MUNKAADÓKAT TERH. JÁRULÉKOK ÉS SZOCIÁLIS HOZZÁJÁRULÁSI ADÓ | J4: DOLOGI KIADÁSOK | N4: MEGNEVEZÉS | O4: ELLÁTOTTAK PÉNZBELI JUTTATÁSAI | S4: EGYÉB MŰKÖDÉSI CÉLÚ KIADÁSOK | W4: BERUHÁZÁSOK | AA4: MEGNEVEZÉS | AB4: FELÚJÍTÁSOK | AF4: EGYÉB FELHALMOZÁSI KIADÁSOK | AJ4: FINANSZÍROZÁSI KIADÁSOK | AN4: MEGNEVEZÉS | AO4: TARTALÉKOK | AS4: ÖSSZESEN | AW4: 2019. ÉV
B5: 2019. évi eredeti ei. | C5: 2019. évi módosított ei. II. | D5: 2019. évi módosított ei. III. | E5: Eltérés | F5: 2019. évi eredeti ei. | G5: 2019. évi módosított ei. II. | H5: 2019. évi módosított ei. III. | I5: Eltérés | J5: 2019. évi eredeti ei. | K5: 2019. évi módosított ei. II. | L5: 2019. évi módosított ei. III. | M5: Eltérés | O5: 2019. évi eredeti ei. | P5: 2019. évi módosított ei. I. | Q5: 2019. évi módosított ei. II. | R5: Eltérés | S5: 2019. évi eredeti ei. | T5: 2019. évi módosított ei. II. | U5: 2019. évi módosított ei. III. | V5: Eltérés | W5: 2019. évi eredeti ei. | X5: 2019. évi módosított ei. II. | Y5: 2019. évi módosított ei. III. | Z5: Eltérés | AB5: 2019. évi eredeti ei. | AC5: 2019. évi módosított ei. II. | AD5: 2019. évi módosított ei. III. | AE5: Eltérés | AF5: 2019. évi eredeti ei. | AG5: 2019. évi módosított ei. II. | AH5: 2019. évi módosított ei. III. | AI5: Eltérés | AJ5: 2019. évi eredeti ei. | AK5: 2019. évi módosított ei. II. | AL5: 2019. évi módosított ei. III. | AM5: Eltérés | AO5: 2019. évi eredeti ei. | AP5: 2019. évi módosított ei. II. | AQ5: 2019. évi módosított ei. III. | AR5: Eltérés | AS5: 2019. évi eredeti ei. | AT5: 2019. évi módosított ei. II. | AU5: 2019. évi módosított ei. III. | AV5: Eltérés | AW5: Kötelező feladatok | AX5: Önként vállalt feladatok | AY5: Államigazgatási feladatok
