Workbook
Name onev: [1]kod!$BT$34:$BT$3186
Name onev: [2]kod!$BT$34:$BT$3186

Sheet 1.sz.tábla
A1: AZ ÖNKORMÁNYZAT MÉRLEGE 2018. ÉV
A2: Mérleg | F2: %
A3: # | B3: Megnevezés | C3: Előző időszak (Ft) | D3: Módosítások (+/-) | E3: Tárgyi időszak (Ft)
A4: 1 | B4: 2 | C4: 3 | D4: 4 | E4: 5 | F4: 6
A5: 02 | B5: A/I/2 Szellemi termékek | C5: 750000 | D5: 0 | E5: 501822 | F5: =E5/C5*100 -> 66.9096
A6: 04 | B6: A/I Immateriális javak (=A/I/1+A/I/2+A/I/3) | C6: =SUM(C5) -> 750000 | D6: =SUM(D5) -> 0 | E6: =SUM(E5) -> 501822 | F6: =E6/C6*100 -> 66.9096
A7: 05 | B7: A/II/1 Ingatlanok és a kapcsolódó vagyoni értékű jogok | C7: 326448173 | D7: 0 | E7: 334361549 | F7: =E7/C7*100 -> 102.42408
A8: 06 | B8: A/II/2 Gépek, berendezések, felszerelések, járművek | C8: 7178934 | D8: 0 | E8: 4505537 | F8: =E8/C8*100 -> 62.76053
A9: 08 | B9: A/II/4 Beruházások, felújítások | C9: 20964473 | D9: 0 | E9: 8501300 | F9: =E9/C9*100 -> 40.550984
A10: 10 | B10: A/II Tárgyi eszközök (=A/II/1+...+A/II/5) | C10: =SUM(C7:C9) -> 354591580 | D10: =SUM(D7:D9) -> 0 | E10: =SUM(E7:E9) -> 347368386 | F10: =E10/C10*100 -> 97.962954
A11: 11 | B11: A/III/1 Tartós részesedések (=A/III/1a+…+A/III/1e) | C11: 5729410 | D11: 0 | E11: 5729410 | F11: =E11/C11*100 -> 100
A12: 16 | B12: A/III/1e - ebből: egyéb tartós részesedések | C12: 5729410 | D12: 0 | E12: 5729410 | F12: =E12/C12*100 -> 100
A13: 21 | B13: A/III Befektetett pénzügyi eszközök (=A/III/1+A/III/2+A/III/3) | C13: =SUM(C11) -> 5729410 | D13: =SUM(D11) -> 0 | E13: =SUM(E11) -> 5729410 | F13: =E13/C13*100 -> 100
A14: 28 | B14: A) NEMZETI VAGYONBA TARTOZÓ BEFEKTETETT ESZKÖZÖK (=A/I+A/II+A/III+A/IV) | C14: =C6+C10+C13 -> 361070990 | D14: =D6+D10+D13 -> 0 | E14: =E6+E10+E13 -> 353599618 | F14: =E14/C14*100 -> 97.930775
A15: 29 | B15: B/I/1 Vásárolt készletek | C15: 110258 | D15: 0 | E15: 26109 | F15: =E15/C15*100 -> 23.679914
A16: 34 | B16: B/I Készletek (=B/I/1+…+B/I/5) | C16: =SUM(C15) -> 110258 | D16: =SUM(D15) -> 0 | E16: =SUM(E15) -> 26109 | F16: =E16/C16*100 -> 23.679914
A17: 43 | B17: B) NEMZETI VAGYONBA TARTOZÓ FORGÓESZKÖZÖK (= B/I+B/II) | C17: =SUM(C16) -> 110258 | D17: =SUM(D16) -> 0 | E17: =SUM(E16) -> 26109 | F17: =E17/C17*100 -> 23.679914
A18: 47 | B18: C/II/1 Forintpénztár | C18: 136050 | D18: 0 | E18: 84795 | F18: =E18/C18*100 -> 62.326351
A19: 50 | B19: C/II Pénztárak, csekkek, betétkönyvek (=C/II/1+C/II/2+C/II/3) | C19: =SUM(C18) -> 136050 | D19: =SUM(D18) -> 0 | E19: =SUM(E18) -> 84795 | F19: =E19/C19*100 -> 62.326351
A20: 51 | B20: C/III/1 Kincstáron kívüli forintszámlák | C20: 28539724 | D20: 0 | E20: 42418198 | F20: =E20/C20*100 -> 148.62862
A21: 53 | B21: C/III Forintszámlák (=C/III/1+C/III/2) | C21: =SUM(C20) -> 28539724 | D21: =SUM(D20) -> 0 | E21: =SUM(E20) -> 42418198 | F21: =E21/C21*100 -> 148.62862
A22: 57 | B22: C) PÉNZESZKÖZÖK (=C/I+…+C/IV) | C22: =C19+C21 -> 28675774 | D22: =D19+D21 -> 0 | E22: =E19+E21 -> 42502993 | F22: =E22/C22*100 -> 148.21917
A23: 62 | B23: D/I/3 Költségvetési évben esedékes követelések közhatalmi bevételre (=D/I/3a+…+D/I/3f) | C23: =SUM(C24:C26) -> 2656654 | D23: =SUM(D24:D26) -> 0 | E23: =SUM(E24:E26) -> 1779178 | F23: =E23/C23*100 -> 66.970633
A24: 66 | B24: D/I/3d - ebből: költségvetési évben esedékes követelések vagyoni típusú adókra | C24: 1251700 | D24: 0 | E24: 462501 | F24: =E24/C24*100 -> 36.949828
A25: 67 | B25: D/I/3e - ebből: költségvetési évben esedékes követelések termékek és szolgáltatások adóira | C25: 909775 | D25: 0 | E25: 1107388 | F25: =E25/C25*100 -> 121.72108
A26: 68 | B26: D/I/3f - ebből: költségvetési évben esedékes követelések egyéb közhatalmi bevételekre | C26: 495179 | D26: 0 | E26: 209289 | F26: =E26/C26*100 -> 42.265322
A27: 69 | B27: D/I/4 Költségvetési évben esedékes követelések működési bevételre (=D/I/4a+…+D/I/4i) | C27: 0 | D27: 0 | E27: 1065709
A28: 71 | B28: D/1/ab- ebbúé lüétságvetési évben esedékes követelések tulajdonosi bevételekre | E28: 1065709
A29: 101 | B29: D/I Költségvetési évben esedékes követelések (=D/I/1+…+D/I/8) | C29: =SUM(C23) -> 2656654 | D29: =SUM(D23) -> 0 | E29: =E23+E27 -> 2844887 | F29: =E29/C29*100 -> 107.08534
A30: 106 | B30: D/II/3 Költségvetési évet követően esedékes követelések közhatalmi bevételekre | E30: =SUM(E31:E32) -> 49733
A31: 110 | B31: D/II/3d ebből: költségvetési évet követően esedékes követelések vagyoni típusú adókra | E31: 20900
A32: 111 | B32: D/II/3e ebből: költségvetési évet követően esedékes követelések termékek és szolgáltatások adóira | E32: 28833
A33: 142 | B33: D/II Költségvetési évet követően esedékes követelések | E33: =SUM(E30) -> 49733
A34: 143 | B34: D/III/1 Adott előlegek | E34: =SUM(E35) -> 1133325
A35: 145 | B35: D/III/1b ebből beruházásokra, felújításokra adott előlegek | E35: 1133325
A36: 152 | B36: D/III/4 Forgótőke elszámolása | C36: 40000 | D36: 0 | E36: 40000 | F36: =E36/C36*100 -> 100
A37: 158 | B37: D/III Követelés jellegű sajátos elszámolások (=D/III/1+…+D/III/9) | C37: =SUM(C36) -> 40000 | D37: =SUM(D36) -> 0 | E37: =E34+E36 -> 1173325 | F37: =E37/C37*100 -> 2933.3125
A38: 159 | B38: D) KÖVETELÉSEK (=D/I+D/II+D/III) | C38: =C29+C37 -> 2696654 | D38: =D29+D37 -> 0 | E38: =E29+E33+E37 -> 4067945 | F38: =E38/C38*100 -> 150.85157
A39: Mérleg | F39: %
A40: # | B40: Megnevezés | C40: Előző időszak | D40: Módosítások (+/-) | E40: Tárgyi időszak
A41: 1 | B41: 2 | C41: 3 | D41: 4 | E41: 5 | F41: 6
A42: 161 | B42: E/I/2 Más előzetesen felszámított levonható általános forgalmi adó | C42: 0 | D42: 0 | E42: 0
A43: 162 | B43: E/I/3 Adott előlegekhez kapcsolódó előzetesen felszámított nem levonható áfa | E43: 305998
A44: 164 | B44: E/I Előzetesen felszámított általános forgalmi adó elszámolása (=E/I/1+…+E/I/4) | C44: =SUM(C42) -> 0 | D44: =SUM(D42) -> 0 | E44: =E43 -> 305998
A45: 166 | B45: E/II/2 Más fizetendő általános forgalmi adó | E45: -45000
A46: 167 | B46: E/II Fizetendő általános forgalmi adó elszámolása | E46: =SUM(E45) -> -45000
A47: 171 | B47: E) EGYÉB SAJÁTOS ELSZÁMOLÁSOK (=E/I+E/II+E/III) | C47: =SUM(C44) -> 0 | D47: =SUM(D44) -> 0 | E47: =E44+E46 -> 260998
A48: 172 | B48: F/1 Eredményszemléletű bevételek aktív időbeli elhatárolása | C48: 0 | D48: 0 | E48: 0
A49: 173 | B49: F/2 Költségek, ráfordítások aktív időbeli elhatárolása | C49: 34667 | D49: 0 | E49: 27527 | F49: =E49/C49*100 -> 79.404044
A50: 175 | B50: F) AKTÍV IDŐBELI ELHATÁROLÁSOK (=F/1+F/2+F/3) | C50: =SUM(C48:C49) -> 34667 | D50: =SUM(D48:D49) -> 0 | E50: =SUM(E48:E49) -> 27527 | F50: =E50/C50*100 -> 79.404044
A51: 176 | B51: ESZKÖZÖK ÖSSZESEN (=A+B+C+D+E+F) | C51: =C14+C17+C22+C38+C47+C50 -> 392588343 | D51: =D14+D17+D22+D38+D47+D50 -> 0 | E51: =E14+E17+E22+E38+E47+E50 -> 400485190 | F51: =E51/C51*100 -> 102.01148
A52: 177 | B52: G/I Nemzeti vagyon induláskori értéke | C52: 484284223 | D52: 0 | E52: 484284223 | F52: =E52/C52*100 -> 100
A53: 181 | B53: G/III/3 Pénzeszközön kívüli egyéb eszközök induláskori értéke és változásai | C53: 24561850 | D53: 0 | E53: 24561850 | F53: =E53/C53*100 -> 100
A54: 182 | B54: G/III Egyéb eszközök induláskori értéke és változásai (=G/III/1+G/III/2+G/III/3) | C54: =SUM(C53) -> 24561850 | D54: =SUM(D53) -> 0 | E54: =SUM(E53) -> 24561850 | F54: =E54/C54*100 -> 100
A55: 183 | B55: G/IV Felhalmozott eredmény | C55: -185870126 | D55: 0 | E55: -194017764 | F55: =E55/C55*100 -> 104.38351
A56: 185 | B56: G/VI Mérleg szerinti eredmény | C56: -8147638 | D56: 0 | E56: 176802 | F56: =E56/C56*100 -> -2.1699786
A57: 186 | B57: G/ SAJÁT TŐKE (= G/I+…+G/VI) | C57: =C52+C54+C55+C56 -> 314828309 | D57: =D52+D54+D55+D56 -> 0 | E57: =E52+E54+E55+E56 -> 315005111 | F57: =E57/C57*100 -> 100.05616
A58: 187 | B58: H/I/1 Költségvetési évben esedékes kötelezettségek személyi juttatásokra | C58: 0 | D58: 0 | E58: 0
A59: 189 | B59: H/I/3 Költségvetési évben esedékes kötelezettségek dologi kiadásokra | C59: 181666 | D59: 0 | E59: 11681 | F59: =E59/C59*100 -> 6.4299319
A60: 194 | B60: H/I/6 Költségvetési évben esedékes kötelezettségek beruházásokra | C60: 0 | D60: 0 | E60: 0
A61: 212 | B61: H/I Költségvetési évben esedékes kötelezettségek (=H/I/1+…+H/I/9) | C61: =SUM(C58:C60) -> 181666 | D61: =SUM(D58:D60) -> 0 | E61: =SUM(E58:E60) -> 11681 | F61: =E61/C61*100 -> 6.4299319
A62: 215 | B62: H/II/3 Költségvetési évet követően esedékes kötelezettségek dologi kiadásokra | C62: 977074 | D62: 0 | E62: 1984004 | F62: =E62/C62*100 -> 203.05565
A63: 221 | B63: H/II/7 Költségvetési évet követően esedékes kötelezettségek felújításokra | C63: 161304 | E63: 0
A64: 225 | B64: H/II/9 Költségvetési évet követően esedékes kötelezettségek finanszírozási kiadásokra (>=H/II/9a+…+H/II/9j) | C64: 1130123 | D64: 0 | E64: 1241991 | F64: =E64/C64*100 -> 109.89875
A65: 230 | B65: H/II/9e - ebből: költségvetési évet követően esedékes kötelezettségek államháztartáson belüli megelőlegezések visszafizetésére | C65: 1130123 | D65: 0 | E65: 1241991 | F65: =E65/C65*100 -> 109.89875
A66: 236 | B66: H/II Költségvetési évet követően esedékes kötelezettségek (=H/II/1+…+H/II/9) | C66: =SUM(C62:C64) -> 2268501 | D66: =SUM(D62:D64) -> 0 | E66: =SUM(E62:E64) -> 3225995 | F66: =E66/C66*100 -> 142.20822
A67: 237 | B67: H/III/1 Kapott előlegek | C67: 1428059 | D67: 0 | E67: 2607013 | F67: =E67/C67*100 -> 182.55639
A68: 239 | B68: H/III/3 Más szervezetet megillető bevételek elszámolása | C68: 65509 | D68: 0 | E68: 9384 | F68: =E68/C68*100 -> 14.324749
A69: 247 | B69: H/III Kötelezettség jellegű sajátos elszámolások (=H/III/1+…+H/III/10) | C69: =SUM(C67:C68) -> 1493568 | D69: =SUM(D67:D68) -> 0 | E69: =SUM(E67:E68) -> 2616397 | F69: =E69/C69*100 -> 175.17763
A70: 248 | B70: H) KÖTELEZETTSÉGEK (=H/I+H/II+H/III) | C70: =C61+C66+C69 -> 3943735 | D70: =D61+D66+D69 -> 0 | E70: =E61+E66+E69 -> 5854073 | F70: =E70/C70*100 -> 148.43982
A71: 251 | B71: J/2 Költségek, ráfordítások passzív időbeli elhatárolása | C71: 1354261 | D71: 0 | E71: 1368958 | F71: =E71/C71*100 -> 101.08524
A72: 252 | B72: J/3 Halasztott eredményszemléletű bevételek | C72: 72462048 | D72: 0 | E72: 78257048 | F72: =E72/C72*100 -> 107.99729
A73: 253 | B73: J) PASSZÍV IDŐBELI ELHATÁROLÁSOK (=J/1+J/2+J/3) | C73: =SUM(C71:C72) -> 73816309 | D73: =SUM(D71:D72) -> 0 | E73: =SUM(E71:E72) -> 79626006 | F73: =E73/C73*100 -> 107.87048
A74: 254 | B74: FORRÁSOK ÖSSZESEN (=G+H+I+J) | C74: =C57+C70+C73 -> 392588353 | D74: =D57+D70+D73 -> 0 | E74: =E57+E70+E73 -> 400485190 | F74: =E74/C74*100 -> 102.01148

Sheet 2.sz.tábla
A1: AZ ÖNKORMÁNYZAT EREDMÉNYKIMUTATÁSA 2018. ÉV
A2: Eredménykimutatás | F2: %
A3: # | B3: Megnevezés | C3: Előző időszak (Ft) | D3: Módosítások (+/-) | E3: Tárgyi időszak (Ft)
A4: 1 | B4: 2 | C4: 3 | D4: 4 | E4: 5 | F4: 6
A5: 01 | B5: 01 Közhatalmi eredményszemléletű bevételek | C5: 14145266 | D5: 0 | E5: 8752084 | F5: =E5/C5*100 -> 61.872884
A6: 02 | B6: 02 Eszközök és szolgáltatások értékesítése nettó eredményszemléletű bevételei | C6: 164282 | D6: 0 | E6: 1299010 | F6: =E6/C6*100 -> 790.71962
A7: 03 | B7: 03 Tevékenység egyéb nettó eredményszemléletű bevételei | C7: 2508600 | D7: 0 | E7: 2685638 | F7: =E7/C7*100 -> 107.05724
A8: 04 | B8: I Tevékenység nettó eredményszemléletű bevétele (=01+02+03) | C8: =SUM(C5:C7) -> 16818148 | D8: =SUM(D5:D7) -> 0 | E8: =SUM(E5:E7) -> 12736732 | F8: =E8/C8*100 -> 75.732072
A9: 06 | B9: 05 Saját előállítású eszközök aktivált értéke | C9: 0 | D9: 0 | E9: 0
A10: 07 | B10: II Aktivált saját teljesítmények értéke (=±04+05) | C10: =SUM(C9) -> 0 | D10: =SUM(D9) -> 0 | E10: =SUM(E9) -> 0
A11: 08 | B11: 06 Központi működési célú támogatások eredményszemléletű bevételei | C11: 27620185 | D11: 0 | E11: 29774399 | F11: =E11/C11*100 -> 107.79942
A12: 09 | B12: 07 Egyéb működési célú támogatások eredményszemléletű bevételei | C12: 3619251 | D12: 0 | E12: 14777311 | F12: =E12/C12*100 -> 408.29749
A13: 10 | B13: 08 Felhalmozási célú támogatások eredményszemléletű bevételei | C13: 718247 | D13: 0 | E13: 0 | F13: =E13/C13*100 -> 0
A14: 11 | B14: 09 Különféle egyéb eredményszemléletű bevételek | C14: 7836442 | D14: 0 | E14: 14313309 | F14: =E14/C14*100 -> 182.65061
A15: 12 | B15: III Egyéb eredményszemléletű bevételek (=06+07+08+09) | C15: =SUM(C11:C14) -> 39794125 | D15: =SUM(D11:D14) -> 0 | E15: =SUM(E11:E14) -> 58865019 | F15: =E15/C15*100 -> 147.92389
A16: 13 | B16: 10 Anyagköltség | C16: 1589730 | D16: 0 | E16: 2597429 | F16: =E16/C16*100 -> 163.38806
A17: 14 | B17: 11 Igénybe vett szolgáltatások értéke | C17: 7058146 | D17: 0 | E17: 12477757 | F17: =E17/C17*100 -> 176.78519
A18: 16 | B18: 13 Eladott (közvetített) szolgáltatások értéke | C18: 9448 | D18: 0 | E18: 150000 | F18: =E18/C18*100 -> 1587.6376
A19: 17 | B19: IV Anyagjellegű ráfordítások (=10+11+12+13) | C19: =SUM(C16:C18) -> 8657324 | D19: =SUM(D16:D18) -> 0 | E19: =SUM(E16:E18) -> 15225186 | F19: =E19/C19*100 -> 175.86481
A20: 18 | B20: 14 Bérköltség | C20: 5997136 | D20: 0 | E20: 6631248 | F20: =E20/C20*100 -> 110.57358
A21: 19 | B21: 15 Személyi jellegű egyéb kifizetések | C21: 6425697 | D21: 0 | E21: 7161492 | F21: =E21/C21*100 -> 111.45082
A22: 20 | B22: 16 Bérjárulékok | C22: 2510935 | D22: 0 | E22: 2463283 | F22: =E22/C22*100 -> 98.102221
A23: 21 | B23: V Személyi jellegű ráfordítások (=14+15+16) | C23: =SUM(C20:C22) -> 14933768 | D23: =SUM(D20:D22) -> 0 | E23: =SUM(E20:E22) -> 16256023 | F23: =E23/C23*100 -> 108.85413
A24: 22 | B24: VI Értékcsökkenési leírás | C24: 16677392 | D24: 0 | E24: 18114604 | F24: =E24/C24*100 -> 108.61773
A25: 23 | B25: VII Egyéb ráfordítások | C25: 24505661 | D25: 0 | E25: 21832776 | F25: =E25/C25*100 -> 89.092786
A26: 24 | B26: A) TEVÉKENYSÉGEK EREDMÉNYE (=I±II+III-IV-V-VI-VII) | C26: =C8+C10+C15-C19-C23-C24-C25 -> -8161872 | D26: =D8+D10+D15-D19-D23-D24-D25 -> 0 | E26: =E8+E10+E15-E19-E23-E24-E25 -> 173162 | F26: =E26/C26*100 -> -2.1215966
A27: 25 | B27: 17 Kapott (járó) osztalék és részesedés | C27: 0 | D27: 0 | E27: 0
A28: 28 | B28: 20 Egyéb kapott (járó) kamatok és kamatjellegű eredményszemléletű bevételek | C28: 14234 | D28: 0 | E28: 3640 | F28: =E28/C28*100 -> 25.572573
A29: 32 | B29: VIII Pénzügyi műveletek eredményszemléletű bevételei (=17+18+19+20+21) | C29: =SUM(C27:C28) -> 14234 | D29: =SUM(D27:D28) -> 0 | E29: =SUM(E27:E28) -> 3640 | F29: =E29/C29*100 -> 25.572573
A30: 35 | B30: 24 Fizetendő kamatok és kamatjellegű ráfordítások | C30: 0 | D30: 0 | E30: 0
A31: 39 | B31: 26 Pénzügyi műveletek egyéb ráfordításai (>=26a+26b) | C31: 0 | D31: 0 | E31: 0
A32: 42 | B32: IX Pénzügyi műveletek ráfordításai (=22+23+24+25+26) | C32: =SUM(C30:C31) -> 0 | D32: =SUM(D30:D31) -> 0 | E32: =SUM(E30:E31) -> 0
A33: 43 | B33: B) PÉNZÜGYI MŰVELETEK EREDMÉNYE (=VIII-IX) | C33: =C29-C32 -> 14234 | D33: =D29-D32 -> 0 | E33: =E29-E32 -> 3640 | F33: =E33/C33*100 -> 25.572573
A34: 44 | B34: C) MÉRLEG SZERINTI EREDMÉNY (=±A±B) | C34: =C26+C33 -> -8147638 | D34: =D26+D33 -> 0 | E34: =E26+E33 -> 176802 | F34: =E34/C34*100 -> -2.1699786

Sheet 3.sz.tábla
A1: AZ ÖNKORMÁNYZAT MARADVÁNYKIMUTATÁSA 2018. ÉV
A2: Maradványkimutatás
A3: # | B3: Megnevezés | C3: Előző időszak (Ft) | D3: Tárgyi időszak (Ft) | E3: %
A4: 1 | B4: 2 | D4: 3
A5: 01 | B5: 01 Alaptevékenység költségvetési bevételei | C5: 74021658 | D5: 76305884 | E5: =D5/C5*100 -> 103.08589 | G5: ='4.tábla '!E13 -> 76305884
A6: 02 | B6: 02 Alaptevékenység költségvetési kiadásai | C6: 79826752 | D6: 62274039 | E6: =D6/C6*100 -> 78.01149 | G6: ='4.tábla '!E30 -> 62274039
A7: 03 | B7: I Alaptevékenység költségvetési egyenlege (=01-02) | C7: =C5-C6 -> -5805094 | D7: =D5-D6 -> 14031845 | E7: =D7/C7*100 -> -241.71607
A8: 04 | B8: 03 Alaptevékenység finanszírozási bevételei | C8: 86627448 | D8: 31244451 | E8: =D8/C8*100 -> 36.067611 | G8: ='4.tábla '!E16 -> 31244451
A9: 05 | B9: 04 Alaptevékenység finanszírozási kiadásai | C9: 52173813 | D9: 2484042 | E9: =D9/C9*100 -> 4.7610896 | G9: ='4.tábla '!E34 -> 2484042
A10: 06 | B10: II Alaptevékenység finanszírozási egyenlege (=03-04) | C10: =C8-C9 -> 34453635 | D10: =D8-D9 -> 28760409 | E10: =D10/C10*100 -> 83.475688
A11: 07 | B11: A) Alaptevékenység maradványa (=±I±II) | C11: =C7+C10 -> 28648541 | D11: =D7+D10 -> 42792254 | E11: =D11/C11*100 -> 149.36975
A12: 15 | B12: C) Összes maradvány (=A+B) | C12: =C11 -> 28648541 | D12: =D11 -> 42792254 | E12: =D12/C12*100 -> 149.36975
A13: 16 | B13: D) Alaptevékenység kötelezettségvállalással terhelt maradványa | C13: 21365276 | D13: 18546185 | E13: =D13/C13*100 -> 86.805268
A14: 17 | B14: E) Alaptevékenység szabad maradványa (=A-D) | C14: =C12-C13 -> 7283265 | D14: =D12-D13 -> 24246069 | E14: =D14/C14*100 -> 332.9011

Sheet 4.tábla 
A4: AZ ÖNKORMÁNYZAT FŐÖSSZESÍTŐJE 2018. ÉV
A5: MEGNEVEZÉS | B5: 2018. eredeti | C5: 2018. évi módosított ei. IV. | D5: 2018. évi módosított ei. Korrilgált | E5: 2018. évi teljesítés | F5: %
A6: I. Működési célú támogatások államháztartáson belülről | B6: ='5.tábla'!B5 -> 31474348 | C6: ='5.tábla'!C5 -> 47660812 | D6: ='5.tábla'!D5 -> 46553412 | E6: ='5.tábla'!E5 -> 45199710 | F6: =E6/C6*100 -> 94.836215
A7: II. Felhalmozási célú támogatások államháztartáson belülről | B7: ='5.tábla'!B24 -> 5000000 | C7: ='5.tábla'!C24 -> 13956854 | D7: ='5.tábla'!D24 -> 8956854 | E7: ='5.tábla'!E24 -> 13956854 | F7: =E7/C7*100 -> 100
A8: III. Közhatalmi bevételek | B8: ='5.tábla'!B35 -> 11333000 | C8: ='5.tábla'!C35 -> 11333000 | D8: ='5.tábla'!D35 -> 11333000 | E8: ='5.tábla'!E35 -> 13263983 | F8: =E8/C8*100 -> 117.03859
A9: IV. Működési bevételek | B9: ='5.tábla'!B48 -> 3140000 | C9: ='5.tábla'!C48 -> 4350000 | D9: ='5.tábla'!D48 -> 3330368 | E9: ='5.tábla'!E48 -> 3885337 | F9: =E9/C9*100 -> 89.318092
A10: V. Felhalmozási bevételek | B10: ='5.tábla'!B62 -> 0 | C10: ='5.tábla'!C62 -> 0 | D10: ='5.tábla'!D62 -> 0 | E10: ='5.tábla'!E62 -> 0
A11: VI. Működési célú átvett pénzeszközök | B11: ='5.tábla'!B67 -> 0 | C11: ='5.tábla'!C67 -> 0 | D11: ='5.tábla'!D67 -> 1060000 | E11: ='5.tábla'!E67 -> 0
A12: VII. Felhalmozási célú átvett pénzeszközök | B12: ='5.tábla'!B71 -> 0 | C12: ='5.tábla'!C71 -> 3000000 | D12: ='5.tábla'!D71 -> 5000000 | E12: ='5.tábla'!E71 -> 0 | F12: =E12/C12*100 -> 0
A13: Költségvetési bevételek összesen: | B13: =SUM(B6:B12) -> 50947348 | C13: =SUM(C6:C12) -> 80300666 | D13: =SUM(D6:D12) -> 76233634 | E13: =SUM(E6:E12) -> 76305884 | F13: =E13/C13*100 -> 95.025219
A14: 1. Költségvetési hiány belső finanszírozására szolgáló finanszírozási bevételek | B14: ='5.tábla'!B78 -> 20000000 | C14: ='5.tábla'!C78 -> 28648541 | D14: ='5.tábla'!D78 -> 28648541 | E14: ='5.tábla'!E78 -> 28648541 | F14: =E14/C14*100 -> 100
A15: 2. Költségvetési hiány külső finanszírozására szolgáló finanszírozási célú pénzügyi műveletek bevételei | B15: ='5.tábla'!B81 -> 907476 | C15: ='5.tábla'!C81 -> 2205230 | D15: ='5.tábla'!D81 -> 991927 | E15: ='5.tábla'!E81 -> 2595910 | F15: =E15/C15*100 -> 117.71607
A16: VIII. Finanszírozási bevételek | B16: =B14+B15 -> 20907476 | C16: =C14+C15 -> 30853771 | D16: =D14+D15 -> 29640468 | E16: =E14+E15 -> 31244451 | F16: =E16/C16*100 -> 101.26623
A17: Bevételek összesen: | B17: =B13+B16 -> 71854824 | C17: =C13+C16 -> 111154437 | D17: =D13+D16 -> 105874102 | E17: =E13+E16 -> 107550335 | F17: =E17/C17*100 -> 96.757573
A19: Működési kiadások | B19: =B20 -> 47582807 | C19: =C20 -> 63607373 | D19: =D20 -> 68114211 | E19: =E20 -> 49416627 | F19: =E19/C19*100 -> 77.690093
A20: Önkormányzati feladatok | B20: ='6.tábla '!B41 -> 47582807 | C20: ='6.tábla '!C41 -> 63607373 | D20: ='6.tábla '!D41 -> 68114211 | E20: ='6.tábla '!E41 -> 49416627 | F20: =E20/C20*100 -> 77.690093
A21: Felhalmozási kiadások | B21: =SUM(B22:B24) -> 14466956 | C21: =SUM(C22:C24) -> 31751416 | D21: =SUM(D22:D24) -> 27864906 | E21: =SUM(E22:E24) -> 12857412 | F21: =E21/C21*100 -> 40.49398
A22: Beruházások | B22: ='8.tábla'!B3 -> 9119196 | C22: ='8.tábla'!C3 -> 14402020 | D22: ='8.tábla'!D3 -> 10515510 | E22: ='8.tábla'!E3 -> 4569126 | F22: =E22/C22*100 -> 31.725591
A23: Felújítások | B23: ='8.tábla'!B23 -> 5316875 | C23: ='8.tábla'!C23 -> 17318511 | D23: ='8.tábla'!D23 -> 17318511 | E23: ='8.tábla'!E23 -> 8257401 | F23: =E23/C23*100 -> 47.679624
A24: Egyéb felhalmozási kiadások | B24: ='8.tábla'!B34 -> 30885 | C24: ='8.tábla'!C34 -> 30885 | D24: ='8.tábla'!D34 -> 30885 | E24: ='8.tábla'!E34 -> 30885 | F24: =E24/C24*100 -> 100 | J24: -1134280
J25: 89694
A26: Tartalékok | B26: =B27+B28 -> 7405470 | C26: =C27+C28 -> 13340294 | D26: =D27+D28 -> 7410943 | E26: =E27+E28 -> 0 | F26: =E26/C26*100 -> 0 | J26: 8648541
A27: Általános | B27: 7405470 | C27: =8949690+151+918300+811400 -> 10679541 | D27: =7410943-D28 -> 4750190 | F27: =E27/C27*100 -> 0 | J27: -11160
A28: Cél | C28: =770762+648000+1241991 -> 2660753 | D28: 2660753 | F28: =E28/C28*100 -> 0 | J28: -98203
A29: Közfoglalkoztatott támogatás előleg 2018.01-02 hó | J29: -1580622
A30: Költségvetési kiadások összesen: | B30: =SUM(B26,B21,B19) -> 69455233 | C30: =SUM(C26,C21,C19) -> 108699083 | D30: =SUM(D26,D21,D19) -> 103390060 | E30: =SUM(E26,E21,E19) -> 62274039 | F30: =E30/C30*100 -> 57.290308 | J30: =SUM(J24:J29) -> 5913970
A31: Lekötött bankbetét beváltása | B31: ='8.tábla'!B38 -> 0
A32: Forgatási célú értékpapír vásárlás | B32: ='8.tábla'!B39 -> 0
A33: Állami támogatás megelőlegezés visszafizetés | B33: ='8.tábla'!B40 -> 2399591 | C33: ='8.tábla'!C40 -> 2455354 | D33: ='8.tábla'!D40 -> 2484042 | E33: ='8.tábla'!E40 -> 2484042 | F33: =E33/C33*100 -> 101.16839
A34: Finanszírozási kiadások összesen: | B34: =SUM(B31:B33) -> 2399591 | C34: =SUM(C31:C33) -> 2455354 | D34: =SUM(D31:D33) -> 2484042 | E34: =SUM(E31:E33) -> 2484042 | F34: =E34/C34*100 -> 101.16839
A35: Kiadások összesen: | B35: =B30+B34 -> 71854824 | C35: =C30+C34 -> 111154437 | D35: =D30+D34 -> 105874102 | E35: =E30+E34 -> 64758081 | F35: =E35/C35*100 -> 58.259556
E36: =E17-E35 -> 42792254

Sheet 5.tábla
A3: BEVÉTELEK ELŐIRÁNYZATA
A4: MEGNEVEZÉS | B4: 2018. eredeti | C4: 2018. évi módosított ei. IV. | D4: 2018. évi módosított ei. Korrilgált | E4: 2018. évi teljesítés | F4: %
A5: I. Működési célú támogatások államháztartáson belülről | B5: =B6+B12+B13+B14+B15+B16 -> 31474348 | C5: =C6+C12+C13+C14+C15+C16 -> 47660812 | D5: =D6+D12+D13+D14+D15+D16 -> 46553412 | E5: =E6+E12+E13+E14+E15+E16 -> 45199710 | F5: =E5/C5*100 -> 94.836215
A6: 1. Önkormányzat működési támogatásai | B6: =B7+B8+B9 -> 28253068 | C6: =C7+C8+C9+C10 -> 30718399 | D6: =D7+D8+D9+D10 -> 30422399 | E6: =E7+E8+E9+E10 -> 30422399 | F6: =E6/C6*100 -> 99.036408
A7: 1.1. Helyi önk. működésének ált. támogatása | B7: ='5a. tábla'!E5 -> 19558068 | C7: ='5a. tábla'!F5 -> 19558068 | D7: ='5a. tábla'!G5 -> 19558068 | E7: ='5a. tábla'!H5 -> 19558068 | F7: =E7/C7*100 -> 100
A8: 1.3. Települési önk. szoc. és gyermekjóléti feladatainak tám. | B8: ='5a. tábla'!E33 -> 6895000 | C8: ='5a. tábla'!F33 -> 6982631 | D8: ='5a. tábla'!G33 -> 6982631 | E8: ='5a. tábla'!H33 -> 6982631 | F8: =E8/C8*100 -> 100
A9: 1.4. Települési önk. kult. feladatainak támogatása | B9: ='5a. tábla'!E43 -> 1800000 | C9: ='5a. tábla'!F43 -> 1800000 | D9: ='5a. tábla'!G43 -> 1800000 | E9: ='5a. tábla'!H43 -> 1800000 | F9: =E9/C9*100 -> 100
A10: 1.5. Helyi önk. Működési célú költségvetési támogatásai és kiegészítő támogatásai | C10: =648000+918300+811400 -> 2377700 | D10: ='5a. tábla'!G46 -> 2081700 | E10: ='5a. tábla'!H46 -> 2081700 | F10: =E10/C10*100 -> 87.550995
A11: 1.6. Elszámolásból származó bevételek
A12: 2. Elvonások, befizetések
A13: 3. Működési célú garancia- és kezességvállalásból származó megtérülések áh-n belülről
A14: 4. Működési célú visszatérítendő támogatások, kölcsönök visszatérülése áh-n belülről
A15: 5. Működési célú visszatérítendő támogatások, kölcsönök igénybevétele áh-n belülről
A16: 6. Egyéb működési célú támogatások bevételei államháztartáson belülről | B16: =B17 -> 3221280 | C16: =C17+C20+C18+C19 -> 16942413 | D16: =D17+D20+D18+D19 -> 16131013 | E16: =SUM(E17:E23) -> 14777311 | F16: =E16/C16*100 -> 87.220817
A17: Közfoglalkoztatottak támogatás | B17: 3221280 | C17: =3221280+770762+476667 -> 4468709 | D17: =3221280+770762+476667 -> 4468709 | E17: 3648681 | F17: =E17/C17*100 -> 81.649555
A18: EFOP-5.1.2-16-2017 Humán szolgáltatások fejlesztése | C18: 11040004 | D18: 11040004 | E18: 11040004 | F18: =E18/C18*100 -> 100
A19: Tüzifa támogatás | C19: 622300 | D19: 622300 | E19: 0 | F19: =E19/C19*100 -> 0
A20: Bakonykarszt | C20: 811400 | E20: 0 | F20: =E20/C20*100 -> 0
A21: Bursa ösztöndíj támogatás visszautalás | E21: 50000
A22: Balatonfüredi Közös Önkormányzati Hivatal előző évi elszámolás | E22: 32626
A23: Rendszeres gyermekvédelmi támogatás | E23: 6000
A24: II. Felhalmozási célú támogatások államháztartáson belülről | B24: =B25+B30+B31+B32+B33+B28 -> 5000000 | C24: =C25+C30+C31+C32+C33 -> 13956854 | D24: =D25+D30+D31+D32+D33 -> 8956854 | E24: =E25+E30+E31+E32+E33 -> 13956854 | F24: =E24/C24*100 -> 100
A25: 1. Felhalmozási célú önkormányzati támogatások | B25: =B26+B27 -> 5000000 | C25: =SUM(C26:C28) -> 13956854 | D25: =SUM(D26:D28) -> 8956854 | E25: =SUM(E26:E28) -> 8956854 | F25: =E25/C25*100 -> 64.175308
A26: Mosó pályázat támogatás | B26: 5000000 | C26: 5000000 | D26: 0 | F26: =E26/C26*100 -> 0
A27: Sportöltöző és sportpálya felújítása pályázat támogatása
A28: Önkormányzati fejlesztések 2018 támogatása | C28: 8956854 | D28: 8956854 | E28: 8956854 | F28: =E28/C28*100 -> 100
A29: MEGNEVEZÉS | B29: 2018. eredeti | C29: 2018. évi módosított ei. IV. | D29: 2018. évi módosított ei. Korrilgált | E29: 2018. évi teljesítés | F29: %
A30: 2. Felhalmozási célú garancia- és kezességvállalásból származó megtérülések áh-n belülről
A31: 3. Felhalmozási célú visszatérítendő támogatások, kölcsönök visszatérülése áh-n belülről
A32: 4. Felhalmozási célú visszatérítendő támogatások, kölcsönök igénybevétele áh-n belülről
A33: 5. Egyéb felhalmozási célú támogatások államháztartáson belülről | C33: =SUM(C34) -> 0 | D33: =SUM(D34) -> 0 | E33: =SUM(E34) -> 5000000
A34: Mosó pályázat támogatás | E34: 5000000
A35: III. Közhatalmi bevételek | B35: =B36+B39+B47 -> 11333000 | C35: =C36+C39+C47 -> 11333000 | D35: =D36+D39+D47 -> 11333000 | E35: =E36+E39+E47 -> 13263983 | F35: =E35/C35*100 -> 117.03859
A36: 1. Vagyoni típusú adók | B36: =SUM(B37:B38) -> 5883000 | C36: =SUM(C37:C38) -> 5883000 | D36: =SUM(D37:D38) -> 5883000 | E36: =SUM(E37:E38) -> 5871351 | F36: =E36/C36*100 -> 99.801989
A37: 1.1. Magánszemélyek kommunális adója | B37: 5583000 | C37: 5583000 | D37: 5583000 | E37: 5680006 | F37: =E37/C37*100 -> 101.73752
A38: 1.2. Telekadó | B38: 300000 | C38: 300000 | D38: 300000 | E38: 191345 | F38: =E38/C38*100 -> 63.781667
A39: 2. Termékek és szolgáltatások adói | B39: =B40+B42+B43 -> 5350000 | C39: =C40+C42+C43 -> 5350000 | D39: =D40+D42+D43 -> 5350000 | E39: =E40+E42+E43 -> 7251318 | F39: =E39/C39*100 -> 135.53865
A40: 2.1. Értékesítési és forgalmi adók | B40: =SUM(B41) -> 3500000 | C40: =SUM(C41) -> 3500000 | D40: =SUM(D41) -> 3500000 | E40: =SUM(E41) -> 4867421 | F40: =E40/C40*100 -> 139.06917
A41: 2.1. 1. Iparűzési adó | B41: 3500000 | C41: 3500000 | D41: 3500000 | E41: 4867421 | F41: =E41/C41*100 -> 139.06917
A42: 2.2. Gépjárműadók | B42: 1800000 | C42: 1800000 | D42: 1800000 | E42: 2174347 | F42: =E42/C42*100 -> 120.79706
A43: 2.3. Egyéb áruhasználati és szolgáltatási adók | B43: =SUM(B44:B46) -> 50000 | C43: =SUM(C44:C46) -> 50000 | D43: =SUM(D44:D46) -> 50000 | E43: =SUM(E44:E46) -> 209550 | F43: =E43/C43*100 -> 419.1
A44: 2.3.1. Ifa személyek u. | B44: 50000 | C44: 50000 | D44: 50000 | E44: 209550 | F44: =E44/C44*100 -> 419.1
A45: 2.3.2. Talajterhelési díj
A46: 2.3.3. Települési adó
A47: 3. Egyéb közhatalmi bevételek (bírság, pótlék,) | B47: 100000 | C47: 100000 | D47: 100000 | E47: 141314 | F47: =E47/C47*100 -> 141.314
A48: IV. Működési bevételek | B48: =B49+B50+B53+B54+B56+B57+B58+B59+B60 -> 3140000 | C48: =C49+C50+C53+C54+C56+C57+C58+C59+C60+C51 -> 4350000 | D48: =D49+D50+D53+D54+D56+D57+D58+D59+D60+D51 -> 3330368 | E48: =E49+E50+E53+E54+E56+E57+E58+E59+E60+E51 -> 3885337 | F48: =E48/C48*100 -> 89.318092
A49: 1. Áru- és készletértékesítés bevétele | E49: 44440
A50: 2. Nyújtott szolgáltatások ellenértéke | B50: 20000 | C50: 20000 | D50: 20000 | E50: =32150+32500 -> 64650 | F50: =E50/C50*100 -> 323.25
A51: 2.1 Öreg Gella útfelújítás | C51: 1060000 | D51: 0 | E51: 1060000 | F51: =E51/C51*100 -> 100
A52: 2.2 bérleti díjak
A53: 3. Közvetített szolgáltatások ellenértéke | B53: 20000 | C53: =20000+118110 -> 138110 | D53: 138110 | E53: 129920 | F53: =E53/C53*100 -> 94.069944
A54: 4. Tulajdonosi bevételek | B54: =B55 -> 2400000 | C54: =C55 -> 2400000 | D54: =D55 -> 2400000 | E54: =E55 -> 1619929 | F54: =E54/C54*100 -> 67.497042
A55: 4.1. Üzemeltetési díjak | B55: 2400000 | C55: 2400000 | D55: 2400000 | E55: 1619929 | F55: =E55/C55*100 -> 67.497042
A56: 5. Ellátási díjak
A57: 6. Kiszámlázott Áfa | B57: 700000 | C57: =700000+31890 -> 731890 | D57: 772258 | E57: 812758 | F57: =E57/C57*100 -> 111.0492
A58: 7. Áfa visszatérítés
A59: 8. Kamatbevétel | E59: 3640
A60: 9. Egyéb működési bevételek (kártérítés, kötbér, stb.) | E60: 150000
A61: MEGNEVEZÉS | B61: 2018. eredeti | C61: 2018. évi módosított ei. IV. | D61: 2018. évi módosított ei. Korrilgált | E61: 2018. évi teljesítés | F61: %
A62: V. Felhalmozási bevételek | B62: =SUM(B63:B66) -> 0 | C62: =SUM(C63:C66) -> 0 | D62: =SUM(D63:D66) -> 0 | E62: =SUM(E63:E66) -> 0
A63: 1. Immateriális javak értékesítése | F63: =E63-C63 -> 0
A64: 2. Ingatlanok értékesítése | F64: =E64-C64 -> 0
A65: 3. Egyéb tárgyi eszközök értékesítése | F65: =E65-C65 -> 0
A66: 4. Részesedések értékesítése | F66: =E66-C66 -> 0
A67: VI. Működési célú átvett pénzeszközök | B67: =SUM(B68:B70) -> 0 | C67: =SUM(C68:C70) -> 0 | D67: =SUM(D68:D70) -> 1060000 | E67: =SUM(E68:E70) -> 0 | F67: =E67-C67 -> 0
A68: 1. Működési célú garancia- és kezességvállalásból származó megtérülések áhk | F68: =E68-C68 -> 0
A69: 2. Működési célú visszatérítendő támogatások, kölcsönök visszatérülése államháztartáson kívülről | F69: =E69-C69 -> 0
A70: 3. Egyéb működési célú átvett pénzeszközök | D70: 1060000 | F70: =E70-C70 -> 0
A71: VII. Felhalmozási célú átvett pénzeszközök | B71: =B72+B73+B74 -> 0 | C71: =C72+C73+C74 -> 3000000 | D71: =D72+D73+D74 -> 5000000 | E71: =E72+E73+E74 -> 0 | F71: =E71/C71*100 -> 0
A72: 1. Felhalmozási célú garancia- és kezességvállalásból származó megtérülések áh-n kívülről
A73: 2. Felhalmozási célú visszatérítendő támogatások, kölcsönök visszatérülése államháztartáson kívülről
A74: 3. Egyéb felhalmozási célú átvett pénzeszközök | C74: =C75 -> 3000000 | D74: =SUM(D75:D76) -> 5000000 | E74: =E75 -> 0 | F74: =E74/C74*100 -> 0
A75: 3.1 LEADER Közösségi tér | C75: 3000000 | F75: =E75/C75*100 -> 0
A76: Mosó pályázat támogatás | D76: 5000000
A77: Költségvetési bevételek összesen: | B77: =B71+B67+B62+B48+B35+B24+B5 -> 50947348 | C77: =C71+C67+C62+C48+C35+C24+C5 -> 80300666 | D77: =D71+D67+D62+D48+D35+D24+D5 -> 76233634 | E77: =E71+E67+E62+E48+E35+E24+E5 -> 76305884 | F77: =E77/C77*100 -> 95.025219
A78: 1. Költségvetési hiány belső finanszírozására szolgáló bevételek | B78: =SUM(B79:B80) -> 20000000 | C78: =SUM(C79:C79) -> 28648541 | D78: =SUM(D79:D79) -> 28648541 | E78: =SUM(E79:E79) -> 28648541 | F78: =E78/C78*100 -> 100
A79: 1.1. Előző év költségvetési maradványának igénybevétele működési célra | B79: 20000000 | C79: 28648541 | D79: 28648541 | E79: 28648541 | F79: =E79/C79*100 -> 100
A80: 1.2. Előző év költségvetési maradványának igénybevétele felhalmozási célra
A81: 2. Költségvetési hiány külső finanszírozására szolgáló finanszírozási bevételek | B81: =B83+B82 -> 907476 | C81: =C83+C82 -> 2205230 | D81: =D83+D82 -> 991927 | E81: =E83+E82 -> 2595910 | F81: =E81/C81*100 -> 117.71607
A82: 2.1. Forgatási célú értékpapír beváltása
A83: 2.4. Államháztartáson belüli megelőlegezések | B83: 907476 | C83: =963239+1241991 -> 2205230 | D83: 991927 | E83: 2595910 | F83: =E83/C83*100 -> 117.71607
A84: 2.5. Lekötött bankbetét megszüntetése
A85: VIII. Finanszírozási bevételek | B85: =B81+B78 -> 20907476 | C85: =C81+C78 -> 30853771 | D85: =D81+D78 -> 29640468 | E85: =E81+E78 -> 31244451 | F85: =E85/C85*100 -> 101.26623
A86: Összes bevétel: | B86: =B77+B85 -> 71854824 | C86: =C77+C85 -> 111154437 | D86: =D77+D85 -> 105874102 | E86: =E77+E85 -> 107550335 | F86: =E86/C86*100 -> 96.757573
A87: Engedélyezett létszám: | B87: 6 | C87: 6 | D87: 6 | E87: 6 | F87: =E87/C87*100 -> 100
A88: ebből közfoglalkoztatott | B88: 3 | C88: 3 | D88: 3 | E88: 3 | F88: =E88/C88*100 -> 100

Sheet 5a. tábla
A2: ÁLLAMI TÁMOGATÁSOK 2018. ÉV
A3: MEGNEVEZÉS | B3: LÉTSZÁM | C3: MUTATÓ | D3: FAJLAGOS | E3: 2018. eredeti | F3: 2018. évi módosított ei. IV. | G3: 2018. évi módosított ei. Korrilgált | H3: 2018. évi teljesítés | I3: %
A5: I. HELYI ÖNKORMÁNYZATOK MŰKÖDÉSÉNEK ÁLT.TÁMOGATÁSA | E5: =E6+E29 -> 19558068 | F5: =F6+F29 -> 19558068 | G5: =G6+G29 -> 19558068 | H5: =H6+H29 -> 19558068 | I5: =H5/F5*100 -> 100
A6: 1. Települési önkormányzatok működésének támogatása | E6: =E7+E10+E19+E21+E23+E24+E26+E27+E30 -> 18387668 | F6: =F7+F10+F19+F21+F23+F24+F26+F27+F30 -> 18387668 | G6: =G7+G10+G19+G21+G23+G24+G26+G27+G30 -> 18387668 | H6: =H7+H10+H19+H21+H23+H24+H26+H27+H30 -> 18387668 | I6: =H6/F6*100 -> 100
A7: Önkormányzati hivatal működtetésének támogatás (beszámítás után) | E7: =E8 -> 0 | F7: =F8 -> 0 | G7: =G8 -> 0 | H7: =H8 -> 0
A8: Önkormányzati hivatal működtetésének támogatás elismert hivatali létsz. | E8: 0 | F8: 0 | G8: 0 | H8: 0
A9: Beszámítás összege | E9: 0 | F9: 0 | G9: 0 | H9: 0
A10: Település üzemeltetéséhez kapcsolódó feladatellát.támog.(beszámítás után) | E10: =E11+E12+E13+E14+E15+E16+E17+E18 -> 7493580 | F10: =F11+F12+F13+F14+F15+F16+F17+F18 -> 7493580 | G10: =G11+G12+G13+G14+G15+G16+G17+G18 -> 7493580 | H10: =H11+H12+H13+H14+H15+H16+H17+H18 -> 7493580 | I10: =H10/F10*100 -> 100
A11: Zöldterület-gazdálk-al kapcsolatos feladatok ellátásának támog. | D11: 22300 | E11: 985660 | F11: 985660 | G11: 985660 | H11: 985660 | I11: =H11/F11*100 -> 100
A12: Beszámítás összege
A13: Közvilágítás fenntartásának támogatás | E13: 4928000 | F13: 4928000 | G13: 4928000 | H13: 4928000 | I13: =H13/F13*100 -> 100
A14: Beszámítás összege
A15: Köztemető fenntartással kapcsolatos feladatok támog. | E15: 0
A16: Beszámítás összege
A17: Közutak fenntartásának támogatás | E17: 1579920 | F17: 1579920 | G17: 1579920 | H17: 1579920 | I17: =H17/F17*100 -> 100
A18: Beszámítás összege
A19: Egyéb önkormányzati feladatok támogatása (beszámítás után) | E19: =E20+E21 -> 5000000 | F19: =F20+F21 -> 5000000 | G19: =G20+G21 -> 5000000 | H19: =H20+H21 -> 5000000 | I19: =H19/F19*100 -> 100
A20: Egyéb önkormányzati feladatok támogatása | D20: 2700 | E20: 5000000 | F20: 5000000 | G20: 5000000 | H20: 5000000 | I20: =H20/F20*100 -> 100
A21: Beszámítás összege
A22: Lakott külterületekkel kapcsolatos feladatok támogatása(beszámítás után) | E22: =E23+E24 -> 112200 | F22: =F23+F24 -> 112200 | G22: =G23+G24 -> 112200 | H22: =H23+H24 -> 112200 | I22: =H22/F22*100 -> 100
A23: Lakott külterületekkel kapcsolatos feladatok támogatása | D23: 2550 | E23: 112200 | F23: 112200 | G23: 112200 | H23: 112200 | I23: =H23/F23*100 -> 100
A24: Beszámítás összege
A25: Üdülőhelyi feladatok támogatása (beszámitás után) | E25: =E26 -> 75370
A26: Üdülőhelyi feladatok támogatása | E26: 75370 | F26: 75370 | G26: 75370 | H26: 75370 | I26: =H26/F26*100 -> 100
A27: Beszámítás összege
A28: 2016. évről áthúzódó bérkompenzáció támogatása
A29: Polgármesteri illetmény támogatása | E29: 1170400 | F29: 1170400 | G29: 1170400 | H29: 1170400 | I29: =H29/F29*100 -> 100
A30: Kiegészítés összege | E30: 5706518 | F30: 5706518 | G30: 5706518 | H30: 5706518 | I30: =H30/F30*100 -> 100
A31: II. EGYES KÖZNEVELÉSI FELADATOK TÁMOGATÁSA
A33: III. SZOCIÁLIS, GYERMEKJÓLÉTI ÉS GYERMEKÉTKEZTETÉSI FELADATAI | E33: =E34+E37+E39+E41 -> 6895000 | F33: =F34+F37+F39+F41 -> 6982631 | G33: =G34+G37+G39+G41 -> 6982631 | H33: =H34+H37+H39+H41 -> 6982631 | I33: =H33/F33*100 -> 100
A34: Pénzbeli szociális juttatások | E34: =SUM(E35:E36) -> 3795000 | F34: =SUM(F35:F36) -> 3795151 | G34: =SUM(G35:G36) -> 3795151 | H34: =SUM(H35:H36) -> 3795151 | I34: =H34/F34*100 -> 100
A35: Pénzbeli szociális ellátások kiegészítése
A36: Települési önkormányzatok szociális feladatainak egyéb támogatása | E36: 3795000 | F36: =3795000+151 -> 3795151 | G36: =3795000+151 -> 3795151 | H36: =3795000+151 -> 3795151 | I36: =H36/F36*100 -> 100
A37: Egyes szoc.és gyermekjólétii felad.támog. | E37: =E38 -> 3100000 | F37: =F38 -> 3100000 | G37: =G38 -> 3100000 | H37: =H38 -> 3100000 | I37: =H37/F37*100 -> 100
A38: Falugondnoki vagy tanyagondnoki | E38: 3100000 | F38: 3100000 | G38: 3100000 | H38: 3100000 | I38: =H38/F38*100 -> 100
A39: Gyermekétkeztetés támogatása
A41: Szociális ágazati pótlék 2018 | F41: =12*7290 -> 87480 | G41: =12*7290 -> 87480 | H41: =12*7290 -> 87480 | I41: =H41/F41*100 -> 100
A43: Kulturális feladatok támogatása | E43: =E44 -> 1800000 | F43: =F44 -> 1800000 | G43: =G44 -> 1800000 | H43: =H44 -> 1800000 | I43: =H43/F43*100 -> 100
A44: Nyilvános könyvtári és közművelődési feladatok támogatása | E44: 1800000 | F44: 1800000 | G44: 1800000 | H44: 1800000 | I44: =H44/F44*100 -> 100
A46: Helyi önk. Működési célú költségvetési támogatásai és kiegészítő támogatásai | G46: =SUM(G47:G49) -> 2081700 | H46: =SUM(H47:H49) -> 2081700
A47: Tűzifa támogatás | G47: 622300 | H47: 622300
A48: Lakossági víz- és csatorna támogatás | G48: 811400 | H48: 811400
A49: Téli rezsicsökkentés | G49: 648000 | H49: 648000
A50: Összesen | E50: =E43+E33+E31+E5 -> 28253068 | F50: =F43+F33+F31+F5 -> 28340699 | G50: =G43+G33+G31+G5+G46 -> 30422399 | H50: =H43+H33+H31+H5+H46 -> 30422399 | I50: =H50/F50*100 -> 107.34527

Sheet 6.tábla 
A3: MŰKÖDÉSI KIADÁSOK 2018. ÉV
A4: MEGNEVEZÉS | B4: 2018. eredeti | C4: 2018. évi módosított ei. IV. | D4: 2018. évi módosított ei. Korrilgált | E4: 2018. évi teljesítés | F4: %
A5: I. Önkormányzat működési kiadásai
A6: 1. Személyi juttatás | B6: =8933820+1935080+149009+149009+185000 -> 11351918 | C6: =12748689+100161+741611 -> 13590461 | D6: 13835499 | E6: 13692002 | F6: =E6/C6*100 -> 100.74715
A7: ebből: EFOP-5.1.2-16-2017 Humán szolgáltatások fejlesztése személyi | E7: 149200
A8: 2. Munkaadót terhelő járulékok | B8: 2307565 | C8: =2432047+17579+111688 -> 2561314 | D8: 2590766 | E8: 2549324 | F8: =E8/C8*100 -> 99.531881
A9: ebből: EFOP-5.1.2-16-2017 Humán szolgáltatások fejlesztése járulék | E9: 14040
A10: 3. Dologi kiadások | B10: =SUM(B11:B26) -> 17032982 | C10: =SUM(C11:C27) -> 30647470 | D10: =SUM(D11:D27) -> 30875198 | E10: =SUM(E11:E27) -> 18566210 | F10: =E10/C10*100 -> 60.579911
A11: Szakmai anyagok beszerzése | B11: 35000 | C11: 35000 | D11: 35000 | E11: 32810 | F11: =E11/C11*100 -> 93.742857
A12: Üzemeltetési anyagok beszerzése | B12: 1960000 | C12: =2260000+110236 -> 2370236 | D12: 2370236 | E12: 1950491 | F12: =E12/C12*100 -> 82.291004
A13: Tűzifa támogatás | C13: 622300 | D13: 622300 | E13: 0 | F13: =E13/C13*100 -> 0
A14: Informatikai szolg.igénybevétele | B14: 501000 | C14: =501000+5000+150000 -> 656000 | D14: 656000 | E14: 523274 | F14: =E14/C14*100 -> 79.767378
A15: Egyéb kommunikációs szolg. | B15: 705000 | C15: 705000 | D15: 705000 | E15: 605900 | F15: =E15/C15*100 -> 85.943262
A16: Közüzemi díjak | B16: 2105000 | C16: 2105000 | D16: 2105000 | E16: 1557467 | F16: =E16/C16*100 -> 73.988931
A17: Vásárolt élelmezés | B17: 20000 | C17: 20000 | D17: 20000 | E17: 0 | F17: =E17/C17*100 -> 0
A18: Bérleti és lizing díjak | B18: 460000 | C18: =460000+20000 -> 480000 | D18: 480000 | E18: 469817 | F18: =E18/C18*100 -> 97.878542
A19: Karbantartási szolg. | B19: 1773982 | C19: =1773982-5000 -> 1768982 | D19: 1768982 | E19: 228228 | F19: =E19/C19*100 -> 12.901658
A20: Közvetített szolgáltatások | B20: 20000 | C20: =20000+150000 -> 170000 | D20: 170000 | E20: 150000 | F20: =E20/C20*100 -> 88.235294
A21: Szakmai tevékenységet segítő szolg. | B21: 1494000 | C21: =1944000+236220 -> 2180220 | D21: 2180220 | E21: 1620760 | F21: =E21/C21*100 -> 74.339287
A22: Egyéb szolgáltatások | B22: 4000000 | C22: =4000000+30294+500000-20000-100000 -> 4410294 | D22: 4597654 | E22: =7039221-2059579 -> 4979642 | F22: =E22/C22*100 -> 112.90952
A23: Reklám és propaganda | B23: 60000 | C23: 60000 | D23: 60000 | E23: 0 | F23: =E23/C23*100 -> 0
A24: Működési célú előzetesen felsz.áfa | B24: 2121000 | C24: =2121000+29764+63780 -> 2214544 | D24: 2214544 | E24: =2396878-556088 -> 1840790 | F24: =E24/C24*100 -> 83.122756
A25: Fizetendő áfa | B25: 700000 | C25: =700000+31890 -> 731890 | D25: 772258 | E25: 768000 | F25: =E25/C25*100 -> 104.9338
A26: Egyéb dologi kiadások | B26: 1078000 | C26: =1078000 -> 1078000 | D26: 1078000 | E26: 1223364 | F26: =E26/C26*100 -> 113.4846
A27: EFOP-5.1.2-16-2017 Humán szolgáltatások fejlesztése dologi | C27: 11040004 | D27: 11040004 | E27: 2615667 | F27: =E27/C27*100 -> 23.692627
A28: 4. Ellátottak pénzbeli juttatásai | B28: =B29 -> 3795000 | C28: =C29 -> 3795000 | D28: =D29 -> 3795000 | E28: =E29 -> 1650000 | F28: =E28/C28*100 -> 43.478261
A29: Települési támogatás | B29: 3795000 | C29: 3795000 | D29: 3795000 | E29: 1650000 | F29: =E29/C29*100 -> 43.478261
A30: MEGNEVEZÉS | B30: 2018. eredeti | C30: 2018. évi módosított ei. IV. | D30: 2018. évi módosított ei. Korrilgált | E30: 2018. évi teljesítés | F30: %
A31: 5. Egyéb működési célú kiadások | B31: =B32+B35+B36+B37+B38+B39+B40 -> 13095342 | C31: =C32+C35+C36+C37+C38+C39+C40+C33 -> 13013128 | D31: =D32+D35+D36+D37+D38+D39+D40+D33 -> 17017748 | E31: =E32+E35+E36+E37+E38+E39+E40+E33 -> 12959091 | F31: =E31/C31*100 -> 99.58475
A32: 1. Működési célú garancia- és kezességvállalásból származó kifizetés áhb
A33: 2. Elvonások, befizetések | C33: =SUM(C34) -> 110440 | D33: =SUM(D34) -> 110440 | E33: =SUM(E34) -> 110440 | F33: =E33/C33*100 -> 100
A34: Állami támogatás visszafizetési kötelezettség | C34: 110440 | D34: 110440 | E34: 110440 | F34: =E34/C34*100 -> 100
A35: 3. Működési célú visszatérítendő támogatások, kölcsönök nyújtása áh-n belülre
A36: 4. Működési célú visszatérítendő támogatások, kölcsönök törlesztése áh-n belülre
A37: 5. Egyéb működési célú támogatások áhb | B37: 12335342 | C37: ='7.tábla'!C3 -> 11331288 | D37: ='7.tábla'!D3 -> 15335908 | E37: ='7.tábla'!E3 -> 11287251 | F37: =E37/C37*100 -> 99.611368
A38: 6. Működési célú garancia- és kezességvállalásból származó kifizetés államháztartáson kívülre
A39: 7. Működési célú visszatérítendő támogatások, kölcsönök nyújtása áh-n kívülre
A40: 8. Egyéb működési célú támogatások áhk | B40: ='7.tábla'!B9 -> 760000 | C40: ='7.tábla'!C9 -> 1571400 | D40: ='7.tábla'!D9 -> 1571400 | E40: ='7.tábla'!E9 -> 1561400 | F40: =E40/C40*100 -> 99.363625
A41: Önkormányzati működési kiadások összesen: | B41: =B6+B8+B10+B28+B31 -> 47582807 | C41: =C6+C8+C10+C28+C31 -> 63607373 | D41: =D6+D8+D10+D28+D31 -> 68114211 | E41: =E6+E8+E10+E28+E31 -> 49416627 | F41: =E41/C41*100 -> 77.690093

Sheet 7.tábla
A1: MŰKÖDÉSI KIADÁSOK 2018. ÉV
A2: Megnevezés | B2: 2018. eredeti | C2: 2018. évi módosított ei. IV. | D2: 2018. évi módosított ei. Korrilgált | E2: 2018. évi teljesítés | F2: %
A3: 1. Működési célú támogatások államháztartáson belülre | B3: =SUM(B4:B7) -> 12335342 | C3: =SUM(C4:C7) -> 11331288 | D3: =SUM(D4:D8) -> 15335908 | E3: =SUM(E4:E7) -> 11287251 | F3: =E3/C3*100 -> 99.611368
A4: Közoktatási Intézményfenntartó Társulás Pécsely Óvoda fenntart támogatás | B4: 4863153 | C4: 3859099 | D4: 3859099 | E4: 3840062 | F4: =E4/C4*100 -> 99.506698
A5: Balatonfüredi Közös Önkorm Hivatal | B5: 6117300 | C5: 6117300 | D5: 6117300 | E5: =6111300+6000 -> 6117300 | F5: =E5/C5*100 -> 100
A6: Bf. Többcélú Társulás | B6: 954889 | C6: 954889 | D6: 954889 | E6: 954889 | F6: =E6/C6*100 -> 100
A7: BURSA Hungarica ösztöndíj (Wekerle Sándor Alapkezelő) | B7: 400000 | C7: 400000 | D7: 400000 | E7: =375000 -> 375000 | F7: =E7/C7*100 -> 93.75
A8: Egyéb | D8: 4004620 | E8: 0
A9: 2. Működési célú támogatások államháztartáson kívülre | B9: =SUM(B10:B17) -> 760000 | C9: =SUM(C10:C17) -> 1571400 | D9: =SUM(D10:D17) -> 1571400 | E9: =SUM(E10:E17) -> 1561400 | F9: =E9/C9*100 -> 99.363625
A10: Református egyház | B10: 0 | C10: 0 | D10: 0 | E10: 0
A11: Mosoly Alapítány | B11: 0 | C11: 0 | D11: 0 | E11: 0
A12: Bfüredi Önk Tűzoltóságnak | B12: 0 | C12: 0 | D12: 0 | E12: 0
A13: Balatonszőlős Darts egyesület | B13: 150000 | C13: 150000 | D13: 150000 | E13: 150000 | F13: =E13/C13*100 -> 100
A14: Balatonszőlős Sport egyesület | B14: 500000 | C14: 500000 | D14: 500000 | E14: 500000 | F14: =E14/C14*100 -> 100
A15: Tihany Iskoláért Alapítvány | B15: 100000 | C15: 100000 | D15: 100000 | E15: 100000 | F15: =E15/C15*100 -> 100
A16: Bakonykarszt-Víz és csatorna támogatás | C16: 811400 | D16: 811400 | E16: 811400 | F16: =E16/C16*100 -> 100
A17: Falugondnokok egyesülete támogatás | B17: 10000 | C17: 10000 | D17: 10000 | F17: =E17/C17*100 -> 0
A18: 3. Működési célú visszatérítendő támogatások, kölcsönök nyújtása, törlesztése | B18: 0
A20: Egyéb működési célú kiadások összesen:
A24: Összesen: | B24: =B9+B3 -> 13095342 | C24: =C9+C3 -> 12902688 | D24: =D9+D3 -> 16907308 | E24: =E9+E3 -> 12848651 | F24: =E24/C24*100 -> 99.581196

Sheet 8.tábla
A1: FELHALMOZÁSI KIADÁSOK 2018. ÉV
A2: Megnevezés | B2: 2018. eredeti | C2: 2018. évi módosított ei. IV. | D2: 2018. évi módosított ei. Korrilgált | E2: 2018. évi teljesítés | F2: %
A3: I. BERUHÁZÁSOK | B3: =B4+B6+B15+B14 -> 9119196 | C3: =C4+C6+C15+C14 -> 14402020 | D3: =D4+D6+D15+D14+D21 -> 10515510 | E3: =E4+E6+E15+E14 -> 4569126 | F3: =E3/C3*100 -> 31.725591
A4: Immateriális javak beszerzése | B4: =SUM(B5:B5) -> 2500000 | C4: =SUM(C5:C5) -> 2500000 | D4: =SUM(D5:D5) -> 2500000 | F4: =E4/C4*100 -> 0
A5: Rendezési terv felülvizsgálat önrész | B5: 2500000 | C5: 2500000 | D5: 2500000 | F5: =E5/C5*100 -> 0
A6: Ingatlanok beszerzése, létesítése | B6: =B7+B8+B10+B11+B13 -> 4569196 | C6: =C7+C8+C9+C11+C13 -> 8672019 | D6: =D7+D8+D9+D11+D13 -> 4667399 | E6: =E7+E8+E9+E11+E13 -> 3228076 | F6: =E6/C6*100 -> 37.224042
A7: Közösségi Ház féltető | B7: 0
A8: LEADER pályázat Közösségi tér önrész 75/2018.(VIII.28.) | B8: 0 | C8: 1004620 | F8: =E8/C8*100 -> 0
A9: LEADER pályázat Közösségi tér munkálatok 75/2018.(VIII.28.) | C9: 3000000 | F9: =E9/C9*100 -> 0
A10: Közösségi Ház nyitott szintere | B10: 0 | C10: 0 | D10: 0
A11: Mosó pályázat önrésze | B11: 3228076 | C11: 3228076 | D11: 3228076 | E11: 3228076 | F11: =E11/C11*100 -> 100
A12: Mosó pályázat munkálatok | B12: 0
A13: MLSZ futballpály körbekerítés | B13: 1341120 | C13: 1439323 | D13: 1439323 | F13: =E13/C13*100 -> 0
A14: Informatikai eszközök beszerzése, létesítése | B14: 50000 | C14: 50000 | D14: 50000 | F14: =E14/C14*100 -> 0
A15: Egyéb tárgyi eszköz beszerzése | B15: =B16+B17+B18+B19+B20 -> 2000000 | C15: =C16+C17+C18+C19+C20 -> 3180001 | D15: =D16+D17+D18+D19+D20 -> 3180001 | E15: =E16+E17+E18+E19+E20 -> 1341050 | F15: =E15/C15*100 -> 42.17137
A16: Mobil lemezgarázs | B16: 0 | C16: 180000 | D16: 180000 | E16: 0 | F16: =E16/C16*100 -> 0
A17: Közösségi Ház Gázkazán | B17: 0 | C17: 0 | D17: 0
A18: Műtrágya szóró | B18: 0 | C18: 0 | D18: 0
A19: Fűnyíró | B19: 0 | C19: 1000001 | D19: 1000001 | E19: 1000001 | F19: =E19/C19*100 -> 100
A20: Kisértékű tárgyi eszközök | B20: 2000000 | C20: 2000000 | D20: 2000000 | E20: =8410+206819+125820 -> 341049 | F20: =E20/C20*100 -> 17.05245
D21: 118110
A22: Részesedések beszerzése
A23: II. FELÚJÍTÁSOK | B23: =B24 -> 5316875 | C23: =C24 -> 17318511 | D23: =D24 -> 17318511 | E23: =E24 -> 8257401 | F23: =E23/C23*100 -> 47.679624
A24: Ingatlanok Felújítása | B24: =B25+B26+B27+B28+B32 -> 5316875 | C24: =C25+C26+C27+C28+C32+C29+C30+C31 -> 17318511 | D24: =D25+D26+D27+D28+D32+D29+D30+D31+D33 -> 17318511 | E24: =E25+E26+E27+E28+E32+E29+E30+E31+E33 -> 8257401 | F24: =E24/C24*100 -> 47.679624
A25: Pécselyi iskola tető felújítása tulajdonarányosan | B25: 314112 | C25: 314112 | D25: 314112 | E25: 161304 | F25: =E25/C25*100 -> 51.352384
A26: Önkormányzati fejlesztések 2018 önrész | B26: 0 | C26: 1580622 | D26: 1580622 | F26: =E26/C26*100 -> 0
A27: Önkormányzati fejlesztések 2018 munkálatok | B27: 0 | C27: 8956854 | D27: 8956854 | F27: =E27/C27*100 -> 0
A28: Sportöltöző és sportpálya felújítása pályázat önrész | B28: 4034832 | C28: 4034832 | D28: 4034832 | E28: 2911900 | F28: =E28/C28*100 -> 72.169052
A29: Sportöltöző és sportpálya felújítása pályázat munkálatok | B29: 0 | C29: 0 | D29: 0
A30: Öreg Gella Útfelújítás önrész | C30: 393000 | D30: 393000 | E30: 393000 | F30: =E30/C30*100 -> 100
A31: Öreg Gella Útfelújítás munkálatok | C31: 1060000 | D31: 1060000 | E31: 1060000 | F31: =E31/C31*100 -> 100
A32: "Önkormányzati feladatellátást szolgáló fejlesztések támogatása" pályázat, utak felújítása önrész | B32: 967931 | C32: =967931+11160 -> 979091 | D32: =967931+11160 -> 979091 | E32: 978091 | F32: =E32/C32*100 -> 99.897864
A33: EFOP-5.1.2-16-2017 Humán szolgáltatások fejlesztése felújítás | E33: 2753106
A34: III. EGYÉB FELHALMOZÁSI KIADÁSOK | B34: =B35 -> 30885 | C34: =C35 -> 30885 | D34: =D35 -> 30885 | E34: =E35 -> 30885 | F34: =E34/C34*100 -> 100
A35: Egyéb felhalmozási kiadások | B35: 30885 | C35: 30885 | D35: 30885 | E35: 30885 | F35: =E35/C35*100 -> 100
A36: Felhalmozási kiadások összesen: | B36: =B34+B3+B23 -> 14466956 | C36: =C34+C3+C23 -> 31751416 | D36: =D34+D3+D23 -> 27864906 | E36: =E34+E3+E23 -> 12857412 | F36: =E36/C36*100 -> 40.49398
A37: IV. Finanszírozási kiadások | B37: =B38+B39+B40 -> 2399591 | C37: =C38+C39+C40 -> 2455354 | D37: =D38+D39+D40 -> 2484042 | E37: =E38+E39+E40 -> 2484042 | F37: =E37/C37*100 -> 101.16839
A38: Lekötött bankbetét beváltása
A39: Forgatási célú értékpapír vásárlás
A40: Állami támogatás megelőlegezés visszafizetés | B40: 2399591 | C40: =2399591+55763 -> 2455354 | D40: 2484042 | E40: 2484042 | F40: =E40/C40*100 -> 101.16839

Sheet 9.tábla 
A2: Az Önkormányzat működési bevételei és kiadásai 2018. év
A4: 1. Működési bevételek | B4: 2018. eredeti | C4: 2018. évi módosított ei. IV. | D4: 2018. évi módosított ei. Korrilgált | E4: 2018. évi teljesítés | F4: % | G4: 2. Működési kiadások | H4: 2018. eredeti | I4: 2018. évi módosított ei. IV. | J4: 2018. évi módosított ei. Korrilgált | K4: 2018. évi teljesítés | L4: %
A5: 1. Működési célú támogatások államháztartáson belülről | B5: ='4.tábla '!B6 -> 31474348 | C5: ='4.tábla '!C6 -> 47660812 | D5: ='4.tábla '!D6 -> 46553412 | E5: ='4.tábla '!E6 -> 45199710 | F5: =E5/C5*100 -> 94.836215 | G5: 1. Személyi juttatások | H5: ='6.tábla '!B6 -> 11351918 | I5: ='6.tábla '!C6 -> 13590461 | J5: ='6.tábla '!D6 -> 13835499 | K5: ='6.tábla '!E6 -> 13692002 | L5: =K5/I5*100 -> 100.74715
A6: 2. Közhatalmi bevételek | B6: ='4.tábla '!B8 -> 11333000 | C6: ='4.tábla '!C8 -> 11333000 | D6: ='4.tábla '!D8 -> 11333000 | E6: ='4.tábla '!E8 -> 13263983 | F6: =E6/C6*100 -> 117.03859 | G6: 2. Munkaadót terhelő járulékok | H6: ='6.tábla '!B8 -> 2307565 | I6: ='6.tábla '!C8 -> 2561314 | J6: ='6.tábla '!D8 -> 2590766 | K6: ='6.tábla '!E8 -> 2549324 | L6: =K6/I6*100 -> 99.531881
A7: 3. Működési bevételek | B7: ='4.tábla '!B9 -> 3140000 | C7: ='4.tábla '!C9 -> 4350000 | D7: ='4.tábla '!D9 -> 3330368 | E7: ='4.tábla '!E9 -> 3885337 | F7: =E7/C7*100 -> 89.318092 | G7: 3. Dologi kiadások | H7: ='6.tábla '!B10 -> 17032982 | I7: ='6.tábla '!C10 -> 30647470 | J7: ='6.tábla '!D10 -> 30875198 | K7: ='6.tábla '!E10 -> 18566210 | L7: =K7/I7*100 -> 60.579911
A8: 4. Működési célú átvett pénzeszközök államháztartáson kivülről | D8: ='5.tábla'!D70 -> 1060000 | E8: ='5.tábla'!E70 -> 0 | G8: 4. Ellátottak pénzbeli juttatásai | H8: ='6.tábla '!B28 -> 3795000 | I8: ='6.tábla '!C28 -> 3795000 | J8: ='6.tábla '!D28 -> 3795000 | K8: ='6.tábla '!E28 -> 1650000 | L8: =K8/I8*100 -> 43.478261
G9: 5. Egyéb működési célú kiadások | H9: =H10+H11+H12+H13 -> 13095342 | I9: =I10+I11+I12+I13 -> 13013128 | J9: =J10+J11+J12+J13 -> 17017748 | K9: =K10+K11+K12+K13 -> 12959091 | L9: =K9/I9*100 -> 99.58475
G10: 5.1. Elvonások, befizetések | I10: ='6.tábla '!C33 -> 110440 | J10: ='6.tábla '!D33 -> 110440 | K10: ='6.tábla '!E33 -> 110440
G11: 5.2. Egyéb működési célú támogatások áhb | H11: ='7.tábla'!B3 -> 12335342 | I11: ='7.tábla'!C3 -> 11331288 | J11: ='6.tábla '!D37 -> 15335908 | K11: ='6.tábla '!E37 -> 11287251 | L11: =K11/I11*100 -> 99.611368
G12: 5.4. Egyéb működési célú támogatások áhk | H12: ='7.tábla'!B9 -> 760000 | I12: ='7.tábla'!C9 -> 1571400 | J12: ='6.tábla '!D40 -> 1571400 | K12: ='7.tábla'!E9 -> 1561400 | L12: =K12/I12*100 -> 99.363625
G13: 5.5. Működési célú visszatérítendő tám.-k, kölcsönök nyújtása áhk
G14: 6. Pénzforgalom nélküli kiadások (tartalék) | H14: ='4.tábla '!B26 -> 7405470 | I14: ='4.tábla '!C26 -> 13340294 | J14: ='4.tábla '!D26 -> 7410943 | K14: ='4.tábla '!E26 -> 0 | L14: =K14/I14*100 -> 0
A15: Összes költségvetési működési bevétel: | B15: =SUM(B5:B14) -> 45947348 | C15: =SUM(C5:C14) -> 63343812 | D15: =SUM(D5:D14) -> 62276780 | E15: =SUM(E5:E14) -> 62349030 | F15: =E15/C15*100 -> 98.429551 | G15: Összes költségvetési működési kiadás: | H15: =H5+H6+H7+H8+H9+H14 -> 54988277 | I15: =I5+I6+I7+I8+I9+I14 -> 76947667 | J15: =J5+J6+J7+J8+J9+J14 -> 75525154 | K15: =K5+K6+K7+K8+K9+K14 -> 49416627 | L15: =K15/I15*100 -> 64.221085
A16: Működési többlet: | G16: Működési hiány/többlet: | H16: =B15-H15 -> -9040929 | I16: =C15-I15 -> -13603855 | J16: =D15-J15 -> -13248374 | K16: =E15-K15 -> 12932403 | L16: =K16/I16*100 -> -95.064252
A17: Költségvetési hiány belső finanszírozása működési célú | B17: =SUM(B18) -> 20000000 | C17: =SUM(C18) -> 28648541 | D17: =SUM(D18) -> 28648541 | E17: =SUM(E18) -> 28648541 | F17: =E17/C17*100 -> 100 | G17: Finanszírozási célú műveletek kiadásai működési célú | H17: =H18+H19+H20+H21 -> 2399591 | I17: =I18+I19+I20+I21 -> 2455354 | J17: =J18+J19+J20+J21 -> 2484042 | K17: =K18+K19+K20+K21 -> 2484042 | L17: =K17/I17*100 -> 101.16839
A18: 5. Költségvetési Maradvány | B18: ='5.tábla'!B79 -> 20000000 | C18: ='5.tábla'!C79 -> 28648541 | D18: ='5.tábla'!D79 -> 28648541 | E18: ='5.tábla'!E79 -> 28648541 | F18: =E18/C18*100 -> 100 | G18: 7. Állami támogatás megelőlegezés visszafizetése | H18: ='8.tábla'!B40 -> 2399591 | I18: ='8.tábla'!C40 -> 2455354 | J18: ='8.tábla'!D40 -> 2484042 | K18: ='8.tábla'!E40 -> 2484042 | L18: =K18/I18*100 -> 101.16839
A19: Költségvetési hiány külső finanszírozása működési célú | B19: =SUM(B20:B22) -> 907476 | C19: =SUM(C20:C22) -> 2205230 | D19: =SUM(D20:D22) -> 991927 | E19: =SUM(E20:E22) -> 2595910 | G19: 8. Lekötött bankbetét megszüntetése | L19: =K19-I19 -> 0
A20: 6. Értékpapír beváltása | B20: ='5.tábla'!B82 -> 0 | G20: 9. Betét vásárlás | L20: =K20-I20 -> 0
A21: 7. Lekötött bankbetét megszüntetése | G21: 10. Forgatási célú értékpapír vás. | H21: ='8.tábla'!B39 -> 0 | L21: =K21-I21 -> 0
A22: 8. Állami támogatás megelőlegezés visszafizetése | B22: ='5.tábla'!B83 -> 907476 | C22: ='5.tábla'!C83 -> 2205230 | D22: ='5.tábla'!D83 -> 991927 | E22: ='5.tábla'!E83 -> 2595910 | F22: =E22/C22*100 -> 117.71607 | L22: =K22-I22 -> 0
A23: Összes működési bevétel: | B23: =B15+B17+B19 -> 66854824 | C23: =C15+C17+C19 -> 94197583 | D23: =D15+D17+D19 -> 91917248 | E23: =E15+E17+E19 -> 93593481 | F23: =E23/C23*100 -> 99.358686 | G23: Összes működési kiadás | H23: =H17+H15 -> 57387868 | I23: =I17+I15 -> 79403021 | J23: =J17+J15 -> 78009196 | K23: =K17+K15 -> 51900669 | L23: =K23/I23*100 -> 65.363595
A25: Az Önkormányzat felhalmozási bevételei és kiadásai 2018. év
A27: 1. Felhalmozási bevételek | B27: 2018. eredeti | C27: 2018. évi módosított ei. IV. | D27: 2018. évi módosított ei. Korrilgált | E27: 2018. évi teljesítés | F27: % | G27: 2. Felhalmozási kiadások | H27: 2018. eredeti | I27: 2018. évi módosított ei. IV. | J27: 2018. évi módosított ei. Korrilgált | K27: 2018. évi teljesítés | L27: %
A28: 1. Felhalmozási célú támogatások államháztartáson belülről | B28: ='5.tábla'!B24 -> 5000000 | C28: ='5.tábla'!C24 -> 13956854 | D28: ='5.tábla'!D24 -> 8956854 | E28: ='5.tábla'!E24 -> 13956854 | F28: =E28/C28*100 -> 100 | G28: 1.1. Beruházások | H28: ='8.tábla'!B3 -> 9119196 | I28: ='8.tábla'!C3 -> 14402020 | J28: ='8.tábla'!D3 -> 10515510 | K28: ='8.tábla'!E3 -> 4569126 | L28: =K28/I28*100 -> 31.725591
A29: 2. Felhalmozási bev. | B29: ='5.tábla'!B62 -> 0 | C29: ='5.tábla'!C62 -> 0 | D29: ='5.tábla'!D62 -> 0 | E29: ='5.tábla'!E62 -> 0 | G29: 1.2. Int.saját hatáskörű fejlesztések
A30: 3. Felhalmozási célú átvett pénzeszközök | B30: ='5.tábla'!B71 -> 0 | C30: ='5.tábla'!C71 -> 3000000 | D30: ='5.tábla'!D71 -> 5000000 | E30: ='5.tábla'!E71 -> 0 | F30: =E30/C30*100 -> 0 | G30: 2. Felújítások | H30: ='8.tábla'!B23 -> 5316875 | I30: ='8.tábla'!C23 -> 17318511 | J30: ='8.tábla'!D23 -> 17318511 | K30: ='8.tábla'!E23 -> 8257401 | L30: =K30/I30*100 -> 47.679624
G31: 3. Egyéb felhalmozási kiadások | H31: =H32+H33+H34+H35 -> 30885 | I31: =I32+I33+I34+I35 -> 30885 | J31: =J32+J33+J34+J35 -> 30885 | K31: =K32+K33+K34+K35 -> 30885 | L31: =K31/I31*100 -> 100
F32: =E32-C32 -> 0 | G32: 3.1. Egyéb felhalmozási célú támogatások áh-n kívülre
F33: =E33-C33 -> 0 | G33: 3.2. Egyéb felhalmozási célú támogatások áh-n belülre | H33: ='8.tábla'!B35 -> 30885 | I33: ='8.tábla'!C35 -> 30885 | J33: ='8.tábla'!D35 -> 30885 | K33: ='8.tábla'!E35 -> 30885 | L33: =K33/I33*100 -> 100
F34: =E34-C34 -> 0 | G34: 3.3. Felhalmozási célú visszatérítendő támogatások, kölcsönök nyújtása áh-n belülre
F35: =E35-C35 -> 0 | G35: 3.3. Felhalmozási célú visszatérítendő támogatások, kölcsönök nyújtása áh-n kívülre | L35: =K35-I35 -> 0
A36: Összes költségvetési felhalmozási bevétel: | B36: =SUM(B28:B34) -> 5000000 | C36: =SUM(C28:C34) -> 16956854 | D36: =SUM(D28:D34) -> 13956854 | E36: =SUM(E28:E34) -> 13956854 | F36: =E36/C36*100 -> 82.308039 | G36: Összes költségvetési felhalmozási kiadás: | H36: =SUM(H28:H31) -> 14466956 | I36: =SUM(I28:I31) -> 31751416 | J36: =SUM(J28:J31) -> 27864906 | K36: =SUM(K28:K31) -> 12857412 | L36: =K36/I36*100 -> 40.49398
A37: Felhalmozási többlet: | G37: Felhalmozási hiány/többlet: | H37: =B36-H36 -> -9466956 | I37: =C36-I36 -> -14794562 | J37: =D36-J36 -> -13908052 | K37: =E36-K36 -> 1099442 | L37: =K37/I37*100 -> -7.4313927
A38: Költségvetési hiány belső finanszírozása felhalmozási célú | B38: =SUM(B39) -> 0 | G38: Finanszírozási célú műveletek kiadásai felhalmozási célú | H38: =SUM(H39:H41) -> 0
A39: 4.Költségvetési maradvány | B39: ='5.tábla'!B80 -> 0 | G39: 4. Értékpapírok visszavásárlása
A40: Költségvetési hiány külső finanszírozása felhalmozási célú | B40: =SUM(B41:B42) -> 0 | G40: 5. Hitelek törlesztése
A41: 5. Értékpapír kibocsátás, értékesítés | G41: 6. Állami támogatás megelőlegezés visszafizetése
A42: 6. Hitelfelvétel
A43: Összes felhalmozási bevétel: | B43: =B36+B38+B40 -> 5000000 | C43: =C36+C38+C40 -> 16956854 | D43: =D36+D38+D40 -> 13956854 | E43: =E36+E38+E40 -> 13956854 | F43: =E43/C43*100 -> 82.308039 | G43: Összes felhalmozási kiadás | H43: =H36+H38 -> 14466956 | I43: =I36+I38 -> 31751416 | J43: =J36+J38 -> 27864906 | K43: =K36+K38 -> 12857412 | L43: =K43/I43*100 -> 40.49398
A46: Bevétele és kiadások mérlege 2018. év
A48: BEVÉTELEK | B48: 2018. eredeti | C48: 2018. évi módosított ei. IV. | D48: 2018. évi módosított ei. Korrilgált | E48: 2018. évi teljesítés | F48: % | G48: KIADÁSOK | H48: 2018. eredeti | I48: 2018. évi módosított ei. IV. | J48: 2018. évi módosított ei. Korrilgált | K48: 2018. évi teljesítés | L48: %
A49: Költségvetési működési bevételek | B49: =B15 -> 45947348 | C49: =C15 -> 63343812 | D49: =D15 -> 62276780 | E49: =E15 -> 62349030 | F49: =E49/C49*100 -> 98.429551 | G49: Költségvetési működési kiadások | H49: =H15 -> 54988277 | I49: =I15 -> 76947667 | J49: =J15 -> 75525154 | K49: =K15 -> 49416627 | L49: =K49/I49*100 -> 64.221085
A50: Költségvetési felhalmozási bevételek | B50: =B36 -> 5000000 | C50: =C36 -> 16956854 | D50: =D36 -> 13956854 | E50: =E36 -> 13956854 | F50: =E50/C50*100 -> 82.308039 | G50: Költségvetési felhalmozási kiadások | H50: =H36 -> 14466956 | I50: =I36 -> 31751416 | J50: =J36 -> 27864906 | K50: =K36 -> 12857412 | L50: =K50/I50*100 -> 40.49398
A51: Költségvetési bevételek összesen: | B51: =SUM(B49:B50) -> 50947348 | C51: =SUM(C49:C50) -> 80300666 | D51: =SUM(D49:D50) -> 76233634 | E51: =SUM(E49:E50) -> 76305884 | F51: =E51/C51*100 -> 95.025219 | G51: Költségvetési kiadások összesen: | H51: =SUM(H49:H50) -> 69455233 | I51: =SUM(I49:I50) -> 108699083 | J51: =SUM(J49:J50) -> 103390060 | K51: =SUM(K49:K50) -> 62274039 | L51: =K51/I51*100 -> 57.290308
A52: Költségvetési többlet: | G52: Költségvetési hiány/többlet: | H52: =B51-H51 -> -18507885 | I52: =C51-I51 -> -28398417 | J52: =D51-J51 -> -27156426 | K52: =E51-K51 -> 14031845 | L52: =K52/I52*100 -> -49.410659
A53: Költségvetési hiány belső finanszírozása: | B53: =SUM(B54:B55) -> 20000000 | C53: =SUM(C54:C55) -> 28648541 | D53: =SUM(D54:D55) -> 28648541 | E53: =SUM(E54:E55) -> 28648541 | F53: =E53/C53*100 -> 100 | G53: Finanszírozási célú műveletek kiadásai összesen: | H53: =SUM(H54:H55) -> 2399591 | I53: =SUM(I54:I55) -> 2455354 | J53: =SUM(J54:J55) -> 2484042 | K53: =SUM(K54:K55) -> 2484042 | L53: =K53/I53*100 -> 101.16839
A54: Költségvetési hiány belső finanszírozása működési célú | B54: =B17 -> 20000000 | C54: =C17 -> 28648541 | D54: =D17 -> 28648541 | E54: =E17 -> 28648541 | F54: =E54/C54*100 -> 100 | G54: Finanszírozási célú műveletek működési kiadásai | H54: =H17 -> 2399591 | I54: =I17 -> 2455354 | J54: =J17 -> 2484042 | K54: =K17 -> 2484042 | L54: =K54/I54*100 -> 101.16839
A55: Költségvetési hiány belső finanszírozása felhalmozási célú | B55: =B38 -> 0 | C55: =C38 -> 0 | D55: =D38 -> 0 | E55: =E38 -> 0 | G55: Finanszírozási célú műveletek felhalmozási kiadásai | H55: =H38 -> 0 | I55: =I38 -> 0 | J55: =J38 -> 0 | L55: =K55-I55 -> 0
A56: Költségvetési hiány külső finanszírozása: | B56: =SUM(B57:B58) -> 907476 | C56: =SUM(C57:C58) -> 2205230 | D56: =SUM(D57:D58) -> 991927 | E56: =SUM(E57:E58) -> 2595910 | F56: =E56/C56*100 -> 117.71607 | L56: =K56-I56 -> 0
A57: Költségvetési hiány külső finanszírozása működési célú | B57: =B19 -> 907476 | C57: =C19 -> 2205230 | D57: =D19 -> 991927 | E57: =E19 -> 2595910 | F57: =E57/C57*100 -> 117.71607 | L57: =K57-I57 -> 0
A58: Költségvetési hiány külső finanszírozása felhalmozási célú | B58: =B40 -> 0 | C58: =C40 -> 0 | D58: =D40 -> 0 | L58: =K58-I58 -> 0
A59: Összes bevétel: | B59: =B51+B53+B56 -> 71854824 | C59: =C51+C53+C56 -> 111154437 | D59: =D51+D53+D56 -> 105874102 | E59: =E51+E53+E56 -> 107550335 | F59: =E59/C59*100 -> 96.757573 | G59: Összes kiadás: | H59: =H51+H53 -> 71854824 | I59: =I51+I53 -> 111154437 | J59: =J51+J53 -> 105874102 | K59: =K51+K53 -> 64758081 | L59: =K59/I59*100 -> 58.259556
A60: TÖBBLET | B60: =B59-H59 -> 0 | C60: =C59-I59 -> 0 | D60: =D59-J59 -> 0 | E60: =E59-K59 -> 42792254

Sheet 10.tábla
A1: Az Önkormányzat kötelező feladatok bevételei és kiadásai 2018. év
A2: 1. Működési bevételek | B2: 2018. eredeti | C2: 2018. évi módosított ei. IV. | D2: 2018. évi módosított ei. Korrilgált | E2: 2018. évi teljesítés | F2: % | G2: 2. Működési kiadások | H2: 2018. eredeti | I2: 2018. évi módosított ei. IV. | J2: 2018. évi módosított ei. Korrilgált | K2: 2018. évi teljesítés | L2: %
A3: Működési bevételek | G3: Működési kiadások | L3: =K3-I3 -> 0
A4: 1. Működési támogatások államháztartáson belülről | B4: ='9.tábla '!B5 -> 31474348 | C4: ='9.tábla '!C5 -> 47660812 | D4: ='9.tábla '!D5 -> 46553412 | E4: ='9.tábla '!E5 -> 45199710 | F4: =E4/C4*100 -> 94.836215 | G4: 1. Személyi juttatások | H4: ='9.tábla '!H5 -> 11351918 | I4: ='9.tábla '!I5 -> 13590461 | J4: ='9.tábla '!J5 -> 13835499 | K4: ='9.tábla '!K5-K32 -> 13542802 | L4: =K4/I4*100 -> 99.64932
A5: 2. Közhatalmi bevételek | B5: ='9.tábla '!B6 -> 11333000 | C5: ='9.tábla '!C6 -> 11333000 | D5: ='9.tábla '!D6 -> 11333000 | E5: ='9.tábla '!E6 -> 13263983 | F5: =E5/C5*100 -> 117.03859 | G5: 2. Munkaadót terhelő járulékok | H5: ='9.tábla '!H6 -> 2307565 | I5: ='9.tábla '!I6 -> 2561314 | J5: ='9.tábla '!J6 -> 2590766 | K5: ='9.tábla '!K6-K33 -> 2535284 | L5: =K5/I5*100 -> 98.983725
A6: 3. Működési bevételek | B6: ='9.tábla '!B7-B34 -> 3140000 | C6: ='9.tábla '!C7-C34 -> 4350000 | D6: ='9.tábla '!D7-D34 -> 3330368 | E6: ='9.tábla '!E7-E34 -> 3885337 | F6: =E6/C6*100 -> 89.318092 | G6: 3. Dologi kiadások | H6: ='9.tábla '!H7-H34 -> 17032982 | I6: ='9.tábla '!I7-I34 -> 30647470 | J6: ='9.tábla '!J7-J34 -> 30875198 | K6: ='9.tábla '!K7-K34 -> 15950543 | L6: =K6/I6*100 -> 52.045219
A7: 4. Működési célú átvett pénzeszközök áhk | B7: ='9.tábla '!B8 -> 0 | C7: ='9.tábla '!C8 -> 0 | D7: ='9.tábla '!D8 -> 1060000 | G7: 4. Ellátottak pénzbeli juttatásai | H7: ='9.tábla '!H8 -> 3795000 | I7: ='9.tábla '!I8 -> 3795000 | J7: ='9.tábla '!J8 -> 3795000 | K7: ='9.tábla '!K8 -> 1650000 | L7: =K7/I7*100 -> 43.478261
F8: =E8-C8 -> 0 | G8: 5. Egyéb működési célú kiadások | H8: =H10+H11+H12 -> 12335342 | I8: =I10+I11+I12+I9 -> 11441728 | J8: =J10+J11+J12+J9 -> 15446348 | K8: =K10+K11+K12+K9 -> 11397691 | L8: =K8/I8*100 -> 99.615119
F9: =E9-C9 -> 0 | G9: 5.1. Elvonások, befizetések | H9: ='9.tábla '!H10 -> 0 | I9: ='9.tábla '!I10 -> 110440 | J9: ='9.tábla '!J10 -> 110440 | K9: ='9.tábla '!K10 -> 110440
F10: =E10-C10 -> 0 | G10: 5.2. Egyéb működési célú támogatások áh-n belülre | H10: ='9.tábla '!H11 -> 12335342 | I10: ='9.tábla '!I11 -> 11331288 | J10: ='9.tábla '!J11 -> 15335908 | K10: ='9.tábla '!K11 -> 11287251 | L10: =K10/I10*100 -> 99.611368
F11: =E11-C11 -> 0 | G11: 5.4. Egyéb működési célú támogatások áh-n kívülre | H11: ='9.tábla '!H12-H40 -> 0 | I11: ='9.tábla '!I12-I40 -> 0 | J11: ='9.tábla '!J12-J40 -> 0 | K11: ='9.tábla '!K12-K40 -> 0
F12: =E12-C12 -> 0 | G12: 5.5. Működési célú visszatérítendő támogatások, kölcsönök nyújtása áh-n kívülre | H12: ='9.tábla '!H13 -> 0 | I12: ='9.tábla '!I13 -> 0 | J12: ='9.tábla '!J13 -> 0 | K12: ='9.tábla '!K13 -> 0
F13: =E13-C13 -> 0 | G13: 6. Pénzforgalom nélküli kiadások (tartalék) | H13: ='9.tábla '!H14 -> 7405470 | I13: ='9.tábla '!I14 -> 13340294 | J13: ='9.tábla '!J14 -> 7410943 | K13: ='9.tábla '!K14 -> 0 | L13: =K13/I13*100 -> 0
A14: Költségvetési működési bevételek kötelező feladatok szerinti bontásban | B14: =SUM(B4:B13) -> 45947348 | C14: =SUM(C4:C13) -> 63343812 | D14: =SUM(D4:D13) -> 62276780 | E14: =SUM(E4:E13) -> 62349030 | F14: =E14/C14*100 -> 98.429551 | G14: Költségvetési felhalmozási kiadások kötelező feladatok szerinti bontásban | H14: =H4+H5+H6+H7+H8+H13 -> 54228277 | I14: =I4+I5+I6+I7+I8+I13 -> 75376267 | J14: =J4+J5+J6+J7+J8+J13 -> 73953754 | K14: =K4+K5+K6+K7+K8+K13 -> 45076320 | L14: =K14/I14*100 -> 59.801741
A15: Finanszírozási bevételek | B15: ='9.tábla '!B53 -> 20000000 | C15: ='9.tábla '!C53 -> 28648541 | D15: ='9.tábla '!D53 -> 28648541 | E15: ='9.tábla '!E53 -> 28648541 | F15: =E15/C15*100 -> 100 | G15: Finanszírozási kiadások | H15: ='9.tábla '!H17-H55 -> 2399591 | I15: ='9.tábla '!I17-I55 -> 2455354 | J15: ='9.tábla '!J17-J55 -> 2484042 | K15: ='9.tábla '!K17-K55 -> 2484042 | L15: =K15/I15*100 -> 101.16839
A16: Működési bevételek kiemelt előirányzatonként kötelező feladatok szerinti bontásban | B16: =B14+B15 -> 65947348 | C16: =C14+C15 -> 91992353 | D16: =D14+D15 -> 90925321 | E16: =E14+E15 -> 90997571 | F16: =E16/C16*100 -> 98.918625 | G16: Működési kiadások kiemelt előirányzatonként kötelező feladatok szerinti bontásban | H16: =H14+H15 -> 56627868 | I16: =I14+I15 -> 77831621 | J16: =J14+J15 -> 76437796 | K16: =K14+K15 -> 47560362 | L16: =K16/I16*100 -> 61.106734
A17: Felhalmozási bevételek | G17: Felhalmozási kiadások
A18: 1. Felhalmozási célú támogatások áhb | B18: ='4.tábla '!B7 -> 5000000 | C18: ='4.tábla '!C7 -> 13956854 | D18: ='4.tábla '!D7 -> 8956854 | E18: ='4.tábla '!E7 -> 13956854 | F18: =E18/C18*100 -> 100 | G18: 1.1. Beruházások | H18: ='9.tábla '!H28-H46 -> 9119196 | I18: ='9.tábla '!I28-I46 -> 14402020 | J18: ='9.tábla '!J28-J46 -> 10515510 | K18: ='9.tábla '!K28-K46 -> 4569126 | L18: =K18/I18*100 -> 31.725591
A19: 2. Felhalmozási bevételek | B19: ='9.tábla '!B29-B47 -> 0 | G19: 1.2. Int.saját hatáskörű fejlesztések
A20: 3. Felhalmozási célú átvett pénzeszközök áhk | B20: ='9.tábla '!B30-B48 -> 0 | C20: ='9.tábla '!C30 -> 3000000 | D20: ='9.tábla '!D30 -> 5000000 | E20: ='9.tábla '!E30 -> 0 | F20: =E20/C20*100 -> 0 | G20: 2. Felújítások | H20: ='9.tábla '!H30 -> 5316875 | I20: ='9.tábla '!I30 -> 17318511 | J20: ='9.tábla '!J30 -> 17318511 | K20: ='9.tábla '!K30-K48 -> 5504295 | L20: =K20/I20*100 -> 31.782727
G21: 3. Egyéb felhalmozási célú kiadások | H21: ='9.tábla '!H31 -> 30885 | I21: ='9.tábla '!I31 -> 30885 | J21: ='9.tábla '!J31 -> 30885 | K21: ='9.tábla '!K31 -> 30885 | L21: =K21/I21*100 -> 100
G22: 3.1. Egyéb felhalmozási célú pénzeszköz átadás áhk
G23: 3.2. Egyéb felhalmozási célú pénzeszköz átadás áh-n belülre
G24: 3.4. Felhalmozási célú visszatérítendő támogatások, kölcsönök nyújtása áh-n kívülre
A25: Költségvetési felhalmozási bevételek kötelező feladatok szerinti bontásban | B25: =SUM(B18:B24) -> 5000000 | C25: =SUM(C18:C24) -> 16956854 | D25: =SUM(D18:D24) -> 13956854 | E25: =SUM(E18:E24) -> 13956854 | F25: =E25/C25*100 -> 82.308039 | G25: Költségvetési felhalmozási kiadások kötelező feladatok szerinti bontásban | H25: =SUM(H18:H24) -> 14466956 | I25: =SUM(I18:I24) -> 31751416 | J25: =SUM(J18:J24) -> 27864906 | K25: =SUM(K18:K24) -> 10104306 | L25: =K25/I25*100 -> 31.823167
A26: Finanszírozási bevételek | B26: ='9.tábla '!B19-B55 -> 907476 | C26: ='9.tábla '!C19-C55 -> 2205230 | D26: ='9.tábla '!D19-D55 -> 991927 | E26: ='9.tábla '!E19-E55 -> 2595910 | F26: =E26/C26*100 -> 117.71607 | G26: Finanszírozási kiadások | H26: ='9.tábla '!H38 -> 0
A27: Felhalmozási bevételek kiemelt előirányzatonként kötelező feladatok szerinti bontásban | B27: =B25+B26 -> 5907476 | C27: =C25+C26 -> 19162084 | D27: =D25+D26 -> 14948781 | E27: =E25+E26 -> 16552764 | F27: =E27/C27*100 -> 86.382901 | G27: Felhalmozási kiadások kiemelt előirányzatonként kötelező feladatok szerinti bontásban | H27: =H25+H26 -> 14466956 | I27: =I25+I26 -> 31751416 | J27: =J25+J26 -> 27864906 | K27: =K25+K26 -> 10104306 | L27: =K27/I27*100 -> 31.823167
B28: =B27+B16 -> 71854824 | C28: =C27+C16 -> 111154437 | D28: =D27+D16 -> 105874102 | E28: =E27+E16 -> 107550335 | F28: =E28/C28*100 -> 96.757573 | H28: =H27+H16 -> 71094824 | I28: =I27+I16 -> 109583037 | J28: =J27+J16 -> 104302702 | K28: =K27+K16 -> 57664668 | L28: =K28/I28*100 -> 52.621893
A29: Az Önkormányzat önként vállalt feladatok bevételei és kiadásai 2018. év
A30: 1. Működési bevételek | B30: 2018. eredeti | C30: 2018. évi módosított ei. IV. | D30: 2018. évi módosított ei. Korrilgált | E30: 2018. évi teljesítés | F30: % | G30: 2. Működési kiadások | H30: 2018. eredeti | I30: 2018. évi módosított ei. IV. | J30: 2018. évi módosított ei. Korrilgált | K30: 2018. évi teljesítés | L30: %
A31: Működési bevételek | G31: Működési kiadások
A32: 1. Működési támogatások államháztartáson belülről | G32: 1. Személyi juttatások | K32: ='6.tábla '!E7 -> 149200
A33: 2. Közhatalmi bevételek | G33: 2. Munkaadót terhelő járulékok | K33: ='6.tábla '!E9 -> 14040
A34: 3. Működési bevételek | B34: ='5.tábla'!B52 -> 0 | G34: 3. Dologi kiadások | K34: ='6.tábla '!E27 -> 2615667
A35: 4. Működési célú átvett pénzeszközök államháztartáson kivülről | G35: 4. Ellátottak pénzbeli juttatásai
G36: 5. Egyéb működési célú kiadások
G37: 5.1. Elvonások, befizetések
G38: 5.2. Egyéb működési célú támogatások áhb
G39: 5.4. Egyéb működési célú támogatások áhk
G40: 5.5. Működési célú visszatérítendő támogatások, kölcsönök nyújtása áh-n kívülre | H40: ='7.tábla'!B9 -> 760000 | I40: ='7.tábla'!C9 -> 1571400 | J40: ='7.tábla'!D9 -> 1571400 | K40: ='7.tábla'!E9 -> 1561400 | L40: =K40/I40*100 -> 99.363625
G41: 6. Pénzforgalom nélküli kiadások (tartalék)
A42: Költségvetési működési bevételek önként vállalt feladatok szerinti bontásban | B42: =SUM(B32:B41) -> 0 | C42: =SUM(C32:C41) -> 0 | E42: =SUM(E32:E41) -> 0 | G42: Költségvetési működési kiadások önként vállalt feladatok szerinti bontásban | H42: =SUM(H32:H41) -> 760000 | I42: =SUM(I32:I41) -> 1571400 | J42: =SUM(J32:J41) -> 1571400 | K42: =SUM(K32:K41) -> 4340307 | L42: =K42/I42*100 -> 276.20638
A43: Finanszírozási bevételek | G43: Finanszírozási kiadások
A44: Működési bevételek kiemelt előirányzatonként önként vállalt feladatok szerinti bontásban | B44: =B42+B43 -> 0 | C44: =C42+C43 -> 0 | E44: =E42+E43 -> 0 | G44: Működési kiadások kiemelt előirányzatonként önként vállalt feladatok szerinti bontásban | H44: =H42+H43 -> 760000 | I44: =I42+I43 -> 1571400 | J44: =J42+J43 -> 1571400 | K44: =K42+K43 -> 4340307 | L44: =K44/I44*100 -> 276.20638
A45: Felhalmozási bevételek | G45: Felhalmozási kiadások
A46: 1. Felhalmozási célú támogatások államháztartáson belülről | G46: 1.1. Beruházások
A47: 2. Felhalmozási bevételek | B47: ='5.tábla'!B64 -> 0 | G47: 1.2. Int.saját hatáskörű fejlesztések
A48: 3. Felhalmozási célú átvett pénzeszközök áh-n kívülről | B48: ='5.tábla'!B73 -> 0 | G48: 2. Felújítások | K48: ='8.tábla'!E33 -> 2753106
G49: 3. Egyéb felhalmozási célú kiadások
G50: 3.1. Egyéb felhalmozási célú pénzeszköz átadás áh-n kívülre
G51: 3.2. Egyéb felhalmozási célú pénzeszköz átadás áh-n belülre
G52: 3.3. Felhalmozási célú visszatérítendő támogatások, kölcsönök nyújtása áh-n belülre
G53: 3.4. Felhalmozási célú visszatérítendő támogatások, kölcsönök nyújtása áh-n kívülre
A54: Költségvetési felhalmozási bevételek önként vállalt feladatok szerinti bontásban | B54: =SUM(B46:B52) -> 0 | C54: =SUM(C46:C52) -> 0 | E54: =SUM(E46:E52) -> 0 | G54: Költségvetési felhalmozási kiadások önként vállalt feladatok szerinti bontásban | H54: =SUM(H46:H53) -> 0 | I54: =SUM(I46:I53) -> 0 | K54: =SUM(K46:K53) -> 2753106
A55: Finanszírozási bevételek | B55: ='5.tábla'!B82 -> 0 | G55: Finanszírozási kiadások
A56: Felhalmozási bevételek kiemelt előirányzatonként önként vállalt feladatok szerinti bontásban | B56: =B54+B55 -> 0 | C56: =C54+C55 -> 0 | E56: =E54+E55 -> 0 | G56: Felhalmozási kiadások kiemelt előirányzatonként önként vállalt feladatok szerinti bontásban | H56: =H54+H55 -> 0 | I56: =I54+I55 -> 0 | K56: =K54+K55 -> 2753106
A57: Az Önkormányzat államigazgatási feladatok bevételei és kiadásai 2018. év
A59: 1. Működési bevételek | B59: 2018. eredeti | C59: 2018. évi módosított ei. IV. | D59: 2018. évi módosított ei. Korrilgált | E59: 2018. évi teljesítés | F59: % | G59: 2. Működési kiadások | H59: 2018. eredeti | I59: 2018. évi módosított ei. IV. | J59: 2018. évi módosított ei. Korrilgált | K59: 2018. évi teljesítés | L59: %
A60: Működési bevételek
A61: 1. Működési támogatások államháztartáson belülről | G61: 1. Személyi juttatások
A62: 2. Közhatalmi bevételek | G62: 2. Munkaadót terhelő járulékok
A63: 3. Működési bevételek | G63: 3. Dologi kiadások
A64: 4. Működési célú átvett pénzeszközök államháztartáson kivülről | G64: 4. Ellátottak pénzbeli juttatásai
G65: 5. Egyéb működési célú kiadások
G66: 5.1. Elvonások, befizetések
G67: 5.2. Egyéb működési célú támogatások áh-n belülre
G68: 5.4. Egyéb működési célú támogatások áh-n kívülre
G69: 5.5. Működési célú visszatérítendő támogatások, kölcsönök nyújtása áh-n kívülre
G70: 6. Pénzforgalom nélküli kiadások (tartalék)
A71: Költségvetési működési bevételek állami (államigazgatási) feladatok szerinti bontásban | G71: Költségvetési működési kiadások állami (államigazgatási) feladatok szerinti bontásban | H71: =SUM(H61:H70) -> 0
A72: Finanszírozási bevételek | G72: Finanszírozási kiadások
A73: Működési bevételek kiemelt előirányzatonként állami (államigazgatási) feladatok szerinti bontásban | G73: Működési kiadások kiemelt előirányzatonként állami (államigazgatási) feladatok szerinti bontásban | H73: =H71+H72 -> 0
A74: Felhalmozási bevételek | G74: Felhalmozási kiadások
A75: 1. Felhalmozási célú támogatások államháztartáson belülről | G75: 1.1. Beruházások
A76: 2. Felhalmozási bevételek | G76: 1.2. Int.saját hatáskörű fejlesztések
A77: 3. Felhalmozási célú átvett pénzeszközök áh-n kívülről | G77: 2. Felújítások
G78: 3. Egyéb felhalmozási célú kiadások
A79: Költségvetési felhalmozási bevételek önként vállalt feladatok szerinti bontásban | G79: 3.1. Egyéb felhalmozási célú pénzeszköz átadás áh-n kívülre
A80: Finanszírozási bevételek | G80: 3.2. Egyéb felhalmozási célú pénzeszköz átadás áh-n belülre
G81: 3.3. Felhalmozási célú visszatérítendő támogatások, kölcsönök nyújtása áh-n kívülre
A82: Felhalmozási bevételek kiemelt előirányzatonként állami (államigazgatási) feladatok szerinti bontásban | G82: Felhalmozási kiadások kiemelt előirányzatonként állami (államigazgatási) feladatok szerinti bontásban | H82: =SUM(H75:H81) -> 0
B83: =B82+B73+B56+B44+B27+B16 -> 71854824 | C83: =C82+C73+C56+C44+C27+C16 -> 111154437 | D83: =D82+D73+D56+D44+D27+D16 -> 105874102 | E83: =E82+E73+E56+E44+E27+E16 -> 107550335 | F83: =E83/C83*100 -> 96.757573 | H83: =H82+H73+H56+H44+H27+H16 -> 71854824 | I83: =I82+I73+I56+I44+I27+I16 -> 111154437 | J83: =J82+J73+J56+J44+J27+J16 -> 105874102 | K83: =K82+K73+K56+K44+K27+K16 -> 64758081 | L83: =K83/I83*100 -> 58.259556
B84: =B83-H83 -> 0 | C84: =C83-I83 -> 0 | D84: =D83-J83 -> 0 | E84: =E83-K83 -> 42792254

Sheet 11.sz.tábla
A3: Több éves kihatással járó döntésekből származó kötelezettségek célok szerint,
A4: évenkénti bontásban (Ft)
A6: S.sz. | B6: Kötelezettség jogcíme | C6: Kötelezettség- | D6: 2018. évig | E6: 2018. évi költségvetés terhére fizetendő | J6: 2022. után | K6: Tárgyéven túli köt. Összesen (6+7+8+9+10) | L6: Összesen (4+5+11)
C7: vállalás | D7: kifizetés | F7: 2019. | G7: 2020. | H7: 2021. | I7: 2022.
C8: éve | D8: (aktuális kv-i év)
A9: 1. | B9: 2. | C9: 3. | D9: 4. | E9: 5. | F9: 6. | G9: 7. | H9: 8. | I9: 9. | J9: 10. | K9: 11. | L9: 12.
A10: 1. | B10: Működési célú hitel-törlesztés
B11: (tőke + kamat )
A13: 2. | B13: Felhalmozási célú hitel-törlesztés
B14: (tőke + kamat) | D14: =D20+D26+D28+D30 -> 0 | E14: =E20+E26+E28+E30 -> 0 | F14: =F20+F26+F28+F30 -> 0 | G14: =G20+G26+G28+G30 -> 0 | H14: =H20+H26+H28+H30 -> 0 | J14: =J20+J26+J28+J30 -> 0 | K14: =K20+K26+K28+K30 -> 0 | L14: =L20+L26+L28+L30 -> 0
K15: =F15+G15+H15+I15+J15 -> 0 | L15: =D15+E15+K15 -> 0
A20: 8. | B20: hitel összesen | D20: =SUM(D15:D18) -> 0 | E20: =SUM(E15:E18) -> 0 | F20: =SUM(F15:F19) -> 0 | G20: =SUM(G15:G19) -> 0 | H20: =SUM(H15:H19) -> 0 | I20: =SUM(I15:I19) -> 0 | J20: =SUM(J15:J19) -> 0 | K20: =SUM(K15:K19) -> 0 | L20: =SUM(L15:L19) -> 0
K21: =F21+G21+H21+I21+J21 -> 0 | L21: =D21+E21+K21 -> 0
A26: 14 | B26: kamat összesen | D26: =SUM(D21:D25) -> 0 | E26: =SUM(E21:E25) -> 0 | F26: =SUM(F21:F25) -> 0 | G26: =SUM(G21:G25) -> 0 | H26: =SUM(H21:H25) -> 0 | I26: =SUM(I21:I25) -> 0 | J26: =SUM(J21:J25) -> 0 | K26: =SUM(K21:K25) -> 0 | L26: =SUM(L21:L25) -> 0
K27: =F27+G27+H27+I27+J27 -> 0 | L27: =D27+E27+K27 -> 0
A28: 16 | B28: kezességvállalás: hitelek összesen | D28: =SUM(D27) -> 0 | E28: =SUM(E27) -> 0 | F28: =SUM(F27) -> 0 | G28: =SUM(G27) -> 0 | H28: =SUM(H27) -> 0 | J28: =SUM(J27) -> 0 | K28: =SUM(K27) -> 0 | L28: =SUM(L27) -> 0
K29: =F29+G29+H29+I29+J29 -> 0 | L29: =D29+E29+K29 -> 0
A30: 18 | B30: kezességvállalás: hitelkamatok össz. | D30: =SUM(D29) -> 0 | E30: =SUM(E29) -> 0 | F30: =SUM(F29) -> 0 | G30: =SUM(G29) -> 0 | H30: =SUM(H29) -> 0 | J30: =SUM(J29) -> 0 | K30: =SUM(K29) -> 0 | L30: =SUM(L29) -> 0
A31: 19 | B31: Fejlesztés feladatonként | D31: =SUM(D32:D33) -> 0 | E31: =SUM(E32:E33) -> 0 | F31: =SUM(F32:F33) -> 0 | G31: =SUM(G32:G33) -> 0 | H31: =SUM(H32:H33) -> 0 | I31: =SUM(I32:I33) -> 0 | J31: =SUM(J32:J33) -> 0 | K31: =SUM(K32:K33) -> 0 | L31: =SUM(L32:L33) -> 0
K32: =F32+G32+H32+I32+J32 -> 0 | L32: =D32+E32+K32 -> 0
B34: Összesen: (1+4+9) | D34: =D31+D14 -> 0 | E34: =E31+E14 -> 0 | F34: =F31+F14 -> 0 | G34: =G31+G14 -> 0 | H34: =H31+H14 -> 0 | I34: =I31+I14 -> 0 | J34: =J31+J14 -> 0 | K34: =K31+K14 -> 0 | L34: =L31+L14 -> 0

Sheet 12.sz.tábla
A3: Az Önkormányzat adósságállományának alakulása
A4: lejárat, eszközök bel- és külföldi hitelezők szerinti bontásban (Ft-ban)
A7: Sorszám | C7: Felvétel | D7: Lejárat | E7: Hitel állomány december 31-jén
B8: Hitel jellege | C8: éve | D8: éve | E8: 2018. | F8: 2019. | G8: 2020. | H8: 2021.
A10: 1. | B10: 2. | C10: 3. | D10: 4. | E10: 5. | F10: 6. | G10: 7. | H10: 8.
B11: BELFÖLDI HITELÁLLOMÁNY
A12: 1. | B12: Működési célú hitel állomány + kamat
A13: 2.
A14: 3. | B14: Hitel összesen
A15: 4.
A16: 5. | B16: Kamat összesen
A17: 6. | B17: Felhalmozási célú hitel állomány+kamat | E17: =E19+E21 -> 0 | F17: =F19+F21 -> 0 | G17: =G19+G21 -> 0 | H17: =H19+H21 -> 0
A18: 7. | E18: 0
A19: 8. | B19: Hitel összesen (7-10) | E19: =SUM(E18:E18) -> 0 | F19: =SUM(F18:F18) -> 0 | G19: =SUM(G18:G18) -> 0 | H19: =SUM(H18:H18) -> 0
A20: 9. | E20: 0
A21: 10. | B21: Kamat összesen (12-15) | E21: =SUM(E20:E20) -> 0 | F21: =SUM(F20:F20) -> 0 | G21: =SUM(G20:G20) -> 0 | H21: =SUM(H20:H20) -> 0
A22: 11. | B22: Összesen: (1+6) | E22: =E17+E12 -> 0 | F22: =F17+F12 -> 0 | G22: =G17+G12 -> 0 | H22: =H17+H12 -> 0
A23: 12. | B23: KÜLFÖLDI HITELÁLLOMÁNY
A24: 13. | B24: Működési célú hitel állomány + kamat
A25: 14.
A26: 15. | B26: Hitel összesen
A27: 16.
A28: 17. | B28: Kamat összesen
A29: 18. | B29: Felhalmozási célú hitel állomány+kamat
A30: 19.
A31: 20.
A32: 21.
A33: 22. | B33: Hitel összesen
A34: 23.
A35: 24.
A36: 25.
A37: 26. | B37: Kamat összesen
A38: 27. | B38: Összesen: (18+23)
A39: 28. | B39: Összesen: (17+32) | E39: =E22+E38 -> 0 | F39: =F22+F38 -> 0 | G39: =G22+G38 -> 0 | H39: =H22+H38 -> 0

Sheet 13.sz.tábla
A4: Az önkormányzat által adott közvetett támogatások
A5: (kedvezmények) 2018. év
A7: Sorsz. | B7: Bevételi jogcím | C7: Intézmények, | D7: Kedvezmény nélkül | E7: Kedvezmények
C8: adónemek | D8: elérhető | E8: összege
D9: bevétel Ft | E9: Ft
A10: 1. | B10: 2. | C10: 3. | D10: 4. | E10: 5.
A11: 2. | B11: Ellátottak térítési díjának ill. kártérítésének méltányossági alapon történő elengedésének összege
A12: 3. | B12: Lakosság részére nyújtott lakásépítéshez, lakásfelújításhoz nyújtott kölcsönök elengedésének összege | E12: 0
B13: Helyi adónál, gépjárműadónál biztosított kedvezmény, mentesség összege | D13: =SUM(D14:D20) -> 14563983 | E13: =SUM(E14:E20) -> 1300000 | F13: =SUM(F14:F20) -> 13263983
C14: Magánszemélyek kommunális adója | D14: =F14+E14 -> 6605006 | E14: 925000 | F14: ='5.tábla'!E37 -> 5680006
C15: Telekadó | D15: =F15+E15 -> 191345 | E15: 0 | F15: ='5.tábla'!E38 -> 191345
C16: Iparűzési adó | D16: =F16+E16 -> 4887421 | E16: 20000 | F16: ='5.tábla'!E41 -> 4867421
C17: IFA személyek után | D17: =F17+E17 -> 277550 | E17: 68000 | F17: ='5.tábla'!E44 -> 209550
C18: Talajterhelési díj | D18: =F18+E18 -> 8004 | E18: 0 | F18: 8004
C19: Gépjárműadó | D19: =F19+E19 -> 2461347 | E19: 287000 | F19: ='5.tábla'!E42 -> 2174347
C20: Bírság | D20: =F20+E20 -> 133310 | E20: 0 | F20: 133310
A21: 4. | B21: Helyiségek, eszközök hasznosításából származó bevételből nyújtott kedvezmény, mentesség összege | D21: =F21+E21 -> 0 | F21: ='5.tábla'!E52 -> 0
A22: 5. | B22: egyéb nyújtott kedvezmény vagy kölcsön elengedésének összege | D22: =F22+E22 -> 0 | E22: 0
B23: Összesen : | D23: =D22+D21+D12+D13+D11 -> 14563983 | E23: =E22+E21+E12+E13+E11 -> 1300000

Sheet 14. sz. stabilitási tv 
A4: Az önkormányzat adósságot keletkeztető ügyletből származó tárgyévi összes fizetési kötelezettsége az adósságot keletkeztető ügylet futamidejének végéig egyik évben sem haladja meg az önkormányzat adott évi saját bevételeinek 50%-át.
A7: megnevezés | C7: 2018. év terv | D7: 2018. év tény | E7: 2019. év | F7: 2020. év | G7: 2021. év
A8: 1. Helyi adó bevétel | C8: ='[3]2.sz.tábla'!D30-'[3]2.sz.tábla'!D37-C12 -> 9433000 | D8: ='5.tábla'!E37+'5.tábla'!E38+'5.tábla'!E41+'5.tábla'!E44 -> 10948322 | E8: 8433000 | F8: 8433000 | G8: 8433000
A9: 2. Vagyon és vagyonértékű jog értékesítéséből származó bevétel | C9: ='[3]2.sz.tábla'!D53 -> 0
A10: 3. Osztalék, koncessziós díj és hozambevétel,
A11: 4. tárgyi eszköz és immateriális jószág, részvény, részesedés, vállalalat értékesítésből vagy privatizációból származó bevétel
A12: 5. Bírság, pótlék- és díjbevétel | C12: ='[3]2.sz.tábla'!D40 -> 100000 | D12: 141314 | E12: 100000 | F12: 100000 | G12: 100000
A13: 6. Kezességvállalással kapcsolatos megtérülés
A14: Összesen: | C14: =SUM(C8:C13) -> 9533000 | D14: =SUM(D8:D13) -> 11089636 | E14: =SUM(E8:E13) -> 8533000 | F14: =SUM(F8:F13) -> 8533000 | G14: =SUM(G8:G13) -> 8533000
A15: az önkormányzat adott évi saját bevételeinek 50%-a | C15: =C14*0.5 -> 4766500 | D15: =D14*0.5 -> 5544818 | E15: =E14*0.5 -> 4266500 | F15: =F14*0.5 -> 4266500 | G15: =G14*0.5 -> 4266500
A17: adósságot keletkeztető ügyletekből és kezességvállalásokból fennálló kötelezettségek | B17: futamidő kezdete | C17: 2018. év terv | D17: 2018. év tény | E17: 2019. év | F17: 2020. év | G17: 2021. év
A18: Összesen: | C18: 0 | D18: 0 | E18: 0 | F18: 0 | G18: 0

Sheet 15.sz.tábla
A1: INGATLANVAGYON BRUTTÓ ÉRTÉK 2018. ÉV (FT)
A5: Önkormányzati ingatlanvagyon | B5: Állomány 2017.dec.31-én | C5: Átvezetések | D5: Forgalom 2018. év | E5: Beemelés | F5: Állomány 2018.dec.31-én
A6: Üzleti | B6: ='15.a.sz.tábla'!C18 -> 46430737 | D6: =F6-B6 -> 5426608 | F6: 51857345
A7: Korlátozottan forgalomképes | B7: ='15.a.sz.tábla'!C17 -> 229994061 | D7: =F7-B7 -> 2789219 | F7: 232783280
A8: Forgalomképtelen | B8: ='15.a.sz.tábla'!C15 -> 212774958 | D8: =F8-B8 -> 13290107 | F8: 226065065
A9: Ebből: nemzetgazdasági szempontból kiemelt jelentőségű befektetett eszközök | F9: =B9+C9+D9+E9 -> 0
A10: Összesen: | B10: =SUM(B6:B9) -> 489199756 | D10: =F10-B10 -> 21505934 | E10: 0 | F10: =SUM(F6:F9) -> 510705690

Sheet 15.a.sz.tábla
A2: VAGYONKIMUTATÁS 2018. ÉV
B4: Ssz. | C4: Előző év | E4: Tárgyév | G4: %
C5: Bruttó | D5: Nettó | E5: Bruttó | F5: Nettó
A6: Eszközök | C6: állományi érték (Ft) | E6: állományi érték (Ft)
A7: 1. | B7: 2. | C7: 3. | D7: 4. | E7: 5. | F7: 6. | G7: 7.
A8: A.) Nemzeti vagyonba tartozó befektetett eszközök | B8: 01. | C8: =C9+C13+C38+C30 -> 518649404 | D8: =D9+D13+D38+D30 -> 361070990 | E8: =E9+E13+E38+E30 -> 553384518 | F8: =F9+F13+F38+F30 -> 353599618 | G8: =F8/D8*100 -> 97.930775
A9: I. Immateriális javak | B9: 01. | C9: =SUM(C10:C12) -> 8820517 | D9: =SUM(D10:D12) -> 750000 | E9: =SUM(E10:E12) -> 8820517 | F9: =SUM(F10:F12) -> 501822 | G9: =F9/D9*100 -> 66.9096
A10: 1.1. Forgalomképtelen immateriális javak | B10: 02.
A11: 1.2. Korlátozottan forgalomképes immateriális javak | B11: 03. | C11: 8444017 | D11: 750000 | E11: 8444017 | F11: 501822 | G11: =F11/D11*100 -> 66.9096
A12: 1.3. Üzleti immateriális javak | B12: 04. | C12: 376500 | D12: 0 | E12: 376500 | F12: 0
A13: II. Tárgyi eszközök | B13: 05. | C13: =C14+C19+C24+C23 -> 509828887 | D13: =D14+D19+D24+D23 -> 354591580 | E13: =E14+E19+E24+E23 -> 544564001 | F13: =F14+F19+F24+F23 -> 347368386 | G13: =F13/D13*100 -> 97.962954
A14: 1.Ingatlanok és kapcsolódó vagyoni értékű jogok | B14: 06. | C14: =C15+C17+C18 -> 489199756 | D14: =D15+D17+D18 -> 326448173 | E14: =E15+E17+E18 -> 510705690 | F14: =F15+F17+F18 -> 334361549 | G14: =F14/D14*100 -> 102.42408
A15: 1.1 Forgalomképtelen ingatlanok és kapcsolódó vagyoni értékű jogok | B15: 07. | C15: =20919365+191855593 -> 212774958 | D15: 147731048 | E15: 226065065 | F15: 154948514 | G15: =F15/D15*100 -> 104.88554
A16: Ebből :nemzetgazdasági szempontból kiemelt jelentőségű ingatlanok | B16: 13.
A17: 1.2. Korlátozottan forgalomképes ingatlanok és kapcsolódó vagyoni értékű jogok | B17: 14. | C17: =1287000+9374000+26027594+193305467 -> 229994061 | D17: 137203416 | E17: 232783280 | F17: 133614104 | G17: =F17/D17*100 -> 97.383949
A18: 1.3. Üzleti ingatlanok és kapcsolódó vagyoni értékű jogok | B18: 21. | C18: =1176882+2555000+2222035+23942170+45000+615000+405000+15469650 -> 46430737 | D18: =41344391+169318 -> 41513709 | E18: 51857345 | F18: 45798931 | G18: =F18/D18*100 -> 110.32243
A19: 2. Gépek,berendezések, felszerelések, járművek | B19: 26. | C19: =C20+C21+C22 -> 20629131 | D19: =D20+D21+D22 -> 7178934 | E19: =E20+E21+E22 -> 33858311 | F19: =F20+F21+F22 -> 4505537 | G19: =F19/D19*100 -> 62.76053
A20: 2.1. Forgalomképtelen gépek,berendezések, felsz., járművek | B20: 27. | E20: 2192775 | F20: 0
A21: 2.2. Korlátozottan forgalomképes gépek,berendezések, felszerelések, járművek | B21: 28. | C21: =7614980+698530 -> 8313510 | D21: =1114010+535531 -> 1649541 | E21: 18505013 | F21: 577059 | G21: =F21/D21*100 -> 34.983004
A22: 2.3. Üzleti gépek,berendezések, felsz., járművek | B22: 29. | C22: =2315620+10000001 -> 12315621 | D22: =2230764+3298629 -> 5529393 | E22: 13160523 | F22: 3928478 | G22: =F22/D22*100 -> 71.047184
A23: 3. Tenyészállatok | B23: 30. | C23: 0 | D23: 0 | E23: 0 | F23: 0
A24: 4. Beruházások, felújítások | B24: 31. | C24: =C27 -> 0 | D24: =D27 -> 20964473 | E24: =E27 -> 0 | F24: =F27 -> 8501300 | G24: =F24/D24*100 -> 40.550984
A25: 4.1. Forgalomképtelen eszköz létesítésére irányuló beruházások, felújítások | B25: 32.
A26: Ebből :nemzetgazdasági szempontból kiemelt jelentőségű beruházások, felújítások | B26: 33.
A27: 4.2. Korlátozottan forgalomképes eszköz létesítésére irányuló beruházások, felújítások | B27: 34. | D27: 20964473 | F27: 8501300 | G27: =F27/D27*100 -> 40.550984
A28: 4.3. Üzleti eszköz létesítésére irányuló beruházások, felújítások | B28: 35.
A29: 5. Tárgyi eszközök értékhelyesbítése | B29: 36. | C29: 0 | D29: 0 | E29: 0 | F29: 0
A30: III. Befektetett pénzügyi eszközök | B30: 37. | D30: =D31+D36 -> 5729410 | F30: =F31+F36 -> 5729410 | G30: =F30/D30*100 -> 100
A31: 1. Tartós részesedés | B31: 38. | D31: 5729410 | F31: 5729410 | G31: =F31/D31*100 -> 100
A32: 1.1.Forgalomképtelen tartós részesedés | B32: 39.
A33: Ebből: nemzetgazdasági szempontból kiemelt jelentőségűtartós részesedés | B33: 40.
A34: 1.2. Korlátozottan forg.képes tartós részesedés | B34: 41. | D34: 5729410 | F34: 5729410 | G34: =F34/D34*100 -> 100
A35: 1.3. Üzleti tartós részesedések | B35: 42.
A36: 2. Tartós hitelviszonyt mentestesítő értékpapírok korlátozottan forgalomképes | B36: 43.
A37: 3. Befektetett pénzügyi eszközök értékhelyesbítése | B37: 44.
A38: IV. Koncesszióba, vagyonkezelésbe adott eszközök | B38: 45. | D38: 0 | F38: 0
A39: 1. Koncesszióba, vagyonkezelésbe adott eszközök | B39: 46. | D39: 0 | F39: 0
A40: 1.1. Koncesszióba, vagyonkezelésbe adott forgalomképtelen eszközök | B40: 47.
A41: Ebből: nemzetgazdasági szempontból kiemelt jelentőségű koncesszióba, vagyonkezelésbe adott eszközök | B41: 48.
A42: 1.2. Koncesszióba, vagyonkezelésbe adott korlátozottan forgalomképes eszközök | B42: 49.
A43: 1.3. Koncesszióba, vagyonkezelésbe adott üzleti eszközök | B43: 50.
A44: 2. Koncesszióba, vagyonkezelésbe adott eszközök értékhelyesbítése | B44: 51.
B45: Ssz. | C45: Előző év | E45: Tárgyév | G45: %
C46: Bruttó | D46: Nettó | E46: Bruttó | F46: Nettó
A47: Eszközök | C47: állományi érték (Ft) | E47: állományi érték (Ft)
A48: 1. | B48: 2. | C48: 3. | D48: 4. | E48: 5. | F48: 6. | G48: 7.
A49: B) Nemzeti vagyonba tartozó forgóeszközök | B49: 52. | D49: =D50+D51 -> 110258 | F49: =F50+F51 -> 26109 | G49: =F49/D49*100 -> 23.679914
A50: I. Készletek | B50: 53. | D50: 110258 | F50: 26109 | G50: =F50/D50*100 -> 23.679914
A51: II. Értékpapírok | B51: 54. | D51: =SUM(D52:D53) -> 0 | F51: =SUM(F52:F53) -> 0
A52: 1. Tartós részesedések | B52: 55.
A53: 2. Forgatási célú hitelviszonyt megtestesítő értékpapírok | B53: 56.
A54: C.) Pénzeszközök | B54: 57. | D54: =D58+D59 -> 28675774 | F54: =F58+F59 -> 42502993 | G54: =F54/D54*100 -> 148.21917
A55: I. Lekötött bankbetétek | B55: 58. | D55: 0 | F55: 0
A56: 1. Éven túli lejáratú forint lekötött bankbetétek | B56: 59. | D56: 0 | F56: 0
A57: 2. Éven túli lejáratú deviza lekötött bankbetétek | B57: 60. | D57: 0 | F57: 0
A58: II. Pénztárak, csekkek, betétkönyvek | B58: 61. | D58: 136050 | F58: 84795 | G58: =F58/D58*100 -> 62.326351
A59: III. Forintszámlák | B59: 62. | D59: 28539724 | F59: 42418198 | G59: =F59/D59*100 -> 148.62862
A60: IV. Devizaszámlák | B60: 63. | D60: 0 | F60: 0
A61: D.) Követelések | B61: 64. | C61: =C62+C63+C64 -> 0 | D61: =D62+D63+D64 -> 2696654 | E61: =E62+E63+E64 -> 0 | F61: =F62+F63+F64 -> 4067945 | G61: =F61/D61*100 -> 150.85157
A62: I. Költségvetési évben esedékes követelések | B62: 65. | D62: 2656654 | F62: 2844887 | G62: =F62/D62*100 -> 107.08534
A63: II. Költségvetési évet követően esedékes követelések | B63: 66. | F63: 49733
A64: III. Követelés jellegű sajátos elszámolások | B64: 67. | D64: 40000 | F64: 1173325 | G64: =F64/D64*100 -> 2933.3125
A65: E.) Egyéb sajátos elszámolások | B65: 68. | D65: 0 | F65: =SUM(F66:F67) -> 260998
A66: I. Előzetesen felszámított általános forgalmi adó | B66: 69. | F66: 305998
A67: II. Fizetendő általános forgalmi adó elszámolása | B67: 70. | D67: 0 | F67: -45000
A68: F.) Aktív időbeli elhatárolások | B68: 71. | D68: =SUM(D69:D71) -> 34677 | F68: =SUM(F69:F71) -> 27527 | G68: =F68/D68*100 -> 79.381146
A69: 1. Eredményszemléletű bevételek aktív időbeli elhatárolása | B69: 72.
A70: 2. Költségek, ráfordítások aktív időbeli elhatárolása | B70: 73. | D70: 34677 | F70: 27527 | G70: =F70/D70*100 -> 79.381146
A71: 3. Halasztott ráfordítások | B71: 74.
A72: Eszközök összesen: | B72: 75. | C72: =C68+C65+C61+C54+C49+C8 -> 518649404 | D72: =D68+D65+D61+D54+D49+D8 -> 392588353 | E72: =E68+E65+E61+E54+E49+E8 -> 553384518 | F72: =F68+F65+F61+F54+F49+F8 -> 400485190 | G72: =F72/D72*100 -> 102.01148
A74: Könyvviteli mérlegen kívüli eszközök
A75: 1. "0"-ra leírt, de használatban lévő eszközök állománya | B75: 01. | C75: 19496896 | E75: 16783990
A76: 2. használatban lévő kisértékű immateriális javak, tárgyi eszközök, készletek | B76: 02. | C76: 2295384 | E76: 3665391
A77: 3. Államháztartáson belüli vagyonkezelésbe adott eszközök | B77: 03. | C77: 0 | E77: 0
A78: 4. Bérbe vett befektetett eszközök | B78: 04. | C78: 0 | E78: 0
A79: 5. Letétbe, bizományba. üzemeltetésre átvett befektetett eszközök | B79: 05. | C79: 0 | E79: 0
A80: 6. Bérbe vett készletek | B80: 06. | C80: 0 | E80: 0
A81: 7. Letétbe, bizományba átvett készletek | B81: 07. | C81: 0 | E81: 0
A82: 8. Kulturális javak és régészeti leletek | B82: 08. | C82: 80916 | E82: 80916
A83: 9.Támogatási célú előlegekkel kapcsolatos elszámolási követelések | B83: 09.
A84: 10. Egyéb függő követelések | B84: 10. | C84: 0 | E84: 0
A85: 11. Biztos (jövőbeni) követelések | B85: 11.

Sheet 15.b.sz.tábla
A1: VAGYONKIMUTATÁS 2018. ÉV
B3: Sor- | C3: Előző év | E3: Tárgyév | G3: %
A4: Források | B4: szám | C4: Bruttó | D4: Nettó | E4: Bruttó | F4: Nettó
C5: állományi érték | E5: állományi érték
A6: 1. | B6: 2. | D6: 3. | F6: 4. | G6: 5.
A7: G) Saját tőke | B7: 76. | D7: =SUM(D8:D13) -> 314828309 | F7: =SUM(F8:F13) -> 315005111 | G7: =F7/D7*100 -> 100.05616
A8: I. Nemzeti vagyon induláskori értéke | B8: 77. | D8: 484284223 | F8: 484284223 | G8: =F8/D8*100 -> 100
A9: II. Nemzeti vagyon változásai | B9: 78.
A10: III. Egyéb eszközök induláskori értéke és változásai | B10: 79. | D10: 24561850 | F10: 24561850 | G10: =F10/D10*100 -> 100
A11: IV. Felhalmozott eredmény | B11: 80. | D11: -185870126 | F11: -194017764 | G11: =F11/D11*100 -> 104.38351
A12: V. Eszközök értékhelybítésének forrása | B12: 81. | D12: 0 | F12: 0
A13: VI. Mérleg szerinti eredmény | B13: 82. | D13: -8147638 | F13: 176802 | G13: =F13/D13*100 -> -2.1699786
A14: H) Kötelezettségek | B14: 83. | D14: =SUM(D15:D17) -> 3943735 | F14: =SUM(F15:F17) -> 5854073 | G14: =F14/D14*100 -> 148.43982
A15: I. Kölségvetési évben esedékes kötelezettségek | B15: 84. | D15: 181666 | F15: 11681 | G15: =F15/D15*100 -> 6.4299319
A16: II. Költségvetési évet követően esedékes kötelezettségek | B16: 85. | D16: 2268501 | F16: 3225995 | G16: =F16/D16*100 -> 142.20822
A17: III. Kötelezettségjellegű sajátos elszámolások | B17: 86. | D17: 1493568 | F17: 2616397 | G17: =F17/D17*100 -> 175.17763
A18: I) Kincstári számlavezetéssel kapcsolatos elszámolások | B18: 87. | D18: 0 | F18: 0
A19: J) Passzív időbeli elhatárolások | B19: 88. | D19: 73816309 | F19: 79626006 | G19: =F19/D19*100 -> 107.87048
A20: Források összesen: | B20: 89. | D20: =D19+D18+D14+D7 -> 392588353 | E20: =E19+E18+E14+E7 -> 0 | F20: =F19+F18+F14+F7 -> 400485190 | G20: =F20/D20*100 -> 102.01148
A23: Könyvviteli mérlegen kívüli függő kötelezettségek
A24: 1. Kezességgel-, garanciavállalással kapcsolatos függő kötelezettségek | B24: 01.
A25: 2. Peres ügyekkel kapcsolatos függő kötelezettségek | B25: 02.
A26: 3. El nem ismert tartozások | B26: 03.
A27: 4. Támogatási célú előlegekkel kapcsolatos elszámolási kötelezettségek | B27: 04. | E27: 11040004
A28: 5. Egyéb függő kötelezettségek | B28: 05.

Sheet 16.tábla
A1: Kimutatás az immateriális javak, tárgyi eszközök koncesszióba, vagyonkezelésbe adott eszközök állományának alakulásáról (Ft)
A2: # | B2: Megnevezés | C2: Immateriális javak | D2: Ingatlanok és kapcsolódó vagyoni értékű jogok | E2: Gépek, berendezések, felszerelések, járművek | F2: Tenyészállatok | G2: Beruházások és felújítások | H2: Koncesszióba, vagyonkezelésbe adott eszközök | I2: Összesen (=3+4+5+6+7+8)
A3: 1 | B3: 2 | C3: 3 | D3: 4 | E3: 5 | F3: 6 | G3: 7 | H3: 8 | I3: 9
A4: 01 | B4: Tárgyévi nyitó állomány (előző évi záró állomány) | C4: 8820517 | D4: 489465088 | E4: 31992508 | F4: 0 | G4: 20964473 | H4: 0 | I4: =C4+D4+E4+F4+G4+H4 -> 551242586
A5: 02 | B5: Immateriális javak beszerzése, nem aktivált beruházások | D5: 21093602 | E5: 1865803 | G5: 0 | I5: =C5+D5+E5+F5+G5+H5 -> 22959405
A6: 04 | B6: Beruházásokból, felújításokból aktivált érték | C6: 0 | D6: 0 | E6: 0 | F6: 0 | G6: 0 | H6: 0 | I6: =C6+D6+E6+F6+G6+H6 -> 0
A7: 07 | B7: Egyéb növekedés | C7: 0 | D7: 147000 | E7: 0 | F7: 0 | G7: 23704737 | H7: 0 | I7: =C7+D7+E7+F7+G7+H7 -> 23851737
A8: 08 | B8: Összes növekedés (=02+…+07) | C8: =SUM(C5:C7) -> 0 | D8: =SUM(D5:D7) -> 21240602 | E8: =SUM(E5:E7) -> 1865803 | F8: =SUM(F6:F7) -> 0 | G8: =SUM(G5:G7) -> 23704737 | H8: =SUM(H6:H7) -> 0 | I8: =C8+D8+E8+F8+G8+H8 -> 46811142
A9: 13 | B9: Egyéb csökkenés | C9: 0 | D9: 0 | E9: 0 | F9: 0 | G9: 36167910 | H9: 0 | I9: =C9+D9+E9+F9+G9+H9 -> 36167910
A10: 14 | B10: Összes csökkenés (=09+…+13) | C10: 0 | D10: =SUM(D9) -> 0 | E10: 0 | F10: 0 | G10: =SUM(G9) -> 36167910 | H10: =SUM(H9) -> 0 | I10: =C10+D10+E10+F10+G10+H10 -> 36167910
A11: 15 | B11: Bruttó érték összesen (=01+08-14) | C11: =C4+C8-C10 -> 8820517 | D11: =D4+D8-D10 -> 510705690 | E11: =E4+E8-E10 -> 33858311 | F11: =F4+F8-F10 -> 0 | G11: =G4+G8-G10 -> 8501300 | H11: =H4+H8-H10 -> 0 | I11: =C11+D11+E11+F11+G11+H11 -> 561885818
A12: 16 | B12: Terv szerinti értékcsökkenés nyitó állománya | C12: 8070517 | D12: 163016915 | E12: 24813574 | F12: 0 | G12: 0 | H12: 0 | I12: =C12+D12+E12+F12+G12+H12 -> 195901006
A13: 17 | B13: Terv szerinti értékcsökkenés növekedése | C13: 248178 | D13: 13327226 | E13: 4539200 | F13: 0 | G13: 0 | H13: 0 | I13: =C13+D13+E13+F13+G13+H13 -> 18114604
A14: 19 | B14: Terv szerinti értékcsökkenés záró állománya (=16+17-18) | C14: =SUM(C12:C13) -> 8318695 | D14: =D12+D13 -> 176344141 | E14: =E12+E13 -> 29352774 | F14: =F12+F13 -> 0 | G14: =G12+G13 -> 0 | H14: =H12+H13 -> 0 | I14: =C14+D14+E14+F14+G14+H14 -> 214015610
A15: 24 | B15: Értékcsökkenés összesen (=19+23) | C15: =C14 -> 8318695 | D15: =D14 -> 176344141 | E15: =E14 -> 29352774 | F15: =F14 -> 0 | G15: =G14 -> 0 | H15: =H14 -> 0 | I15: =C15+D15+E15+F15+G15+H15 -> 214015610
A16: 25 | B16: Eszközök nettó értéke (=15-24) | C16: =C11-C15 -> 501822 | D16: =D11-D15 -> 334361549 | E16: =E11-E15 -> 4505537 | F16: =F11-F15 -> 0 | G16: =G11-G15 -> 8501300 | H16: =H11-H15 -> 0 | I16: =C16+D16+E16+F16+G16+H16 -> 347870208
A17: 26 | B17: Teljesen (0-ig) leírt eszközök bruttó értéke | C17: 8070517 | D17: 63000 | E17: 8827709 | F17: 0 | G17: 0 | H17: 0 | I17: =C17+D17+E17+F17+G17+H17 -> 16961226

Sheet 17.tábla
A2: RÉSZESEDÉSEK ÉS ÉRTÉKPAPÍROK ÁLLOMÁNYA 2018. ÉV
A4: Megnevezés | B4: Székhely | C4: Érték 2017.12.31. (Ft) | D4: Érték 2018.12.31. (Ft)
A5: 100%-os önkormányzati részesedés
A10: összesen: | C10: =C6+C7+C8+C9 -> 0
A12: 75% feletti önkormányzati részesedés
A14: összesen: | C14: =C13 -> 0
A16: 50% feletti önkormányzati részesedés | C16: 0
A19: 25% feletti önkormányzati részesedés | C19: 0
A21: 25% alatti önkormányzati részesedés
A22: Bakonykarszt Zrt. | B22: 8200. Veszprém, Pápai u. 41. | C22: 10000 | D22: 10000
A23: KÖZVIL Első Magyar Közvilágítási Zrt. | B23: 4025 Debrecen, Piac utca 77. | C23: 5719410 | D23: 5719410
A25: összesen: | C25: =C22+C23+C24 -> 5729410 | D25: =D22+D23+D24 -> 5729410
A26: Részesedések mindösszesen: | C26: =C25+C14+C10 -> 5729410 | D26: =D25+D14+D10 -> 5729410
A28: Kárpótlási jegyek
A29: Mindösszesen: | C29: =C26+C28 -> 5729410 | D29: =D26+D28 -> 5729410
A32: A HELYI ÖNKORMÁNYZAT TULAJDONÁBAN ÁLLÓ GAZDÁLKODÓ SZERVEZETEK MŰKÖDÉSÉBŐL SZÁRMAZÓ KÖTELEZETTSÉGEK
A34: Megnevezés | B34: Székhely | C34: Kötelezettség a részesedés arányában 2017.12.31. | D34: Kötelezettség a részesedés arányában 2018.12.31.
A35: 100%-os önkormányzati részesedés
A36: összesen: | C36: 0 | D36: 0
A38: 75% feletti önkormányzati részesedés | C38: 0 | D38: 0
A40: 50% feletti önkormányzati részesedés | C40: 0 | D40: 0
A42: 25% feletti önkormányzati részesedés | C42: 0 | D42: 0
A44: 25% alatti önkormányzati részesedés
A45: Bakonykarszt Zrt. | B45: 8200. Veszprém, Pápai u. 41. | C45: 275559 | D45: 275559
A46: KÖZVIL Első Magyar Közvilágítási Zrt. | B46: 4025 Debrecen, Piac utca 77. | C46: 309833 | D46: 309833
A47: összesen: | C47: =SUM(C45:C46) -> 585392 | D47: =SUM(D45:D46) -> 585392
A48: Részesedések mindösszesen: | C48: =SUM(C45:C46) -> 585392 | D48: =D47+D42+D40+D38+D36 -> 585392
A50: A 2018. december 31.-i adatok nem minden esetben állnak rendelkezésre, ezért az előző évi adatokat szerepeltettük.

Sheet 18.sz.tábla
A1: PÉNZESZKÖZÖK VÁLTOZÁSA 2018. ÉV
B5: Megnevezés | C5: Összeg (Ft)
A6: 1 | B6: 2 | C6: 3
A7: 01 | B7: Pénzkészlet tárgyidőszak elején | C7: ='15.a.sz.tábla'!D54 -> 28675774
A8: 02 | B8: Költségvetési bevételek (+) | C8: ='4.tábla '!E13 -> 76305884
A9: 03 | B9: Finanszírozási bevételek (kivéve maradvány igénybevétel) (+) | C9: ='4.tábla '!E15 -> 2595910
A10: 04 | B10: Költségvetési kiadások (-) | C10: ='4.tábla '!E30 -> 62274039
A11: 05 | B11: Finanszírozási kiadások (-) | C11: ='4.tábla '!E34 -> 2484042
A12: 06 | B12: Sajátos elszámolások (+/-) | C12: -305998
A13: 07 | B13: Kapott /adott előlegek (+/-) | C13: =-1133325+1122829 -> -10496
A14: 08 | B14: Pénzkészlet tárgyidőszak végén | C14: =C7+C8+C9-C10-C11+C12+C13 -> 42502993
C16: ='15.a.sz.tábla'!F54 -> 42502993
C19: =C14-C7 -> 13827219

Sheet 19. tábla
A3: A helyi önkormányzatok kiegészítő támogatásainak és egyéb kötött felhasználású támogatásainak elszámolása (Ft)
A6: # | B6: Megnevezés | C6: A központi költségvetésből támogatásként rendelkezésre bocsátott összeg | D6: Az önkormányzat által az adott célra ténylegesen felhasznált összeg | E6: Az önkormányzat által fel nem használt, de a következő évben jogszerűen felhasználható összeg | F6: Eltérés (=3-4-5)
A7: 1 | B7: 2 | C7: 3 | D7: 4 | E7: 5 | F7: 6
A8: 02 | B8: 2. melléklet I.6. Polgármesteri illetmény támogatása | C8: 1170400 | D8: 1170400 | E8: 0 | F8: 0
A9: 03 | B9: 2. melléklet III.1. Szociális ágazati összevont pótlék | C9: 87631 | D9: 87631 | E9: 0 | F9: 0
A10: 04 | B10: 2. melléklet III.2. A települési önkormányzatok szociális feladatainak egyéb támogatása | C10: 3795000 | D10: 3782453 | E10: 0 | F10: 12547
A11: 08 | B11: 2. melléklet IV.1.d) Települési önkormányzatok nyilvános könyvtári és közművelődési feladatainak támogatása | C11: 1800000 | D11: 1800000 | E11: 0 | F11: 0
A12: 14 | B12: 2. melléklet IV.1. Könyvtári, közművelődési és múzeumi feladatok támogatása (5+…+13) | C12: 1800000 | D12: 1800000 | E12: 0 | F12: 0
A13: 20 | B13: 3. melléklet I.1. Lakossági víz- és csatornaszolgáltatás támogatása | C13: 811400 | D13: 811400 | E13: 0 | F13: 0
A14: 28 | B14: 3. melléklet I.9. A települési önkormányzatok szociális célú tüzelőanyag vásárlásához kapcsolódó támogatása | C14: 622300 | D14: 0 | E14: 622300 | F14: 0
A15: 36 | B15: 3. melléklet I. Helyi önkormányzatok működési célú költségvetési támogatásai összesen (20+….+ 35) | C15: 1433700 | D15: 811400 | E15: 622300 | F15: 0
A16: 40 | B16: 3. melléklet II.2.c) Belterületi utak, járdák, hidak felújítása | C16: 8956854 | D16: 0 | E16: 8956854 | F16: 0
A17: 52 | B17: 3. melléklet II. Helyi önkormányzatok felhalmozási célú költségvetési támogatásai összesen (37+…+51) | C17: 8956854 | D17: 0 | E17: 8956854 | F17: 0
A18: 123 | B18: 81. cím A téli rezsicsökkentésben korábban nem részesült, a vezetékes gáz- vagy távfűtéstől eltérő fűtőanyagot használó háztartások egyszeri támogatása | C18: 648000 | D18: 0 | E18: 648000 | F18: 0
A19: 125 | B19: Mindösszesen (=1+2+3+4+14+18+19+36+52+…+124) | C19: 17891585 | D19: 7651884 | E19: 10227154 | F19: 12547

Sheet 20. tábla
B4: Az önkormányzatok általános, köznevelési és szociális feladataihoz kapcsolódó támogatások elszámolása (Ft)
A7: # | B7: Megnevezés | C7: Költségvetési törvény alapján feladatátvétellel/feladatátadással korrigált támogatás | D7: Támogatás évközi változása - Május 15. | E7: Támogatás évközi változása - Október 5. | F7: Tényleges támogatás | G7: Évvégi eltérés (+,-) mutatószám szerinti támogatás (=6-(3+4+5)) | H7: A 05. űrlap alapján a támogatási jogcímhez kapcsolódó kormányzati funkció szerinti kiadások összege | I7: Az önkormányzat által az adott célra december 31-ig ténylegesen felhasznált összeg | J7: Többlettámogatás (ha a 7-6+9 >0, akkor 7-6+9; egyébként 0) | K7: Visszafizetési kötelezettség (ha a 7-6+9 <0, akkor 7-6+9 abszolútértéke; egyébként 0)
A8: 1 | B8: 2 | C8: 3 | D8: 4 | E8: 5 | F8: 6 | G8: 7 | H8: 8 | I8: 9 | J8: 10 | K8: 11
A9: 01 | B9: I.1. A települési önkormányzatok működésének támogatása 09 01 01 01 00 | C9: 18387668 | D9: 0 | E9: 0 | F9: 18387668 | G9: 0 | H9: 46627439 | I9: 18387668 | J9: 0 | K9: 0
A10: 02 | B10: I.2. Nem közművel összegyűjtött háztartási szennyvíz ártalmatlanítása 09 01 01 02 00 | C10: 0 | D10: 0 | E10: 0 | F10: 0 | G10: 0 | H10: 811400 | I10: 0 | J10: 0 | K10: 0
A11: 03 | B11: I.3. Határátkelőhelyek fenntartásának támogatása 09 01 01 03 00 | C11: 0 | D11: 0 | E11: 0 | F11: 0 | G11: 0 | H11: 3253760 | I11: 0 | J11: 0 | K11: 0
A12: 06 | B12: III.3. Egyes szociális és gyermekjóléti feladatok támogatása 09 01 03 03 00 | C12: 3100000 | D12: 0 | E12: 0 | F12: 3100000 | G12: 0 | H12: 4582329 | I12: 3100000 | J12: 0 | K12: 0
A13: 11 | B13: Összesen (=1+…+10) | C13: 21487668 | D13: 0 | E13: 0 | F13: 21487668 | G13: 0 | H13: 55274928 | I13: 21487668 | J13: 0 | K13: 0

Sheet 21. tábla 
A3: Az előző évi (2017.) kötelezettségvállalással terhelt kiegészítő támogatásainak és egyéb kötött felhasználású támogatások maradványainak elszámolása
A5: # | B5: Megnevezés | C5: Az önkormányzat által a 2017. évben fel nem használt, de 2018. évben jogszerűen felhasználható összeg | D5: Ebből 2018. évben az előirt határidőig ténylegesen felhasznált | E5: Eltérés (fel nem használt) (=3-4)
A6: 1 | B6: 2 | C6: 3 | D6: 4 | E6: 5
A7: 27 | B7: II.12. Kistelepülési önkormányzatok alacsony összegű fejlesztéseinek támogatása | C7: 1248982 | D7: 1240000 | E7: 8982
A8: 29 | B8: Helyi önkormányzatok felhalmozási célú költségvetési támogatásai összesen (12+…+28) | C8: 1248982 | D8: 1240000 | E8: 8982
A9: 40 | B9: Helyi önkormányzatok kiegészítő támogatásai összesen (=11+29+30+….+39+97) | C9: 1248982 | D9: 1240000 | E9: 8982
A10: 70 | B10: 12. Önkormányzatok feladatainak 2016. évi döntés szerinti támogatása I. | C10: 3034832 | D10: 3034832 | E10: 0
A11: 96 | B11: Mindösszesen (=40+…+44+54+61+62+…+95) | C11: 4283814 | D11: 4274832 | E11: 8982

Sheet 22. tábla
A2: Adósságkonszolidációban részt nem vett önkormányzatok támogatásának több éves elszámolása
A4: # | B4: Megnevezés | C4: Az éves központi költségvetésből támogatásként rendelkezésre bocsátott összeg | D4: Az önkormányzat által az adott célra ténylegesen felhasznált összeg 2014-ben | E4: Az önkormányzat által az adott célra ténylegesen felhasznált összeg 2015-ben | F4: Az önkormányzat által az adott célra ténylegesen felhasznált összeg 2016-ban | G4: Az önkormányzat által az adott célra ténylegesen felhasznált összeg 2017-ben | H4: Az önkormányzat által az adott célra ténylegesen felhasznált összeg 2018-ban | I4: Visszafizetési kötelezettség (=3-4-5-6-7-8)]
A5: 1 | B5: 2 | C5: 3 | D5: 4 | E5: 5 | F5: 6 | G5: 7 | H5: 8 | I5: 9
A6: 01 | B6: A Magyarország 2014. évi központi költségvetéséről szóló 2013. évi CCXXX. törvény 3. melléklet 10. a) pontja szerinti, az adósságkonszolidációban részt nem vett települési önkormányzatok fejlesztéseinek támogatása | C6: 10000000 | D6: 10000000 | E6: 0 | F6: 0 | G6: 0 | H6: 0 | I6: 0
A7: 03 | B7: A Magyarország 2016. évi központi költségvetéséről szóló 2015. évi C. törvény 3. melléklet II. 8 pontja szerinti, az adósságkonszolidációban nem részesült települési önkormányzatok fejlesztéseinek támogatása | C7: 9999226 | D7: 0 | E7: 0 | F7: 0 | G7: 9999226 | H7: 0 | I7: 0

Sheet 23. tábla
A3: EURÓPAI UNIÓS TÁMOGATÁSSAL MEGVALÓSULÓ PROGRAMOK BEVÉTELEI ÉS KIADÁSAI 2018-2019. ÉV
B5: EFOP-1.5.2-16-2017-00016
A6: EU Projekt megnevezése: | B6: Humán közszolgáltatások fejlesztése az Észak-Balatoni térségben
A9: Bevételek | B9: 2018 év terv | C9: 2018 év tény | D9: 2019 év | E9: 2020 év | F9: Következő évek | G9: Terv összesen
A10: EU forrás | B10: 11040004 | C10: 11040004 | D10: 6604996 | E10: 1220000 | G10: =B10+D10+E10 -> 18865000
A11: Egyéb forrás | G11: =B11+D11+E11 -> 0
A12: Saját forrás | C12: =C21-2700000 -> 53106 | G12: =B12+D12+E12 -> 0
A13: Összesen | B13: =SUM(B10:B12) -> 11040004 | C13: =SUM(C10:C12) -> 11093110 | D13: =SUM(D10:D12) -> 6604996 | E13: =SUM(E10:E12) -> 1220000 | F13: =SUM(F10:F12) -> 0 | G13: =SUM(G10:G12) -> 18865000
A15: Kiadások | B15: 2018 év terv | C15: 2018 év tény | D15: 2019 év | E15: 2020 év | F15: Következő évek | G15: Terv összesen
A16: személyi juttatások (bérköltség) | B16: 3000000 | C16: ='6.tábla '!E7 -> 149200 | D16: 1220000 | E16: 1220000 | G16: =B16+D16+E16+F16 -> 5440000
A17: személyi juttatások járulékai | B17: 660000 | C17: ='6.tábla '!E9 -> 14040 | D17: 0 | E17: 0 | F17: 0 | G17: =B17+D17+E17+F17 -> 660000
A18: egyéb személyi kiadások | B18: 2945000 | C18: 0 | D18: 5385000 | E18: 0 | F18: 0 | G18: =B18+D18+E18+F18 -> 8330000
A19: anyagköltség | B19: 535000 | D19: 0 | E19: 0 | F19: 0 | G19: =B19+D19+E19+F19 -> 535000
A20: dologi kiadások egyéb szolgáltatások | C20: ='6.tábla '!E27 -> 2615667
A21: felújítások | C21: ='8.tábla'!E33 -> 2753106 | D21: 0 | F21: 0 | G21: =B21+D21+E21+F21 -> 0
A22: beruházások | B22: 3900000 | D22: 0 | F22: 0 | G22: =B22+D22+E22+F22 -> 3900000
A23: átadott pénzeszközök | G23: =B23+D23+E23+F23 -> 0
A24: Összesen | B24: =SUM(B16:B23) -> 11040000 | C24: =SUM(C16:C23) -> 5532013 | D24: =SUM(D16:D23) -> 6605000 | E24: =SUM(E16:E23) -> 1220000 | F24: =SUM(F16:F23) -> 0 | G24: =SUM(G16:G23) -> 18865000
