Workbook

Sheet 1
B1: Berhida Város Önkormányzata | F1: 1. melléklet
B2: 2019. évi eredeti költségvetés | F2: 2/2019.(III.1.) rendelethez
F3: Ft-ban
C4: BEVÉTELEK
A5: Sor- szám | B5: Rovat megnevezése | C5: Eredeti előirányzat összesen | D5: Önkormányzat | E5: Közös Hivatal | F5: TESZ | G5: Kultúrház | H5: Süni
A6: 1 | B6: Helyi önkormányzatok működésének általános támogatása (B1111) | C6: =SUM(D6:H6) -> 121805723 | D6: 121805723
A7: 2 | B7: Települési önkormányzatok egyes köznevelési feladatainak támogatása (B112) | C7: =SUM(D7:H7) -> 146632166 | D7: 146632166
A8: 3 | B8: Települési önkormányzatok szociális, gyermekjóléti és gyermekétkeztetési feladatainak támogatása (B113) | C8: =SUM(D8:H8) -> 110689107 | D8: 110689107
A9: 4 | B9: Települési önkormányzatok kulturális feladatainak támogatása (B114) | C9: =SUM(D9:H9) -> 7226120 | D9: 7226120
A10: 5 | B10: Működési célú költségvetési támogatások és kiegészítő támogatások (B115) | C10: =SUM(D10:H10) -> 0
A11: 6 | B11: Elszámolásból származó bevételek (B116) | C11: =SUM(D11:H11) -> 0
A12: 7 | B12: Önkormányzatok működési támogatásai (B11) | C12: =SUM(D12:H12) -> 386353116 | D12: =SUM(D6:D11) -> 386353116 | E12: =SUM(E6:E11) -> 0 | F12: =SUM(F6:F11) -> 0 | G12: =SUM(G6:G11) -> 0 | H12: =SUM(H6:H11) -> 0
A13: 8 | B13: Elvonások és befizetések bevételei B12 | C13: =SUM(D13:H13) -> 0
A14: 9 | B14: Egyéb működési célú támogatások bevételei államháztartáson belülről (B16) | C14: =SUM(D14:H14) -> 301800579 | D14: =SUM(D15:D19) -> 262817611 | E14: =SUM(E15:E19) -> 0 | F14: =SUM(F15:F19) -> 38982968 | G14: =SUM(G15:G19) -> 0 | H14: =SUM(H15:H19) -> 0
A15: 10 | B15: ebből: egyéb központi kezelésű előirányzatok (B1612 | C15: =SUM(D15:H15) -> 20462596 | D15: 20462596
A16: 11 | B16: ebből: fejezeti kezelésű EU B16 | C16: =SUM(D16:H16) -> 214984215 | D16: 214984215
A17: 12 | B17: ebből: társadalombiztosítás pénzügyi alapjai (B1614 | C17: =SUM(D17:H17) -> 27370800 | D17: 27370800
A18: 13 | B18: ebből: elkülönített állami pénzal (B1615 | C18: =SUM(D18:H18) -> 38982968 | F18: 38982968
A19: 14 | B19: ebből: önkormányzat és kv-i szerveik (B 1616 | C19: =SUM(D19:H19) -> 0
A20: 15 | B20: Működési célú támogatások államháztartáson belülről (B1) | C20: =SUM(D20:H20) -> 688153695 | D20: =D12+D14 -> 649170727 | E20: =E12+E14 -> 0 | F20: =F12+F14 -> 38982968 | G20: =G12+G14 -> 0 | H20: =H12+H14 -> 0
A21: 16 | B21: Felhalmozási célú önkormányzati támogatások (B21) | C21: =SUM(D21:H21) -> 0 | D21: =D22 -> 0 | E21: =E22 -> 0 | F21: =F22 -> 0 | G21: =G22 -> 0 | H21: =H22 -> 0
A22: 17 | B22: ebből: egyéb központi felhalmozási c tám B 2119 | C22: =SUM(D22:H22) -> 0
A23: 18 | B23: Egyéb felhalmozási célú tám áht belülről B 25 | C23: =SUM(D23:H23) -> 821196970 | D23: =SUM(D24:D27) -> 821196970 | E23: =SUM(E24:E27) -> 0 | F23: =SUM(F24:F27) -> 0 | G23: =SUM(G24:G27) -> 0 | H23: =SUM(H24:H27) -> 0
A24: 19 | B24: ebből egyéb központi fc tám (B2512 | C24: =SUM(D24:H24) -> 0
A25: 20 | B25: ebből: egyéb fejezeti kez EU fc (B25 | C25: =SUM(D25:H25) -> 821196970 | D25: 821196970
A26: 21 | B26: ebből: elkülönített állami pénzal fc (B2515 | C26: =SUM(D26:H26) -> 0
A27: 22 | B27: ebből: önkorm és kv-i szervek fc tám (B2516 | C27: =SUM(D27:H27) -> 0
A28: 23 | B28: Felhalmozási célú támogatások államháztartáson belülről (B2) | C28: =SUM(D28:H28) -> 821196970 | D28: =D21+D23 -> 821196970 | E28: =E21+E23 -> 0 | F28: =F21+F23 -> 0 | G28: =G21+G23 -> 0 | H28: =H21+H23 -> 0
A29: 24 | B29: Vagyoni tipusú adók (B34) | C29: =SUM(D29:H29) -> 108243000 | D29: =SUM(D30:D31) -> 108243000 | E29: =SUM(E30:E31) -> 0 | F29: =SUM(F30:F31) -> 0 | G29: =SUM(G30:G31) -> 0 | H29: =SUM(H30:H31) -> 0
A30: 25 | B30: ebből: építményadó (B34111) | C30: =SUM(D30:H30) -> 108243000 | D30: 108243000
A31: 26 | B31: ebből: magánszemélyek kommunális adója (B34114) | C31: =SUM(D31:H31) -> 0
A32: 27 | B32: Értékesítési és forgalmi adók iparűzési adó (B351121) | C32: =SUM(D32:H32) -> 225000000 | D32: 225000000
A33: 28 | B33: Gépjárműadó (B3541) | C33: =SUM(D33:H33) -> 11900000 | D33: 11900000
A34: 29 | B34: Egyéb áruhasználati és szolgáltatási adók, környezetterh díj, talajterhelési díj (B355) | C34: =SUM(D34:H34) -> 0
A35: 30 | B35: Termékek és szolgáltatások adói (B35) | C35: =SUM(D35:H35) -> 236900000 | D35: =SUM(D32:D34) -> 236900000 | E35: =SUM(E32:E34) -> 0 | F35: =SUM(F32:F34) -> 0 | G35: =SUM(G32:G34) -> 0 | H35: =SUM(H32:H34) -> 0
A36: 31 | B36: Egyéb közhatalmi bevételek (B36) | C36: =SUM(D36:H36) -> 400000 | D36: 400000 | E36: =SUM(E37:E38) -> 0 | F36: =SUM(F37:F38) -> 0 | G36: =SUM(G37:G38) -> 0 | H36: =SUM(H37:H38) -> 0
A37: 32 | B37: ebből: szabálysértési pénz- és helyszíni bírság és a közlekedési szabályszegések után kiszabott közigazgatási bírság helyi önkormányzatot megillető része (B361225 köv) | C37: =SUM(D37:H37) -> 50000 | D37: 50000
A38: 33 | B38: ebből: egyéb bírság (B361229 köv) | C38: =SUM(D38:H38) -> 350000 | D38: 350000
A39: 34 | B39: Közhatalmi bevételek (B3) | C39: =SUM(D39:H39) -> 345543000 | D39: =D29+D35+D36 -> 345543000 | E39: =E29+E35+E36 -> 0 | F39: =F29+F35+F36 -> 0 | G39: =G29+G35+G36 -> 0 | H39: =H29+H35+H36 -> 0
A40: 35 | B40: Készlet értékesítés előirányzata B 40111 | C40: =SUM(D40:H40) -> 0
...

Sheet 1a
A1: Berhida Város Önkormányzata | E1: 1.a melléklet
A2: állami támogatások részletezése | E2: a 2/2019. (III.1 .) önkormányzati rendelethez
D3: 2018 | H3: 2019
B4: IPA alap | E4: 9437151820 | G4: IPA alap | J4: 9578698183
B5: elvonás | C5: 0,55 %-nak | E5: =E4*0.0055 -> 51904335 | G5: elvonás | H5: 0,55 %-nak | J5: =J4*0.0055 -> 52682840
A6: 2019. évi költségvetés | C6: =E6/E5 -> 0.75 | E6: 38928251 | H6: =J6/J5 -> 0.52116317 | J6: 27456356
B7: 1 lakosra jutó adóerőképesség | E7: =E4*0.014/C8 -> 22156.654 | G7: 1 lakosra jutó adóerőképesség | J7: =J4*0.014/H8 -> 22455.086
C8: 5963 | D8: fő | E8: beszámítás | F8: 2018 tényl | H8: 5972 | I8: fő | J8: beszámítás | K8: 2019 tényl
D9: Forint | H9: Forint | K9: Módosított összesen | L9: Intézményi összesen | M9: Önkorm | N9: TESZ | O9: Hivatal | P9: Kultúrház | Q9: Családs Berh | R9: Családs Vi | S9: Süni | T9: Hétszínvirág | U9: Vi Óvoda
A10: Önkormányzatok működési támogatásai | D10: =D11+D21+D30+D45+D49 -> 4.1503305e+08 | E10: =E11+E21+E30+E45+E49 -> -59421251 | F10: =F11+F21+F30+F45+F49 -> 3.556118e+08 | I10: =I11+I21+I30+I45+I49+I52 -> 4.1380947e+08 | J10: =J11+J21+J30+J45+J49+J52 -> -27456356 | K10: =K11+K21+K30+K45+K49+K52 -> 3.8635312e+08 | L10: =SUM(M10:U10) -> 3.8635312e+08 | M10: =M11+M21+M30+M45+M49+M52 -> 14681600 | N10: =N11+N21+N30+N45+N49+N52 -> 21585523 | O10: =O11+O21+O30+O45+O49+O52 -> 101538600 | P10: =P11+P21+P30+P45+P49+P52 -> 7226120 | Q10: =Q11+Q21+Q30+Q45+Q49+Q52 -> 20059436 | R10: =R11+R21+R30+R45+R49+R52 -> 1515277 | S10: =S11+S21+S30+S45+S49+S52 -> 1.1176075e+08 | T10: =T11+T21+T30+T45+T49+T52 -> 87733934 | U10: =U11+U21+U30+U45+U49+U52 -> 20251873 | V10: =SUM(M10:U10) -> 3.8635312e+08
A11: 1.)Helyi önkormányzatok működésének általános támogatása | D11: =SUM(D12:D20) -> 147447989 | E11: =SUM(E12:E20) -> -38928251 | F11: =SUM(F12:F20) -> 108519738 | I11: =SUM(I12:I20) -> 149262079 | J11: =SUM(J12:J20) -> -27456356 | K11: =SUM(K12:K20) -> 1.2180572e+08 | L11: =SUM(M11:U11) -> 121805723 | M11: =SUM(M12:M20) -> 1681600 | N11: =SUM(N12:N20) -> 18585523 | O11: =SUM(O12:O20) -> 101538600 | P11: =SUM(P12:P20) -> 0 | Q11: =SUM(Q12:Q20) -> 0 | R11: =SUM(R12:R20) -> 0 | S11: =SUM(S12:S20) -> 0 | T11: =SUM(T12:T20) -> 0 | U11: =SUM(U12:U20) -> 0
A12: Önkormányzati hivatal működésének támogatása | B12: 4580000 | C12: 22.14 | D12: =B12*C12 -> 101401200 | F12: =D12+E12 -> 101401200 | G12: 4580000 | H12: 22.17 | I12: =G12*H12 -> 1.015386e+08 | K12: =I12+J12 -> 1.015386e+08 | L12: =SUM(M12:U12) -> 101538600 | O12: 101538600
A13: Település üzemeltetés: zöldterület-gazdálkodás | B13: 22300 | C13: 402 | D13: 8984670 | E13: =-D13 -> -8984670 | F13: =D13+E13 -> 0 | G13: 22300 | H13: 402 | I13: 8984670 | J13: =-I13 -> -8984670 | K13: =I13+J13 -> 0 | L13: =SUM(M13:U13) -> 0
A14: közvilágítás fenntartása | B14: 320000 | C14: 46.5 | D14: 9888000 | E14: =-D14 -> -9888000 | F14: =D14+E14 -> 0 | G14: 320000 | H14: 46.5 | I14: 9888000 | J14: -2140736 | K14: =I14+J14 -> 7747264 | L14: =SUM(M14:U14) -> 7747264 | N14: 7747264
A15: köztemető fenntartással kapcs fel | B15: 69 | C15: 53051 | D15: =B15*C15 -> 3660519 | E15: =-D15 -> -3660519 | F15: =D15+E15 -> 0 | G15: 69 | H15: 53051 | I15: =G15*H15 -> 3660519 | K15: =I15+J15 -> 3660519 | L15: =SUM(M15:U15) -> 3660519 | N15: 3660519
A16: közutak fenntartásának támog | B16: 227000 | C16: 24 | D16: =B16*C16 -> 5448000 | E16: -85862 | F16: =D16+E16 -> 5362138 | G16: 227000 | H16: 31.62 | I16: =G16*H16 -> 7177740 | K16: =I16+J16 -> 7177740 | L16: =SUM(M16:U16) -> 7177740 | N16: 7177740
A17: Egyéb kötelező önkormányzati feladatok | B17: 2700 | C17: 5963 | D17: =B17*C17 -> 16100100 | E17: =-D17 -> -16100100 | F17: =D17+E17 -> 0 | G17: 2700 | H17: 5972 | I17: =G17*H17 -> 16124400 | J17: =-I17 -> -16124400 | K17: =I17+J17 -> 0 | L17: =SUM(M17:U17) -> 0
A18: Lakott külterülettel kapcs feladatok | B18: 2550 | C18: 82 | D18: =B18*C18 -> 209100 | E18: =-D18 -> -209100 | F18: =D18+E18 -> 0 | G18: 2550 | H18: 81 | I18: =G18*H18 -> 206550 | J18: =-I18 -> -206550 | K18: =I18+J18 -> 0 | L18: =SUM(M18:U18) -> 0
A19: 2017. évről áthúzódó bérkompenzáció | F19: =D19+E19 -> 0 | K19: =I19+J19 -> 0 | L19: =SUM(M19:U19) -> 0
A20: Polgármesterek illetményének támogatása | D20: 1756400 | F20: =D20+E20 -> 1756400 | I20: 1681600 | K20: =I20+J20 -> 1681600 | L20: =SUM(M20:U20) -> 1681600 | M20: 1681600
A21: 2.)Települési önkorm. Egyes köznevelési feladatainak támoga | D21: =SUM(D22:D29) -> 1.4211607e+08 | E21: =SUM(E22:E29) -> 0 | F21: =SUM(F22:F29) -> 1.4211607e+08 | I21: =SUM(I22:I29) -> 1.4663217e+08 | J21: =SUM(J22:J29) -> 0 | K21: =SUM(K22:K29) -> 1.4663217e+08 | L21: =SUM(M21:U21) -> 1.4663217e+08 | M21: =SUM(M22:M29) -> 0 | N21: =SUM(N22:N29) -> 0 | O21: =SUM(O22:O29) -> 0 | P21: =SUM(P22:P29) -> 0 | Q21: =SUM(Q22:Q29) -> 0 | R21: =SUM(R22:R29) -> 0 | S21: =SUM(S22:S29) -> 80561600 | T21: =SUM(T22:T29) -> 50519233 | U21: =SUM(U22:U29) -> 15551333
A22: óvodapedagógusok bértámogatása 8 hó | B22: 4419000 | C22: 20.4 | D22: =B22*C22*8/12 -> 60098400 | F22: =D22+E22 -> 60098400 | G22: 4371500 | H22: 20.7 | I22: =G22*H22*8/12 -> 60326700 | K22: =I22+J22 -> 60326700 | L22: =SUM(M22:U22) -> 60326700 | S22: 32057667 | T22: 21857500 | U22: 6411533
A23: óvodaped munkáját közvetlenül segítők bértámogatása 8 hó | B23: 2205000 | C23: 13 | D23: =B23*C23/12*8 -> 19110000 | F23: =D23+E23 -> 19110000 | G23: 2205000 | H23: 14 | I23: =G23*H23/12*8 -> 20580000 | K23: =I23+J23 -> 20580000 | L23: =SUM(M23:U23) -> 20580000 | S23: =$K$23/14*9 -> 13230000 | T23: =$K$23/14*4 -> 5880000 | U23: =$K$23/14 -> 1470000
A24: óvodapedagógusok bértámogatása 4 hó | B24: 4419000 | C24: 20.2 | D24: =B24*C24*4/12 -> 29754600 | F24: =D24+E24 -> 29754600 | G24: 4371500 | H24: 20.6 | I24: =G24*H24*4/12 -> 30017633 | K24: =I24+J24 -> 30017633 | L24: =SUM(M24:U24) -> 30017633 | S24: =$I$24/20.6*11 -> 16028833 | T24: =$I$24/20.6*7.4 -> 10783033 | U24: =$I$24/20.6*2.2 -> 3205766.7
A25: óvodaped munkáját közvetlenül segítők bértámogatása 4 hó | B25: 2205000 | C25: 13 | D25: =B25*C25/12*4 -> 9555000 | F25: =D25+E25 -> 9555000 | G25: 2205000 | H25: 14 | I25: =G25*H25/12*4 -> 10290000 | K25: =I25+J25 -> 10290000 | L25: =SUM(M25:U25) -> 10290000 | S25: 5880000 | T25: 2940000 | U25: =$K$23/14 -> 1470000
A26: Óvoda működtetési támogatás 8 hó | B26: 81700 | C26: 219 | D26: =B26*C26*8/12 -> 11928200 | F26: =D26+E26 -> 11928200 | G26: 97400 | H26: 222 | I26: =G26*H26*8/12 -> 14415200 | K26: =I26+J26 -> 14415200 | L26: =SUM(M26:U26) -> 14415200 | S26: =$K$26/222*125 -> 8116666.7 | T26: =$K$26/222*70 -> 4545333.3 | U26: =$K$26/222*27 -> 1753200
A27: Óvoda működtetési támogatás 4 hó | B27: 81700 | C27: 218 | D27: =B27*C27*4/12 -> 5936866.7 | F27: =D27+E27 -> 5936866.7 | G27: 97400 | H27: 221 | I27: 7175133 | K27: =I27+J27 -> 7175133 | L27: =SUM(M27:U27) -> 7175133 | S27: =$K$27/221*125 -> 4058333.1 | T27: =$K$27/221*70 -> 2272666.6 | U27: =$K$27/221*26 -> 844133.29
A28: Kieg tám. Óv pedag minősítéséhez II. kategóriába sorolt | B28: 401000 | C28: 7 | D28: =B28*C28 -> 2807000 | F28: =D28+E28 -> 2807000 | G28: 396700 | H28: 6 | I28: =G28*H28 -> 2380200 | K28: =I28+J28 -> 2380200 | L28: =SUM(M28:U28) -> 2380200 | S28: =$K$28/6*3 -> 1190100 | T28: =$K$28/6*2 -> 793400 | U28: =$K$28/6 -> 396700
A29: Mesterped kategóriába sorolt | B29: 1463000 | C29: 2 | D29: =B29*C29 -> 2926000 | F29: =D29+E29 -> 2926000 | G29: 1447300 | H29: 1 | I29: =G29*H29 -> 1447300 | K29: =I29+J29 -> 1447300 | L29: =SUM(M29:U29) -> 1447300 | T29: 1447300
A30: 3.) Tel önk szociális, gyermekjóléti és gyermekétk fel tám | D30: =SUM(D32:D44) -> 118253769 | E30: =SUM(E32:E44) -> -20493000 | F30: =SUM(F32:F44) -> 97760769 | I30: =SUM(I32:I44) -> 110689107 | J30: =SUM(J32:J44) -> 0 | K30: =SUM(K32:K44) -> 110689107 | L30: =SUM(M30:U30) -> 110689107 | M30: =SUM(M32:M44) -> 13000000 | N30: =SUM(N32:N44) -> 3000000 | O30: =SUM(O32:O44) -> 0 | P30: =SUM(P32:P44) -> 0 | Q30: =SUM(Q32:Q44) -> 20059436 | R30: =SUM(R32:R44) -> 1515277 | S30: =SUM(S32:S44) -> 31199153 | T30: =SUM(T32:T44) -> 37214701 | U30: =SUM(U32:U44) -> 4700540
L31: =SUM(M31:U31) -> 0
A32: gyermekétkeztetés szempontjából elismert dolgozók bértámog | B32: 1900000 | C32: 11.1 | D32: =B32*C32 -> 21090000 | F32: =D32+E32 -> 21090000 | G32: 1900000 | H32: 11.18 | I32: =G32*H32 -> 21242000 | K32: =I32+J32 -> 21242000 | L32: =SUM(M32:U32) -> 21242000 | S32: 9791770 | T32: 9050210 | U32: 2400020
A33: gyermekétkeztetés üzemeltetési támogatása | D33: 34323860 | F33: =D33+E33 -> 34323860 | I33: 37497698 | K33: =I33+J33 -> 37497698 | L33: =SUM(M33:U33) -> 37497698 | S33: 19002620 | T33: 16194558 | U33: 2300520
A34: szünidei gyermekétkeztetés | B34: 513 | C34: 5637 | D34: =B34*C34 -> 2891781 | F34: =D34+E34 -> 2891781 | G34: 513 | H34: 6592 | I34: =G34*H34 -> 3381696 | K34: =I34+J34 -> 3381696 | L34: =SUM(M34:U34) -> 3381696 | S34: =K34-T34 -> 2404763 | T34: 976933
A35: Hozzájárulás pénzbeli szociális ellátásokhoz | D35: =F35*2 -> 40986000 | E35: -20493000 | F35: 20493000 | I35: 28785793 | K35: =I35+J35 -> 28785793 | L35: =SUM(M35:U35) -> 28785793 | M35: 13000000 | N35: 3000000 | Q35: 12785793
A36: Bölcsődei ellátás bértámogatás | B36: 2993000 | C36: 3 | D36: =B36*C36 -> 8979000 | F36: =D36+E36 -> 8979000 | G36: 2993000 | H36: 3 | I36: =G36*H36 -> 8979000 | K36: =I36+J36 -> 8979000 | L36: =SUM(M36:U36) -> 8979000 | T36: 8979000
A37: Bölcsődei működtetési tám | D37: 1770000 | F37: =D37+E37 -> 1770000 | I37: 2014000 | K37: =I37+J37 -> 2014000 | L37: =SUM(M37:U37) -> 2014000 | T37: 2014000
A38: Családsegítés és gyermekjóléti szolgáltatás B: 5972 Vi: 683 = 6655 fő | B38: 3400000 | D38: 4420000 | F38: =D38+E38 -> 4420000 | G38: 3400000 | I38: 4420000 | K38: =I38+J38 -> 4420000 | L38: =SUM(M38:U38) -> 4420000 | Q38: 3455515 | R38: 964485
A39: szociális étkeztetés | B39: 60896 | C39: 18 | D39: =B39*C39 -> 1096128 | F39: =D39+E39 -> 1096128 | G39: 60896 | H39: 20 | I39: =G39*H39 -> 1217920 | K39: =I39+J39 -> 1217920 | L39: =SUM(M39:U39) -> 1217920 | Q39: 1096128 | R39: =B39*2 -> 121792
A40: házi segítségnyújtás szem élyi gondozás | B40: 429000 | C40: 4 | D40: =B40*C40 -> 1716000 | F40: =D40+E40 -> 1716000 | G40: 429000 | H40: 5 | I40: =G40*H40 -> 2145000 | K40: =I40+J40 -> 2145000 | L40: =SUM(M40:U40) -> 2145000 | Q40: 1716000 | R40: 429000
...

Sheet 1.b
B1: Berhida Város Önkormányzata | F1: 25. melléklet
B2: 2019. évi eredeti költségvetés | F2: 2/2019.(III.1.) rendelethez
F3: Ft-ban
C4: BEVÉTELEK
A5: Sor- szám | B5: Rovat megnevezése | C5: Mód előirányzat összesen | D5: Önkormányzat | E5: Közös Hivatal | F5: TESZ | G5: Kultúrház | H5: Süni
A6: 1 | B6: Helyi önkormányzatok működésének általános támogatása (B1111) | C6: =SUM(D6:H6) -> 121805723 | D6: 121805723
A7: 2 | B7: Települési önkormányzatok egyes köznevelési feladatainak támogatása (B112) | C7: =SUM(D7:H7) -> 146632166 | D7: 146632166
A8: 3 | B8: Települési önkormányzatok szociális, gyermekjóléti és gyermekétkeztetési feladatainak támogatása (B113) | C8: =SUM(D8:H8) -> 110689107 | D8: 110689107
A9: 4 | B9: Települési önkormányzatok kulturális feladatainak támogatása (B114) | C9: =SUM(D9:H9) -> 7226120 | D9: 7226120
A10: 5 | B10: Működési célú költségvetési támogatások és kiegészítő támogatások (B115) | C10: =SUM(D10:H10) -> 0
A11: 6 | B11: Elszámolásból származó bevételek (B116) | C11: =SUM(D11:H11) -> 0
A12: 7 | B12: Önkormányzatok működési támogatásai (B11) | C12: =SUM(D12:H12) -> 386353116 | D12: =SUM(D6:D11) -> 386353116 | E12: =SUM(E6:E11) -> 0 | F12: =SUM(F6:F11) -> 0 | G12: =SUM(G6:G11) -> 0 | H12: =SUM(H6:H11) -> 0
A13: 8 | B13: Elvonások és befizetések bevételei B12 | C13: =SUM(D13:H13) -> 0
A14: 9 | B14: Egyéb működési célú támogatások bevételei államháztartáson belülről (B16) | C14: =SUM(D14:H14) -> 301800579 | D14: =SUM(D15:D19) -> 262817611 | E14: =SUM(E15:E19) -> 0 | F14: =SUM(F15:F19) -> 38982968 | G14: =SUM(G15:G19) -> 0 | H14: =SUM(H15:H19) -> 0
A15: 10 | B15: ebből: egyéb központi kezelésű előirányzatok (B1612 | C15: =SUM(D15:H15) -> 20462596 | D15: 20462596
A16: 11 | B16: ebből: fejezeti kezelésű EU B16 | C16: =SUM(D16:H16) -> 214984215 | D16: 214984215
A17: 12 | B17: ebből: társadalombiztosítás pénzügyi alapjai (B1614 | C17: =SUM(D17:H17) -> 27370800 | D17: 27370800
A18: 13 | B18: ebből: elkülönített állami pénzal (B1615 | C18: =SUM(D18:H18) -> 38982968 | F18: 38982968
A19: 14 | B19: ebből: önkormányzat és kv-i szerveik (B 1616 | C19: =SUM(D19:H19) -> 0
A20: 15 | B20: Működési célú támogatások államháztartáson belülről (B1) | C20: =SUM(D20:H20) -> 688153695 | D20: =D12+D14 -> 649170727 | E20: =E12+E14 -> 0 | F20: =F12+F14 -> 38982968 | G20: =G12+G14 -> 0 | H20: =H12+H14 -> 0
A21: 16 | B21: Felhalmozási célú önkormányzati támogatások (B21) | C21: =SUM(D21:H21) -> 0 | D21: =D22 -> 0 | E21: =E22 -> 0 | F21: =F22 -> 0 | G21: =G22 -> 0 | H21: =H22 -> 0
A22: 17 | B22: ebből: egyéb központi felhalmozási c tám B 2119 | C22: =SUM(D22:H22) -> 0
A23: 18 | B23: Egyéb felhalmozási célú tám áht belülről B 25 | C23: =SUM(D23:H23) -> 432801693 | D23: =SUM(D24:D27) -> 432801693 | E23: =SUM(E24:E27) -> 0 | F23: =SUM(F24:F27) -> 0 | G23: =SUM(G24:G27) -> 0 | H23: =SUM(H24:H27) -> 0
A24: 19 | B24: ebből egyéb központi fc tám (B2512 | C24: =SUM(D24:H24) -> 0
A25: 20 | B25: ebből: egyéb fejezeti kez EU fc (B25 | C25: =SUM(D25:H25) -> 432801693 | D25: 432801693
A26: 21 | B26: ebből: elkülönített állami pénzal fc (B2515 | C26: =SUM(D26:H26) -> 0
A27: 22 | B27: ebből: önkorm és kv-i szervek fc tám (B2516 | C27: =SUM(D27:H27) -> 0
A28: 23 | B28: Felhalmozási célú támogatások államháztartáson belülről (B2) | C28: =SUM(D28:H28) -> 432801693 | D28: =D21+D23 -> 432801693 | E28: =E21+E23 -> 0 | F28: =F21+F23 -> 0 | G28: =G21+G23 -> 0 | H28: =H21+H23 -> 0
A29: 24 | B29: Vagyoni tipusú adók (B34) | C29: =SUM(D29:H29) -> 108243000 | D29: =SUM(D30:D31) -> 108243000 | E29: =SUM(E30:E31) -> 0 | F29: =SUM(F30:F31) -> 0 | G29: =SUM(G30:G31) -> 0 | H29: =SUM(H30:H31) -> 0
A30: 25 | B30: ebből: építményadó (B34111) | C30: =SUM(D30:H30) -> 108243000 | D30: 108243000
A31: 26 | B31: ebből: magánszemélyek kommunális adója (B34114) | C31: =SUM(D31:H31) -> 0
A32: 27 | B32: Értékesítési és forgalmi adók iparűzési adó (B351121) | C32: =SUM(D32:H32) -> 225000000 | D32: 225000000
A33: 28 | B33: Gépjárműadó (B3541) | C33: =SUM(D33:H33) -> 11900000 | D33: 11900000
A34: 29 | B34: Egyéb áruhasználati és szolgáltatási adók, környezetterh díj, talajterhelési díj (B355) | C34: =SUM(D34:H34) -> 0
A35: 30 | B35: Termékek és szolgáltatások adói (B35) | C35: =SUM(D35:H35) -> 236900000 | D35: =SUM(D32:D34) -> 236900000 | E35: =SUM(E32:E34) -> 0 | F35: =SUM(F32:F34) -> 0 | G35: =SUM(G32:G34) -> 0 | H35: =SUM(H32:H34) -> 0
A36: 31 | B36: Egyéb közhatalmi bevételek (B36) | C36: =SUM(D36:H36) -> 400000 | D36: 400000 | E36: =SUM(E37:E38) -> 0 | F36: =SUM(F37:F38) -> 0 | G36: =SUM(G37:G38) -> 0 | H36: =SUM(H37:H38) -> 0
A37: 32 | B37: ebből: szabálysértési pénz- és helyszíni bírság és a közlekedési szabályszegések után kiszabott közigazgatási bírság helyi önkormányzatot megillető része (B361225 köv) | C37: =SUM(D37:H37) -> 50000 | D37: 50000
A38: 33 | B38: ebből: egyéb bírság (B361229 köv) | C38: =SUM(D38:H38) -> 350000 | D38: 350000
A39: 34 | B39: Közhatalmi bevételek (B3) | C39: =SUM(D39:H39) -> 345543000 | D39: =D29+D35+D36 -> 345543000 | E39: =E29+E35+E36 -> 0 | F39: =F29+F35+F36 -> 0 | G39: =G29+G35+G36 -> 0 | H39: =H29+H35+H36 -> 0
A40: 35 | B40: Készlet értékesítés előirányzata B 40111 | C40: =SUM(D40:H40) -> 0
...

Sheet 2
B1: Berhida Város Önkormányzata | E1: 2. melléklet
B2: 2019. évi eredeti költségvetés | E2: 2/2019.(III.1. ) rendelethez
C3: KIADÁSOK | E3: Ft-ban
A5: Sor- szám | B5: Rovat megnevezése | C5: Eredeti előirányzat összesen | D5: Önkormányzat | E5: Közös Hivatal | F5: TESZ | G5: Kultúrház | H5: Süni
A6: 27 | B6: Személyi juttatások (K1) | C6: =SUM(D6:H6) -> 380862666 | D6: 40882056 | E6: 141170324 | F6: 90434440 | G6: 22626952 | H6: 85748894
A7: 28 | B7: Munkaadókat terhelő járulékok és szociális hozzájárulási adó (K2) | C7: =SUM(D7:H7) -> 73316459 | D7: 8669381 | E7: 28404284 | F7: 13174994 | G7: 4456746 | H7: 18611054
A8: 87 | B8: Dologi kiadások (K3) | C8: =SUM(D8:H8) -> 460366483 | D8: 279675327 | E8: 34390846 | F8: 68919710 | G8: 36241176 | H8: 41139424
A9: 88 | B9: Családi támogatások (K42) | C9: =SUM(D9:H9) -> 0 | D9: =D10 -> 0 | E9: =E10 -> 0 | F9: =F10 -> 0 | G9: =G10 -> 0 | H9: =H10 -> 0
A10: 89 | B10: ebből: az egyéb pénzbeli és természetbeni gyermekvédelmi támogatások (K42132) | C10: =SUM(D10:H10) -> 0
A11: 90 | B11: Intézményi ellátottak pénzbeli juttatásai (K47) | C11: =SUM(D11:H11) -> 800000 | D11: =D12 -> 800000 | E11: =E12 -> 0 | F11: =F12 -> 0 | G11: =G12 -> 0 | H11: =H12 -> 0
A12: 91 | B12: ebből: oktatásban résztvevők pénzbeli juttatásai (K471) | C12: =SUM(D12:H12) -> 800000 | D12: 800000
A13: 92 | B13: Egyéb nem intézményi ellátások (K48) | C13: =SUM(D13:H13) -> 11000000 | D13: =SUM(D14:D15) -> 11000000 | E13: =SUM(E14:E15) -> 0 | F13: =SUM(F14:F15) -> 0 | G13: =SUM(G14:G15) -> 0 | H13: =SUM(H14:H15) -> 0
A14: 93 | B14: ebből: köztemetés [Szoctv. 48.§] (K48123) | C14: =SUM(D14:H14) -> 1000000 | D14: 1000000
A15: 94 | B15: ebből: települési támogatás [Szoctv. 45. §], (K48122) | C15: =SUM(D15:H15) -> 10000000 | D15: 10000000
A16: 96 | B16: Ellátottak pénzbeli juttatásai (K4) | C16: =SUM(D16:H16) -> 11800000 | D16: =D9+D11+D13 -> 11800000 | E16: =E9+E11+E13 -> 0 | F16: =F9+F11+F13 -> 0 | G16: =G9+G11+G13 -> 0 | H16: =H9+H11+H13 -> 0
A17: 97 | B17: Elvonások és befizetések (K5023) | C17: =SUM(D17:H17) -> 0
A18: 98 | B18: Egyéb működési célú támogatások államháztartáson belülre (K506) | C18: =SUM(D18:H18) -> 174487534 | D18: =SUM(D19:D22) -> 174487534 | E18: =SUM(E19:E22) -> 0 | F18: =SUM(F19:F22) -> 0 | G18: =SUM(G19:G22) -> 0 | H18: =SUM(H19:H22) -> 0
A19: 99 | B19: ebből: egyéb központi kezelésű előir (K50612) | C19: =SUM(D19:H19) -> 3500000 | D19: 3500000
A20: 100 | B20: ebből: elkülönített állami pénzalap (K50615) | C20: =SUM(D20:H20) -> 0
A21: 101 | B21: ebből: önkormányzatok és költségv-i szerveik K50616) | C21: =SUM(D21:H21) -> 0
A22: 102 | B22: ebből: társulások és költségvetési szerveik (K50617) | C22: =SUM(D22:H22) -> 170987534 | D22: 170987534
A23: 103 | B23: Egyéb működési célú támogatások államháztartáson kívülre (K512) | C23: =SUM(D23:H23) -> 17019600 | D23: 17019600
B24: Egyházi jogi személy egyé műk célú tám( K51216 | C24: =SUM(D24:H24) -> 0
A25: 104 | B25: Tartalékok (K51311) | C25: =SUM(D25:H25) -> 98212784 | D25: 98212784
A26: 105 | B26: Egyéb működési célú kiadások (K5) | C26: =SUM(D26:H26) -> 289719918 | D26: =D17+D18+D23+D24+D25 -> 289719918 | E26: =E17+E18+E23+E24+E25 -> 0 | F26: =F17+F18+F23+F24+F25 -> 0 | G26: =G17+G18+G23+G24+G25 -> 0 | H26: =H17+H18+H23+H24+H25 -> 0
A27: 106 | B27: Immateriális javak beszerzése, lét (K611) | C27: =SUM(D27:H27) -> 6200 | G27: 6200
A28: 107 | B28: Ingatlanok beszerzése, létesítése (K621) | C28: =SUM(D28:H28) -> 817794559 | D28: 817794559
A29: 108 | B29: Informatikai eszközök beszerzése, létesítése (K631) | C29: =SUM(D29:H29) -> 1020000 | E29: 1000000 | F29: 20000
A30: 109 | B30: Egyéb tárgyi eszközök beszerzése, létesítése (K641) | C30: =SUM(D30:H30) -> 30278515 | D30: 16018494 | E30: 3000000 | F30: 2280000 | G30: 8268921 | H30: 711100
A31: 110 | B31: Beruházási célú előzetesen felszámított általános forgalmi adó (K671) | C31: =SUM(D31:H31) -> 229118426 | D31: 225129526 | E31: 1080000 | F31: 621000 | G31: 2095903 | H31: 191997
A32: 111 | B32: Beruházások (K6) | C32: =SUM(D32:H32) -> 1078217700 | D32: =SUM(D27:D31) -> 1058942579 | E32: =SUM(E27:E31) -> 5080000 | F32: =SUM(F27:F31) -> 2921000 | G32: =SUM(G27:G31) -> 10371024 | H32: =SUM(H27:H31) -> 903097
A33: 112 | B33: Ingatlanok felújítása (K711) | C33: =SUM(D33:H33) -> 125300957 | D33: 125300957
B34: Informatikai eszközök felújítása (K723) | C34: =SUM(D34:H34) -> 200000 | E34: 200000
A35: 113 | B35: Egyéb tárgyi eszközök felújítása (K731) | C35: =SUM(D35:H35) -> 2235723 | D35: 959660 | F35: 1276063
A36: 114 | B36: Felújítási célú előzetesen felszámított általános forgalmi adó (K741) | C36: =SUM(D36:H36) -> 34488902 | D36: 34090365 | E36: 54000 | F36: 344537
A37: 115 | B37: Felújítások (K7) | C37: =SUM(D37:H37) -> 162225582 | D37: =SUM(D33:D36) -> 160350982 | E37: =SUM(E33:E36) -> 254000 | F37: =SUM(F33:F36) -> 1620600 | G37: =SUM(G33:G36) -> 0 | H37: =SUM(H33:H36) -> 0
A38: 116 | B38: Egyéb felhalmozási célú támogatások államháztartáson belülre (K84) | C38: =SUM(D38:H38) -> 7516495 | D38: 7516495 | E38: =SUM(E39:E41) -> 0 | F38: =SUM(F39:F41) -> 0 | G38: =SUM(G39:G41) -> 0 | H38: =SUM(H39:H41) -> 0
A39: 119 | B39: Egyéb felhalmozási célú támogatás Áht-n kívülre (K89) | C39: =SUM(D39:H39) -> 7500000 | D39: =SUM(D40:D41) -> 7500000
A40: 118 | B40: ebből:önkormányzati többségi tulajdonú nem pénzügyi vállalkozások (K89122) | C40: =SUM(D40:H40) -> 7500000 | D40: 7500000
A41: 117 | B41: ebből: egyéb civil szervezeteknek | C41: =SUM(D41:H41) -> 0
...

Sheet 2a
B1: Berhida Város Önkormányzata | C1: 26/a. melléklet
B2: 2019. évi költségvetés | C2: 2/2019.(III.1.) rendelethez
B3: Kiadások | C3: adatok Ft-ban
A5: Felújítások | C5: Eredeti előir | D5: változás | E5: Mód. Előirányzat
A6: 1 | B6: TESZ egyéb gép, berendezés, jármű felújítás | C6: 1620600 | E6: =C6+D6 -> 1620600
A7: 2 | B7: ÖH informatikai eszköz felújítás | C7: 254000 | E7: =C7+D7 -> 254000
A8: 3 | B8: ÖNK külterületi utak pályázat | C8: 45985797 | E8: =C8+D8 -> 45985797
A9: 4 | B9: ÖNK tervek | C9: 4000000 | D9: 1000000 | E9: =C9+D9 -> 5000000
A10: 5 | B10: ÖNK Gyermekorvosi és védőnői szolg. Épület felúj pályázat 64 m | C10: 67640000 | D10: 10000 | E10: =C10+D10 -> 67650000
A11: 6 | B11: ÖNK Petőfi Műv Ház mellékbejárat ajtócsere | C11: 339380 | E11: =C11+D11 -> 339380
A12: 7 | B12: ÖNK Üzletsor virág-zöldség-vegyesker. ablakcsere | C12: 1028959 | E12: =C12+D12 -> 1028959
A13: 8 | B13: ÖNK Süni konyha felújítás pályázat | C13: 33671602 | E13: =C13+D13 -> 33671602
A14: 9 | B14: ÖNK ivóvíz bekötés felújítások Viziközmű szl-.ról | C14: 1116976 | E14: =C14+D14 -> 1116976
A15: 10 | B15: ÖNK viziközmű alapból tervek | C15: 2349500 | E15: =C15+D15 -> 2349500
A16: 11 | B16: ÖNK viziközmű alapból keretszerződés | C16: 3000000 | E16: =C16+D16 -> 3000000
A17: 12 | B17: ÖNK MTZ traktor felújítás | C17: 1218768 | E17: =C17+D17 -> 1218768
A18: 13 | B18: ÖNK Petőfi Műv ház tetőszigetelés javítása | D18: 806155 | E18: =C18+D18 -> 806155
A19: 15 | B19: ÖNK Péti úti ravatalozó kültéri rav.hely és lábazat felújítás | D19: 900000 | E19: =C19+D19 -> 900000
A20: 16 | B20: ÖNK Művelődési ház érintésvédelem vill szekrény | D20: 2100000 | E20: =C20+D20 -> 2100000
A21: 18 | E21: =C21+D21 -> 0
A22: 19 | B22: Összesen | C22: =SUM(C6:C21) -> 162225582 | D22: =SUM(D6:D21) -> 4816155 | E22: =SUM(E6:E21) -> 167041737

Sheet 2b
B1: Berhida Város Önkormányzata | C1: 26/b. melléklet
B2: 2019. évi költségvetés | C2: 2/2019.(III.1.) rendelethez
B3: Kiadások | C3: adatok Ft-ban
A5: Beruházások | C5: Eredeti előir | D5: változás | E5: Mód előir.
A6: 1 | B6: TESZ informatikai eszközök+áfa | C6: 25400 | E6: =C6+D6 -> 25400
A7: 2 | B7: TESZ egyéb gép- berendezés+áfa | C7: 2895600 | D7: 1636000 | E7: =C7+D7 -> 4531600
A8: 3 | B8: Kultúrház egyéb tárgyi eszköz beszerzés | C8: 508000 | D8: 152400 | E8: =C8+D8 -> 660400
A9: 4 | B9: Kultúrház éven túli könyvbeszerzés | C9: 660450 | E9: =C9+D9 -> 660450
A10: 5 | B10: Kultúrház immateriális javak beszerzése | C10: 7874 | E10: =C10+D10 -> 7874
A11: 6 | B11: Kultúrház 2019. évi érdekeltség növ, egyéb gép, berend | C11: 508000 | E11: =C11+D11 -> 508000
A12: 7 | B12: Kultúrház 2018. érdekeltségnöv pályázat egyéb gép, berend | C12: 7759700 | E12: =C12+D12 -> 7759700
A13: 8 | B13: Kultúr kisértékű te. Csóri pályázat | C13: 927000 | E13: =C13+D13 -> 927000
A14: 9 | B14: Süni egyéb tárgyi eszköz + áfa | C14: 903097 | D14: 101000 | E14: =C14+D14 -> 1004097
A15: 10 | B15: ÖH informatikai eszközök + áfa | C15: 1270000 | E15: =C15+D15 -> 1270000
A16: 11 | B16: ÖH egyéb gép, berend + áfa | C16: 3810000 | E16: =C16+D16 -> 3810000
A17: 12 | B17: ÖNK védőnői szolg. Egyéb eszközbeszerzés | C17: 508000 | E17: =C17+D17 -> 508000
A18: 13 | B18: ÖNK kerékpárút kialakítás TOP 3.1.1-16 pályázat | C18: 245954948 | E18: =C18+D18 -> 245954948
A19: 14 | B19: ÖNK szennyvíz tisztítótelep, csatornahál fejl. KEHOP pályázat | C19: 776790555 | E19: =C19+D19 -> 776790555
A20: 15 | B20: ÖNK tervek | C20: 2000000 | D20: 1000000 | E20: =C20+D20 -> 3000000
A21: 16 | B21: ÖNK 181/2 hrsz-ú közút közvilágítási hálózatra csatlakozás | C21: 762000 | E21: =C21+D21 -> 762000
A22: 17 | B22: ÖNK Kiskovácsi temető ravatalozó bővítés Korm. Hiv hatós. Előir | C22: 9635788 | E22: =C22+D22 -> 9635788
A23: 18 | B23: ÖNK közvilágítás korszer | C23: 700000 | D23: 1800000 | E23: =C23+D23 -> 2500000
A24: 19 | B24: ÖNK urnahely temetkezési hely kialakítás | C24: 1500000 | E24: =C24+D24 -> 1500000
A25: 20 | B25: ÖNK sportparkok kialakítása térburkolat | C25: 1955800 | E25: =C25+D25 -> 1955800
A26: 21 | B26: ÖNK sportpark napelemes lámpa | C26: 210000 | E26: =C26+D26 -> 210000
A27: 22 | B27: ÖNK VP6-7.2.1.4.1.3-17 közétkeztetés fejl. Süni eszközfejl.pály. | C27: 18925488 | E27: =C27+D27 -> 18925488
A28: 23 | B28: ÖNK Magyar Ifjúság-Liszt F. u. közötti járdához területvásárlás | D28: 400000 | E28: =C28+D28 -> 400000
A29: 24 | B29: ÖNK Bem u. sarka terület átvétel kapcsán kerítés építés | D29: 2000000 | E29: =C29+D29 -> 2000000
A30: 25 | B30: ÖNK védőnői szolg. informatikai eszközbeszerzés | D30: 60000 | E30: =C30+D30 -> 60000
A31: 26 | B31: ÖNK kamerák elhelyezése, cseréje | D31: 3000000 | E31: =C31+D31 -> 3000000
A32: 27 | B32: ÖNK buszmegálló beszerzés | D32: 900000 | E32: =C32+D32 -> 900000
A33: 28 | B33: ÖNK térburkolat Péti úti temetőben (urnafalnál) | D33: 800000 | E33: =C33+D33 -> 800000
A34: 29 | B34: ÖNK Süni ovifoci pálya pályázat kerítés | D34: 1200000 | E34: =C34+D34 -> 1200000
A35: 30 | B35: ÖNK rendezési terv, települési rendezési eszköz terv módosítás | D35: 1143000 | E35: =C35+D35 -> 1143000
A36: 31
A37: 32 | B37: Összesen | C37: =SUM(C6:C36) -> 1078217700 | D37: =SUM(D6:D36) -> 14192400 | E37: =SUM(E6:E36) -> 1092410100
C39: bruttó | D39: nettó | E39: áfa | F39: Összesen
A40: ÖNK. | B40: imm jav | C40: =E35 -> 1143000 | D40: =C40/1.27 -> 900000 | E40: =D40*0.27 -> 243000 | F40: =SUM(D40:E40) -> 1143000
B41: ingatlan | C41: =E18+E19+E20+E22+E21+E23+E24+E25+E28+E29+E33+E34 -> 1046499091 | D41: =(C41/1.27)+165144449 -> 9.8915948e+08 | E41: =(C41/1.27*0.27)-165144449 -> 57339610 | F41: =SUM(D41:E41) -> 1046499091
B42: informatikai eszk | C42: =E30 -> 60000 | D42: =C42/1.27 -> 47244.094 | E42: =D42*0.27 -> 12755.906 | F42: =SUM(D42:E42) -> 60000
...

Sheet 2-c
A1: BERHIDA VÁROS ÖNKORMÁNYZATA
A2: 2019. évi költségvetési tervben a 2018. évi költségvetési maradvány igénybevétel részletezése
E3: 2/c melléklet
E4: a 2/2019. (III.1.) önkormányzati rendelethez
E5: adatok Ft-ban
A6: kv-i maradvány | C6: céltart | D6: Felhalm.c t | E6: Felújítás | F6: Beruházás | G6: dologi | H6: finanszírozás | I6: személyi | J6: járulék
A7: Egyéb viziközmű alap | B7: =SUM(C7:J7) -> 65419810 | C7: 65419810
A8: Új HKA alap talajterh díj | B8: =SUM(C8:J8) -> 772974 | C8: 772974
A9: ÖNK külterületi utak önrész céltartba | B9: =SUM(C9:J9) -> 15828586 | E9: 15828586
A10: ÖNK sportparkok kialakítása térburkolat | B10: =SUM(C10:J10) -> 1955000 | F10: 1955000
A11: ÖNK állami támogatás elszám. Étkeztetés | B11: =SUM(C11:J11) -> 4000000 | C11: 4000000
A12: ÖNK sportparkok térburkolat | B12: =SUM(C12:J12) -> 1955800 | F12: 1955800
A13: ÖNK sportpark közvilágítás, napelemes | B13: =SUM(C13:J13) -> 210000 | F13: 210000
A14: ÖNK ingatlan havaria céltartalékba | B14: =SUM(C14:J14) -> 4000000 | C14: 4000000
A15: ÖNK pályázati tartalék | B15: =SUM(C15:J15) -> 7020000 | C15: 7020000
A16: TOPOS pályázat Megyei önk díj | B16: =SUM(C16:J16) -> 2460000 | G16: 2460000
A17: ÖNK VP6-7.2.1.4.1.3-17 közétkeztetés fejl. Süni eszközfejl.pály. | B17: =SUM(C17:J17) -> 18925488 | F17: 18925488
A18: ÖNK 181/2 hrsz-ú közút közvilágítási hálózatra csatlakozás | B18: =SUM(C18:J18) -> 762000 | F18: 762000
A19: ÖNK TOP pályázat közlekedés fejlesztés, kerékpárút | B19: =SUM(C19:J19) -> 256445840 | F19: 245954948 | G19: 7562892 | I19: 2450209 | J19: 477791
A20: ÖNK Üzletsor virág-zöldség-vegyesker. ablakcsere | B20: =SUM(C20:J20) -> 1028959 | E20: 1028959
A21: ÖNK ivóvíz bekötés felújítások Viziközmű szl-.ról | B21: =SUM(C21:J21) -> 1116976 | E21: 1116976
A22: ÖNK viziközmű alapból tervek | B22: =SUM(C22:J22) -> 2349500 | E22: 2349500
A23: ÖNK viziközmű alapból keretszerződés | B23: =SUM(C23:J23) -> 3000000 | E23: 3000000
A24: ÖNK Várpalota szennyvíztelep centrifuga, iszavíztelenítő felúj | B24: =SUM(C24:J24) -> 7516495 | D24: 7516495
A25: ÖNK Bakonykarszt telek kialak megállapodás törlesztés | B25: =SUM(C25:J25) -> 7500000 | D25: 7500000
A26: ÖNK úrnahely kialakítás | B26: =SUM(C26:J26) -> 1500000 | F26: 1500000
A27: ÖNK Kiskovácsi ravatozó bővítés | B27: =SUM(C27:J27) -> 9635788 | F27: 9635788
A28: ÖNK közvilágítás korszer | B28: =SUM(C28:J28) -> 700000 | F28: 700000
A29: ÖNK tervek | B29: =SUM(C29:J29) -> 6000000 | E29: 4000000 | F29: 2000000
A30: ÖNK Petőfi MŰV Ház mellékbejárati ajtó csere | B30: =SUM(C30:J30) -> 339380 | E30: 339380
A31: ÖNK Téli rezsi csökkentés BM pályázat | B31: =SUM(C31:J31) -> 2544000 | G31: 2544000
A32: ÖNK konyha épület felújítás Süni | B32: =SUM(C32:J32) -> 33671602 | E32: 33671602
A33: ÖNK orvosi rendelő felúj pályázat | B33: =SUM(C33:J33) -> 67640000 | E33: 67640000
A34: Kultúrház 2018 közműv érd növ pály | B34: =SUM(C34:J34) -> 7759700 | F34: 7759700
A35: Kultúrház Csóry pályázat 2018 | B35: =SUM(C35:J35) -> 2335000 | F35: 927000 | G35: 1408000
A36: Állami megelőlegezés visszafizetése MÁK | B36: =SUM(C36:J36) -> 13401715 | H36: 13401715
A37: TESZ közfoglalkoztatotti előleg Munkaügyi Központ | B37: =SUM(C37:J37) -> 8053000 | I37: 7337585 | J37: 715415
A38: TESZ város üzemeltetési feladatok | B38: =SUM(C38:J38) -> 24620921 | G38: 24620921
A39: ÖNK MTZ traktor felújítás | B39: =SUM(C39:J39) -> 1218768 | E39: 1218768
A42: Mindösszesen | B42: =SUM(B7:B41) -> 581687302 | C42: =SUM(C7:C41) -> 81212784 | D42: =SUM(D7:D41) -> 15016495 | E42: =SUM(E7:E41) -> 130193771 | F42: =SUM(F7:F41) -> 292285724 | G42: =SUM(G7:G41) -> 38595813 | H42: =SUM(H7:H41) -> 13401715 | I42: =SUM(I7:I41) -> 9787794 | J42: =SUM(J7:J41) -> 1193206
...

Sheet 2.d
B1: Berhida Város Önkormányzata | E1: 26. melléklet
B2: 2019. évi eredeti költségvetés | E2: 2/2019.(III.1.) rendelethez
C3: KIADÁSOK | E3: Ft-ban
A5: Sor- szám | B5: Rovat megnevezése | C5: Mód előirányzat összesen | D5: Önkormányzat | E5: Közös Hivatal | F5: TESZ | G5: Kultúrház | H5: Süni
A6: 27 | B6: Személyi juttatások (K1) | C6: =SUM(D6:H6) -> 415640146 | D6: 41882056 | E6: =141170324+'[1]4.b'!D50 -> 150120324 | F6: =90434440+'[1]4.b'!D29 -> 97236440 | G6: 28848552 | H6: 97552774
A7: 28 | B7: Munkaadókat terhelő járulékok és szociális hozzájárulási adó (K2) | C7: =SUM(D7:H7) -> 80216669 | D7: 8961021 | E7: =28404284+'[1]4.b'!E50 -> 30149534 | F7: =13174994+'[1]4.b'!E29 -> 14501384 | G7: 5691919 | H7: 20912811
A8: 87 | B8: Dologi kiadások (K3) | C8: =SUM(D8:H8) -> 476247898 | D8: 286305127 | E8: =34390846+'[1]4.b'!F50 -> 37542310 | F8: =68919710+'[1]4.b'!F29 -> 73379582 | G8: =36241176+'[1]4.b'!F17+'[1]4.b'!N117 -> 37154160 | H8: =41139424+'[1]4.b'!F7 -> 41866719
A9: 88 | B9: Családi támogatások (K42) | C9: =SUM(D9:H9) -> 0 | D9: =D10 -> 0 | E9: =E10 -> 0 | F9: =F10 -> 0 | G9: =G10 -> 0 | H9: =H10 -> 0
A10: 89 | B10: ebből: az egyéb pénzbeli és természetbeni gyermekvédelmi támogatások (K42132) | C10: =SUM(D10:H10) -> 0
A11: 90 | B11: Intézményi ellátottak pénzbeli juttatásai (K47) | C11: =SUM(D11:H11) -> 800000 | D11: =D12 -> 800000 | E11: =E12 -> 0 | F11: =F12 -> 0 | G11: =G12 -> 0 | H11: =H12 -> 0
A12: 91 | B12: ebből: oktatásban résztvevők pénzbeli juttatásai (K471) | C12: =SUM(D12:H12) -> 800000 | D12: 800000
A13: 92 | B13: Egyéb nem intézményi ellátások (K48) | C13: =SUM(D13:H13) -> 11000000 | D13: =SUM(D14:D15) -> 11000000 | E13: =SUM(E14:E15) -> 0 | F13: =SUM(F14:F15) -> 0 | G13: =SUM(G14:G15) -> 0 | H13: =SUM(H14:H15) -> 0
A14: 93 | B14: ebből: köztemetés [Szoctv. 48.§] (K48123) | C14: =SUM(D14:H14) -> 1000000 | D14: 1000000
A15: 94 | B15: ebből: települési támogatás [Szoctv. 45. §], (K48122) | C15: =SUM(D15:H15) -> 10000000 | D15: 10000000
A16: 96 | B16: Ellátottak pénzbeli juttatásai (K4) | C16: =SUM(D16:H16) -> 11800000 | D16: =D9+D11+D13 -> 11800000 | E16: =E9+E11+E13 -> 0 | F16: =F9+F11+F13 -> 0 | G16: =G9+G11+G13 -> 0 | H16: =H9+H11+H13 -> 0
A17: 97 | B17: Elvonások és befizetések (K5023) | C17: =SUM(D17:H17) -> 0
A18: 98 | B18: Egyéb működési célú támogatások államháztartáson belülre (K506) | C18: =SUM(D18:H18) -> 189775876 | D18: =SUM(D19:D22) -> 189775876 | E18: =SUM(E19:E22) -> 0 | F18: =SUM(F19:F22) -> 0 | G18: =SUM(G19:G22) -> 0 | H18: =SUM(H19:H22) -> 0
A19: 99 | B19: ebből: egyéb központi kezelésű előir (K50612) | C19: =SUM(D19:H19) -> 4500000 | D19: 4500000
A20: 100 | B20: ebből: elkülönített állami pénzalap (K50615) | C20: =SUM(D20:H20) -> 0
A21: 101 | B21: ebből: önkormányzatok és költségv-i szerveik K50616) | C21: =SUM(D21:H21) -> 0
A22: 102 | B22: ebből: társulások és költségvetési szerveik (K50617) | C22: =SUM(D22:H22) -> 185275876 | D22: 185275876
A23: 103 | B23: Egyéb működési célú támogatások államháztartáson kívülre (K512) | C23: =SUM(D23:H23) -> 20119600 | D23: 20119600
B24: Egyházi jogi személy egyé műk célú tám( K51216 | C24: =SUM(D24:H24) -> 0
A25: 104 | B25: Tartalékok (K51311) | C25: =SUM(D25:H25) -> 124648944 | D25: 124648944
A26: 105 | B26: Egyéb működési célú kiadások (K5) | C26: =SUM(D26:H26) -> 334544420 | D26: =D17+D18+D23+D24+D25 -> 334544420 | E26: =E17+E18+E23+E24+E25 -> 0 | F26: =F17+F18+F23+F24+F25 -> 0 | G26: =G17+G18+G23+G24+G25 -> 0 | H26: =H17+H18+H23+H24+H25 -> 0
A27: 106 | B27: Immateriális javak beszerzése, lét (K611) | C27: =SUM(D27:H27) -> 906200 | D27: 900000 | G27: 6200
A28: 107 | B28: Ingatlanok beszerzése, létesítése (K621) | C28: =SUM(D28:H28) -> 989159481 | D28: 989159481
A29: 108 | B29: Informatikai eszközök beszerzése, létesítése (K631) | C29: =SUM(D29:H29) -> 1067244 | D29: 47244 | E29: 1000000 | F29: 20000
A30: 109 | B30: Egyéb tárgyi eszközök beszerzése, létesítése (K641) | C30: =SUM(D30:H30) -> 34285918 | D30: 18538180 | E30: 3000000 | F30: 3568189 | G30: 8388921 | H30: 790628
A31: 110 | B31: Beruházási célú előzetesen felszámított általános forgalmi adó (K671) | C31: =SUM(D31:H31) -> 66991257 | D31: 62600674 | E31: 1080000 | F31: 968811 | G31: 2128303 | H31: 213469
A32: 111 | B32: Beruházások (K6) | C32: =SUM(D32:H32) -> 1092410100 | D32: =SUM(D27:D31) -> 1071245579 | E32: =SUM(E27:E31) -> 5080000 | F32: =SUM(F27:F31) -> 4557000 | G32: =SUM(G27:G31) -> 10523424 | H32: =SUM(H27:H31) -> 1004097
A33: 112 | B33: Ingatlanok felújítása (K711) | C33: =SUM(D33:H33) -> 129093205 | D33: 129093205
B34: Informatikai eszközök felújítása (K723) | C34: =SUM(D34:H34) -> 200000 | E34: 200000
A35: 113 | B35: Egyéb tárgyi eszközök felújítása (K731) | C35: =SUM(D35:H35) -> 2235723 | D35: 959660 | F35: 1276063
A36: 114 | B36: Felújítási célú előzetesen felszámított általános forgalmi adó (K741) | C36: =SUM(D36:H36) -> 35512809 | D36: 35114272 | E36: 54000 | F36: 344537
A37: 115 | B37: Felújítások (K7) | C37: =SUM(D37:H37) -> 167041737 | D37: =SUM(D33:D36) -> 165167137 | E37: =SUM(E33:E36) -> 254000 | F37: =SUM(F33:F36) -> 1620600 | G37: =SUM(G33:G36) -> 0 | H37: =SUM(H33:H36) -> 0
A38: 116 | B38: Egyéb felhalmozási célú támogatások államháztartáson belülre (K84) | C38: =SUM(D38:H38) -> 7516495 | D38: 7516495 | E38: =SUM(E39:E41) -> 0 | F38: =SUM(F39:F41) -> 0 | G38: =SUM(G39:G41) -> 0 | H38: =SUM(H39:H41) -> 0
A39: 119 | B39: Egyéb felhalmozási célú támogatás Áht-n kívülre (K89) | C39: =SUM(D39:H39) -> 16500000 | D39: =SUM(D40:D41) -> 16500000
A40: 118 | B40: ebből:önkormányzati többségi tulajdonú nem pénzügyi vállalkozások (K89122) | C40: =SUM(D40:H40) -> 7500000 | D40: 7500000
A41: 117 | B41: ebből: egyéb civil szervezeteknek | C41: =SUM(D41:H41) -> 9000000 | D41: 9000000
...

Sheet 3
D1: Berhida Város Önkormányzata | H1: 27. melléklet
C2: Költségvetési szervek engedélyezett létszám kerete | H2: 2/2019.(III.1.) rendelethez
E4: 2019. évi eredeti költségvetés
B5: A | C5: B | D5: C | E5: D | F5: E | G5: F | H5: G | I5: H
A6: 1 | B6: BEVÉTELI JOGCÍMEK | C6: Süni | D6: Kultúrház | E6: Műv.ház | F6: TESZ, közf. | G6: Köz Önk.Hiv. | H6: Önkormányzat | I6: ÖSSZESEN
A7: 2 | B7: Intézm.létszámkeret fő: | C7: 28 | D7: 5 | E7: 2.1 | F7: 13 | G7: 28.38 | H7: 12 | I7: =SUM(C7:H7) -> 88.48
A8: 3 | B8: + 6-8 órás közfoglalk létsz | F8: 120 | I8: =SUM(C8:H8) -> 120
A9: 4 | B9: LÉTSZÁMKERET összesen: | C9: =SUM(C7:C8) -> 28 | D9: =SUM(D7:D8) -> 5 | E9: =SUM(E7:E8) -> 2.1 | F9: =SUM(F7:F8) -> 133 | G9: =SUM(G7:G8) -> 28.38 | H9: =SUM(H7:H8) -> 12 | I9: =SUM(I7:I8) -> 208.48
B11: Önkormányzati létszámkeret | C11: a.) polgármester | F11: 1 | G11: fő
C12: b.) alpolgármester | F12: 1 | G12: fő
C13: c.) önkormányzati képviselők | F13: 7 | G13: fő
C14: d.) védőnők | F14: 3 | G14: fő
D15: Összesen: | F15: =SUM(F11:F14) -> 12 | G15: fő

Sheet 4.mell
C1: BERHIDA VÁROS ÖNKORMÁNYZATA | G1: 28. melléklet
D2: 2019.évi MÉRLEGTERV | G2: 2/2019.(III.1.) rendelethez
C3: a működési és felhalmozási célú bevételi és kiadási előirányzatokról | G3: adatok Ft-ban
B5: A | C5: B | D5: C | E5: D | F5: E | G5: F
A6: 1 | B6: BEVÉTELI TERV | E6: KIADÁSI TERV
A7: 2 | B7: I. | C7: Működési célú bevételi terv | E7: I. | F7: Működési célú kiadási terv
A8: 3 | B8: a.) | C8: Műk c támogatások áht belülről | D8: ='[1]25'!C20 -> 688153695 | E8: a.) | F8: Személyi juttatások | G8: ='[1]26'!C6 -> 415640146
A9: 4 | B9: b.) | C9: Közhatalmi bevételek | D9: ='[1]25'!C39 -> 345543000 | E9: b.) | F9: Munkaadókat t járulékok | G9: ='[1]26'!C7 -> 80216669
A10: 5 | B10: c.) | C10: Működési bevételek | D10: ='[1]25'!C61 -> 36595745 | E10: c.) | F10: Dologi kiadások | G10: ='[1]26'!C8 -> 476247898
A11: 6 | B11: d.) | C11: Működési átvett pénzeszközök | E11: d.) | F11: Ellátottak pénzbeli jutt | G11: ='[1]26'!C16 -> 11800000
A12: 7 | B12: e.) | E12: e.) | F12: Egyéb műk c kiadások | G12: ='[1]26'!C26 -> 334544420
A13: 8 | B13: f.) | E13: f.)
A14: 9 | E14: g.)
A15: 10
A16: 11 | C16: I. Bevételek: | D16: =SUM(D8:D15) -> 1070292440 | F16: I. Kiadások együtt: | G16: =SUM(G8:G14) -> 1318449133 | H16: =D16-G16 -> -248156693
A17: 12 | F17: Működési célú bevételek: | G17: =D16 -> 1070292440
A18: 13 | F18: Működési egyenleg: | G18: =G16-G17 -> 248156693
A19: 14
A20: 15 | B20: II. | C20: Felhalmozási célú bevételi terv | E20: II. | F20: Felhalmozási célú kiadások:
A21: 16 | B21: 1.) | C21: Felhalmozási c támog. Áht-n bel | D21: ='[1]25'!C28 -> 432801693 | E21: 1.) | F21: Beruházások | G21: ='[1]26'!C32 -> 1092410100
A22: 17 | B22: 2.) | C22: Felhalmozási bevételek | D22: ='[1]25'!C64 -> 11630306 | E22: 2.) | F22: Felújítások | G22: ='[1]26'!C37 -> 167041737
A23: 18 | B23: 3.) | C23: Egyéb felhalmozási c átvett pe | D23: ='[1]25'!C70 -> 120000 | E23: 3.) | F23: Egyéb felhalm c kiadások | G23: ='[1]26'!C42 -> 24016495
A24: 19 | B24: 4.) | E24: 4.)
A25: 20 | B25: 5.) | E25: 5.)
A26: 21 | B26: 6.)
A27: 22 | B27: 7.)
A28: 23 | B28: 8.)
A29: 24 | C29: II. Bevételek: | D29: =SUM(D21:D28) -> 444551999 | F29: II. Kiadások: | G29: =SUM(G21:G26) -> 1283468332 | H29: =D29-G29 -> -838916333
A30: 25 | F30: Felhalm.célú bevételek: | G30: =D29 -> 444551999
A31: 26 | F31: Felhalm. egyenleg: | G31: =G29-G30 -> 838916333
A32: 27
A33: 28 | C33: Bevételek összesen (I+II): | D33: =D16+D29 -> 1514844439 | F33: Kiadások összesen (I+II): | G33: =SUM(G16+G29) -> 2601917465 | H33: =D33-G33 -> -1087073026
C34: iránytószervi támogatás | D34: ='[1]25'!C75 -> 544902028 | F34: iránítószervi támogatás | G34: ='[1]26'!C45 -> 544902028 | H34: =D34+D35-G34-G35 -> 1087073026
C35: kv-i mararvány | D35: ='[1]25'!C73 -> 1100474741 | F35: Áht megelőleg visszafiz | G35: ='[1]26'!C44 -> 13401715
C36: Össz bevétel | D36: =SUM(D33:D35) -> 3160221208 | F36: Össz Kiadás | G36: =SUM(G33:G35) -> 3160221208

Sheet 5.mell.
B1: 2019 évi költségvetés
B2: Berhida Város Önkormányzata | C2: 29. melléklet
B3: Közösségi szolgáltatások támogatása | C3: 2/2019.(III.1.) rendelethez
B5: A | C5: B | D5: adatok Ft-ban
A6: 1 | B6: I.) Sporttámogatás működési célú | C6: 2019. Év
A7: 2
A8: 3
A9: 4 | B9: Sporttámogatás összesen működési célú: | C9: 2400000
A10: 5 | B10: II.) Egyéb támogatás összesen működési célú | C10: 3800000
A11: 6
A12: 7 | B12: III.) Polgárőrség Berhida | C12: 800000
A13: 8 | B13: Támogatások összesen működési célú: | C13: =SUM(C9+C10+C12) -> 7000000
B15: A támogatások összege a megállapodásokban foglaltak szerint használhatók fel.

Sheet 6.mell.
C1: Berhida Város Önkormányzata
C2: ellátottak pénzbeli juttatásai | F2: 6. melléklet
C3: 2019 évi költségvetés | F3: a 2/2019. (III.1 .) önkormányzati rendelethez
F4: adatok Ft-ban
B5: A | C5: B | D5: C | E5: D | F5: E | G5: F
B6: Szociális jogcímek | C6: átruházott hatáskört gyakorló | E6: Képvis.test.jogk. | F6: Jegyzői jogk. | G6: Összes
C7: polgármester | D7: Humán Biz. | G7: előirányzat
A8: 1 | B8: Pénzbeli ellátások összesen | C8: =SUM(C9:C19) -> 3100000 | D8: =SUM(D9:D19) -> 7900000 | E8: =SUM(E9:E19) -> 800000 | F8: =SUM(F9:F19) -> 0 | G8: =SUM(G9:G19) -> 11800000
A9: 2 | B9: Települési támogatás
A10: 3 | B10: Nem intézményi ell. Ebből célonként
A11: 4 | B11: Gyermekvéd.támog. | D11: 600000 | G11: =SUM(C11:F11) -> 600000
A12: 5 | B12: Lakhatási támog | D12: 6300000 | G12: =SUM(C12:F12) -> 6300000
A13: 6 | B13: Temetési segély | C13: 1500000 | G13: =SUM(C13:F13) -> 1500000
A14: 7 | B14: közgyógy ellátás helyi megáll | C14: 700000 | G14: =SUM(C14:F14) -> 700000
A15: 8 | B15: Átmeneti segély | D15: 1000000 | G15: =SUM(C15:F15) -> 1000000
A16: 9 | B16: Köztemetés | C16: 900000 | G16: =SUM(C16:F16) -> 900000
A17: 10 | B17: Intézményi ell., oktatásban részt vevők | G17: =SUM(C17:F17) -> 0
A18: 11 | B18: Arany János ösztöndíj | E18: 250000 | G18: =SUM(C18:F18) -> 250000
A19: 12 | B19: érettségire jelentkezők regisztrációs díja | E19: 550000 | G19: =SUM(C19:F19) -> 550000
B21: Dologi kiadás | G21: =SUM(G22:G23) -> 4068000
B22: Téli rezsicsökkentés pályázat | G22: 2544000
B23: szociális tüzifa juttatás | G23: 1524000
B24: Egyéb központi kezelésű tám
B25: Bursa hungarica felsőoktatási pály tám | G25: 3000000
B27: MMINDÖSSZESEN | G27: =G8+G21+G25 -> 18868000

Sheet 7 mell
B1: Berhida Város Önkormányzatának
B2: 2019 évi költségvetés
A3: Az önkormányzat által adott közvetett támogatások, kedvezmények
C4: 7. melléklet
C5: a 2/2019. (III.1.) önkormányzati rendelethez
C6: adatok ezer Ft-ban
A8: A | B8: B | C8: C | D8: D
A9: Sorszám | B9: Bevételi jogcím | C9: Kedvezmény nélkül | D9: Kedvezmények
C10: elérhető | D10: összege
C11: bevétel Ft | D11: Ft
A12: 1. | B12: 2. | C12: 3. | D12: 4.
A13: 1. | B13: házi gondozás térítési díj | C13: 4305880 | D13: 2719555
A14: 2. | B14: idősek nappali ell térítési díj | C14: 5910016 | D14: 5379559
A15: 3. | B15: szoc. étkeztetés térítési díj | C15: 6160940 | D15: 3795970
A16: 4.
A17: 5.
A18: 6.
A19: 7 | B19: Összesen: | C19: =SUM(C13:C18) -> 16376836 | D19: =SUM(D13:D18) -> 11895084

Sheet 8.sz.mell
C2: 2019 évi költségvetés | I2: 8. melléklet
C3: Berhida Város Önkormányzata | I3: a 2/2019. (III.1.) önkormányzati rendelethez
I4: adatok Ft-ban
A5: Több éves kihatással járó döntésekből származó kötelezettségek célok szerint, évenkénti bontásban
A6: Lejárat és eszközök szerinti bontásban (e/Ft-ban)
A8: A | B8: B | C8: C | D8: D | F8: E | G8: F | H8: G | I8: H | K8: I | L8: J
A9: Sorszám | C9: Kötelezett- | D9: Lejárat | F9: 2019
B10: Hitel jellege | C10: ségváll. | D10: éve | E10: összeg | F10: előtti | G10: 2019. | H10: 2020. | I10: 2021. | J10: 2022. | K10: 2022. után | L10: Összesen
C11: éve | F11: kifizetés
A12: 1 | B12: 2 | C12: 3 | D12: 4 | E12: 5 | F12: 6 | G12: 7 | H12: 8 | I12: 9 | K12: 10 | L12: 11
A13: 2 | B13: Működési célú
A14: 3
A15: 4
A16: 5
A17: 6
A18: 7 | B18: Felhalmozási célú
A19: 8 | B19: TOP 3.1.1-16 közlekedésfejlesztés (kerékpárút)pály | C19: 2018 | D19: 2020 | E19: 259822948 | F19: 3377108 | G19: =(E19-F19)/2 -> 128222920 | H19: 128222920 | L19: =SUM(F19:K19) -> 259822948
A20: 9 | B20: KEHOP 2.2.1-15-00005 szennyvíztisztítótelep pály | C20: 2018 | D20: 2020 | E20: 993974770 | F20: 2200000 | G20: =(E20-F20)/2 -> 495887385 | H20: 495887350 | L20: =SUM(F20:K20) -> 993974735
A21: 10 | B21: ÖNK VP6-7.2.1.4.1.3-17 közétkeztetés fejl. Süni eszközfejl.pály. | C21: 2018 | D21: 2019 | E21: 18925488 | G21: =E21 -> 18925488 | L21: =SUM(F21:K21) -> 18925488
A22: 11 | B22: ÖNK konyha épület felújítás Süni | C22: 2018 | D22: 2019 | E22: 33671602 | G22: =E22 -> 33671602 | L22: =SUM(F22:K22) -> 33671602
A23: 12 | B23: ÖNK orvosi rendelő felúj pályázat | C23: 2018 | D23: 2019 | E23: 69466000 | F23: 1826000 | G23: =E23-F23 -> 67640000 | L23: =SUM(F23:K23) -> 69466000
A24: 13 | B24: VP Külterületi utas pályázat | C24: 2018 | D24: 2020 | E24: 45985797 | G24: =(E24-F24)/2 -> 22992898 | H24: 22992898 | L24: =SUM(F24:K24) -> 45985796
A25: 14 | L25: =SUM(F25:K25) -> 0
A26: 15 | B26: Összesen: (1+6) | E26: =SUM(E19:E25) -> 1421846605 | F26: =SUM(F19:F25) -> 7403108 | G26: =SUM(G19:G25) -> 7.6734029e+08 | H26: =SUM(H19:H25) -> 647103168 | I26: =SUM(I19:I25) -> 0 | J26: =SUM(J19:J25) -> 0 | K26: =SUM(K19:K25) -> 0 | L26: =SUM(L19:L25) -> 1.4218466e+09

Sheet 9a
B1: Berhida Város Önkormányzata | F1: 30/a. melléklet
B2: 2019 évi költségvetés | F2: 2/2019.(III.1.) rendelethez
F3: Ft-ban
B4: KÖTELEZŐ FELADATOK | C4: BEVÉTELEK
A5: Sor- szám | B5: Rovat megnevezése | C5: Eredeti előirányzat összesen | D5: Önkormányzat | E5: Közös Hivatal | F5: TESZ | G5: Kultúrház | H5: Süni
A6: 1 | B6: Helyi önkormányzatok működésének általános támogatása (B1111) | C6: ='[1]25'!C6-'[1]30b'!C6-'[1]30.c'!C6 -> 121805723 | D6: ='[1]25'!D6-'[1]30b'!D6-'[1]30.c'!D6 -> 121805723 | E6: ='[1]25'!E6-'[1]30b'!E6-'[1]30.c'!E6 -> 0 | F6: ='[1]25'!F6-'[1]30b'!F6-'[1]30.c'!F6 -> 0 | G6: ='[1]25'!G6-'[1]30b'!G6-'[1]30.c'!G6 -> 0 | H6: ='[1]25'!H6-'[1]30b'!H6-'[1]30.c'!H6 -> 0
A7: 2 | B7: Települési önkormányzatok egyes köznevelési feladatainak támogatása (B112) | C7: ='[1]25'!C7-'[1]30b'!C7-'[1]30.c'!C7 -> 146632166 | D7: ='[1]25'!D7-'[1]30b'!D7-'[1]30.c'!D7 -> 146632166 | E7: ='[1]25'!E7-'[1]30b'!E7-'[1]30.c'!E7 -> 0 | F7: ='[1]25'!F7-'[1]30b'!F7-'[1]30.c'!F7 -> 0 | G7: ='[1]25'!G7-'[1]30b'!G7-'[1]30.c'!G7 -> 0 | H7: ='[1]25'!H7-'[1]30b'!H7-'[1]30.c'!H7 -> 0
A8: 3 | B8: Települési önkormányzatok szociális, gyermekjóléti és gyermekétkeztetési feladatainak támogatása (B113) | C8: ='[1]25'!C8-'[1]30b'!C8-'[1]30.c'!C8 -> 110689107 | D8: ='[1]25'!D8-'[1]30b'!D8-'[1]30.c'!D8 -> 110689107 | E8: ='[1]25'!E8-'[1]30b'!E8-'[1]30.c'!E8 -> 0 | F8: ='[1]25'!F8-'[1]30b'!F8-'[1]30.c'!F8 -> 0 | G8: ='[1]25'!G8-'[1]30b'!G8-'[1]30.c'!G8 -> 0 | H8: ='[1]25'!H8-'[1]30b'!H8-'[1]30.c'!H8 -> 0
A9: 4 | B9: Települési önkormányzatok kulturális feladatainak támogatása (B114) | C9: ='[1]25'!C9-'[1]30b'!C9-'[1]30.c'!C9 -> 7226120 | D9: ='[1]25'!D9-'[1]30b'!D9-'[1]30.c'!D9 -> 7226120 | E9: ='[1]25'!E9-'[1]30b'!E9-'[1]30.c'!E9 -> 0 | F9: ='[1]25'!F9-'[1]30b'!F9-'[1]30.c'!F9 -> 0 | G9: ='[1]25'!G9-'[1]30b'!G9-'[1]30.c'!G9 -> 0 | H9: ='[1]25'!H9-'[1]30b'!H9-'[1]30.c'!H9 -> 0
A10: 5 | B10: Működési célú költségvetési támogatások és kiegészítő támogatások (B115) | C10: ='[1]25'!C10-'[1]30b'!C10-'[1]30.c'!C10 -> 0 | D10: ='[1]25'!D10-'[1]30b'!D10-'[1]30.c'!D10 -> 0 | E10: ='[1]25'!E10-'[1]30b'!E10-'[1]30.c'!E10 -> 0 | F10: ='[1]25'!F10-'[1]30b'!F10-'[1]30.c'!F10 -> 0 | G10: ='[1]25'!G10-'[1]30b'!G10-'[1]30.c'!G10 -> 0 | H10: ='[1]25'!H10-'[1]30b'!H10-'[1]30.c'!H10 -> 0
A11: 6 | B11: Elszámolásból származó bevételek (B116) | C11: ='[1]25'!C11-'[1]30b'!C11-'[1]30.c'!C11 -> 0 | D11: ='[1]25'!D11-'[1]30b'!D11-'[1]30.c'!D11 -> 0 | E11: ='[1]25'!E11-'[1]30b'!E11-'[1]30.c'!E11 -> 0 | F11: ='[1]25'!F11-'[1]30b'!F11-'[1]30.c'!F11 -> 0 | G11: ='[1]25'!G11-'[1]30b'!G11-'[1]30.c'!G11 -> 0 | H11: ='[1]25'!H11-'[1]30b'!H11-'[1]30.c'!H11 -> 0
A12: 7 | B12: Önkormányzatok működési támogatásai (B11) | C12: ='[1]25'!C12-'[1]30b'!C12-'[1]30.c'!C12 -> 386353116 | D12: ='[1]25'!D12-'[1]30b'!D12-'[1]30.c'!D12 -> 386353116 | E12: ='[1]25'!E12-'[1]30b'!E12-'[1]30.c'!E12 -> 0 | F12: ='[1]25'!F12-'[1]30b'!F12-'[1]30.c'!F12 -> 0 | G12: ='[1]25'!G12-'[1]30b'!G12-'[1]30.c'!G12 -> 0 | H12: ='[1]25'!H12-'[1]30b'!H12-'[1]30.c'!H12 -> 0
A13: 8 | B13: Elvonások és befizetések bevételei B12 | C13: ='[1]25'!C13-'[1]30b'!C13-'[1]30.c'!C13 -> 0 | D13: ='[1]25'!D13-'[1]30b'!D13-'[1]30.c'!D13 -> 0 | E13: ='[1]25'!E13-'[1]30b'!E13-'[1]30.c'!E13 -> 0 | F13: ='[1]25'!F13-'[1]30b'!F13-'[1]30.c'!F13 -> 0 | G13: ='[1]25'!G13-'[1]30b'!G13-'[1]30.c'!G13 -> 0 | H13: ='[1]25'!H13-'[1]30b'!H13-'[1]30.c'!H13 -> 0
A14: 9 | B14: Egyéb működési célú támogatások bevételei államháztartáson belülről (B16) | C14: ='[1]25'!C14-'[1]30b'!C14-'[1]30.c'!C14 -> 301800579 | D14: ='[1]25'!D14-'[1]30b'!D14-'[1]30.c'!D14 -> 262817611 | E14: ='[1]25'!E14-'[1]30b'!E14-'[1]30.c'!E14 -> 0 | F14: ='[1]25'!F14-'[1]30b'!F14-'[1]30.c'!F14 -> 38982968 | G14: ='[1]25'!G14-'[1]30b'!G14-'[1]30.c'!G14 -> 0 | H14: ='[1]25'!H14-'[1]30b'!H14-'[1]30.c'!H14 -> 0
A15: 10 | B15: ebből: egyéb központi kezelésű előirányzatok (B1612 | C15: ='[1]25'!C15-'[1]30b'!C15-'[1]30.c'!C15 -> 20462596 | D15: ='[1]25'!D15-'[1]30b'!D15-'[1]30.c'!D15 -> 20462596 | E15: ='[1]25'!E15-'[1]30b'!E15-'[1]30.c'!E15 -> 0 | F15: ='[1]25'!F15-'[1]30b'!F15-'[1]30.c'!F15 -> 0 | G15: ='[1]25'!G15-'[1]30b'!G15-'[1]30.c'!G15 -> 0 | H15: ='[1]25'!H15-'[1]30b'!H15-'[1]30.c'!H15 -> 0
A16: 11 | B16: ebből: fejezeti kezelésű EU B16 | C16: ='[1]25'!C16-'[1]30b'!C16-'[1]30.c'!C16 -> 214984215 | D16: ='[1]25'!D16-'[1]30b'!D16-'[1]30.c'!D16 -> 214984215 | E16: ='[1]25'!E16-'[1]30b'!E16-'[1]30.c'!E16 -> 0 | F16: ='[1]25'!F16-'[1]30b'!F16-'[1]30.c'!F16 -> 0 | G16: ='[1]25'!G16-'[1]30b'!G16-'[1]30.c'!G16 -> 0 | H16: ='[1]25'!H16-'[1]30b'!H16-'[1]30.c'!H16 -> 0
A17: 12 | B17: ebből: társadalombiztosítás pénzügyi alapjai (B1614 | C17: ='[1]25'!C17-'[1]30b'!C17-'[1]30.c'!C17 -> 27370800 | D17: ='[1]25'!D17-'[1]30b'!D17-'[1]30.c'!D17 -> 27370800 | E17: ='[1]25'!E17-'[1]30b'!E17-'[1]30.c'!E17 -> 0 | F17: ='[1]25'!F17-'[1]30b'!F17-'[1]30.c'!F17 -> 0 | G17: ='[1]25'!G17-'[1]30b'!G17-'[1]30.c'!G17 -> 0 | H17: ='[1]25'!H17-'[1]30b'!H17-'[1]30.c'!H17 -> 0
... A78: 73 | B78: MINDÖSSZESEN: | C78: ='[1]25'!C78-'[1]30b'!C78-'[1]30.c'!C78 -> 3103807080 | D78: ='[1]25'!D78-'[1]30b'!D78-'[1]30.c'!D78 -> 2462537164 | E78: ='[1]25'!E78-'[1]30b'!E78-'[1]30.c'!E78 -> 214974129 | F78: ='[1]25'!F78-'[1]30b'!F78-'[1]30.c'!F78 -> 186791906 | G78: ='[1]25'!G78-'[1]30b'!G78-'[1]30.c'!G78 -> 78167480 | H78: ='[1]25'!H78-'[1]30b'!H78-'[1]30.c'!H78 -> 161336401
A79: 74 | B79: Személyi juttatások (K1) | C79: ='[1]26'!C6-'[1]30b'!C79-'[1]30.c'!C79 -> 405925850 | D79: ='[1]26'!D6-'[1]30b'!D79-'[1]30.c'!D79 -> 41882056 | E79: ='[1]26'!E6-'[1]30b'!E79-'[1]30.c'!E79 -> 143319128 | F79: ='[1]26'!F6-'[1]30b'!F79-'[1]30.c'!F79 -> 97236440 | G79: ='[1]26'!G6-'[1]30b'!G79-'[1]30.c'!G79 -> 25935452 | H79: ='[1]26'!H6-'[1]30b'!H79-'[1]30.c'!H79 -> 97552774
A80: 75 | B80: Munkaadókat terhelő járulékok és szociális hozzájárulási adó (K2) | C80: ='[1]26'!C7-'[1]30b'!C80-'[1]30.c'!C80 -> 78274771 | D80: ='[1]26'!D7-'[1]30b'!D80-'[1]30.c'!D80 -> 8961021 | E80: ='[1]26'!E7-'[1]30b'!E80-'[1]30.c'!E80 -> 28778691 | F80: ='[1]26'!F7-'[1]30b'!F80-'[1]30.c'!F80 -> 14501384 | G80: ='[1]26'!G7-'[1]30b'!G80-'[1]30.c'!G80 -> 5120864 | H80: ='[1]26'!H7-'[1]30b'!H80-'[1]30.c'!H80 -> 20912811
A81: 76 | B81: Dologi kiadások (K3) | C81: ='[1]26'!C8-'[1]30b'!C81-'[1]30.c'!C81 -> 456547178 | D81: ='[1]26'!D8-'[1]30b'!D81-'[1]30.c'!D81 -> 271673927 | E81: ='[1]26'!E8-'[1]30b'!E81-'[1]30.c'!E81 -> 37542310 | F81: ='[1]26'!F8-'[1]30b'!F81-'[1]30.c'!F81 -> 68876482 | G81: ='[1]26'!G8-'[1]30b'!G81-'[1]30.c'!G81 -> 36587740 | H81: ='[1]26'!H8-'[1]30b'!H81-'[1]30.c'!H81 -> 41866719
A82: 77 | B82: Családi támogatások (K42) | C82: ='[1]26'!C9-'[1]30b'!C82-'[1]30.c'!C82 -> 0 | D82: ='[1]26'!D9-'[1]30b'!D82-'[1]30.c'!D82 -> 0 | E82: ='[1]26'!E9-'[1]30b'!E82-'[1]30.c'!E82 -> 0 | F82: ='[1]26'!F9-'[1]30b'!F82-'[1]30.c'!F82 -> 0 | G82: ='[1]26'!G9-'[1]30b'!G82-'[1]30.c'!G82 -> 0 | H82: ='[1]26'!H9-'[1]30b'!H82-'[1]30.c'!H82 -> 0
A83: 78 | B83: ebből: az egyéb pénzbeli és természetbeni gyermekvédelmi támogatások (K42132) | C83: ='[1]26'!C10-'[1]30b'!C83-'[1]30.c'!C83 -> 0 | D83: ='[1]26'!D10-'[1]30b'!D83-'[1]30.c'!D83 -> 0 | E83: ='[1]26'!E10-'[1]30b'!E83-'[1]30.c'!E83 -> 0 | F83: ='[1]26'!F10-'[1]30b'!F83-'[1]30.c'!F83 -> 0 | G83: ='[1]26'!G10-'[1]30b'!G83-'[1]30.c'!G83 -> 0 | H83: ='[1]26'!H10-'[1]30b'!H83-'[1]30.c'!H83 -> 0
A84: 79 | B84: Intézményi ellátottak pénzbeli juttatásai (K47) | C84: ='[1]26'!C11-'[1]30b'!C84-'[1]30.c'!C84 -> 800000 | D84: ='[1]26'!D11-'[1]30b'!D84-'[1]30.c'!D84 -> 800000 | E84: ='[1]26'!E11-'[1]30b'!E84-'[1]30.c'!E84 -> 0 | F84: ='[1]26'!F11-'[1]30b'!F84-'[1]30.c'!F84 -> 0 | G84: ='[1]26'!G11-'[1]30b'!G84-'[1]30.c'!G84 -> 0 | H84: ='[1]26'!H11-'[1]30b'!H84-'[1]30.c'!H84 -> 0
A85: 80 | B85: ebből: oktatásban résztvevők pénzbeli juttatásai (K471) | C85: ='[1]26'!C12-'[1]30b'!C85-'[1]30.c'!C85 -> 800000 | D85: ='[1]26'!D12-'[1]30b'!D85-'[1]30.c'!D85 -> 800000 | E85: ='[1]26'!E12-'[1]30b'!E85-'[1]30.c'!E85 -> 0 | F85: ='[1]26'!F12-'[1]30b'!F85-'[1]30.c'!F85 -> 0 | G85: ='[1]26'!G12-'[1]30b'!G85-'[1]30.c'!G85 -> 0 | H85: ='[1]26'!H12-'[1]30b'!H85-'[1]30.c'!H85 -> 0
A86: 81 | B86: Egyéb nem intézményi ellátások (K48) | C86: ='[1]26'!C13-'[1]30b'!C86-'[1]30.c'!C86 -> 11000000 | D86: ='[1]26'!D13-'[1]30b'!D86-'[1]30.c'!D86 -> 11000000 | E86: ='[1]26'!E13-'[1]30b'!E86-'[1]30.c'!E86 -> 0 | F86: ='[1]26'!F13-'[1]30b'!F86-'[1]30.c'!F86 -> 0 | G86: ='[1]26'!G13-'[1]30b'!G86-'[1]30.c'!G86 -> 0 | H86: ='[1]26'!H13-'[1]30b'!H86-'[1]30.c'!H86 -> 0
A87: 82 | B87: ebből: köztemetés [Szoctv. 48.§] (K48123) | C87: ='[1]26'!C14-'[1]30b'!C87-'[1]30.c'!C87 -> 1000000 | D87: ='[1]26'!D14-'[1]30b'!D87-'[1]30.c'!D87 -> 1000000 | E87: ='[1]26'!E14-'[1]30b'!E87-'[1]30.c'!E87 -> 0 | F87: ='[1]26'!F14-'[1]30b'!F87-'[1]30.c'!F87 -> 0 | G87: ='[1]26'!G14-'[1]30b'!G87-'[1]30.c'!G87 -> 0 | H87: ='[1]26'!H14-'[1]30b'!H87-'[1]30.c'!H87 -> 0
A88: 83 | B88: ebből: települési támogatás [Szoctv. 45. §], (K48122) | C88: ='[1]26'!C15-'[1]30b'!C88-'[1]30.c'!C88 -> 10000000 | D88: ='[1]26'!D15-'[1]30b'!D88-'[1]30.c'!D88 -> 10000000 | E88: ='[1]26'!E15-'[1]30b'!E88-'[1]30.c'!E88 -> 0 | F88: ='[1]26'!F15-'[1]30b'!F88-'[1]30.c'!F88 -> 0 | G88: ='[1]26'!G15-'[1]30b'!G88-'[1]30.c'!G88 -> 0 | H88: ='[1]26'!H15-'[1]30b'!H88-'[1]30.c'!H88 -> 0
