Workbook

Sheet Önkorm bevételek
A1: Csajág Község Önkormányzata és az óvoda 2019. évi tervezett bevételei (Ft)
A5: Csajág Község Önkormányzata
A7: ÖNK. KÖLTSÉGVETÉSI TÁMOGATÁSA (EBR 42-ből) | C7: 2018. telj. | D7: 2019. terv.
B8: I.A helyi önk. működésének ált. támogatása | C8: =SUM(C9:C16) -> 10121968 | D8: =SUM(D9:D16) -> 11608803
B9: I.I.ba-V. Zöldterület gazdálkodás | C9: 2689380 | D9: 2689380
B10: I.I.bb-V. Közvilágítás | C10: 2848000 | D10: 2848000
B11: I.I.bc-V. Köztemető | C11: 102600 | D11: 0
B12: I.I.bd-V. Közutak fenntartása | C12: 1906800 | D12: 1906800
B13: I.I.c) Egyéb önkormányzati feladatok támogatása | C13: 1364746 | D13: 3026273
B14: I.I.d) Lakott külterületi tám. | C14: 20400 | D14: 17850
B15: I. 5. Bérkompenzáció | C15: 19642
B16: I.6. Polgármesteri illetmény támogatása | C16: 1170400 | D16: 1120500
B17: II. Köznevelési feladatok tám. | C17: =SUM(C18:C21) -> 36665934 | D17: =SUM(D18:D21) -> 34869100
B18: II.1. Óvodapedapedagógusok és közvetlen segítők bértámogatása | C18: =16203000+4410000+7659600+1470000 -> 29742600 | D18: =14571667+2940000+7285833+1470000 -> 26267500
B19: II.2. Óvodaműködtetési támogatás | C19: =2832267+1525067 -> 4357334 | D19: =3441467+1720733 -> 5162200
B20: II.3. Óvodások utazási támogatása | C20: =1008000+756000 -> 1764000 | D20: 2646000
B21: II.4. Ped.II. támogatása | C21: =802000 -> 802000 | D21: 793400
B22: III. Szociális, gyermekjóléti és gyermekétkeztetési tám. | C22: =SUM(C23:C30) -> 19251920 | D22: =SUM(D23:D30) -> 28082436
B23: III.2. Egyéb szociális feladatok támogatása | C23: 2936000 | D23: 5433000
B24: III.3.c) Szociális étkeztetés | C24: 1439360 | D24: 1384000
B25: III.3.ja) Bölcsőde támogatása
B26: III.5. aa) Gyermekétkeztetési dolgozók bértámogatása | C26: 4256000 | D26: =5187000 -> 5187000
B27: III.5. ab) Gyermekétkeztetés üzemeltetési támogatása | C27: 8084292 | D27: 9652386
B28: III.5 b) Szünidei gyermekétkeztetés támogatása | C28: 2168 | D28: 94050
B29: III.6.a) Bölcsődei dolgozók bértámogatása | C29: 2095100 | D29: 5986000
B30: III.6.b) Bölcsőde üzemeltetési támogatása | C30: 439000 | D30: 346000
B31: IV.I.d) Könyvtári és közművelődési támogatás | C31: 1800000 | D31: 1800000
C32: =C8+C17+C22+C31 -> 67839822 | D32: =D8+D17+D22+D31 -> 76360339
A33: MŰKÖDÉSI CÉLÚ TÁMOGATÁSOK ÁH-N BELÜLRŐL
B34: OEP támogatás | C34: ='Fõkönyvi kivonat'!D313 -> 18635300 | D34: =C34 -> 18635300
C35: =SUM(C34) -> 18635300 | D35: =SUM(D34) -> 18635300
A36: HELYI ADÓK, ÁTENGEDETT KÖZPONTI ADÓK
B37: Kommunális adó | C37: ='Fõkönyvi kivonat'!D318 -> 4140075 | D37: =C37 -> 4140075
B38: Iparűzési adó | C38: ='Fõkönyvi kivonat'!D319 -> 25025677 | D38: 22835000
B39: Késedelmi- és önellenőrzési pótlék | C39: ='Fõkönyvi kivonat'!D322+'Fõkönyvi kivonat'!D323 -> 11600 | D39: =C39 -> 11600
B40: Egyéb közhatalmi bevételek | C40: 161378 | D40: =C40 -> 161378
B41: Gépjárműadó 40%-a | C41: ='Fõkönyvi kivonat'!D320 -> 1520301 | D41: =C41 -> 1520301
C42: =SUM(C37:C41) -> 30859031 | D42: =SUM(D37:D41) -> 28668354
A43: MŰKÖDÉSI BEVÉTELEK
B44: Bérleti díjak | C44: ='Fõkönyvi kivonat'!D326 -> 1450000 | D44: =C44 -> 1450000
...

Sheet Bérek
A1: Személyi jellegű juttatások 2019.
A3: Szocho | B3: 0.195 | C3: 0.195
A5: ÓVODA | B5: 2018.dec. | C5: 2019.1.-11. | D5: 2019.
A7: Fazekas Gabriella | B7: 212541 | C7: 219200 | D7: =B7+(C7*11) -> 2623741 | E7: 1.
A8: Németh Noémi | B8: 247964 | C8: 255800 | D8: =B8+(C8*11) -> 3061764 | E8: 2.
A9: Szatmáriné Szabó Ildikó | B9: 198550 | C9: 214500 | D9: =B9+(C9*11) -> 2558050 | E9: 3.
A10: Polákné Tiringer Katalin | B10: 400747 | C10: 411000 | D10: =B10+(C10*11) -> 4921747 | E10: 4.
A11: Pap Adrienn | B11: 198002 | C11: 245839 | D11: =B11+(C11*11) -> 2902231 | E11: 5.
A12: Verebélyi-Szolga Gabriella | B12: 198550 | C12: 214500 | D12: =B12+(C12*11) -> 2558050 | E12: 6.
A13: Somogyi Lászlóné | B13: 327700 | C13: 365121 | D13: =B13+(C13*11) -> 4344031 | E13: 7.
A14: Pekker Mónika | B14: 310000 | C14: 319700 | D14: =B14+(C14*11) -> 3826700 | E14: 8.
A15: Fábián Edina | B15: 180500 | C15: 214500 | D15: =B15+(C15*11) -> 2540000 | E15: 9.
A16: Varga Jánosné | B16: 148000 | C16: 165000 | D16: =B16+(C16*11) -> 1963000 | E16: 10.
A17: Fuchs Irma | B17: 160000 | C17: 180000 | D17: =B17+(C17*11) -> 2140000 | E17: 11.
A18: Varga András | B18: 180500 | C18: 195000 | D18: =B18+(C18*11) -> 2325500 | E18: 12.
... A20: Verbó Zsuzsanna | B20: 149000 | C20: 149000 | D20: =B20+(C20*11) -> 1788000 | E20: 14.
A21: Összesen | B21: =SUM(B7:B20) -> 3152054 | C21: =SUM(C7:C20) -> 3389160 | D21: =SUM(D7:D18) -> 35764814
A23: Szociális hozzájárulási adó | D23: =D21*C3 -> 6974138.7
A25: Cafeteria 14 fő/10.000 Ft/ hó | C25: 10000 | D25: =C25*12*14 -> 1680000
A27: EHO | B27: 0.14 | D27: =D25*1.18*B27 -> 277536
A28: Munkáltatói SZJA | B28: 0.15 | D28: =D25*1.18*B28 -> 297360
D29: =SUM(D25:D28) -> 2254896
A31: ÖNKORMÁNYZAT
A33: Verebélyi Zoltán | B33: 398900 | C33: 398900 | D33: =B33+C33*11 -> 4786800
A34: Vadas Imréné | B34: 138000 | C34: 149000 | D34: =B34+C34*11 -> 1777000
A35: Óbíróné Karácsony Ágnes | B35: 285495 | C35: 299995 | D35: =B35+C35*11 -> 3585440
A36: Új alkalmazott | D36: 2510460
A37: Szolga Balázsné | B37: 212000 | C37: 226500 | D37: =B37+C37*11 -> 2703500
A38: Képviselői tiszteletdíjak | B38: 34000 | C38: 34000 | D38: =B38+C38*11 -> 408000
B39: =SUM(B33:B38) -> 1068395 | C39: =SUM(C33:C38) -> 1108395 | D39: =SUM(D33:D38) -> 15771200
A41: Szociális hozzájárulási adó | D41: =D39*C3 -> 3075384
A43: Cafeteria | C43: 148700 | D43: =C43*5 -> 743500
A45: SZOCHO | B45: 0.195 | D45: =D43*B45 -> 144982.5
A46: Munkáltatói SZJA | B46: 0.15 | D46: =D43*B46 -> 111525
D47: =SUM(D45:D46) -> 256507.5
A49: Könyvtár
A50: Takács Titanilla | B50: 30000 | C50: 34000 | D50: =B50+C50*11 -> 404000
A52: Szociális hozzájárulási adó | D52: =D50*C3 -> 78780
A54: Egyéb megbízási díjak
A55: Erdész éves díja | C55: 60000 | D55: 60000
...

Sheet Fõkönyvi kivonat
A1: Készült a ASP.GAZD KASZPER modul (ver. 5.035) programmal
A2: Intézmény kódja és megnevezése: | B2: 428985
A3: Fõkönyvi kivonat dátuma: | B3: 2018-12-31
A4: Ei.kód: | B4: Összes
A5: Nyomtatás dátuma: | B5: 2019-02-20 08:52:59
A6: Nyomtatta: | B6: Horváth Renáta
A7: Zárási és nyitási tételek: | B7: Nem
A8: Költségfelosztás tétel: | B8: Nem
A9: 8-ra átvezetés tételei: | B9: Nem
A10: Részletezõkódok: | B10: Minden
A11: Projektkódok:
A13: KÖLTSÉGVETÉSI NYILVÁNTARTÁSI ELLENSZÁMLÁK
C14: T | D14: K
C15: EGYENLEG
C16: 0 | D16: 0
A17: 001111 | B17: Alaptevékenység eredeti kiadási elõirányzatainak nyilvántartási ellenszámlája | C17: 0 | D17: 135970874
A18: 001121 | B18: Alaptevékenység évközi kiadási elõirányzat módosítás nyilvántartási ellenszámlája | C18: 0 | D18: 35724662
A19: 001211 | B19: Alaptevékenység eredeti bevételi elõirányzatainak nyilvántartási ellenszámlája | C19: 135970874 | D19: 0
A20: 001221 | B20: Alaptevékenység évközi bevételi elõirányzat módosítás nyilvántartási ellenszámlája | C20: 35724662 | D20: 0
A21: 001* | C21: 0 | D21: 0
A22: 0021 | B22: Költségvetési évben esedékes kötelezettségvállalás, más fizetési kötelezettség nyilvántartási ellenszámla | C22: 9810237 | D22: 0
A23: 0022 | B23: Költségvetési évben esedékes végleges kötelezettségvállalás, más fizetési kötelezettség nyilvántartási ellenszámla | C23: 157602559 | D23: 0
A24: 0023 | B24: Költségvetési évet követõen esedékes kötelezettségvállalás, más fizetési kötelezettség nyilvántartási ellenszámla | C24: 91681600 | D24: 0
A25: 0024 | B25: Költségvetési évet követõen esedékes végleges kötelezettségvállalás, más fizetési kötelezettség nyilvántartási ellenszámla | C25: 0 | D25: 0
A26: 002* | C26: 259094396 | D26: 0
A27: 003011130 | B27: Kiadások nyilvántartási ellenszámla - Önkormányzatok és önkormányzati hivatalok jogalkotó és általános igazgatási tevékenysége | C27: 0 | D27: 69558603
A28: 003013320 | B28: Kiadások nyilvántartási ellenszámla - Köztemetõ-fenntartás és -mûködtetés | C28: 0 | D28: 15781
A29: 003013350 | B29: Kiadások nyilvántartási ellenszámla - Az önkormányzati vagyonnal való gazdálkodással kapcsolatos feladatok | C29: 0 | D29: 2608033
A30: 003016080 | B30: Kiadások nyilvántartási ellenszámla - Kiemelt állami és önkormányzati rendezvények | C30: 0 | D30: 1330942
A31: 003018010 | B31: Kiadások nyilvántartási ellenszámla - Önkormányzatok elszámolásai a központi költségvetéssel | C31: 0 | D31: 5661642
A32: 003018030 | B32: Kiadások nyilvántartási ellenszámla - Támogatási célú finanszírozási mûveletek | C32: 0 | D32: 21415985
A33: 003041233 | B33: Kiadások nyilvántartási ellenszámla - Hosszabb idõtartamú közfoglalkoztatás | C33: 0 | D33: 5678288
A34: 003045160 | B34: Kiadások nyilvántartási ellenszámla - Közutak, hidak, alagutak üzemeltetése, fenntartása | C34: 0 | D34: 2884613
A35: 003064010 | B35: Kiadások nyilvántartási ellenszámla - Közvilágítás | C35: 0 | D35: 3772319
A36: 003066010 | B36: Kiadások nyilvántartási ellenszámla - Zöldterület-kezelés | C36: 0 | D36: 1224830
A37: 003066020 | B37: Kiadások nyilvántartási ellenszámla - Város-, községgazdálkodási egyéb szolgáltatások | C37: 0 | D37: 6417280
A38: 003072111 | B38: Kiadások nyilvántartási ellenszámla - Háziorvosi alapellátás | C38: 0 | D38: 16193399
... A52: 003107060 | B52: Kiadások nyilvántartási ellenszámla - Egyéb szociális pénzbeli és természetbeni ellátások, támogatások | C52: 0 | D52: 3801480
A53: 003* | C53: 0 | D53: 153741301
A54: 0041 | B54: Költségvetési évben esedékes követelés nyilvántartási ellenszámla | C54: 0 | D54: 186214244
...

Sheet Kiemelt EI.
A1: 1. | B1: melléklet a 2/2019. (II.27.) önkormányzati rendelethez
B2: Az önkormányzat 2019. évi költségvetése
B3: Az egységes rovatrend szerinti kiemelt kiadási- és bevételi jogcímek
B4: adatok: Ft
B6: K1. Személyi juttatások | C6: ='Kiadások ÖNK'!D25 -> 24351400
B7: K2. Munkaadókat terhelő járulékok és szociális hozzájárulási adó | C7: ='Kiadások ÖNK'!D26 -> 4925472
B8: K3. Dologi kiadások | C8: ='Kiadások ÖNK'!D51 -> 43641974
B9: K4. Ellátottak pénzbeli juttatásai | C9: ='Kiadások ÖNK'!D60 -> 3631500
B10: K5. Egyéb működési célú kiadások | C10: ='Kiadások ÖNK'!D74 -> 74584038
B11: K6. Beruházási kiadások | C11: ='Kiadások ÖNK'!D83 -> 15013936
B12: K7. Felújítások | C12: ='Kiadások ÖNK'!D88 -> 20599999
B13: K8. Egyéb felhalmozási célú kiadások | C13: ='Kiadások ÖNK'!D97 -> 4000000
B14: K1-8. Költségvetési kiadások | C14: =SUM(C6:C13) -> 190748319
B15: K9. Finanszírozási kiadások | C15: ='Kiadások ÖNK'!D122 -> 4454857
B16: KIADÁSOK ÖSSZESEN (K1-9) | C16: =C14+C15 -> 195203176
B17: B1. Működési célú támogatások államháztartáson belülről | C17: ='Bevételek ÖNK'!D19 -> 96528999
B18: B2. Felhalmozási célú támogatások államháztartáson belülről | C18: 32796296
B19: B3. Közhatalmi bevételek | C19: ='Bevételek ÖNK'!D36 -> 28668279
B20: B4. Működési bevételek | C20: ='Bevételek ÖNK'!D47 -> 2490999
B21: B5. Felhalmozási bevételek | C21: ='Bevételek ÖNK'!D64 -> 2000000
B22: B6. Működési célú átvett pénzeszközök | C22: ='Bevételek ÖNK'!D51 -> 0
B23: B7. Felhalmozási célú átvett pénzeszközök | C23: ='Bevételek ÖNK'!D68 -> 0
B24: B1-7. Költségvetési bevételek | C24: =SUM(C17:C23) -> 162484573
B25: B8. Finanszírozási bevételek | C25: ='Bevételek ÖNK'!D99 -> 32718603
B26: BEVÉTELEK ÖSSZESEN (B1-8) | C26: =C24+C25 -> 195203176

Sheet Kiadások ÖNK
A1: 2. | B1: ='Kiemelt EI.'!B1 -> melléklet a 2/2019. (II.27.) önkormányzati rendelethez
B2: ='Kiemelt EI.'!B2:C2 -> Az önkormányzat 2019. évi költségvetése
B3: Kiadások (Ft)
B5: ÖNKORMÁNYZATI ELŐIRÁNYZATOK
B6: Rovat megnevezése | C6: Rovat-szám | D6: kötelező feladatok | E6: önként vállalt feladatok | F6: államigazgatási feladatok | G6: ÖSSZESEN
B7: Törvény szerinti illetmények, munkabérek | C7: K1101 | D7: 17457537 | G7: =SUM(D7:F7) -> 17457537
B8: Normatív jutalmak | C8: K1102 | G8: =SUM(D8:F8) -> 0
B9: Céljuttatás, projektprémium | C9: K1103 | D9: 90000 | G9: =SUM(D9:F9) -> 90000
B10: Készenléti, ügyeleti, helyettesítési díj, túlóra, túlszolgálat | C10: K1104 | G10: =SUM(D10:F10) -> 0
B11: Végkielégítés | C11: K1105 | G11: =SUM(D11:F11) -> 0
B12: Jubileumi jutalom | C12: K1106 | G12: =SUM(D12:F12) -> 0
B13: Béren kívüli juttatások | C13: K1107 | D13: 504800 | G13: =SUM(D13:F13) -> 504800
B14: Ruházati költségtérítés | C14: K1108 | G14: =SUM(D14:F14) -> 0
B15: Közlekedési költségtérítés | C15: K1109 | D15: 154890 | G15: =SUM(D15:F15) -> 154890
B16: Egyéb költségtérítések | C16: K1110 | G16: =SUM(D16:F16) -> 0
B17: Lakhatási támogatások | C17: K1111 | G17: =SUM(D17:F17) -> 0
B18: Szociális támogatások | C18: K1112 | G18: =SUM(D18:F18) -> 0
B19: Foglalkoztatottak egyéb személyi juttatásai | C19: K1113 | D19: 142675 | G19: =SUM(D19:F19) -> 142675
B20: Foglalkoztatottak személyi juttatásai | C20: K11 | D20: =SUM(D7:D19) -> 18349902 | G20: =SUM(D20:F20) -> 18349902
B21: Választott tisztségviselők juttatásai | C21: K121 | D21: =Bérek!D33+Bérek!D38+Bérek!C43 -> 5343500 | G21: =SUM(D21:F21) -> 5343500
B22: Munkavégzésre irányuló egyéb jogviszonyban nem saját foglalkoztatottnak fizetett juttatások | C22: K122 | D22: 635498 | G22: =SUM(D22:F22) -> 635498
B23: Egyéb külső személyi juttatások | C23: K123 | D23: 22500 | G23: =SUM(D23:F23) -> 22500
B24: Külső személyi juttatások | C24: K12 | D24: =SUM(D21:D23) -> 6001498 | G24: =SUM(D24:F24) -> 6001498
B25: Személyi juttatások | C25: K1 | D25: =D20+D24 -> 24351400 | G25: =SUM(D25:F25) -> 24351400
B26: Munkaadókat terhelő járulékok és szociális hozzájárulási adó | C26: K2 | D26: 4925472 | G26: =SUM(D26:F26) -> 4925472
B27: Szakmai anyagok beszerzése | C27: K311 | D27: ='Fõkönyvi kivonat'!C259 -> 108373 | G27: =SUM(D27:F27) -> 108373
B28: Üzemeltetési anyagok beszerzése | C28: K312 | D28: 3026726 | G28: =SUM(D28:F28) -> 3026726
B29: Áubeszerzés | C29: K313 | D29: 21572 | G29: =SUM(D29:F29) -> 21572
B30: Készletbeszerzés | C30: K31 | D30: =SUM(D27:D29) -> 3156671 | G30: =SUM(D30:F30) -> 3156671
B31: Informatikai szolgáltatások igénybevétele | C31: K321 | D31: 1234933 | G31: =SUM(D31:F31) -> 1234933
B32: Egyéb kommunikációs szolgáltatások | C32: K322 | D32: 283986 | G32: =SUM(D32:F32) -> 283986
B33: Kommunikációs szolgáltatások | C33: K32 | D33: =SUM(D31:D32) -> 1518919 | G33: =SUM(D33:F33) -> 1518919
B34: Közüzemi díjak | C34: K331 | D34: 4616054 | G34: =SUM(D34:F34) -> 4616054
B35: Vásárolt élelmezés | C35: K332 | D35: 246316 | G35: =SUM(D35:F35) -> 246316
B36: Bérleti és lízing díjak | C36: K333 | D36: ='Fõkönyvi kivonat'!C265 -> 319463 | G36: =SUM(D36:F36) -> 319463
B37: Karbantartási, kisjavítási szolgáltatások | C37: K334 | D37: 2500000 | G37: =SUM(D37:F37) -> 2500000
B38: Közvetített szolgáltatások | C38: K335 | D38: 718622 | G38: =SUM(D38:F38) -> 718622
B39: Szakmai tevékenységet segítő szolgáltatások | C39: K336 | D39: 13632505 | G39: 11406460
B40: Egyéb szolgáltatások | C40: K337 | D40: 10879041 | G40: 3554974
B41: Szolgáltatási kiadások | C41: K33 | D41: =SUM(D34:D40) -> 32912001 | G41: =SUM(D41:F41) -> 32912001
...

Sheet Bevételek ÖNK
A1: 3. | B1: ='Kiemelt EI.'!B1 -> melléklet a 2/2019. (II.27.) önkormányzati rendelethez
B2: ='Kiemelt EI.'!B2:C2 -> Az önkormányzat 2019. évi költségvetése
B3: Bevételek (Ft)
B5: ÖNKORMÁNYZATI ELŐIRÁNYZATOK
B6: Rovat megnevezése | C6: Rovat- szám | D6: kötelező feladatok | E6: önként vállalt feladatok | F6: államigazgatási feladatok | G6: ÖSSZESEN
B7: Helyi önkormányzatok működésének általános támogatása | C7: B111 | D7: ='Önkorm bevételek'!D8 -> 11608803 | G7: =SUM(D7:F7) -> 11608803
B8: Települési önkormányzatok egyes köznevelési feladatainak támogatása | C8: B112 | D8: ='Önkorm bevételek'!D17 -> 34869100 | G8: =SUM(D8:F8) -> 34869100
B9: Települési önkormányzatok szociális és gyermekjóléti feladatainak támogatása | C9: B113 | D9: ='Önkorm bevételek'!D22 -> 28082436 | G9: =SUM(D9:F9) -> 28082436
B10: Települési önkormányzatok kulturális feladatainak támogatása | C10: B114 | D10: ='Önkorm bevételek'!D31 -> 1800000 | G10: =SUM(D10:F10) -> 1800000
B11: Működési célú központosított előirányzatok | C11: B115 | D11: 1165860 | G11: =SUM(D11:F11) -> 1165860
B12: Elszámolásból származó bevételek | C12: B116 | D12: 63000 | G12: =SUM(D12:F12) -> 63000
B13: Önkormányzatok működési támogatásai | C13: B11 | D13: =SUM(D7:D12) -> 77589199 | G13: =SUM(D13:F13) -> 77589199
B14: Elvonások és befizetések bevételei | C14: B12 | G14: =SUM(D14:F14) -> 0
B15: Működési célú garancia- és kezességvállalásból származó megtérülések államháztartáson belülről | C15: B13 | G15: =SUM(D15:F15) -> 0
B16: Működési célú visszatérítendő támogatások, kölcsönök visszatérülése államháztartáson belülről | C16: B14 | G16: =SUM(D16:F16) -> 0
B17: Működési célú visszatérítendő támogatások, kölcsönök igénybevétele államháztartáson belülről | C17: B15 | G17: =SUM(D17:F17) -> 0
B18: Egyéb működési célú támogatások bevételei államháztartáson belülről | C18: B16 | D18: ='Átvett pe.'!D39 -> 18939800 | G18: =SUM(D18:F18) -> 18939800
B19: Működési célú támogatások államháztartáson belülről | C19: B1 | D19: =D13+D14+D15+D16+D17+D18 -> 96528999 | G19: =SUM(D19:F19) -> 96528999
B20: Felhalmozási célú önkormányzati támogatások | C20: B21 | D20: 22796296
B21: Egyéb felhalmozási célú támogatások bevételei államháztartáson belülről | C21: B25 | D21: 10000000
B22: Felhalmozási célú támogatások államháztartáson belülről | C22: B2 | D22: 32796296
B23: Magánszemélyek jövedelemadói | C23: B311 | G23: =SUM(D23:F23) -> 0
B24: Társaságok jövedelemadói | C24: B312 | G24: =SUM(D24:F24) -> 0
B25: Jövedelemadók | C25: B31 | D25: =SUM(D23:D24) -> 0 | G25: =SUM(D25:F25) -> 0
B26: Szociális hozzájárulási adó és járulékok | C26: B32 | G26: =SUM(D26:F26) -> 0
B27: Bérhez és foglalkoztatáshoz kapcsolódó adók | C27: B33 | G27: =SUM(D27:F27) -> 0
B28: Vagyoni tipusú adók (kommunális adó) | C28: B34 | D28: 4140000 | G28: =SUM(D28:F28) -> 4140000
B29: Értékesítési és forgalmi adók (iparűzési adó) | C29: B351 | D29: ='Helyi adók'!D11 -> 22835000 | G29: =SUM(D29:F29) -> 22835000
B30: Fogyasztási adók | C30: B352 | G30: =SUM(D30:F30) -> 0
B31: Pénzügyi monopóliumok nyereségét terhelő adók | C31: B353 | G31: =SUM(D31:F31) -> 0
B32: Gépjárműadók | C32: B354 | D32: ='Helyi adók'!D14 -> 1520301 | G32: =SUM(D32:F32) -> 1520301
B33: Egyéb áruhasználati és szolgáltatási adók | C33: B355 | G33: =SUM(D33:F33) -> 0
B34: Termékek és szolgáltatások adói | C34: B35 | D34: =SUM(D29:D33) -> 24355301 | G34: =SUM(D34:F34) -> 24355301
B35: Egyéb közhatalmi bevételek | C35: B36 | D35: ='Helyi adók'!D34 -> 172978 | G35: =SUM(D35:F35) -> 172978
B36: Közhatalmi bevételek | C36: B3 | D36: =D25+D26+D27+D28+D34+D35 -> 28668279 | G36: =SUM(D36:F36) -> 28668279
B37: Áru- és készletértékesítés ellenértéke | C37: B401 | G37: =SUM(D37:F37) -> 0
B38: Szolgáltatások ellenértéke | C38: B402 | D38: ='Önkorm bevételek'!C44 -> 1450000 | G38: =SUM(D38:F38) -> 1450000
B39: Közvetített szolgáltatások értéke | C39: B403 | D39: ='Önkorm bevételek'!C45 -> 1040413 | G39: =SUM(D39:F39) -> 1040413
B40: Tulajdonosi bevételek | C40: B404 | G40: =SUM(D40:F40) -> 0
B41: Ellátási díjak | C41: B405 | G41: =SUM(D41:F41) -> 0
...

Sheet Átvett pe.
A1: 4. | B1: ='Kiemelt EI.'!B1 -> melléklet a 2/2019. (II.27.) önkormányzati rendelethez
B2: ='Kiemelt EI.'!B2:C2 -> Az önkormányzat 2019. évi költségvetése
B3: Támogatások, kölcsönök bevételei (Ft)
B5: ÖNKORMÁNYZATI ELŐIRÁNYZATOK
B6: Megnevezés | C6: Rovat-szám | D6: eredeti ei.
B7: központi költségvetési szervektől | C7: B14
B8: központi kezelésű előirányzatoktól | C8: B14
B9: fejezeti kezelésű előirányzatok EU-s programokra és azok hazai társfinanszírozásától | C9: B14
B10: egyéb fejezeti kezelésű előirányzatoktól | C10: B14
B11: társadalombiztosítás pénzügyi alapjaitól | C11: B14
B12: elkülönített állami pénzalapoktól | C12: B14
B13: helyi önkormányzatok és költségvetési szerveiktől | C13: B14
B14: társulások és költségvetési szerveiktől | C14: B14
B15: nemzetiségi önkormányzatok és költségvetési szerveiktől | C15: B14
B16: térségi fejlesztési tanácsok és költségvetési szerveiktől | C16: B14
B17: Működési célú visszatérítendő támogatások, kölcsönök visszatérülése államháztartáson belülről | C17: B14 | D17: 0
B18: központi költségvetési szervektől | C18: B15
B19: központi kezelésű előirányzatoktól | C19: B15
B20: fejezeti kezelésű előirányzatok EU-s programokra és azok hazai társfinanszírozásától | C20: B15
B21: egyéb fejezeti kezelésű előirányzatoktól | C21: B15
B22: társadalombiztosítás pénzügyi alapjaitól | C22: B15
B23: elkülönített állami pénzalapoktól | C23: B15
B24: helyi önkormányzatok és költségvetési szerveiktől | C24: B15
B25: társulások és költségvetési szerveiktől | C25: B15
B26: nemzetiségi önkormányzatok és költségvetési szerveiktől | C26: B15
B27: térségi fejlesztési tanácsok és költségvetési szerveiktől | C27: B15
B28: Működési célú visszatérítendő támogatások, kölcsönök igénybevétele államháztartáson belülről | C28: B15 | D28: 0
B29: központi költségvetési szervektől | C29: B16
B30: központi kezelésű előirányzatoktól (szoc. Erzsébet-utalvány) | C30: B16 | D30: 0
B31: fejezeti kezelésű előirányzatok EU-s programokra és azok hazai társfinanszírozásától | C31: B16
B32: egyéb fejezeti kezelésű előirányzatoktól | C32: B16
B33: társadalombiztosítás pénzügyi alapjaitól (háziorvos, védőnő) | C33: B16 | D33: 18939800
B34: elkülönített állami pénzalapoktól | C34: B16
B35: helyi önkormányzatok és költségvetési szerveiktől | C35: B16
B36: társulások és költségvetési szerveiktől | C36: B16
B37: nemzetiségi önkormányzatok és költségvetési szerveiktől | C37: B16
B38: térségi fejlesztési tanácsok és költségvetési szerveiktől | C38: B16
B39: Egyéb működési célú támogatások bevételei államháztartáson belülről | C39: B16 | D39: =SUM(D29:D38) -> 18939800
B40: központi költségvetési szervektől | C40: B23
B41: központi kezelésű előirányzatoktól | C41: B23
...

Sheet Átadott pe.
A1: 5. | B1: ='Kiemelt EI.'!B1 -> melléklet a 2/2019. (II.27.) önkormányzati rendelethez
B2: ='Kiemelt EI.'!B2:C2 -> Az önkormányzat 2019. évi költségvetése
B3: Támogatások, kölcsönök nyújtása és törlesztése (Ft)
B5: ÖNKORMÁNYZATI ELŐIRÁNYZATOK
B6: Megnevezés | C6: Rovat-szám | D6: eredeti ei.
B7: központi költségvetési szervek részére | C7: K504
B8: központi kezelésű előirányzatok részére | C8: K504
B9: fejezeti kezelésű előirányzatok EU-s programokra és azok hazai társfinanszírozása részére | C9: K504
B10: egyéb fejezeti kezelésű előirányzatok részére | C10: K504
B11: társadalombiztosítás pénzügyi alapjai részére | C11: K504
B12: elkülönített állami pénzalapok részére | C12: K504
B13: helyi önkormányzatok és költségvetési szerveik részére | C13: K504
B14: társulások és költségvetési szerveik részére | C14: K504
B15: nemzetiségi önkormányzatok és költségvetési szerveik részére | C15: K504
B16: térségi fejlesztési tanácsok és költségvetési szerveik részére | C16: K504
B17: Működési célú visszatérítendő támogatások, kölcsönök nyújtása államháztartáson belülre | C17: K504 | D17: =SUM(D7:D16) -> 0
B18: központi költségvetési szervek részére | C18: K505
B19: központi kezelésű előirányzatok részére | C19: K505
B20: fejezeti kezelésű előirányzatok EU-s programokra és azok hazai társfinanszírozása részére | C20: K505
B21: egyéb fejezeti kezelésű előirányzatok részére | C21: K505
B22: társadalombiztosítás pénzügyi alapjai részére | C22: K505
B23: elkülönített állami pénzalapok részére | C23: K505
B24: helyi önkormányzatok és költségvetési szerveik részére | C24: K505
B25: társulások és költségvetési szerveik részére | C25: K505
B26: nemzetiségi önkormányzatok és költségvetési szerveik részére | C26: K505
B27: térségi fejlesztési tanácsok és költségvetési szerveik részére | C27: K505
B28: Működési célú visszatérítendő támogatások, kölcsönök törlesztése államháztartáson belülre | C28: K505 | D28: =SUM(D18:D27) -> 0
B29: központi költségvetési szervek részére | C29: K506
B30: központi kezelésű előirányzatok részére | C30: K506
B31: fejezeti kezelésű előirányzatok EU-s programokra és azok hazai társfinanszírozása részére | C31: K506
B32: egyéb fejezeti kezelésű előirányzatok részére | C32: K506
B33: társadalombiztosítás pénzügyi alapjai részére | C33: K506
B34: elkülönített állami pénzalapok részére | C34: K506
B35: helyi önkormányzatok és költségvetési szerveik részére (KÖH, Tátorján) | C35: K506 | D35: 0
B36: társulások, helyi önkormányzatok és költségvetési szerveik részére (Csajág-Küngös Intézményfenntartó, DBRHÖT, Bakony és Balaton KKK, KBTT, Bürkösréti) | C36: K506 | D36: 65939040
B37: nemzetiségi önkormányzatok és költségvetési szerveik részére | C37: K506
B38: térségi fejlesztési tanácsok és költségvetési szerveik részére | C38: K506
B39: Egyéb működési célú támogatások államháztartáson belülre | C39: K506 | D39: =SUM(D29:D38) -> 65939040
B40: egyházi jogi személyek részére | C40: K508
B41: egyéb civil szervezetek részére | C41: K508
...

Sheet Szociális kiadások
A1: 6. | B1: ='Kiemelt EI.'!B1 -> melléklet a 2/2019. (II.27.) önkormányzati rendelethez
B2: ='Kiemelt EI.'!B2:C2 -> Az önkormányzat 2019. évi költségvetése
B3: Lakosságnak juttatott támogatások, szociális, rászorultsági jellegű ellátások (Ft)
B5: ÖNKORMÁNYZATI ELŐIRÁNYZATOK
B6: Megnevezés | C6: Rovat-szám | D6: eredeti ei.
B7: Rendszeres gyermekvédelmi kedvezmény/Gyvt 20/A (szociális pénzbeni hozzájárulás) | C7: K42 | D7: ='Fõkönyvi kivonat'!C276 -> 304500
B8: Természetben nyújtott gyermekvédelmi támogatás Gyvt.20/C/4 | C8: K42
B9: Családi támogatások | C9: K42 | D9: =SUM(D7:D8) -> 304500
B10: mozgáskorlátozottak közlekedési támogatása | C10: K44
B11: mozgáskorlátozottak szerzési és átalakítási támogatása | C11: K44
B12: megváltozott munkaképességűek illetve egészségkárosodottak keresetkiegészítése | C12: K44
B13: cukorbetegek támogatása | C13: K44
B14: helyi megállapítású ápolási díj [Szoctv. 43/B. §] | C14: K44
B15: helyi megállapítású közgyógyellátás [Szoctv.50.§ (3) bek.] | C15: K44
B16: Betegséggel kapcsolatos (nem társadalombiztosítási) ellátások | C16: K44 | D16: =SUM(D10:D15) -> 0
B17: foglalkoztatást helyettesítő támogatás [Szoctv. 35. § (1) bek.] | C17: K45
B18: Foglalkoztatással, munkanélküliséggel kapcsolatos ellátások | C18: K45 | D18: =SUM(D17) -> 0
B19: hozzájárulás a lakossági energiaköltségekhez | C19: K46
B20: lakbértámogatás | C20: K46
B21: lakásfenntartási támogatás [Szoctv. 38. § (1) bek. a) és b) pontok] | C21: K46
B22: adósságcsökkentési támogatás [Szoctv. 55/A. § 1. bek. b) pont] | C22: K46
B23: természetben nyújtott lakásfenntartási támogatás [Szoctv. 47.§ (1) bek. b) pont] | C23: K46
B24: adósságkezelési szolgáltatás keretében gáz-vagy áram fogyasztást mérő készülék biztosítása [Szoctv. 55/A. § (3) bek.] | C24: K46
B25: Lakhatással kapcsolatos ellátások | C25: K46 | D25: =SUM(D19:D24) -> 0
B26: állami gondozottak pénzbeli juttatásai | C26: K47
B27: oktatásban résztvevők pénzbeli juttatásai | C27: K47
B28: Intézményi ellátottak pénzbeli juttatásai | C28: K47 | D28: =SUM(D26:D27) -> 0
B29: időskorúak járadéka [Szoctv. 32/B. § (1) bek.] | C29: K48
B30: rendszeres szociális segély [Szoctv. 37. § (1) bek. a) - d) pontok] | C30: K48
B31: települési támogatás [Szoctv. 45.§] | C31: K48 | D31: 750000
B32: temetési támogatás [Szoctv. 46.§] | C32: K48 | D32: 260000
B33: egyéb, az önkormányzat rendeletében megállapított juttatás | C33: K48
B34: természetben nyújtott rendszeres szociális segély [Szoctv. 47.§ (1) bek. a) pont] | C34: K48
B35: átmeneti segély [Szoctv. 47.§ (1) bek. c) pont] | C35: K48
B36: temetési segély [Szoctv. 47.§ (1) bek. d) pont} | C36: K48
B37: köztemetés [Szoctv. 48.§] | C37: K48 | D37: 100000
B38: rászorultságtól függõ normatív kedvezmények [Gyvt. 151. § (5) bek.] | C38: K48
B39: önkormányzat által saját hatáskörben (nem szociális és gyermekvédelmi előírások alapján) adott pénzügyi ellátás (iskolakezdési támogatás, ápolási díj, Bursa Hungarica) | C39: K48 | D39: 1000000
B40: önkormányzat által saját hatáskörben (nem szociális és gyermekvédelmi előírások alapján) adott természetbeni ellátás (LFT, ajándékutalvány és szociális tüzifa) | C40: K48 | D40: =900000+137000+180000 -> 1217000
B41: Egyéb nem intézményi ellátások | C41: K48 | D41: =SUM(D29:D40) -> 3327000
...

Sheet Tartalékok
A1: 7. | B1: ='Kiemelt EI.'!B1 -> melléklet a 2/2019. (II.27.) önkormányzati rendelethez
B2: ='Kiemelt EI.'!B2:C2 -> Az önkormányzat 2019. évi költségvetése
B3: Általános- és céltartalékok (Ft)
B6: Rovat megnevezése | C6: Rovat-szám | D6: ÖNKORMÁNYZATI ELŐIRÁNYZATOK
B11: Általános tartalékok | C11: K513 | D11: ='Kiadások ÖNK'!D72 -> 7484473
B16: Céltartalékok- | C16: K513

Sheet Beruházások felújítások
A1: 8. | B1: ='Kiemelt EI.'!B1 -> melléklet a 2/2019. (II.27.) önkormányzati rendelethez
B2: ='Kiemelt EI.'!B2:C2 -> Az önkormányzat 2019. évi költségvetése
B3: Beruházások és felújítások (Ft)
B5: Rovat megnevezése | C5: Rovat-szám | D5: ÖNKORMÁNYZATI ELŐIRÁNYZATOK
B6: Rendezési terv módosítása | D6: 1582705
B7: Immateriális javak beszerzése, létesítése | C7: K61 | D7: =SUM(D6) -> 1582705
B8: telek vásárlás | D8: 6800970
B9: Ingatlanok beszerzése, létesítése | C9: K62 | D9: 6800970
B11: Számítógépvásárlás a könyvtár részére | D11: 0
B12: Informatikai eszközök beszerzése, létesítése | C12: K63 | D12: =SUM(D11) -> 0
B14: Efop, Magyar Falu program eszközbeszerzés | D14: 5949946
B15: Egyéb tárgyi eszközök beszerzése, létesítése | C15: K64 | D15: =SUM(D14:D14) -> 5949946
B17: Részesedések beszerzése | C17: K65
B19: Meglévő részesedések növeléséhez kapcsolódó kiadások | C19: K66
B21: Beruházási célú előzetesen felszámított általános forgalmi adó | C21: K67 | D21: 680315
B22: Beruházások | C22: K6 | D22: =D7+D9+D12+D15+D17+D19+D21 -> 15013936
B24: Művelődési ház felújítása | D24: 17000985
B25: Hivatal belső felújítása | D25: 500000
B26: Iskolai menza felújítása | D26: 500000
B27: Ravatalozó felújítása | D27: 500000
B28: Spotöltöző felújítása | D28: 787400
B29: József A. u. felújítása | D29: 103000
B30: Ingatlanok felújítása összesen | C30: K71 | D30: =SUM(D23:D29) -> 19391385
B32: Informatikai eszközök felújítása | C32: K72
B34: Egyéb tárgyi eszközök felújítása | C34: K73 | D34: 18063
B36: Felújítási célú előzetesen felszámított általános forgalmi adó | C36: K74 | D36: 1190551
B37: Felújítások | C37: K7 | D37: =D30+D32+D34+D36 -> 20599999

Sheet Helyi adók
A1: 9. | B1: ='Kiemelt EI.'!B1 -> melléklet a 2/2019. (II.27.) önkormányzati rendelethez
B2: ='Kiemelt EI.'!B2:C2 -> Az önkormányzat 2019. évi költségvetése
B3: Helyi adók és egyéb közhatalmi bevételek (Ft)
B5: Megnevezés | C5: Rovat-szám | D5: eredeti ei.
B6: építményadó | C6: B34
B7: épület után fizetett idegenforgalmi adó | C7: B34
B8: magánszemélyek kommunális adója | C8: B34 | D8: 4140000
B9: telekadó | C9: B34
B10: Vagyoni tipusú adók | C10: B34 | D10: =SUM(D6:D9) -> 4140000
B11: Értékesítési és forgalmi adók | C11: B351 | D11: =SUM(D12:D13) -> 22835000
B12: ebből: állandó jeleggel végzett iparűzési tevékenység után fizetett helyi iparűzési adó | C12: B351 | D12: 22835000
B13: ebből: ideiglenes jeleggel végzett tevékenység után fizetett helyi iparűzési adó | C13: B351
B14: Gépjárműadók | C14: B354 | D14: =SUM(D15:D18) -> 1520301
B15: ebből: belföldi gépjárművek adójának a központi költségvetést megillető része | C15: B354
B16: ebből: belföldi gépjárművek adójának a helyi önkormányzatot megillető része | C16: B354 | D16: ='Önkorm bevételek'!C41 -> 1520301
B17: ebből: külföldi gépjárművek adója | C17: B354
B18: ebből: gépjármű túlsúlydíj | C18: B354
B19: Egyéb áruhasználati és szolgáltatási adók | C19: B355 | D19: =SUM(D20:D21) -> 0
B20: ebből: tartózkodás után fizetett idegenforgalmi adó | C20: B355
B21: ebből: talajterhelési díj | C21: B355
B22: Termékek és szolgáltatások adói | C22: B35 | D22: =D11+D14+D19 -> 24355301
B23: eljárási illetékek | C23: B36
B24: igazgatási szolgáltatási díjak | C24: B36
B25: felügyeleti díjak | C25: B36
B26: ebrendészeti hozzájárulás | C26: B36
B27: környezetvédelmi bírság | C27: B36
B28: természetvédelmi bírság | C28: B36
B29: műemlékvédelmi bírság | C29: B36
B30: építésügyi bírság | C30: B36
B31: szabálysértési pénz- és helyszíni mbírság és a közlekedési szabályszegések után kiszabott közigazgatási bírság helyi önkormányzatot megillető része | C31: B36
B32: egyéb bírság | C32: B36 | D32: ='Önkorm bevételek'!C40 -> 161378
B33: késedelmi és önellenőrzési pótlék | C33: B36 | D33: ='Önkorm bevételek'!C39 -> 11600
B34: Egyéb közhatalmi bevételek | C34: B36 | D34: =SUM(D23:D33) -> 172978

Sheet Létszám
A1: 10. | B1: ='Kiemelt EI.'!B1 -> melléklet a 2/2019. (II.27.) önkormányzati rendelethez
B2: ='Kiadások ÖNK'!B2:G2 -> Az önkormányzat 2019. évi költségvetése
B3: Foglalkoztatottak létszáma (fő)
B6: MEGNEVEZÉS | C6: Költségvetési engedélyezett létszámkeret (álláshely) (fő) Csajág Község Önkormányzat
B7: főjegyző, jegyző, aljegyző, címzetes főjegyző, körjegyző
B8: I. besorolási osztály összesen
B9: II. besorolási osztály összesen
B10: III. besorolási osztály összesen
B11: KÖZTISZTVISELŐK, KORMÁNYTISZTVISELŐK ÖSSZESEN | C11: =SUM(C7:C10) -> 0
B12: igazgató (főigazgató), igazgatóhelyettes (főigazgató-helyettes)
B13: főosztályvezető, főosztályvezető-helyettes, osztályvezető, ügykezelő osztályvezető, további vezető
B14: főtanácsos, főmunkatárs, tanácsos, munkatárs
B15: "A", "B" fizetési osztály összesen | C15: 2
B16: "C", "D" fizetési osztály összesen | C16: 1
B17: "E"-"J" fizetési osztály összesen | C17: 1
B18: kutató, felsőoktatásban oktató
B19: KÖZALKALMAZOTTAK ÖSSZESEN | C19: =SUM(C12:C18) -> 4
B20: fizikai alkalmazott
B21: ösztöndíjas foglalkoztatott
B22: közfoglalkoztatott
B23: EGYÉB BÉRRENDSZER ÖSSZESEN | C23: =SUM(C20:C22) -> 0
B24: polgármester, főpolgármester | C24: 1
B25: helyi önkormányzati képviselő-testület tagja, megyei közgyűlés tagja | C25: 3
B26: alpolgármester, főpolgármester-helyettes, megyei közgyűlés elnöke, alelnöke | C26: 1
B27: VÁLASZTOTT TISZTSÉGVISELŐK ÖSSZESEN | C27: =SUM(C24:C26) -> 5
B28: KÖLTSÉGVETÉSI ENGEDÉLYEZETT LÉTSZÁMKERETBE TARTOZÓ FOGLALKOZTATOTTAK LÉTSZÁMA MINDÖSSZESEN | C28: =C11+C19+C23+C27 -> 9

Sheet Gördülő
A1: 11. | B1: ='Kiemelt EI.'!B1 -> melléklet a 2/2019. (II.27.) önkormányzati rendelethez
B2: ='Kiemelt EI.'!B2:C2 -> Az önkormányzat 2019. évi költségvetése
B3: AZ Áht.29/A. § szerinti tervszámoknak megfelelően a költségvetési évet követő három év tervezett előirányzatainak keretszámai főbb csoportokban, és a 29/A. § szerinti tervszámoktól történő esetleges eltérés indokai
B5: Áht. 29/A. § A helyi önkormányzat, a nemzetiségi önkormányzat és a társulás évente, legkésőbb a költségvetési rendelet, határozat elfogadásáig határozatban állapítja meg
B6: a) a Stabilitási tv. 45. § (1) bekezdés a) pontjában kapott felhatalmazás alapján kiadott jogszabályban meghatározottak szerinti saját bevételeinek és
B7: b) a Stabilitási tv. 3. § (1) bekezdése szerinti adósságot keletkeztető ügyleteiből eredő fizetési kötelezettségeinek
B8: a költségvetési évet követő három évre várható összegét.
B11: ÖNKORMÁNYZAT ELŐIRÁNYZATA
B12: Rovat megnevezése | C12: Rovat-szám | D12: adósságot keletkeztető ügyletekből és kezességvállalásokból fennálló kötelezettségek 2019. | E12: adósságot keletkeztető ügyletekből és kezességvállalásokból fennálló kötelezettségek 2020. | F12: adósságot keletkeztető ügyletekből és kezességvállalásokból fennálló kötelezettségek 2021. | G12: adósságot keletkeztető ügyletekből és kezességvállalásokból fennálló kötelezettségek 2022.
B13: Hosszú lejáratú hitelek, kölcsönök felvétele | C13: B8111
B14: ebből: pénzügyi vállalkozás | C14: B8111
B15: Likviditási célú hitelek, kölcsönök felvétele pénzügyi vállalkozástól | C15: B8112
B16: Rövid lejáratú hitelek, kölcsönök felvétele | C16: B8113
B17: ebből: pénzügyi vállalkozás | C17: B8113
B18: Hitel-, kölcsönfelvétel államháztartáson kívülről | C18: B811
B19: Forgatási célú belföldi értékpapírok beváltása, értékesítése | C19: B8121
B20: ebből: befektetési jegyek | C20: B8121
B21: Forgatási célú belföldi értékpapírok kibocsátása | C21: B8122
B22: Befektetési célú belföldi értékpapírok beváltása, értékesítése | C22: B8123
B23: ebből: kárpótlási jegyek | C23: B8123
B24: Befektetési célú belföldi értékpapírok kibocsátása | C24: B8124
... B33: Külföldi finanszírozás bevételei | C33: B82
B37: Rovat megnevezése | C37: Rovat-szám | D37: saját bevételek 2019. | E37: saját bevételek 2020. | F37: saját bevételek 2021. | G37: saját bevételek 2022.
B38: 353/2011. (XII. 30.) Korm. Rendelet értelmében az önkormányzat saját bevételének minősül
B39: 1. a helyi adóból származó bevétel, | D39: ='Helyi adók'!D10+'Helyi adók'!D22 -> 28495301 | E39: 25000000 | F39: 25000000 | G39: 25000000
B40: 2. az önkormányzati vagyon és az önkormányzatot megillető vagyoni értékű jog értékesítéséből és hasznosításából származó bevétel,
B41: 3. az osztalék, a koncessziós díj és a hozambevétel,
B42: 4. a tárgyi eszköz és az immateriális jószág, részvény, részesedés, vállalat értékesítéséből vagy privatizációból származó bevétel,
B43: 5. bírság-, pótlék- és díjbevétel, valamint | D43: ='Helyi adók'!D33 -> 11600 | E43: 100000 | F43: 100000 | G43: 100000
B44: 6. a kezességvállalással kapcsolatos megtérülés.
B45: ÖSSZESEN: | D45: =SUM(D38:D44) -> 28506901 | E45: =SUM(E38:E44) -> 25100000 | F45: =SUM(F38:F44) -> 25100000 | G45: =SUM(G38:G44) -> 25100000

Sheet Rendeletbe
B3: a.) a tárgyévi költségvetési bevételek főösszegét: | C3: =SUM(C4:C6) -> 195203176
B4: aa) működési bevételek: | C4: ='Kiemelt EI.'!C17+'Kiemelt EI.'!C19+'Kiemelt EI.'!C20+'Kiemelt EI.'!C22 -> 127688277
B5: ab) felhalmozási bevételek: | C5: ='Kiemelt EI.'!C18+'Kiemelt EI.'!C21+'Kiemelt EI.'!C23 -> 34796296
B6: ac) finanszírozási bevételek: | C6: ='Kiemelt EI.'!C25 -> 32718603
B8: b.) a tárgyévi költségvetési kiadások főösszegét: | C8: 151430655
B9: ba) működési kiadások: | C9: 127896546
B10: bb) felhalmozási kiadások: | C10: ='Kiemelt EI.'!C11+'Kiemelt EI.'!C12+'Kiemelt EI.'!C13 -> 39613935
B11: bc) tartalékok: | C11: =Tartalékok!D11 -> 7484473
B12: bd) finanszírozási kiadások: | C12: ='Kiemelt EI.'!C15 -> 4454857
