Workbook

Sheet 1a
A1: Berhida Város Önkormányzata | E1: 1.a melléklet
A2: állami támogatások részletezése | E2: 1/2019.(III. 1. ) rendelethez
D3: 2018 | H3: 2018
B4: IPA alap | E4: 9437151820
B5: elvonás | C5: 0,55 %-nak | E5: =E4*0.0055 -> 51904335
A6: 2018. évi költségvetés | C6: =E6/E5 -> 0.75 | E6: 38928251
B7: 1 lakosra jutó adóerőképesség | E7: =E4*0.014/6013 -> 21972.414
C8: 5963 | D8: fő | E8: beszámítás | F8: 2018 tényl | J8: 2018 módosított
D9: Forint | H9: Forint | K9: Módosított összesen | L9: Intézményi összesen | M9: Önkorm | N9: TESZ | O9: Hivatal | P9: Kultúrház | Q9: Családs Berh | R9: Családs Vi | S9: Süni | T9: Hétszínvirág | U9: Vi Óvoda
A10: Önkormányzatok működési támogatásai | D10: =D11+D21+D34+D54+D58 -> 4.1503305e+08 | E10: =E11+E21+E34+E54+E58 -> -59421251 | F10: =F11+F21+F34+F54+F58 -> 3.556118e+08 | I10: =I11+I21+I34+I54+I58+I62 -> 4.3180872e+08 | J10: =J11+J21+J34+J54+J58+J62 -> -59421251 | K10: =K11+K21+K34+K54+K58+K62 -> 3.7238747e+08 | L10: =SUM(M10:U10) -> 372387472 | M10: =M11+M21+M34+M54+M58+M62 -> 24892295 | N10: =N11+N21+N34+N54+N58+N62 -> 8362138 | O10: =O11+O21+O34+O54+O58+O62 -> 101401200 | P10: =P11+P21+P34+P54+P58+P62 -> 7325121 | Q10: =Q11+Q21+Q34+Q54+Q58+Q62 -> 12830030 | R10: =R11+R21+R34+R54+R58+R62 -> 1712786 | S10: =S11+S21+S34+S54+S58+S62 -> 111149988 | T10: =T11+T21+T34+T54+T58+T62 -> 88809751 | U10: =U11+U21+U34+U54+U58+U62 -> 15904163 | V10: =SUM(M10:U10) -> 372387472
A11: 1.)Helyi önkormányzatok működésének általános támogatása | D11: =SUM(D12:D20) -> 147447989 | E11: =SUM(E12:E20) -> -38928251 | F11: =SUM(F12:F20) -> 108519738 | I11: =SUM(I12:I20) -> 147548639 | J11: =SUM(J12:J20) -> -38928251 | K11: =SUM(K12:K20) -> 108620388 | L11: =SUM(M11:U11) -> 108620388 | M11: =SUM(M12:M20) -> 1857050 | N11: =SUM(N12:N20) -> 5362138 | O11: =SUM(O12:O20) -> 101401200 | P11: =SUM(P12:P20) -> 0 | Q11: =SUM(Q12:Q20) -> 0 | R11: =SUM(R12:R20) -> 0 | S11: =SUM(S12:S20) -> 0 | T11: =SUM(T12:T20) -> 0 | U11: =SUM(U12:U20) -> 0
A12: Önkormányzati hivatal működésének támogatása | B12: 4580000 | C12: 22.14 | D12: =B12*C12 -> 101401200 | F12: =D12+E12 -> 101401200 | G12: 4580000 | H12: 22.14 | I12: =G12*H12 -> 101401200 | K12: =I12+J12 -> 101401200 | L12: =SUM(M12:U12) -> 101401200 | O12: 101401200
A13: Település üzemeltetés: zöldterület-gazdálkodás | B13: 22300 | C13: 402 | D13: 8984670 | E13: =-D13 -> -8984670 | F13: =D13+E13 -> 0 | G13: 22300 | H13: 402 | I13: 8984670 | J13: =-I13 -> -8984670 | K13: =I13+J13 -> 0 | L13: =SUM(M13:U13) -> 0
A14: közvilágítás fenntartása | B14: 320000 | C14: 46.5 | D14: 9888000 | E14: =-D14 -> -9888000 | F14: =D14+E14 -> 0 | G14: 320000 | H14: 46.5 | I14: 9888000 | J14: =-I14 -> -9888000 | K14: =I14+J14 -> 0 | L14: =SUM(M14:U14) -> 0
A15: köztemető fenntartással kapcs fel | B15: 69 | C15: 53051 | D15: =B15*C15 -> 3660519 | E15: =-D15 -> -3660519 | F15: =D15+E15 -> 0 | G15: 69 | H15: 53051 | I15: =G15*H15 -> 3660519 | J15: =-I15 -> -3660519 | K15: =I15+J15 -> 0 | L15: =SUM(M15:U15) -> 0
A16: közutak fenntartásának támog | B16: 227000 | C16: 24 | D16: =B16*C16 -> 5448000 | E16: -85862 | F16: =D16+E16 -> 5362138 | G16: 227000 | H16: 24 | I16: =G16*H16 -> 5448000 | J16: -85862 | K16: =I16+J16 -> 5362138 | L16: =SUM(M16:U16) -> 5362138 | N16: 5362138
A17: Egyéb kötelező önkormányzati feladatok | B17: 2700 | C17: 5963 | D17: =B17*C17 -> 16100100 | E17: =-D17 -> -16100100 | F17: =D17+E17 -> 0 | G17: 2700 | H17: 5963 | I17: =G17*H17 -> 16100100 | J17: =-I17 -> -16100100 | K17: =I17+J17 -> 0 | L17: =SUM(M17:U17) -> 0
A18: Lakott külterülettel kapcs feladatok | B18: 2550 | C18: 82 | D18: =B18*C18 -> 209100 | E18: =-D18 -> -209100 | F18: =D18+E18 -> 0 | G18: 2550 | H18: 82 | I18: =G18*H18 -> 209100 | J18: =-I18 -> -209100 | K18: =I18+J18 -> 0 | L18: =SUM(M18:U18) -> 0
A19: 2017. évről áthúzódó bérkompenzáció | F19: =D19+E19 -> 0 | I19: 100650 | K19: =I19+J19 -> 100650 | L19: =SUM(M19:U19) -> 100650 | M19: 100650
A20: Polgármesterek illetményének támogatása | D20: 1756400 | F20: =D20+E20 -> 1756400 | I20: 1756400 | K20: =I20+J20 -> 1756400 | L20: =SUM(M20:U20) -> 1756400 | M20: 1756400
A21: 2.)Települési önkorm. Egyes köznevelési feladatainak támoga | D21: =SUM(D22:D33) -> 1.4211607e+08 | E21: =SUM(E22:E33) -> 0 | F21: =SUM(F22:F33) -> 1.4211607e+08 | I21: =SUM(I22:I33) -> 1.4415853e+08 | J21: =SUM(J22:J33) -> 0 | K21: =SUM(K22:K33) -> 1.4415853e+08 | L21: =SUM(M21:U21) -> 144158533 | M21: =SUM(M22:M33) -> 0 | N21: =SUM(N22:N33) -> 0 | O21: =SUM(O22:O33) -> 0 | P21: =SUM(P22:P33) -> 0 | Q21: =SUM(Q22:Q33) -> 0 | R21: =SUM(R22:R33) -> 0 | S21: =SUM(S22:S33) -> 80386125 | T21: =SUM(T22:T33) -> 50285908 | U21: =SUM(U22:U33) -> 13486500
A22: óvodapedagógusok bértámogatása 8 hó | B22: 4419000 | C22: 20.4 | D22: =B22*C22*8/12 -> 60098400 | F22: =D22+E22 -> 60098400 | G22: 4419000 | H22: 20.9 | I22: =G22*H22*8/12 -> 61571400 | K22: =I22+J22 -> 61571400 | L22: =SUM(M22:U22) -> 61571400 | S22: 35128104 | T22: 20551296 | U22: =B22*2*8/12 -> 5892000
A23: óvodaped munkáját közvetlenül segítők bértámogatása 8 hó | B23: 2205000 | C23: 13 | D23: =B23*C23/12*8 -> 19110000 | F23: =D23+E23 -> 19110000 | G23: 2205000 | H23: 13 | I23: =G23*H23/12*8 -> 19110000 | K23: =I23+J23 -> 19110000 | L23: =SUM(M23:U23) -> 19110000 | S23: =F23*0.56 -> 10701600 | T23: 6938400 | U23: =B23*8/12 -> 1470000
A24: óvodapedagógusok bértámogatása 4 hó | B24: 4419000 | C24: 20.2 | D24: =B24*C24*4/12 -> 29754600 | F24: =D24+E24 -> 29754600 | G24: 4419000 | H24: 20.4 | I24: =G24*H24*4/12 -> 30049200 | K24: =I24+J24 -> 30049200 | L24: =SUM(M24:U24) -> 30049200 | S24: 16337660 | T24: 10765540 | U24: =B24*2*4/12 -> 2946000
A25: óvodaped munkáját közvetlenül segítők bértámogatása 4 hó | B25: 2205000 | C25: 13 | D25: =B25*C25/12*4 -> 9555000 | F25: =D25+E25 -> 9555000 | G25: 2205000 | H25: 14 | I25: =G25*H25/12*4 -> 10290000 | K25: =I25+J25 -> 10290000 | L25: =SUM(M25:U25) -> 10290000 | S25: 6085800 | T25: 3469200 | U25: =B25*4/12 -> 735000
A26: óvodapedagógusok bértámog KIEGÉSZÍTÉS 3 hó | B26: 38200 | D26: =B26*C26 -> 0 | F26: =D26+E26 -> 0 | G26: 38200 | I26: =G26*H26 -> 0 | K26: =I26+J26 -> 0 | L26: =SUM(M26:U26) -> 0 | S26: =F26*0.56 -> 0 | T26: =F26*0.33 -> 0 | U26: =F26*0.11 -> 0
A27: Óvoda működtetési támogatás 8 hó | B27: 81700 | C27: 219 | D27: =B27*C27*8/12 -> 11928200 | F27: =D27+E27 -> 11928200 | G27: 81700 | H27: 224 | I27: =G27*H27*8/12 -> 12200533 | K27: =I27+J27 -> 12200533 | L27: =SUM(M27:U27) -> 12200533 | S27: 6902560 | T27: =F27*0.33 -> 3936306 | U27: =B27*25*8/12 -> 1361666.7
A28: Óvoda működtetési támogatás 4 hó | B28: 81700 | C28: 218 | D28: =B28*C28*4/12 -> 5936866.7 | F28: =D28+E28 -> 5936866.7 | G28: 81700 | H28: 219 | I28: =G28*H28*4/12 -> 5964100 | K28: =I28+J28 -> 5964100 | L28: =SUM(M28:U28) -> 5964100.3 | S28: 3324101 | T28: =F28*0.33 -> 1959166 | U28: =B28*25*4/12 -> 680833.33
A29: Kieg tám. Óv pedag minősítéséhez II. kategóriába sorolt 2015-ben | B29: 401000 | C29: 7 | D29: =B29*C29 -> 2807000 | F29: =D29+E29 -> 2807000 | G29: 401000 | H29: 6.2 | I29: =G29*H29 -> 2486200 | K29: =I29+J29 -> 2486200 | L29: =SUM(M29:U29) -> 2486200 | S29: 882200 | T29: =B29*3 -> 1203000 | U29: =B29*1 -> 401000
A30: Mesterped kategóriába sorolt | B30: 1463000 | C30: 2 | D30: =B30*C30 -> 2926000 | F30: =D30+E30 -> 2926000 | G30: 1463000 | H30: 1.7 | I30: =G30*H30 -> 2487100 | K30: =I30+J30 -> 2487100 | L30: =SUM(M30:U30) -> 2487100 | S30: 1024100 | T30: 1463000
A31: Kieg tám. Óv pedag minősítéséhez II. kategóriába sorolt 2016-ben min | C31: 5.7 | D31: =B31*C31 -> 0 | F31: =D31+E31 -> 0 | H31: 5.7 | I31: =G31*H31 -> 0 | K31: =I31+J31 -> 0 | L31: =SUM(M31:U31) -> 0
A32: Óvodapedagógus munkát közvetlenül segítők kiegészítő támog | F32: =D32+E32 -> 0 | K32: =I32+J32 -> 0 | L32: =SUM(M32:U32) -> 0
A33: Köznevelési intézmények működt kapcs támogatás | F33: =D33+E33 -> 0 | K33: =I33+J33 -> 0 | L33: =SUM(M33:U33) -> 0
A34: 3.) Tel önk szociális, gyermekjóléti és gyermekétk fel tám | D34: =SUM(D36:D53) -> 118253769 | E34: =SUM(E36:E53) -> -20493000 | F34: =SUM(F36:F53) -> 97760769 | I34: =SUM(I36:I53) -> 126408656 | J34: =SUM(J36:J53) -> -20493000 | K34: =SUM(K36:K53) -> 105915656 | L34: =SUM(M34:U34) -> 105915656 | M34: =SUM(M36:M53) -> 16667471 | N34: =SUM(N36:N53) -> 3000000 | O34: =SUM(O36:O53) -> 0 | P34: =SUM(P36:P53) -> 0 | Q34: =SUM(Q36:Q53) -> 12830030 | R34: =SUM(R36:R53) -> 1712786 | S34: =SUM(S36:S53) -> 30763863 | T34: =SUM(T36:T53) -> 38523843 | U34: =SUM(U36:U53) -> 2417663
L35: =SUM(M35:U35) -> 0
A36: gyermekétkeztetés szempontjából elismert dolgozók bértámog | B36: 1900000 | C36: 11.1 | D36: =B36*C36 -> 21090000 | F36: =D36+E36 -> 21090000 | G36: 1900000 | H36: 11.28 | I36: =G36*H36 -> 21432000 | K36: =I36+J36 -> 21432000 | L36: =SUM(M36:U36) -> 21432000 | S36: 10339731 | T36: 9750230 | U36: 1342039
A37: gyermekétkeztetés üzemeltetési támogatása | D37: 34323860 | F37: =D37+E37 -> 34323860 | I37: 36734315 | K37: =I37+J37 -> 36734315 | L37: =SUM(M37:U37) -> 36734315 | S37: 19131817 | T37: 16526874 | U37: 1075624
A38: szünidei gyermekétkeztetés | B38: 513 | C38: 5637 | D38: =B38*C38 -> 2891781 | F38: =D38+E38 -> 2891781 | G38: 513 | H38: 4579 | I38: =G38*H38 -> 2349027 | K38: =I38+J38 -> 2349027 | L38: =SUM(M38:U38) -> 2349027 | S38: 1292315 | T38: 1056712
A39: Hozzájárulás pénzbeli szociális ellátásokhoz | D39: =F39*2 -> 40986000 | E39: -20493000 | F39: 20493000 | I39: =K39*2 -> 40986000 | J39: -20493000 | K39: 20493000 | L39: =SUM(M39:U39) -> 20493000 | M39: 11800000 | N39: 3000000 | Q39: 5693000
A40: Bölcsődei ellátás bértámogatás | B40: 2993000 | C40: 3 | D40: =B40*C40 -> 8979000 | F40: =D40+E40 -> 8979000 | G40: 2993000 | H40: 3 | I40: =G40*H40 -> 8979000 | K40: =I40+J40 -> 8979000 | L40: =SUM(M40:U40) -> 8979000 | T40: 8979000
...

Sheet 1b
B1: Berhida Város Önkormányzata | F1: 1/b. melléklet
B2: 2018. évi költségvetés | F2: 1/2019.(III.1. ) rendelethez
F3: Ft-ban
C4: BEVÉTELEK
A5: Sor- szám | B5: Rovat megnevezése | C5: Módosított előirányzat összesen | D5: Önkormányzat | E5: Közös Hivatal | F5: TESZ | G5: Kultúrház | H5: Süni
A6: 1 | B6: Helyi önkormányzatok működésének általános támogatása (B1111) | C6: =SUM(D6:H6) -> 108620388 | D6: 108620388
A7: 2 | B7: Települési önkormányzatok egyes köznevelési feladatainak támogatása (B112) | C7: =SUM(D7:H7) -> 144158533 | D7: 144158533
A8: 3 | B8: Települési önkormányzatok szociális, gyermekjóléti és gyermekétkeztetési feladatainak támogatása (B113) | C8: =SUM(D8:H8) -> 105915656 | D8: 105915656
A9: 4 | B9: Települési önkormányzatok kulturális feladatainak támogatása (B114) | C9: =SUM(D9:H9) -> 8755652 | D9: 8755652
A10: 5 | B10: Működési célú költségvetési támogatások és kiegészítő támogatások (B115) | C10: =SUM(D10:H10) -> 3966193 | D10: 3966193
A11: 6 | B11: Elszámolásból származó bevételek (B116) | C11: =SUM(D11:H11) -> 971050 | D11: 971050
A12: 7 | B12: Önkormányzatok működési támogatásai (B11) | C12: =SUM(D12:H12) -> 372387472 | D12: =SUM(D6:D11) -> 372387472 | E12: =SUM(E6:E11) -> 0 | F12: =SUM(F6:F11) -> 0 | G12: =SUM(G6:G11) -> 0 | H12: =SUM(H6:H11) -> 0
A13: 8 | B13: Elvonások és befizetések bevételei B12 | C13: =SUM(D13:H13) -> 0
A14: 9 | B14: Egyéb működési célú támogatások bevételei államháztartáson belülről (B16) | C14: =SUM(D14:H14) -> 315398858 | D14: =SUM(D15:D19) -> 248292884 | E14: =SUM(E15:E19) -> 1981048 | F14: =SUM(F15:F19) -> 63264006 | G14: =SUM(G15:G19) -> 966128 | H14: =SUM(H15:H19) -> 894792
A15: 10 | B15: ebből: egyéb központi kezelésű előirányzatok (B1612 | C15: =SUM(D15:H15) -> 6244548 | D15: 4263500 | E15: 1981048
A16: 11 | B16: ebből: fejezeti kezelésű EU B16 | C16: =SUM(D16:H16) -> 228071912 | D16: 227105784 | G16: 966128
A17: 12 | B17: ebből: társadalombiztosítás pénzügyi alapjai (B1614 | C17: =SUM(D17:H17) -> 16923600 | D17: 16923600
A18: 13 | B18: ebből: elkülönített állami pénzal (B1615 | C18: =SUM(D18:H18) -> 64158798 | F18: 63264006 | H18: 894792
A19: 14 | B19: ebből: önkormányzat és kv-i szerveik (B 1616 | C19: =SUM(D19:H19) -> 0
A20: 15 | B20: Működési célú támogatások államháztartáson belülről (B1) | C20: =SUM(D20:H20) -> 687786330 | D20: =D12+D14 -> 620680356 | E20: =E12+E14 -> 1981048 | F20: =F12+F14 -> 63264006 | G20: =G12+G14 -> 966128 | H20: =H12+H14 -> 894792
A21: 16 | B21: Felhalmozási célú önkormányzati támogatások (B21) | C21: =SUM(D21:H21) -> 95035862 | D21: =D22 -> 95035862 | E21: =E22 -> 0 | F21: =F22 -> 0 | G21: =G22 -> 0 | H21: =H22 -> 0
A22: 17 | B22: ebből: egyéb központi felhalmozási c tám B 2119 | C22: =SUM(D22:H22) -> 95035862 | D22: 95035862
A23: 18 | B23: Egyéb felhalmozási célú tám áht belülről B 25 | C23: =SUM(D23:H23) -> 1042344707 | D23: =SUM(D24:D27) -> 1041544707 | E23: =SUM(E24:E27) -> 0 | F23: =SUM(F24:F27) -> 0 | G23: =SUM(G24:G27) -> 800000 | H23: =SUM(H24:H27) -> 0
A24: 19 | B24: ebből egyéb központi fc tám (B2512 | C24: =SUM(D24:H24) -> 14249204 | D24: 14249204
A25: 20 | B25: ebből: egyéb fejezeti kez EU fc (B25 | C25: =SUM(D25:H25) -> 1028095503 | D25: 1027295503 | G25: 800000
A26: 21 | B26: ebből: elkülönített állami pénzal fc (B2515 | C26: =SUM(D26:H26) -> 0
A27: 22 | B27: ebből: önkorm és kv-i szervek fc tám (B2516 | C27: =SUM(D27:H27) -> 0
A28: 23 | B28: Felhalmozási célú támogatások államháztartáson belülről (B2) | C28: =SUM(D28:H28) -> 1137380569 | D28: =D21+D23 -> 1136580569 | E28: =E21+E23 -> 0 | F28: =F21+F23 -> 0 | G28: =G21+G23 -> 800000 | H28: =H21+H23 -> 0
A29: 24 | B29: Vagyoni tipusú adók (B34) | C29: =SUM(D29:H29) -> 110200000 | D29: =SUM(D30:D31) -> 110200000 | E29: =SUM(E30:E31) -> 0 | F29: =SUM(F30:F31) -> 0 | G29: =SUM(G30:G31) -> 0 | H29: =SUM(H30:H31) -> 0
A30: 25 | B30: ebből: építményadó (B34111) | C30: =SUM(D30:H30) -> 110200000 | D30: 110200000
A31: 26 | B31: ebből: magánszemélyek kommunális adója (B34114) | C31: =SUM(D31:H31) -> 0
A32: 27 | B32: Értékesítési és forgalmi adók iparűzési adó (B351121) | C32: =SUM(D32:H32) -> 181000000 | D32: 181000000
A33: 28 | B33: Gépjárműadó (B3541) | C33: =SUM(D33:H33) -> 11800000 | D33: 11800000
A34: 29 | B34: Egyéb áruhasználati és szolgáltatási adók, környezetterh díj, talajterhelési díj (B355) | C34: =SUM(D34:H34) -> 0
A35: 30 | B35: Termékek és szolgáltatások adói (B35) | C35: =SUM(D35:H35) -> 192800000 | D35: =SUM(D32:D34) -> 192800000 | E35: =SUM(E32:E34) -> 0 | F35: =SUM(F32:F34) -> 0 | G35: =SUM(G32:G34) -> 0 | H35: =SUM(H32:H34) -> 0
A36: 31 | B36: Egyéb közhatalmi bevételek (B36) | C36: =SUM(D36:H36) -> 400000 | D36: =SUM(D37:D38) -> 400000 | E36: =SUM(E37:E38) -> 0 | F36: =SUM(F37:F38) -> 0 | G36: =SUM(G37:G38) -> 0 | H36: =SUM(H37:H38) -> 0
A37: 32 | B37: ebből: szabálysértési pénz- és helyszíni bírság és a közlekedési szabályszegések után kiszabott közigazgatási bírság helyi önkormányzatot megillető része (B361225 köv) | C37: =SUM(D37:H37) -> 50000 | D37: 50000
A38: 33 | B38: ebből: egyéb bírság (B361229 köv) | C38: =SUM(D38:H38) -> 350000 | D38: 350000
A39: 34 | B39: Közhatalmi bevételek (B3) | C39: =SUM(D39:H39) -> 303400000 | D39: =D29+D35+D36 -> 303400000 | E39: =E29+E35+E36 -> 0 | F39: =F29+F35+F36 -> 0 | G39: =G29+G35+G36 -> 0 | H39: =H29+H35+H36 -> 0
A40: 35 | B40: Készlet értékesítés előirányzata B 40111 | C40: =SUM(D40:H40) -> 0
...

Sheet 2a
B1: Berhida Város Önkormányzata | D1: 2/a. melléklet
B2: 2018. évi költségvetés | D2: 1/2019.(III.1. ) rendelethez
B3: Kiadások | D3: adatok Ft-ban
A5: Felújítások | C5: Eredeti előir | D5: Mód. Előirányzat | E5: változás | F5: Mód. javaslat Ei
A6: 1 | B6: TESZ jármű felújítás | C6: 381000 | D6: 921000 | F6: =D6+E6 -> 921000
A7: 2 | B7: ÖH informatikai eszköz felújítás | C7: 381000 | D7: 381000 | F7: =D7+E7 -> 381000
A8: 3 | B8: ÖNK közvilágítás korszerűsítés kiviteli terv maradv | C8: 1247775 | D8: 1247775 | F8: =D8+E8 -> 1247775
A9: 4 | B9: ÖNK külterületi utak pályázat tervek maradv | C9: 640000 | D9: 640000 | F9: =D9+E9 -> 640000
A10: 5 | B10: ÖNK. Erkel F. u. forg.rend. terv. Kivitelezés maradv | C10: 964378 | D10: 964378 | F10: =D10+E10 -> 964378
A11: 6 | B11: ÖNK Ibolya-Rezeda-Orgona szennyvíz csatorna felúj HKA | C11: 3315970 | D11: 3315970 | F11: =D11+E11 -> 3315970
A12: 7 | B12: ÖNK Orgona u. ABC közl.baleset miatti felúj maradv | C12: 212321 | D12: 212321 | F12: =D12+E12 -> 212321
A13: 8 | B13: ÖNK tervek | D13: 900000 | F13: =D13+E13 -> 900000
A14: 9 | B14: ÖNK Süni óvoda fejlesztési pályázat önrész | D14: 0 | F14: =D14+E14 -> 0
A15: 10 | B15: ÖNK Első világháborús Kisfalúdy emlékmű pályázat önrész | D15: 1302000 | F15: =D15+E15 -> 1302000
A16: 11 | B16: ÖNK Jázmin u. 1/11. bejárati ajtó csere | D16: 190000 | F16: =D16+E16 -> 190000
A17: 12 | B17: ÖNK Ady E Ált Isk nyílászáró csere | D17: 3063818 | F17: =D17+E17 -> 3063818
A18: 13 | B18: ÖNK Süni konyhai épületrész felújítás (NÉMIH JKV szerint) | D18: 700000 | F18: =D18+E18 -> 700000
A19: 14 | B19: ÖNK Gyermekorvosi és védőnői szolg. Épület felúj pályázat 64 m | D19: 68826000 | F19: =D19+E19 -> 68826000
A20: 15 | B20: ÖNK Veszprémi úti zsidó temető kerítés felúj pály | D20: 1800000 | F20: =D20+E20 -> 1800000
A21: 16 | B21: ÖNK Pgytp sportöltöző villamosszekrény felúj | D21: 449936 | F21: =D21+E21 -> 449936
A22: 17 | B22: ÖNK villámhárító | D22: 1913152 | F22: =D22+E22 -> 1913152
A23: 18 | B23: ÖNK Petőfi Műv Ház mellékbejárat ajtócsere | D23: 339380 | F23: =D23+E23 -> 339380
A24: 19 | B24: ÖNK Üzletsor virág-zöldség-vegyesker. ablakcsere | D24: 1028959 | F24: =D24+E24 -> 1028959
A25: 20 | B25: ÖNK Sportöltöző Pgytp. fűtéshez szivattyú felújítás | D25: 264160 | F25: =D25+E25 -> 264160
A26: 21 | F26: =D26+E26 -> 0
A27: 22 | F27: =D27+E27 -> 0
A28: 23 | B28: Összesen | C28: =SUM(C6:C27) -> 7142444 | D28: =SUM(D6:D27) -> 88459849 | E28: =SUM(E6:E27) -> 0 | F28: =SUM(F6:F27) -> 88459849

Sheet 2b
B1: Berhida Város Önkormányzata | C1: 2/b. melléklet
B2: 2018. évi költségvetés | C2: 1/2019.(III. 1. ) rendelethez
B3: Kiadások | C3: adatok Ft-ban
A5: Beruházások | C5: Eredeti előir | E5: változás | F5: Mód. Előirányzat
A6: 1 | B6: TESZ imm javak +áfa | C6: 152400 | D6: 152400 | F6: =D6+E6 -> 152400
A7: 2 | B7: TESZ egyéb tárgyi eszközök beszerz út-híd | C7: 762000 | D7: 762000 | F7: =D7+E7 -> 762000
A8: 3 | B8: TESZ informatikai eszközök+áfa | C8: 50800 | D8: 50800 | F8: =D8+E8 -> 50800
A9: 4 | B9: TESZ zöldterület egyéb gép- berendezés+áfa | C9: 190500 | D9: 550500 | F9: =D9+E9 -> 550500
A10: 5 | B10: TESZ padok köztemető egyéb gép, berendezés+áfa maradv | C10: 181940 | D10: 181940 | F10: =D10+E10 -> 181940
A11: 6 | B11: TESZ egyéb gép, berendezés + áfa | C11: 88900 | D11: 88900 | F11: =D11+E11 -> 88900
A12: 7 | B12: TESZ hosszú közfoglalkoztatás eszközbeszerzés | C12: 381000 | D12: 381000 | F12: =D12+E12 -> 381000
A13: 8 | B13: Kultúrház egyéb tárgyi eszköz pály közműv érd növ | C13: 508000 | D13: 8256000 | F13: =D13+E13 -> 8256000
A14: 9 | B14: Kultúrház könyv beszerzés (éven túli) | C14: 660450 | D14: 795541 | F14: =D14+E14 -> 795541
A15: 10 | B15: Süni egyéb tárgyi eszköz + áfa | C15: 311569 | D15: 845569 | F15: =D15+E15 -> 845569
A16: 11 | B16: ÖH informatikai eszközök + áfa | C16: 1905000 | D16: 1405000 | F16: =D16+E16 -> 1405000
A17: 12 | B17: ÖH egyéb gép, berend + áfa | C17: 635000 | D17: 935000 | F17: =D17+E17 -> 935000
A18: 13 | B18: ÖH imm javak + áfa | C18: 635000 | D18: 635000 | F18: =D18+E18 -> 635000
A19: 14 | B19: ÖNK védőnői szolg. Egyéb eszközbeszerzés | C19: 254000 | D19: 354000 | E19: -39000 | F19: =D19+E19 -> 315000
A20: 15 | B20: ÖNK Péti uton buszmegálló beszerzés+ alépítmény maradv | C20: 1070000 | D20: 1070000 | F20: =D20+E20 -> 1070000
A21: 16 | B21: ÖNK Rezeda u. 19. redőny, szunyogháló beszerz maradv e gép | C21: 184347 | D21: 184347 | F21: =D21+E21 -> 184347
A22: 17 | B22: ÖNK telephely vásárlás TESZ | C22: 10000000 | D22: 0 | F22: =D22+E22 -> 0
A23: 18 | B23: ÖNK kerékpárút kialakítás TOP 3.1.1-16 pályázat | C23: 248304948 | D23: 248304948 | F23: =D23+E23 -> 248304948
A24: 19 | B24: ÖNK szennyvíz tisztítótelep, csatornahál fejl. KEHOP pályázat | C24: 776790555 | D24: 776790555 | F24: =D24+E24 -> 776790555
A25: 20 | B25: TESZ vagyongazdálkodás egyéb eszköz beszerz + áfa | D25: 300000 | F25: =D25+E25 -> 300000
A26: 21 | B26: ÖNK tervek | D26: 2100000 | F26: =D26+E26 -> 2100000
A27: 22 | B27: ÖNK Rezeda u. 21. szolg. Lakás redőny, szunyogháló e.gép | D27: 254000 | F27: =D27+E27 -> 254000
A28: 23 | B28: ÖNK ingatlan vásárlás 1755/2 (régi forfa) | D28: 120000 | F28: =D28+E28 -> 120000
A29: 24 | B29: ÖNK 181/2 hrsz-ú közút közvilágítási hálózatra csatlakozás | D29: 2016722 | F29: =D29+E29 -> 2016722
A30: 25 | B30: ÖNK Kiskovácsi temető ravatalozó bővítés Korm. Hiv hatós. Előir | D30: 2500000 | F30: =D30+E30 -> 2500000
A31: 26 | B31: ÖNK urnahely temetkezési hely kialakítás | D31: 500000 | F31: =D31+E31 -> 500000
A32: 27 | B32: Kultúr kisértékű te. Népviseleti ruha, cipő pályázat | D32: 839000 | F32: =D32+E32 -> 839000
A33: 28 | B33: TESZ fűníró traktor vásárlás | D33: 1049900 | F33: =D33+E33 -> 1049900
A34: 29 | B34: Kultúr kisértékű tárgyi eszköz szakkörök | D34: 629495 | F34: =D34+E34 -> 629495
A35: 30 | B35: ÖNK szennyvíztisztító telep KEHOP pályázat ingatlan vás | D35: 2200000 | F35: =D35+E35 -> 2200000
A36: 31 | B36: ÖNK sportparkok kialakítása térburkolat | D36: 1955800 | F36: =D36+E36 -> 1955800
... A40: 35 | B40: ÖNK Péti uton buszmegálló beszerzés+ alépítmény | D40: 1540000 | F40: =D40+E40 -> 1540000
A41: 36 | B41: ÖNK védőnői szolg. informatikai eszközbeszerzés | E41: 39000 | F41: =D41+E41 -> 39000
A42: 37 | B42: ÖNK ivóvíz bekötés felújítások Viziközmű szl-.ról | D42: 1116976 | F42: =D42+E42 -> 1116976
A43: 38 | B43: ÖNK viziközmű alapból tervek | D43: 2349500 | F43: =D43+E43 -> 2349500
A44: 39 | B44: ÖNK viziközmű alapból keretszerződés | D44: 3000000 | F44: =D44+E44 -> 3000000
...

Sheet 2d
B1: Berhida Város Önkormányzata | E1: 2/d. melléklet
B2: 2018. évi költségvetés | E2: 1/2019.(III.1. ) rendelethez
C3: KIADÁSOK | E3: Ft-ban
A5: Sor- szám | B5: Rovat megnevezése | C5: Módosított előirányzat összesen | D5: Önkormányzat | E5: Közös Hivatal | F5: TESZ | G5: Kultúrház | H5: Süni
A6: 1 | B6: Személyi juttatások (K1) | C6: =SUM(D6:H6) -> 390629130 | D6: 37303010 | E6: 134574971 | F6: 112540360 | G6: 24139051 | H6: 82071738
A7: 2 | B7: Munkaadókat terhelő járulékok és szociális hozzájárulási adó (K2) | C7: =SUM(D7:H7) -> 73583465 | D7: 8571628 | E7: 28891426 | F7: 15322226 | G7: 4766929 | H7: 16031256
A8: 3 | B8: Dologi kiadások (K3) | C8: =SUM(D8:H8) -> 475365373 | D8: 286377270 | E8: 35291065 | F8: 76819609 | G8: 33280498 | H8: 43596931
A9: 4 | B9: Családi támogatások (K42) | C9: =SUM(D9:H9) -> 4263500 | D9: =D10 -> 4263500 | E9: =E10 -> 0 | F9: =F10 -> 0 | G9: =G10 -> 0 | H9: =H10 -> 0
A10: 5 | B10: ebből: az egyéb pénzbeli és természetbeni gyermekvédelmi támogatások (K42132) | C10: =SUM(D10:H10) -> 4263500 | D10: 4263500
A11: 6 | B11: Intézményi ellátottak pénzbeli juttatásai (K47) | C11: =SUM(D11:H11) -> 800000 | D11: =D12 -> 800000 | E11: =E12 -> 0 | F11: =F12 -> 0 | G11: =G12 -> 0 | H11: =H12 -> 0
A12: 7 | B12: ebből: oktatásban résztvevők pénzbeli juttatásai (K471) | C12: =SUM(D12:H12) -> 800000 | D12: 800000
A13: 8 | B13: Egyéb nem intézményi ellátások (K48) | C13: =SUM(D13:H13) -> 10580000 | D13: =SUM(D14:D15) -> 10580000 | E13: =SUM(E14:E15) -> 0 | F13: =SUM(F14:F15) -> 0 | G13: =SUM(G14:G15) -> 0 | H13: =SUM(H14:H15) -> 0
A14: 9 | B14: ebből: köztemetés [Szoctv. 48.§] (K48123) | C14: =SUM(D14:H14) -> 1000000 | D14: 1000000
A15: 10 | B15: ebből: települési támogatás [Szoctv. 45. §], (K48122) | C15: =SUM(D15:H15) -> 9580000 | D15: 9580000
A16: 11 | B16: Ellátottak pénzbeli juttatásai (K4) | C16: =SUM(D16:H16) -> 15643500 | D16: =D9+D11+D13 -> 15643500 | E16: =E9+E11+E13 -> 0 | F16: =F9+F11+F13 -> 0 | G16: =G9+G11+G13 -> 0 | H16: =H9+H11+H13 -> 0
A17: 12 | B17: Elvonások és befizetések (K5023) | C17: =SUM(D17:H17) -> 0
A18: 13 | B18: Egyéb működési célú támogatások államháztartáson belülre (K506) | C18: =SUM(D18:H18) -> 169123789 | D18: =SUM(D19:D22) -> 169123789 | E18: =SUM(E19:E22) -> 0 | F18: =SUM(F19:F22) -> 0 | G18: =SUM(G19:G22) -> 0 | H18: =SUM(H19:H22) -> 0
A19: 14 | B19: ebből: egyéb központi kezelésű előir (K50612) | C19: =SUM(D19:H19) -> 3620000 | D19: 3620000
A20: 15 | B20: ebből: elkülönített állami pénzalap (K50615) | C20: =SUM(D20:H20) -> 0
A21: 16 | B21: ebből: önkormányzatok és költségv-i szerveik K50616) | C21: =SUM(D21:H21) -> 0
A22: 17 | B22: ebből: társulások és költségvetési szerveik (K50617) | C22: =SUM(D22:H22) -> 165503789 | D22: 165503789
A23: 18 | B23: Egyéb működési célú támogatások államháztartáson kívülre (K512) | C23: =SUM(D23:H23) -> 8699850 | D23: 8699850
A24: 19 | B24: Egyházi jogi személy egyé műk célú tám( K51216 | C24: =SUM(D24:H24) -> 69310 | D24: 69310
A25: 20 | B25: Tartalékok (K51311) | C25: =SUM(D25:H25) -> 97352338 | D25: 97352338
A26: 21 | B26: Egyéb működési célú kiadások (K5) | C26: =SUM(D26:H26) -> 275245287 | D26: =D17+D18+D23+D24+D25 -> 275245287 | E26: =E17+E18+E23+E24+E25 -> 0 | F26: =F17+F18+F23+F24+F25 -> 0 | G26: =G17+G18+G23+G24+G25 -> 0 | H26: =H17+H18+H23+H24+H25 -> 0
A27: 22 | B27: Immateriális javak beszerzése, lét (K611) | C27: =SUM(D27:H27) -> 620000 | E27: 500000 | F27: 120000
A28: 23 | B28: Ingatlanok beszerzése, létesítése (K621) | C28: =SUM(D28:H28) -> 1014275238 | D28: 1014275238
A29: 24 | B29: Informatikai eszközök beszerzése, létesítése (K631) | C29: =SUM(D29:H29) -> 1177008 | D29: 30709 | E29: 1106299 | F29: 40000
A30: 25 | B30: Egyéb tárgyi eszközök beszerzése, létesítése (K641) | C30: =SUM(D30:H30) -> 28480602 | D30: 16054201 | E30: 736220 | F30: 2609638 | G30: 8414741 | H30: 665802
A31: 26 | B31: Beruházási célú előzetesen felszámított általános forgalmi adó (K671) | C31: =SUM(D31:H31) -> 72129135 | D31: 68463790 | E31: 632481 | F31: 747802 | G31: 2105295 | H31: 179767
A32: 27 | B32: Beruházások (K6) | C32: =SUM(D32:H32) -> 1116681983 | D32: =SUM(D27:D31) -> 1098823938 | E32: =SUM(E27:E31) -> 2975000 | F32: =SUM(F27:F31) -> 3517440 | G32: =SUM(G27:G31) -> 10520036 | H32: =SUM(H27:H31) -> 845569
A33: 28 | B33: Ingatlanok felújítása (K711) | C33: =SUM(D33:H33) -> 68628228 | D33: 68628228
A34: 29 | B34: Informatikai eszközök felújítása (K723) | C34: =SUM(D34:H34) -> 300000 | E34: 300000
A35: 30 | B35: Egyéb tárgyi eszközök felújítása (K731) | C35: =SUM(D35:H35) -> 725196 | F35: 725196
A36: 31 | B36: Felújítási célú előzetesen felszámított általános forgalmi adó (K741) | C36: =SUM(D36:H36) -> 18806425 | D36: 18529621 | E36: 81000 | F36: 195804
A37: 32 | B37: Felújítások (K7) | C37: =SUM(D37:H37) -> 88459849 | D37: =SUM(D33:D36) -> 87157849 | E37: =SUM(E33:E36) -> 381000 | F37: =SUM(F33:F36) -> 921000 | G37: =SUM(G33:G36) -> 0 | H37: =SUM(H33:H36) -> 0
A38: 33 | B38: Egyéb felhalmozási célú támogatások államháztartáson kívülre (K89) | C38: =SUM(D38:H38) -> 11787317 | D38: =SUM(D39:D41) -> 11787317 | E38: =SUM(E39:E41) -> 0 | F38: =SUM(F39:F41) -> 0 | G38: =SUM(G39:G41) -> 0 | H38: =SUM(H39:H41) -> 0
A39: 34 | B39: ebből:önkormányzati többségi tulajdonú nem pénzügyi vállalkozások (K89122) | C39: =SUM(D39:H39) -> 11487317 | D39: 11487317
A40: 35 | B40: ebből: nonprofit gazdasági társaságok (K8915) | C40: =SUM(D40:H40) -> 0
A41: 36 | B41: ebből: egyéb civil szervezeteknek | C41: =SUM(D41:H41) -> 300000 | D41: 300000
...

Sheet 4
C1: BERHIDA VÁROS ÖNKORMÁNYZATA | G1: 4. melléklet
D2: 2018.évi MÉRLEGTERV | G2: 1/2019.(III.1. ) rendelethez
C3: a működési és felhalmozási célú bevételi és kiadási előirányzatokról | G3: adatok Ft-ban
B5: A | C5: B | D5: C | E5: D | F5: E | G5: F
A6: 1 | B6: BEVÉTELI TERV | E6: KIADÁSI TERV
A7: 2 | B7: I. | C7: Működési célú bevételi terv | E7: I. | F7: Működési célú kiadási terv
A8: 3 | B8: a.) | C8: Műk c támogatások áht belülről | D8: ='1b'!C20 -> 687786330 | E8: a.) | F8: Személyi juttatások | G8: ='2d'!C6 -> 390629130
A9: 4 | B9: b.) | C9: Közhatalmi bevételek | D9: ='1b'!C39 -> 303400000 | E9: b.) | F9: Munkaadókat t járulékok | G9: ='2d'!C7 -> 73583465
A10: 5 | B10: c.) | C10: Működési bevételek | D10: ='1b'!C61 -> 39564766 | E10: c.) | F10: Dologi kiadások | G10: ='2d'!C8 -> 475365373
A11: 6 | B11: d.) | C11: Működési átvett pénzeszközök | D11: ='1b'!C66 -> 415000 | E11: d.) | F11: Ellátottak pénzbeli jutt | G11: ='2d'!C16 -> 15643500
A12: 7 | B12: e.) | E12: e.) | F12: Egyéb műk c kiadások | G12: ='2d'!C26 -> 275245287
A13: 8 | B13: f.) | E13: f.)
A14: 9 | E14: g.)
A15: 10
A16: 11 | C16: I. Bevételek: | D16: =SUM(D8:D15) -> 1031166096 | F16: I. Kiadások együtt: | G16: =SUM(G8:G14) -> 1230466755
A17: 12 | F17: Működési célú bevételek: | G17: =D16 -> 1031166096
A18: 13 | F18: Működési egyenleg: | G18: =G16-G17 -> 199300659
A19: 14
A20: 15 | B20: II. | C20: Felhalmozási célú bevételi terv | E20: II. | F20: Felhalmozási célú kiadások:
A21: 16 | B21: 1.) | C21: Felhalmozási c támog. Áht-n bel | D21: ='1b'!C28 -> 1137380569 | E21: 1.) | F21: Beruházások | G21: ='2d'!C32 -> 1116681983
A22: 17 | B22: 2.) | C22: Felhalmozási bevételek | D22: ='1b'!C64 -> 12129420 | E22: 2.) | F22: Felújítások | G22: ='2d'!C37 -> 88459849
A23: 18 | B23: 3.) | C23: Egyéb felhalmozási c átvett pe | D23: ='1b'!C70 -> 3122000 | E23: 3.) | F23: Egyéb felhalm c kiadások | G23: ='2d'!C43 -> 19303812
A24: 19 | B24: 4.) | E24: 4.)
A25: 20 | B25: 5.) | E25: 5.)
A26: 21 | B26: 6.)
A27: 22 | B27: 7.)
A28: 23 | B28: 8.)
A29: 24 | C29: II. Bevételek: | D29: =SUM(D21:D28) -> 1152631989 | F29: II. Kiadások: | G29: =SUM(G21:G26) -> 1224445644
A30: 25 | F30: Felhalm.célú bevételek: | G30: =D29 -> 1152631989
A31: 26 | F31: Felhalm. egyenleg: | G31: =G29-G30 -> 71813655
A32: 27
A33: 28 | C33: Bevételek összesen (I+II): | D33: =D16+D29 -> 2183798085 | F33: Kiadások összesen (I+II): | G33: =SUM(G16+G29) -> 2454912399
C34: iránytószervi támogatás | D34: ='1b'!C75 -> 507950224 | F34: iránítószervi támogatás | G34: ='2d'!C46 -> 507950224
C35: Áht megelőleg | D35: ='1b'!C74 -> 33229433
C36: kv-i mararvány | D36: ='1b'!C73 -> 283299607 | F36: Áht megelőleg visszafiz | G36: ='2d'!C45 -> 45414726
C37: Össz bevétel | D37: =SUM(D33:D36) -> 3008277349 | F37: Össz Kiadás | G37: =SUM(G33:G36) -> 3008277349

Sheet 6.mell.
C1: Berhida Város Önkormányzata
C2: ellátottak pénzbeli juttatásai | F2: 6. melléklet
C3: 2018. év | F3: 1/2019.(III.1.) rendelethez
F4: adatok Ft-ban
B5: A | C5: B | D5: C | E5: D | F5: E | G5: F
B6: Szociális jogcímek | C6: átruházott hatáskört gyakorló | E6: Képvis.test.jogk. | F6: Jegyzői jogk. | G6: Összes
C7: polgármester | D7: Humán Biz. | G7: előirányzat
A8: 1 | B8: Pénzbeli ellátások összesen | C8: =SUM(C9:C19) -> 3100000 | D8: =SUM(D9:D19) -> 7900000 | E8: =SUM(E9:E19) -> 800000 | F8: =SUM(F9:F19) -> 0 | G8: =SUM(G9:G19) -> 11380000
A9: 2 | B9: Települési támogatás
A10: 3 | B10: Nem intézményi ell. Ebből
A11: 4 | B11: Gyermekvéd.támog. | D11: 600000 | G11: =SUM(C11:F11) -> 600000
A12: 5 | B12: Lakhatási támog | D12: 6300000 | G12: 5880000
A13: 6 | B13: Temetési segély | C13: 1500000 | G13: =SUM(C13:F13) -> 1500000
A14: 7 | B14: gyógyszertámogatás | C14: 700000 | G14: =SUM(C14:F14) -> 700000
A15: 8 | B15: Átmeneti célú támog | D15: 1000000 | G15: =SUM(C15:F15) -> 1000000
A16: 9 | B16: Köztemetés | C16: 900000 | G16: =SUM(C16:F16) -> 900000
A17: 10 | B17: Intézményi ell., oktatásban részt vevők | G17: =SUM(C17:F17) -> 0
A18: 11 | B18: Arany János ösztöndíj | E18: 250000 | G18: =SUM(C18:F18) -> 250000
A19: 12 | B19: érettségire jelentkezők regisztrációs díja | E19: 550000 | G19: =SUM(C19:F19) -> 550000
B21: Dologi kiadás | G21: =SUM(G22:G23) -> 4068000
B22: téli rezsi csökkentés támogatás | G22: 2544000
B23: szociális tüzifa juttatás | G23: 1524000
B24: Egyéb központi kezelésű tám
B25: Bursa hungarica felsőoktatási pály tám | G25: 3120000
B26: Családtámogatás (gyermekvédelmi norm.kedv) | G26: 4263500
B27: MMINDÖSSZESEN | G27: =G8+G21+G25+G26 -> 22831500

Sheet 9a
B1: Berhida Város Önkormányzata | F1: 9a. melléklet
B2: 2018. évi eredeti költségvetés | F2: 1/2019.(III.1.) rendelethez
F3: Ft-ban
B4: KÖTELEZŐ FELADATOK | C4: BEVÉTELEK
A5: Sor- szám | B5: Rovat megnevezése | C5: Eredeti előirányzat összesen | D5: Önkormányzat | E5: Közös Hivatal | F5: TESZ | G5: Kultúrház | H5: Süni
A6: 1 | B6: Helyi önkormányzatok működésének általános támogatása (B1111) | C6: ='1b'!C6-'9b'!C6-'9c'!C6 -> 108620388 | D6: ='1b'!D6-'9b'!D6-'9c'!D6 -> 108620388 | E6: ='1b'!E6-'9b'!E6-'9c'!E6 -> 0 | F6: ='1b'!F6-'9b'!F6-'9c'!F6 -> 0 | G6: ='1b'!G6-'9b'!G6-'9c'!G6 -> 0 | H6: ='1b'!H6-'9b'!H6-'9c'!H6 -> 0
A7: 2 | B7: Települési önkormányzatok egyes köznevelési feladatainak támogatása (B112) | C7: ='1b'!C7-'9b'!C7-'9c'!C7 -> 144158533 | D7: ='1b'!D7-'9b'!D7-'9c'!D7 -> 144158533 | E7: ='1b'!E7-'9b'!E7-'9c'!E7 -> 0 | F7: ='1b'!F7-'9b'!F7-'9c'!F7 -> 0 | G7: ='1b'!G7-'9b'!G7-'9c'!G7 -> 0 | H7: ='1b'!H7-'9b'!H7-'9c'!H7 -> 0
A8: 3 | B8: Települési önkormányzatok szociális, gyermekjóléti és gyermekétkeztetési feladatainak támogatása (B113) | C8: ='1b'!C8-'9b'!C8-'9c'!C8 -> 105915656 | D8: ='1b'!D8-'9b'!D8-'9c'!D8 -> 105915656 | E8: ='1b'!E8-'9b'!E8-'9c'!E8 -> 0 | F8: ='1b'!F8-'9b'!F8-'9c'!F8 -> 0 | G8: ='1b'!G8-'9b'!G8-'9c'!G8 -> 0 | H8: ='1b'!H8-'9b'!H8-'9c'!H8 -> 0
A9: 4 | B9: Települési önkormányzatok kulturális feladatainak támogatása (B114) | C9: ='1b'!C9-'9b'!C9-'9c'!C9 -> 8755652 | D9: ='1b'!D9-'9b'!D9-'9c'!D9 -> 8755652 | E9: ='1b'!E9-'9b'!E9-'9c'!E9 -> 0 | F9: ='1b'!F9-'9b'!F9-'9c'!F9 -> 0 | G9: ='1b'!G9-'9b'!G9-'9c'!G9 -> 0 | H9: ='1b'!H9-'9b'!H9-'9c'!H9 -> 0
A10: 5 | B10: Működési célú költségvetési támogatások és kiegészítő támogatások (B115) | C10: ='1b'!C10-'9b'!C10-'9c'!C10 -> 3966193 | D10: ='1b'!D10-'9b'!D10-'9c'!D10 -> 3966193 | E10: ='1b'!E10-'9b'!E10-'9c'!E10 -> 0 | F10: ='1b'!F10-'9b'!F10-'9c'!F10 -> 0 | G10: ='1b'!G10-'9b'!G10-'9c'!G10 -> 0 | H10: ='1b'!H10-'9b'!H10-'9c'!H10 -> 0
A11: 6 | B11: Elszámolásból származó bevételek (B116) | C11: ='1b'!C11-'9b'!C11-'9c'!C11 -> 971050 | D11: ='1b'!D11-'9b'!D11-'9c'!D11 -> 971050 | E11: ='1b'!E11-'9b'!E11-'9c'!E11 -> 0 | F11: ='1b'!F11-'9b'!F11-'9c'!F11 -> 0 | G11: ='1b'!G11-'9b'!G11-'9c'!G11 -> 0 | H11: ='1b'!H11-'9b'!H11-'9c'!H11 -> 0
A12: 7 | B12: Önkormányzatok működési támogatásai (B11) | C12: ='1b'!C12-'9b'!C12-'9c'!C12 -> 372387472 | D12: ='1b'!D12-'9b'!D12-'9c'!D12 -> 372387472 | E12: ='1b'!E12-'9b'!E12-'9c'!E12 -> 0 | F12: ='1b'!F12-'9b'!F12-'9c'!F12 -> 0 | G12: ='1b'!G12-'9b'!G12-'9c'!G12 -> 0 | H12: ='1b'!H12-'9b'!H12-'9c'!H12 -> 0
A13: 8 | B13: Elvonások és befizetések bevételei B12 | C13: ='1b'!C13-'9b'!C13-'9c'!C13 -> 0 | D13: ='1b'!D13-'9b'!D13-'9c'!D13 -> 0 | E13: ='1b'!E13-'9b'!E13-'9c'!E13 -> 0 | F13: ='1b'!F13-'9b'!F13-'9c'!F13 -> 0 | G13: ='1b'!G13-'9b'!G13-'9c'!G13 -> 0 | H13: ='1b'!H13-'9b'!H13-'9c'!H13 -> 0
A14: 9 | B14: Egyéb működési célú támogatások bevételei államháztartáson belülről (B16) | C14: ='1b'!C14-'9b'!C14-'9c'!C14 -> 315398858 | D14: ='1b'!D14-'9b'!D14-'9c'!D14 -> 248292884 | E14: ='1b'!E14-'9b'!E14-'9c'!E14 -> 1981048 | F14: ='1b'!F14-'9b'!F14-'9c'!F14 -> 63264006 | G14: ='1b'!G14-'9b'!G14-'9c'!G14 -> 966128 | H14: ='1b'!H14-'9b'!H14-'9c'!H14 -> 894792
A15: 10 | B15: ebből: egyéb központi kezelésű előirányzatok (B1612 | C15: ='1b'!C15-'9b'!C15-'9c'!C15 -> 6244548 | D15: ='1b'!D15-'9b'!D15-'9c'!D15 -> 4263500 | E15: ='1b'!E15-'9b'!E15-'9c'!E15 -> 1981048 | F15: ='1b'!F15-'9b'!F15-'9c'!F15 -> 0 | G15: ='1b'!G15-'9b'!G15-'9c'!G15 -> 0 | H15: ='1b'!H15-'9b'!H15-'9c'!H15 -> 0
A16: 11 | B16: ebből: fejezeti kezelésű EU B16 | C16: ='1b'!C16-'9b'!C16-'9c'!C16 -> 228071912 | D16: ='1b'!D16-'9b'!D16-'9c'!D16 -> 227105784 | E16: ='1b'!E16-'9b'!E16-'9c'!E16 -> 0 | F16: ='1b'!F16-'9b'!F16-'9c'!F16 -> 0 | G16: ='1b'!G16-'9b'!G16-'9c'!G16 -> 966128 | H16: ='1b'!H16-'9b'!H16-'9c'!H16 -> 0
A17: 12 | B17: ebből: társadalombiztosítás pénzügyi alapjai (B1614 | C17: ='1b'!C17-'9b'!C17-'9c'!C17 -> 16923600 | D17: ='1b'!D17-'9b'!D17-'9c'!D17 -> 16923600 | E17: ='1b'!E17-'9b'!E17-'9c'!E17 -> 0 | F17: ='1b'!F17-'9b'!F17-'9c'!F17 -> 0 | G17: ='1b'!G17-'9b'!G17-'9c'!G17 -> 0 | H17: ='1b'!H17-'9b'!H17-'9c'!H17 -> 0
... A78: 73 | B78: MINDÖSSZESEN: | C78: ='1b'!C78-'9b'!C78-'9c'!C78 -> 2949248197 | D78: ='1b'!D78-'9b'!D78-'9c'!D78 -> 2336681849 | E78: ='1b'!E78-'9b'!E78-'9c'!E78 -> 194234105 | F78: ='1b'!F78-'9b'!F78-'9c'!F78 -> 204413735 | G78: ='1b'!G78-'9b'!G78-'9c'!G78 -> 71373014 | H78: ='1b'!H78-'9b'!H78-'9c'!H78 -> 142545494
A79: 74 | B79: Személyi juttatások (K1) | C79: ='2d'!C6-'9b'!C79-'9c'!C79 -> 384072236 | D79: ='2d'!D6-'9b'!D79-'9c'!D79 -> 37303010 | E79: ='2d'!E6-'9b'!E79-'9c'!E79 -> 128018077 | F79: ='2d'!F6-'9b'!F79-'9c'!F79 -> 112540360 | G79: ='2d'!G6-'9b'!G79-'9c'!G79 -> 24139051 | H79: ='2d'!H6-'9b'!H79-'9c'!H79 -> 82071738
A80: 75 | B80: Munkaadókat terhelő járulékok és szociális hozzájárulási adó (K2) | C80: ='2d'!C7-'9b'!C80-'9c'!C80 -> 72261002 | D80: ='2d'!D7-'9b'!D80-'9c'!D80 -> 8571628 | E80: ='2d'!E7-'9b'!E80-'9c'!E80 -> 27568963 | F80: ='2d'!F7-'9b'!F80-'9c'!F80 -> 15322226 | G80: ='2d'!G7-'9b'!G80-'9c'!G80 -> 4766929 | H80: ='2d'!H7-'9b'!H80-'9c'!H80 -> 16031256
A81: 76 | B81: Dologi kiadások (K3) | C81: ='2d'!C8-'9b'!C81-'9c'!C81 -> 456217773 | D81: ='2d'!D8-'9b'!D81-'9c'!D81 -> 273270070 | E81: ='2d'!E8-'9b'!E81-'9c'!E81 -> 35291065 | F81: ='2d'!F8-'9b'!F81-'9c'!F81 -> 72112709 | G81: ='2d'!G8-'9b'!G81-'9c'!G81 -> 31946998 | H81: ='2d'!H8-'9b'!H81-'9c'!H81 -> 43596931
A82: 77 | B82: Családi támogatások (K42) | C82: ='2d'!C9-'9b'!C82-'9c'!C82 -> 4263500 | D82: ='2d'!D9-'9b'!D82-'9c'!D82 -> 4263500 | E82: ='2d'!E9-'9b'!E82-'9c'!E82 -> 0 | F82: ='2d'!F9-'9b'!F82-'9c'!F82 -> 0 | G82: ='2d'!G9-'9b'!G82-'9c'!G82 -> 0 | H82: ='2d'!H9-'9b'!H82-'9c'!H82 -> 0
A83: 78 | B83: ebből: az egyéb pénzbeli és természetbeni gyermekvédelmi támogatások (K42132) | C83: ='2d'!C10-'9b'!C83-'9c'!C83 -> 4263500 | D83: ='2d'!D10-'9b'!D83-'9c'!D83 -> 4263500 | E83: ='2d'!E10-'9b'!E83-'9c'!E83 -> 0 | F83: ='2d'!F10-'9b'!F83-'9c'!F83 -> 0 | G83: ='2d'!G10-'9b'!G83-'9c'!G83 -> 0 | H83: ='2d'!H10-'9b'!H83-'9c'!H83 -> 0
A84: 79 | B84: Intézményi ellátottak pénzbeli juttatásai (K47) | C84: ='2d'!C11-'9b'!C84-'9c'!C84 -> 800000 | D84: ='2d'!D11-'9b'!D84-'9c'!D84 -> 800000 | E84: ='2d'!E11-'9b'!E84-'9c'!E84 -> 0 | F84: ='2d'!F11-'9b'!F84-'9c'!F84 -> 0 | G84: ='2d'!G11-'9b'!G84-'9c'!G84 -> 0 | H84: ='2d'!H11-'9b'!H84-'9c'!H84 -> 0
A85: 80 | B85: ebből: oktatásban résztvevők pénzbeli juttatásai (K471) | C85: ='2d'!C12-'9b'!C85-'9c'!C85 -> 800000 | D85: ='2d'!D12-'9b'!D85-'9c'!D85 -> 800000 | E85: ='2d'!E12-'9b'!E85-'9c'!E85 -> 0 | F85: ='2d'!F12-'9b'!F85-'9c'!F85 -> 0 | G85: ='2d'!G12-'9b'!G85-'9c'!G85 -> 0 | H85: ='2d'!H12-'9b'!H85-'9c'!H85 -> 0
A86: 81 | B86: Egyéb nem intézményi ellátások (K48) | C86: ='2d'!C13-'9b'!C86-'9c'!C86 -> 10580000 | D86: ='2d'!D13-'9b'!D86-'9c'!D86 -> 10580000 | E86: ='2d'!E13-'9b'!E86-'9c'!E86 -> 0 | F86: ='2d'!F13-'9b'!F86-'9c'!F86 -> 0 | G86: ='2d'!G13-'9b'!G86-'9c'!G86 -> 0 | H86: ='2d'!H13-'9b'!H86-'9c'!H86 -> 0
A87: 82 | B87: ebből: köztemetés [Szoctv. 48.§] (K48123) | C87: ='2d'!C14-'9b'!C87-'9c'!C87 -> 1000000 | D87: ='2d'!D14-'9b'!D87-'9c'!D87 -> 1000000 | E87: ='2d'!E14-'9b'!E87-'9c'!E87 -> 0 | F87: ='2d'!F14-'9b'!F87-'9c'!F87 -> 0 | G87: ='2d'!G14-'9b'!G87-'9c'!G87 -> 0 | H87: ='2d'!H14-'9b'!H87-'9c'!H87 -> 0
A88: 83 | B88: ebből: települési támogatás [Szoctv. 45. §], (K48122) | C88: ='2d'!C15-'9b'!C88-'9c'!C88 -> 9580000 | D88: ='2d'!D15-'9b'!D88-'9c'!D88 -> 9580000 | E88: ='2d'!E15-'9b'!E88-'9c'!E88 -> 0 | F88: ='2d'!F15-'9b'!F88-'9c'!F88 -> 0 | G88: ='2d'!G15-'9b'!G88-'9c'!G88 -> 0 | H88: ='2d'!H15-'9b'!H88-'9c'!H88 -> 0
A89: 84 | B89: Ellátottak pénzbeli juttatásai (K4) | C89: ='2d'!C16-'9b'!C89-'9c'!C89 -> 15643500 | D89: ='2d'!D16-'9b'!D89-'9c'!D89 -> 15643500 | E89: ='2d'!E16-'9b'!E89-'9c'!E89 -> 0 | F89: ='2d'!F16-'9b'!F89-'9c'!F89 -> 0 | G89: ='2d'!G16-'9b'!G89-'9c'!G89 -> 0 | H89: ='2d'!H16-'9b'!H89-'9c'!H89 -> 0
A90: 85 | B90: Elvonások és befizetések (K5023) | C90: ='2d'!C17-'9b'!C90-'9c'!C90 -> 0 | D90: ='2d'!D17-'9b'!D90-'9c'!D90 -> 0 | E90: ='2d'!E17-'9b'!E90-'9c'!E90 -> 0 | F90: ='2d'!F17-'9b'!F90-'9c'!F90 -> 0 | G90: ='2d'!G17-'9b'!G90-'9c'!G90 -> 0 | H90: ='2d'!H17-'9b'!H90-'9c'!H90 -> 0
... A114: 109 | B114: ebből: egyéb civil szervezeteknek | C114: ='2d'!C41-'9b'!C114-'9c'!C114 -> 0 | D114: ='2d'!D41-'9b'!D114-'9c'!D114 -> 0 | E114: ='2d'!E41-'9b'!E114-'9c'!E114 -> 0 | F114: ='2d'!F41-'9b'!F114-'9c'!F114 -> 0 | G114: ='2d'!G41-'9b'!G114-'9c'!G114 -> 0 | H114: ='2d'!H41-'9b'!H114-'9c'!H114 -> 0
A115: 116 | B115: Felhalmozási célú támogatások Áht belülre Önk-nak K8 | C115: =SUM(D115:H115) -> 7516495 | D115: 7516495
A116: 110 | B116: Egyéb felhalmozási célú kiadások (K8) | C116: ='2d'!C43-'9b'!C115-'9c'!C115 -> 19303812 | D116: ='2d'!D43-'9b'!D115-'9c'!D115 -> 19303812 | E116: ='2d'!E43-'9b'!E115-'9c'!E115 -> 0 | F116: ='2d'!F43-'9b'!F115-'9c'!F115 -> 0 | G116: ='2d'!G43-'9b'!G115-'9c'!G115 -> 0 | H116: ='2d'!H43-'9b'!H115-'9c'!H115 -> 0
A117: 111 | B117: Költségvetési kiadások (K1-K8) | C117: ='2d'!C44-'9b'!C116-'9c'!C116 -> 2408317104 | D117: ='2d'!D44-'9b'!D116-'9c'!D116 -> 1795750756 | E117: ='2d'!E44-'9b'!E116-'9c'!E116 -> 194234105 | F117: ='2d'!F44-'9b'!F116-'9c'!F116 -> 204413735 | G117: ='2d'!G44-'9b'!G116-'9c'!G116 -> 71373014 | H117: ='2d'!H44-'9b'!H116-'9c'!H116 -> 142545494
A118: 112 | B118: Államháztartáson belüli megelőlegezések visszafizetése (K914) | C118: ='2d'!C45-'9b'!C117-'9c'!C117 -> 45414726 | D118: ='2d'!D45-'9b'!D117-'9c'!D117 -> 45414726 | E118: ='2d'!E45-'9b'!E117-'9c'!E117 -> 0 | F118: ='2d'!F45-'9b'!F117-'9c'!F117 -> 0 | G118: ='2d'!G45-'9b'!G117-'9c'!G117 -> 0 | H118: ='2d'!H45-'9b'!H117-'9c'!H117 -> 0
A119: 113 | B119: Központi, irányító szervi támogatások folyósítása (K915) | C119: ='2d'!C46-'9b'!C118-'9c'!C118 -> 495516367 | D119: ='2d'!D46-'9b'!D118-'9c'!D118 -> 495516367 | E119: ='2d'!E46-'9b'!E118-'9c'!E118 -> 0 | F119: ='2d'!F46-'9b'!F118-'9c'!F118 -> 0 | G119: ='2d'!G46-'9b'!G118-'9c'!G118 -> 0 | H119: ='2d'!H46-'9b'!H118-'9c'!H118 -> 0
A120: 114 | B120: Belföldi finanszírozás kiadásai (K91) | C120: ='2d'!C47-'9b'!C119-'9c'!C119 -> 540931093 | D120: ='2d'!D47-'9b'!D119-'9c'!D119 -> 540931093 | E120: ='2d'!E47-'9b'!E119-'9c'!E119 -> 0 | F120: ='2d'!F47-'9b'!F119-'9c'!F119 -> 0 | G120: ='2d'!G47-'9b'!G119-'9c'!G119 -> 0 | H120: ='2d'!H47-'9b'!H119-'9c'!H119 -> 0
A121: 115 | B121: Finanszírozási kiadások (K9) | C121: ='2d'!C48-'9b'!C120-'9c'!C120 -> 540931093 | D121: ='2d'!D48-'9b'!D120-'9c'!D120 -> 540931093 | E121: ='2d'!E48-'9b'!E120-'9c'!E120 -> 0 | F121: ='2d'!F48-'9b'!F120-'9c'!F120 -> 0 | G121: ='2d'!G48-'9b'!G120-'9c'!G120 -> 0 | H121: ='2d'!H48-'9b'!H120-'9c'!H120 -> 0
A122: 116 | B122: MINDÖSSZESEN: | C122: ='2d'!C49-'9b'!C121-'9c'!C121 -> 2949248197 | D122: ='2d'!D49-'9b'!D121-'9c'!D121 -> 2336681849 | E122: ='2d'!E49-'9b'!E121-'9c'!E121 -> 194234105 | F122: ='2d'!F49-'9b'!F121-'9c'!F121 -> 204413735 | G122: ='2d'!G49-'9b'!G121-'9c'!G121 -> 71373014 | H122: ='2d'!H49-'9b'!H121-'9c'!H121 -> 142545494

Sheet 9b
B1: Berhida Város Önkormányzata | F1: 9.b. melléklet
B2: 2018. évi eredeti költségvetés | F2: 1/2019.(III.1.) rendelethez
F3: Ft-ban
B4: ÖNKÉNT VÁLLALT FELADATOK | C4: BEVÉTELEK
A5: Sor- szám | B5: Rovat megnevezése | C5: Eredeti előirányzat összesen | D5: Önkormányzat | E5: Közös Hivatal | F5: TESZ | G5: Kultúrház | H5: Süni
A6: 1 | B6: Helyi önkormányzatok működésének általános támogatása (B1111) | C6: =SUM(D6:H6) -> 0
A7: 2 | B7: Települési önkormányzatok egyes köznevelési feladatainak támogatása (B112) | C7: =SUM(D7:H7) -> 0
A8: 3 | B8: Települési önkormányzatok szociális, gyermekjóléti és gyermekétkeztetési feladatainak támogatása (B113) | C8: =SUM(D8:H8) -> 0
A9: 4 | B9: Települési önkormányzatok kulturális feladatainak támogatása (B114) | C9: =SUM(D9:H9) -> 0
A10: 5 | B10: Működési célú költségvetési támogatások és kiegészítő támogatások (B115) | C10: =SUM(D10:H10) -> 0
A11: 6 | B11: Elszámolásból származó bevételek (B116) | C11: =SUM(D11:H11) -> 0
A12: 7 | B12: Önkormányzatok működési támogatásai (B11) | C12: =SUM(D12:H12) -> 0 | D12: =SUM(D6:D11) -> 0 | E12: =SUM(E6:E11) -> 0 | F12: =SUM(F6:F11) -> 0 | G12: =SUM(G6:G11) -> 0 | H12: =SUM(H6:H11) -> 0
A13: 8 | B13: Elvonások és befizetések bevételei B12 | C13: =SUM(D13:H13) -> 0
A14: 9 | B14: Egyéb működési célú támogatások bevételei államháztartáson belülről (B16) | C14: =SUM(D14:H14) -> 0 | D14: =SUM(D15:D19) -> 0 | E14: =SUM(E15:E19) -> 0 | F14: =SUM(F15:F19) -> 0 | G14: =SUM(G15:G19) -> 0 | H14: =SUM(H15:H19) -> 0
A15: 10 | B15: ebből: egyéb központi kezelésű előirányzatok (B1612 | C15: =SUM(D15:H15) -> 0
A16: 11 | B16: ebből: fejezeti kezelésű EU B16 | C16: =SUM(D16:H16) -> 0
A17: 12 | B17: ebből: társadalombiztosítás pénzügyi alapjai (B1614 | C17: =SUM(D17:H17) -> 0
A18: 13 | B18: ebből: elkülönített állami pénzal (B1615 | C18: =SUM(D18:H18) -> 0
A19: 14 | B19: ebből: önkormányzat és kv-i szerveik (B 1616 | C19: =SUM(D19:H19) -> 0
A20: 15 | B20: Működési célú támogatások államháztartáson belülről (B1) | C20: =SUM(D20:H20) -> 0 | D20: =D12+D14 -> 0 | E20: =E12+E14 -> 0 | F20: =F12+F14 -> 0 | G20: =G12+G14 -> 0 | H20: =H12+H14 -> 0
A21: 16 | B21: Felhalmozási célú önkormányzati támogatások (B21) | C21: =SUM(D21:H21) -> 0 | D21: =D22 -> 0 | E21: =E22 -> 0 | F21: =F22 -> 0 | G21: =G22 -> 0 | H21: =H22 -> 0
A22: 17 | B22: ebből: egyéb központi felhalmozási c tám B 2119 | C22: =SUM(D22:H22) -> 0
A23: 18 | B23: Egyéb felhalmozási célú tám áht belülről B 25 | C23: =SUM(D23:H23) -> 0 | D23: =SUM(D24:D27) -> 0 | E23: =SUM(E24:E27) -> 0 | F23: =SUM(F24:F27) -> 0 | G23: =SUM(G24:G27) -> 0 | H23: =SUM(H24:H27) -> 0
A24: 19 | B24: ebből egyéb központi fc tám (B2512 | C24: =SUM(D24:H24) -> 0
A25: 20 | B25: ebből: egyéb fejezeti kez EU fc (B25 | C25: =SUM(D25:H25) -> 0
A26: 21 | B26: ebből: elkülönített állami pénzal fc (B2515 | C26: =SUM(D26:H26) -> 0
A27: 22 | B27: ebből: önkorm és kv-i szervek fc tám (B2516 | C27: =SUM(D27:H27) -> 0
A28: 23 | B28: Felhalmozási célú támogatások államháztartáson belülről (B2) | C28: =SUM(D28:H28) -> 0 | D28: =D21+D23 -> 0 | E28: =E21+E23 -> 0 | F28: =F21+F23 -> 0 | G28: =G21+G23 -> 0 | H28: =H21+H23 -> 0
A29: 24 | B29: Vagyoni tipusú adók (B34) | C29: =SUM(D29:H29) -> 7770474 | D29: =SUM(D30:D31) -> 7770474 | E29: =SUM(E30:E31) -> 0 | F29: =SUM(F30:F31) -> 0 | G29: =SUM(G30:G31) -> 0 | H29: =SUM(H30:H31) -> 0
A30: 25 | B30: ebből: építményadó (B34111) | C30: =SUM(D30:H30) -> 7770474 | D30: 7770474
A31: 26 | B31: ebből: magánszemélyek kommunális adója (B34114) | C31: =SUM(D31:H31) -> 0
A32: 27 | B32: Értékesítési és forgalmi adók iparűzési adó (B351121) | C32: =SUM(D32:H32) -> 0
A33: 28 | B33: Gépjárműadó (B3541) | C33: =SUM(D33:H33) -> 0
A34: 29 | B34: Egyéb áruhasználati és szolgáltatási adók, környezetterh díj, talajterhelési díj (B355) | C34: =SUM(D34:H34) -> 0
A35: 30 | B35: Termékek és szolgáltatások adói (B35) | C35: =SUM(D35:H35) -> 0 | D35: =SUM(D32:D34) -> 0 | E35: =SUM(E32:E34) -> 0 | F35: =SUM(F32:F34) -> 0 | G35: =SUM(G32:G34) -> 0 | H35: =SUM(H32:H34) -> 0
A36: 31 | B36: Egyéb közhatalmi bevételek (B36) | C36: =SUM(D36:H36) -> 0 | D36: =SUM(D37:D38) -> 0 | E36: =SUM(E37:E38) -> 0 | F36: =SUM(F37:F38) -> 0 | G36: =SUM(G37:G38) -> 0 | H36: =SUM(H37:H38) -> 0
A37: 32 | B37: ebből: szabálysértési pénz- és helyszíni bírság és a közlekedési szabályszegések után kiszabott közigazgatási bírság helyi önkormányzatot megillető része (B361225 köv) | C37: =SUM(D37:H37) -> 0
A38: 33 | B38: ebből: egyéb bírság (B361229 köv) | C38: =SUM(D38:H38) -> 0
A39: 34 | B39: Közhatalmi bevételek (B3) | C39: =SUM(D39:H39) -> 7770474 | D39: =D29+D35+D36 -> 7770474 | E39: =E29+E35+E36 -> 0 | F39: =F29+F35+F36 -> 0 | G39: =G29+G35+G36 -> 0 | H39: =H29+H35+H36 -> 0
A40: 35 | B40: Készlet értékesítés előirányzata B 40111 | C40: =SUM(D40:H40) -> 0
...

Sheet 9c
B1: Berhida Város Önkormányzata | F1: 9.c. melléklet
B2: 2018. évi eredeti költségvetés | F2: 1/2019.(III.1.) rendelethez
F3: Ft-ban
B4: ÁLLAMIGAZGATÁSI FELADATOK | C4: BEVÉTELEK
A5: Sor- szám | B5: Rovat megnevezése | C5: Eredeti előirányzat összesen | D5: Önkormányzat | E5: Közös Hivatal | F5: TESZ | G5: Kultúrház | H5: Süni
A6: 1 | B6: Helyi önkormányzatok működésének általános támogatása (B1111) | C6: =SUM(D6:H6) -> 0
A7: 2 | B7: Települési önkormányzatok egyes köznevelési feladatainak támogatása (B112) | C7: =SUM(D7:H7) -> 0
A8: 3 | B8: Települési önkormányzatok szociális, gyermekjóléti és gyermekétkeztetési feladatainak támogatása (B113) | C8: =SUM(D8:H8) -> 0
A9: 4 | B9: Települési önkormányzatok kulturális feladatainak támogatása (B114) | C9: =SUM(D9:H9) -> 0
A10: 5 | B10: Működési célú költségvetési támogatások és kiegészítő támogatások (B115) | C10: =SUM(D10:H10) -> 0
A11: 6 | B11: Elszámolásból származó bevételek (B116) | C11: =SUM(D11:H11) -> 0
A12: 7 | B12: Önkormányzatok működési támogatásai (B11) | C12: =SUM(D12:H12) -> 0 | D12: =SUM(D6:D11) -> 0 | E12: =SUM(E6:E11) -> 0 | F12: =SUM(F6:F11) -> 0 | G12: =SUM(G6:G11) -> 0 | H12: =SUM(H6:H11) -> 0
A13: 8 | B13: Elvonások és befizetések bevételei B12 | C13: =SUM(D13:H13) -> 0
A14: 9 | B14: Egyéb működési célú támogatások bevételei államháztartáson belülről (B16) | C14: =SUM(D14:H14) -> 0 | D14: =SUM(D15:D19) -> 0 | E14: =SUM(E15:E19) -> 0 | F14: =SUM(F15:F19) -> 0 | G14: =SUM(G15:G19) -> 0 | H14: =SUM(H15:H19) -> 0
A15: 10 | B15: ebből: egyéb központi kezelésű előirányzatok (B1612 | C15: =SUM(D15:H15) -> 0
A16: 11 | B16: ebből: fejezeti kezelésű EU B16 | C16: =SUM(D16:H16) -> 0
A17: 12 | B17: ebből: társadalombiztosítás pénzügyi alapjai (B1614 | C17: =SUM(D17:H17) -> 0
A18: 13 | B18: ebből: elkülönített állami pénzal (B1615 | C18: =SUM(D18:H18) -> 0
A19: 14 | B19: ebből: önkormányzat és kv-i szerveik (B 1616 | C19: =SUM(D19:H19) -> 0
A20: 15 | B20: Működési célú támogatások államháztartáson belülről (B1) | C20: =SUM(D20:H20) -> 0 | D20: =D12+D14 -> 0 | E20: =E12+E14 -> 0 | F20: =F12+F14 -> 0 | G20: =G12+G14 -> 0 | H20: =H12+H14 -> 0
A21: 16 | B21: Felhalmozási célú önkormányzati támogatások (B21) | C21: =SUM(D21:H21) -> 0 | D21: =D22 -> 0 | E21: =E22 -> 0 | F21: =F22 -> 0 | G21: =G22 -> 0 | H21: =H22 -> 0
A22: 17 | B22: ebből: egyéb központi felhalmozási c tám B 2119 | C22: =SUM(D22:H22) -> 0
A23: 18 | B23: Egyéb felhalmozási célú tám áht belülről B 25 | C23: =SUM(D23:H23) -> 0 | D23: =SUM(D24:D27) -> 0 | E23: =SUM(E24:E27) -> 0 | F23: =SUM(F24:F27) -> 0 | G23: =SUM(G24:G27) -> 0 | H23: =SUM(H24:H27) -> 0
A24: 19 | B24: ebből egyéb központi fc tám (B2512 | C24: =SUM(D24:H24) -> 0
A25: 20 | B25: ebből: egyéb fejezeti kez EU fc (B25 | C25: =SUM(D25:H25) -> 0
A26: 21 | B26: ebből: elkülönített állami pénzal fc (B2515 | C26: =SUM(D26:H26) -> 0
A27: 22 | B27: ebből: önkorm és kv-i szervek fc tám (B2516 | C27: =SUM(D27:H27) -> 0
A28: 23 | B28: Felhalmozási célú támogatások államháztartáson belülről (B2) | C28: =SUM(D28:H28) -> 0 | D28: =D21+D23 -> 0 | E28: =E21+E23 -> 0 | F28: =F21+F23 -> 0 | G28: =G21+G23 -> 0 | H28: =H21+H23 -> 0
A29: 24 | B29: Vagyoni tipusú adók (B34) | C29: =SUM(D29:H29) -> 7879357 | D29: =SUM(D30:D31) -> 7879357 | E29: =SUM(E30:E31) -> 0 | F29: =SUM(F30:F31) -> 0 | G29: =SUM(G30:G31) -> 0 | H29: =SUM(H30:H31) -> 0
A30: 25 | B30: ebből: építményadó (B34111) | C30: =SUM(D30:H30) -> 7879357 | D30: 7879357
A31: 26 | B31: ebből: magánszemélyek kommunális adója (B34114) | C31: =SUM(D31:H31) -> 0
A32: 27 | B32: Értékesítési és forgalmi adók iparűzési adó (B351121) | C32: =SUM(D32:H32) -> 0
A33: 28 | B33: Gépjárműadó (B3541) | C33: =SUM(D33:H33) -> 0
A34: 29 | B34: Egyéb áruhasználati és szolgáltatási adók, környezetterh díj, talajterhelési díj (B355) | C34: =SUM(D34:H34) -> 0
A35: 30 | B35: Termékek és szolgáltatások adói (B35) | C35: =SUM(D35:H35) -> 0 | D35: =SUM(D32:D34) -> 0 | E35: =SUM(E32:E34) -> 0 | F35: =SUM(F32:F34) -> 0 | G35: =SUM(G32:G34) -> 0 | H35: =SUM(H32:H34) -> 0
A36: 31 | B36: Egyéb közhatalmi bevételek (B36) | C36: =SUM(D36:H36) -> 0 | D36: =SUM(D37:D38) -> 0 | E36: =SUM(E37:E38) -> 0 | F36: =SUM(F37:F38) -> 0 | G36: =SUM(G37:G38) -> 0 | H36: =SUM(H37:H38) -> 0
A37: 32 | B37: ebből: szabálysértési pénz- és helyszíni bírság és a közlekedési szabályszegések után kiszabott közigazgatási bírság helyi önkormányzatot megillető része (B361225 köv) | C37: =SUM(D37:H37) -> 0
A38: 33 | B38: ebből: egyéb bírság (B361229 köv) | C38: =SUM(D38:H38) -> 0
A39: 34 | B39: Közhatalmi bevételek (B3) | C39: =SUM(D39:H39) -> 7879357 | D39: =D29+D35+D36 -> 7879357 | E39: =E29+E35+E36 -> 0 | F39: =F29+F35+F36 -> 0 | G39: =G29+G35+G36 -> 0 | H39: =H29+H35+H36 -> 0
A40: 35 | B40: Készlet értékesítés előirányzata B 40111 | C40: =SUM(D40:H40) -> 0
...

Sheet 13
C1: Berhida Város Önkormányzatának
C2: 2018. Évi költségvetéséhez | G2: 13. melléklet
C3: ELŐIRÁNYZAT FELHASZNÁLÁSI ÜTEMTERV | G3: 1/2019.(III.1.) rendelethez
G4: adatok Ft-ban
A6: 1 | B6: MEGNEVEZÉS | C6: Összesen | D6: január | E6: február | F6: március | G6: április | H6: május | I6: június | J6: július | K6: augusztus | L6: szeptember | M6: október | N6: november | O6: december | P6: Ellenőrző sor
A7: 2 | B7: Személyi juttatások | C7: ='2d'!C6 -> 390629130 | D7: =C7/12 -> 32552428 | E7: =C7/12 -> 32552428 | F7: =C7/12 -> 32552428 | G7: =C7/12 -> 32552428 | H7: =C7/12 -> 32552428 | I7: =C7/12 -> 32552428 | J7: =C7/12 -> 32552428 | K7: =C7/12 -> 32552428 | L7: =C7/12 -> 32552428 | M7: =C7/12 -> 32552428 | N7: =C7/12 -> 32552428 | O7: =C7/12 -> 32552428 | P7: =SUM(D7:O7) -> 390629130
A8: 3 | B8: Munkaadókat terhelő járulékok és szociális hozzájárulási adó, | C8: ='2d'!C7 -> 73583465 | D8: =C8/12 -> 6131955.4 | E8: =C8/12 -> 6131955.4 | F8: =C8/12 -> 6131955.4 | G8: =C8/12 -> 6131955.4 | H8: =C8/12 -> 6131955.4 | I8: =C8/12 -> 6131955.4 | J8: =C8/12 -> 6131955.4 | K8: =C8/12 -> 6131955.4 | L8: =C8/12 -> 6131955.4 | M8: =C8/12 -> 6131955.4 | N8: =C8/12 -> 6131955.4 | O8: =C8/12 -> 6131955.4 | P8: =SUM(D8:O8) -> 73583465
A9: 4 | B9: Dologi kiadások | C9: ='2d'!C8 -> 475365373 | D9: =C9/12 -> 39613781 | E9: =C9/12 -> 39613781 | F9: =C9/12 -> 39613781 | G9: =C9/12 -> 39613781 | H9: =C9/12 -> 39613781 | I9: =C9/12 -> 39613781 | J9: =C9/12 -> 39613781 | K9: =C9/12 -> 39613781 | L9: =C9/12 -> 39613781 | M9: =C9/12 -> 39613781 | N9: =C9/12 -> 39613781 | O9: =C9/12 -> 39613781 | P9: =SUM(D9:O9) -> 4.7536537e+08
A10: 5 | B10: Ellátottak pénzbeli juttatásai | C10: ='2d'!C16 -> 15643500 | D10: =C10/12 -> 1303625 | E10: =C10/12 -> 1303625 | F10: =C10/12 -> 1303625 | G10: =C10/12 -> 1303625 | H10: =C10/12 -> 1303625 | I10: =C10/12 -> 1303625 | J10: =C10/12 -> 1303625 | K10: =C10/12 -> 1303625 | L10: =C10/12 -> 1303625 | M10: =C10/12 -> 1303625 | N10: =C10/12 -> 1303625 | O10: =C10/12 -> 1303625 | P10: =SUM(D10:O10) -> 15643500
A11: 7 | B11: Egyéb működési célú kiadások | C11: ='2d'!C26 -> 275245287 | D11: =C11/12 -> 22937107 | E11: =C11/12 -> 22937107 | F11: =C11/12 -> 22937107 | G11: =C11/12 -> 22937107 | H11: =C11/12 -> 22937107 | I11: =C11/12 -> 22937107 | J11: =C11/12 -> 22937107 | K11: =C11/12 -> 22937107 | L11: =C11/12 -> 22937107 | M11: =C11/12 -> 22937107 | N11: =C11/12 -> 22937107 | O11: =C11/12 -> 22937107 | P11: =SUM(D11:O11) -> 275245287
A12: 16 | B12: Beruházások | C12: ='2d'!C32 -> 1116681983 | D12: =C12/12 -> 93056832 | E12: =C12/12 -> 93056832 | F12: =C12/12 -> 93056832 | G12: =C12/12 -> 93056832 | H12: =C12/12 -> 93056832 | I12: =C12/12 -> 93056832 | J12: =C12/12 -> 93056832 | K12: =C12/12 -> 93056832 | L12: =C12/12 -> 93056832 | M12: =C12/12 -> 93056832 | N12: =C12/12 -> 93056832 | O12: =C12/12 -> 93056832 | P12: =SUM(D12:O12) -> 1.116682e+09
A13: 17 | B13: Felújítások | C13: ='2d'!C37 -> 88459849 | D13: =C13/12 -> 7371654.1 | E13: =C13/12 -> 7371654.1 | F13: =C13/12 -> 7371654.1 | G13: =C13/12 -> 7371654.1 | H13: =C13/12 -> 7371654.1 | I13: =C13/12 -> 7371654.1 | J13: =C13/12 -> 7371654.1 | K13: =C13/12 -> 7371654.1 | L13: =C13/12 -> 7371654.1 | M13: =C13/12 -> 7371654.1 | N13: =C13/12 -> 7371654.1 | O13: =C13/12 -> 7371654.1 | P13: =SUM(D13:O13) -> 88459849
A14: 19 | B14: Egyéb felhalmozási célú támogatások | C14: ='2d'!C43 -> 19303812 | D14: =$C$14/12 -> 1608651 | E14: =$C$14/12 -> 1608651 | F14: =$C$14/12 -> 1608651 | G14: =$C$14/12 -> 1608651 | H14: =$C$14/12 -> 1608651 | I14: =$C$14/12 -> 1608651 | J14: =$C$14/12 -> 1608651 | K14: =$C$14/12 -> 1608651 | ... O14: =$C$14/12 -> 1608651 | P14: =SUM(D14:O14) -> 19303812
A15: 20 | B15: Költségvetési kiadások | C15: =SUM(C7:C14) -> 2454912399 | D15: =SUM(D7:D14) -> 2.0457603e+08 | E15: =SUM(E7:E14) -> 2.0457603e+08 | F15: =SUM(F7:F14) -> 2.0457603e+08 | G15: =SUM(G7:G14) -> 2.0457603e+08 | H15: =SUM(H7:H14) -> 2.0457603e+08 | I15: =SUM(I7:I14) -> 2.0457603e+08 | J15: =SUM(J7:J14) -> 2.0457603e+08 | ... O15: =SUM(O7:O14) -> 2.0457603e+08 | P15: =SUM(D15:O15) -> 2.4549124e+09
A16: 27 | B16: Finanszírozási kiadások | C16: =C17+C18 -> 553364950 | D16: =D17+D18 -> 54514478 | E16: =E17+E18 -> 42329185 | F16: =F17+F18 -> 42329185 | G16: =G17+G18 -> 42329185 | H16: =H17+H18 -> 55489747 | I16: =I17+I18 -> 42329185 | J16: =J17+J18 -> 42329185 | ... O16: =O17+O18 -> 60325446 | P16: =SUM(D16:O16) -> 5.5336495e+08
B17: ÁHT belüli megelőlegezések visszafiz | C17: ='2d'!C45 -> 45414726 | D17: ='[1]2'!D44 -> 12185293 | H17: 13160562 | K17: 2072610 | O17: 17996261 | P17: =SUM(D17:O17) -> 45414726
A18: 29 | B18: Irányító szervtől finansz támogatás | C18: ='2d'!C46 -> 507950224 | D18: =C18/12 -> 42329185 | E18: =C18/12 -> 42329185 | F18: =C18/12 -> 42329185 | G18: =C18/12 -> 42329185 | H18: =C18/12 -> 42329185 | I18: =C18/12 -> 42329185 | J18: =C18/12 -> 42329185 | K18: =C18/12 -> 42329185 | L18: =C18/12 -> 42329185 | M18: =C18/12 -> 42329185 | N18: =C18/12 -> 42329185 | O18: =C18/12 -> 42329185 | P18: =SUM(D18:O18) -> 5.0795022e+08
A19: 30 | B19: KIADÁSOK ÖSSZESEN: | C19: =C15+C16 -> 3008277349 | D19: =D15+D16 -> 2.5909051e+08 | E19: =E15+E16 -> 2.4690522e+08 | F19: =F15+F16 -> 2.4690522e+08 | G19: =G15+G16 -> 2.4690522e+08 | H19: =H15+H16 -> 2.6006578e+08 | I19: =I15+I16 -> 2.4690522e+08 | J19: =J15+J16 -> 2.4690522e+08 | ... O19: =O15+O16 -> 2.6490148e+08 | P19: =SUM(D19:O19) -> 3.0082773e+09
A20: 33 | B20: Működési célú támogatások államháztartáson belül | C20: ='1b'!C20 -> 687786330 | D20: =C20/12 -> 57315528 | E20: =C20/12 -> 57315528 | F20: =C20/12 -> 57315528 | G20: =C20/12 -> 57315528 | H20: =C20/12 -> 57315528 | I20: =C20/12 -> 57315528 | J20: =C20/12 -> 57315528 | K20: =C20/12 -> 57315528 | L20: =C20/12 -> 57315528 | M20: =C20/12 -> 57315528 | N20: =C20/12 -> 57315528 | O20: =C20/12 -> 57315528 | P20: =SUM(D20:O20) -> 687786330
A21: 34 | B21: Felhalmozási célú támogatások államháztartáson belülről | C21: ='1b'!C28 -> 1137380569 | D21: =C21/12 -> 94781714 | E21: =C21/12 -> 94781714 | F21: =C21/12 -> 94781714 | G21: =C21/12 -> 94781714 | H21: =C21/12 -> 94781714 | I21: =C21/12 -> 94781714 | J21: =C21/12 -> 94781714 | K21: =C21/12 -> 94781714 | L21: =C21/12 -> 94781714 | M21: =C21/12 -> 94781714 | N21: =C21/12 -> 94781714 | O21: =C21/12 -> 94781714 | P21: =SUM(D21:O21) -> 1.1373806e+09
A22: 35 | B22: Közhatalmi bevételek | C22: ='1b'!C39 -> 303400000 | D22: =C22/12 -> 25283333 | E22: =C22/12 -> 25283333 | F22: =C22/12 -> 25283333 | G22: =C22/12 -> 25283333 | H22: =C22/12 -> 25283333 | I22: =C22/12 -> 25283333 | J22: =C22/12 -> 25283333 | K22: =C22/12 -> 25283333 | L22: =C22/12 -> 25283333 | M22: =C22/12 -> 25283333 | N22: =C22/12 -> 25283333 | O22: =C22/12 -> 25283333 | P22: =SUM(D22:O22) -> 303400000
A23: 36 | B23: Működési bevételek | C23: ='1b'!C61 -> 39564766 | D23: =C23/12 -> 3297063.8 | E23: =C23/12 -> 3297063.8 | F23: =C23/12 -> 3297063.8 | G23: =C23/12 -> 3297063.8 | H23: =C23/12 -> 3297063.8 | I23: =C23/12 -> 3297063.8 | J23: =C23/12 -> 3297063.8 | K23: =C23/12 -> 3297063.8 | L23: =C23/12 -> 3297063.8 | M23: =C23/12 -> 3297063.8 | N23: =C23/12 -> 3297063.8 | O23: =C23/12 -> 3297063.8 | P23: =SUM(D23:O23) -> 39564766
