Workbook

Sheet 1
A1: Szentjakabfa Község Önkormányzata
A2: 2020. évi bevételek
E3: forintban
A4: Megnevezés | C4: Eredeti előirányzat | D4: Módosított előirányzat | E4: Teljesítés
A5: A | B5: B | C5: C | D5: D | E5: E
A6: 1 | B6: Helyi önkormányzatok működésének általános támogatása | C6: 7184810 | D6: 7184810 | E6: 7184810
A7: 2 | B7: Települési önkormányzatok egyes köznevelési feladatainak támogatása | C7: 0 | D7: 0 | E7: 0
A8: 3 | B8: Települési önkormányzatok szociális és gyermekjóléti feladatainak támogatása | C8: 1979100 | D8: 1962000 | E8: 1962000
A9: 4 | B9: Települési önkormányzatok gyermekétkeztetési feladatainak támogatása | C9: 0 | D9: 18810 | E9: 18810
A10: 5 | B10: Települési önkormányzatok szociális gyermekjóléti és gyermekétkeztetési feladatainak támogatása | C10: 1979100 | D10: =SUM(D8:D9) -> 1980810 | E10: =SUM(E8:E9) -> 1980810
A11: 6 | B11: Települési önkormányzatok kulturális feladatainak támogatása | C11: 1800000 | D11: =1800000+200000 -> 2000000 | E11: =1800000+200000 -> 2000000
A12: 7 | B12: Működési célú költségvetési támogatások és kiegészítő támogatások | C12: 0 | D12: 0 | E12: 0
A13: 8 | B13: Elszámolásból származó bevétel | C13: 0 | D13: 0 | E13: 0
A14: 9 | B14: Önkormányzatok működési támogatásai | C14: =+C11+C10+C6 -> 10963910 | D14: =+D11+D10+D6 -> 11165620 | E14: =+E11+E10+E6 -> 11165620
A15: 10 | B15: Elvonások és befizetések bevételei | C15: 0 | D15: 0 | E15: 0
A16: 11 | B16: Működési célú garancia- és kezességvállalásból származó megtérülések államháztartáson belülről | C16: 0 | D16: 0 | E16: 0
A17: 12 | B17: Működési célú visszatérítendő támogatások, kölcsönök visszatérülése államháztartáson belülről | C17: 0 | D17: 0 | E17: 0
A18: 13 | B18: Működési célú visszatérítendő támogatások, kölcsönök igénybevétele államháztartáson belülről | C18: 0 | D18: 0 | E18: 0
A19: 14 | B19: Egyéb működési célú támogatások bevételei államháztartáson belülről | C19: 1000000 | D19: 1077065 | E19: 1077065
A20: 15 | B20: Működési célú támogatások államháztartáson belülről | C20: =SUM(C14:C19) -> 11963910 | D20: =SUM(D14:D19) -> 12242685 | E20: =SUM(E14:E19) -> 12242685
A21: 16 | B21: Felhalmozási célú önkormányzati támogatások | C21: 0 | D21: 0 | E21: 0
A22: 17 | B22: Felhalmozási célú garancia- és kezességvállalásból származó megtérülések államháztartáson belülről | C22: 0 | D22: 0 | E22: 0
A23: 18 | B23: Felhalmozási célú visszatérítendő támogatások, kölcsönök visszatérülése államháztartáson belülről | C23: 0 | D23: 0 | E23: 0
A24: 19 | B24: Felhalmozási célú visszatérítendő támogatások, kölcsönök igénybevétele államháztartáson belülről | C24: 0 | D24: 0 | E24: 0
A25: 20 | B25: Egyéb felhalmozási célú támogatások bevételei államháztartáson belülről | C25: 5000000 | D25: 24290072 | E25: 19290072
A26: 21 | B26: Felhalmozási célú támogatások államháztartáson belülről | C26: =SUM(C21:C25) -> 5000000 | D26: =SUM(D21:D25) -> 24290072 | E26: =SUM(E21:E25) -> 19290072
A27: 22 | B27: Magánszemélyek jövedelemadói | C27: 0 | D27: 0 | E27: 0
A28: 23 | B28: Társaságok jövedelemadói | C28: 0 | D28: 0 | E28: 0
A29: 24 | B29: Jövedelemadók | C29: 0 | D29: 0 | E29: 0
A30: 25 | B30: Szociális hozzájárulási adó és járulékok | C30: 0 | D30: 0 | E30: 0
A31: 26 | B31: Bérhez és foglalkoztatáshoz kapcsolódó adók | C31: 0 | D31: 0 | E31: 0
A32: 27 | B32: Vagyoni típusú adók | C32: 500000 | D32: 500000 | E32: 460050
A33: 28 | B33: Értékesítési és forgalmi adók | C33: 0 | D33: 0 | E33: 0
A34: 29 | B34: Fogyasztási adók | C34: 0 | D34: 0 | E34: 0
A35: 30 | B35: Pénzügyi monopóliumok nyereségét terhelő adók | C35: 0 | D35: 0 | E35: 0
A36: 31 | B36: Gépjárműadók | C36: 600000 | D36: 0 | E36: 0
A37: 32 | B37: Egyéb áruhasználati és szolgáltatási adók | C37: 0 | D37: 0 | E37: 0
A38: 33 | B38: Termékek és szolgáltatások adói | C38: =+C37+C36+C35+C34+C33 -> 600000 | D38: =+D37+D36+D35+D34+D33 -> 0 | E38: =+E36 -> 0
A39: 34 | B39: Egyéb közhatalmi bevételek | C39: 0 | D39: 50000 | E39: 41532
A40: 35 | B40: Közhatalmi bevételek | C40: =+C38+C32 -> 1100000 | D40: =+D38+D32+D39 -> 550000 | E40: =+E39+E38+E32 -> 501582
...

Sheet 2
A1: Szentjakabfa Község Önkormányzata
A2: 2020. évi kiadások
E3: forintban
A4: Megnevezés | C4: Eredeti előirányzat | D4: Módosított előirányzat | E4: Teljesítés
A5: A | B5: B | C5: C | D5: D | E5: E
A6: 1 | B6: Törvény szerinti illetmények, munkabérek | C6: 979000 | D6: 979000 | E6: 915359
A7: 2 | B7: Normatív jutalmak | C7: 0 | D7: 0 | E7: 0
A8: 3 | B8: Céljuttatás, projektprémium | C8: 0 | D8: 0 | E8: 0
A9: 4 | B9: Készenléti, ügyeleti, helyettesítési díj, túlóra, túlszolgálat | C9: 0 | D9: 0 | E9: 0
A10: 5 | B10: Végkielégítés | C10: 0 | D10: 0 | E10: 0
A11: 6 | B11: Jubileumi jutalom | C11: 0 | D11: 0 | E11: 0
A12: 7 | B12: Béren kívüli juttatások | C12: 0 | D12: 0 | E12: 0
A13: 8 | B13: Ruházati költségtérítés | C13: 50000 | D13: 50000 | E13: 0
A14: 9 | B14: Közlekedési költségtérítés | C14: 0 | D14: 0 | E14: 0
A15: 10 | B15: Egyéb költségtérítések | C15: 0 | D15: 0 | E15: 0
A16: 11 | B16: Lakhatási támogatások | C16: 0 | D16: 0 | E16: 0
A17: 12 | B17: Szociális támogatások | C17: 0 | D17: 0 | E17: 0
A18: 13 | B18: Foglalkoztatottak egyéb személyi juttatásai | C18: 0 | D18: 0 | E18: 0
A19: 14 | B19: Foglalkoztatottak személyi juttatásai | C19: =SUM(C6:C18) -> 1029000 | D19: =SUM(D6:D18) -> 1029000 | E19: =SUM(E6:E18) -> 915359
A20: 15 | B20: Választott tisztségviselők juttatásai | C20: 2477000 | D20: 2477000 | E20: 2476620
A21: 16 | B21: Munkavégzésre irányuló egyéb jogviszonyban nem saját foglalkoztatottnak fizetett juttatások | C21: 1304000 | D21: 1304000 | E21: 1138682
A22: 17 | B22: Egyéb külső személyi juttatások | C22: 320000 | D22: 320000 | E22: 0
A23: 18 | B23: Külső személyi juttatások | C23: =SUM(C20:C22) -> 4101000 | D23: =SUM(D20:D22) -> 4101000 | E23: =SUM(E20:E22) -> 3615302
A24: 19 | B24: Személyi juttatások | C24: =C23+C19 -> 5130000 | D24: =D23+D19 -> 5130000 | E24: =E23+E19 -> 4530661
A25: 20 | B25: Munkaadókat terhelő járulékok és szociális hozzájárulási adó | C25: 747000 | D25: 747000 | E25: 642833
A26: 21 | B26: Szakmai anyagok beszerzése | C26: 70000 | D26: 50000 | E26: 0
A27: 22 | B27: Üzemeltetési anyagok beszerzése | C27: 902000 | D27: 821000 | E27: 381078
A28: 23 | B28: Árubeszerzés | C28: 0 | D28: 0 | E28: 0
A29: 24 | B29: Készletbeszerzés | C29: =SUM(C26:C28) -> 972000 | D29: =SUM(D26:D28) -> 871000 | E29: =SUM(E26:E28) -> 381078
A30: 25 | B30: Informatikai szolgáltatások igénybevétele | C30: 220000 | D30: 220000 | E30: 145949
A31: 26 | B31: Egyéb kommunikációs szolgáltatások | C31: 70000 | D31: 70000 | E31: 30058
A32: 27 | B32: Kommunikációs szolgáltatások | C32: =SUM(C30:C31) -> 290000 | D32: =SUM(D30:D31) -> 290000 | E32: =SUM(E30:E31) -> 176007
A33: 28 | B33: Közüzemi díjak | C33: 787000 | D33: 807000 | E33: 543333
A34: 29 | B34: Vásárolt élelmezés | C34: 93444 | D34: 93444 | E34: 68132
A35: 30 | B35: Bérleti és lízing díjak | C35: 0 | D35: 0 | E35: 0
A36: 31 | B36: Karbantartási, kisjavítási szolgáltatások | C36: 1400000 | D36: 1390000 | E36: 451000
A37: 32 | B37: Közvetített szolgáltatások | C37: 0 | D37: 100000 | E37: 100000
A38: 33 | B38: Szakmai tevékenységet segítő szolgáltatások | C38: 642000 | D38: 642000 | E38: 541240
A39: 34 | B39: Egyéb szolgáltatások | C39: 1415000 | D39: 2095000 | E39: 1743786
A40: 35 | B40: Szolgáltatási kiadások | C40: =SUM(C33:C39) -> 4337444 | D40: =SUM(D33:D39) -> 5127444 | E40: =SUM(E33:E39) -> 3447491
...

Sheet 3
A1: Szentjakabfa Község Önkormányzata
A2: 2020. évi bevételek és kiadások kormányzati funkciónként
A3: Kiadások | D3: forintban
A4: A | B4: B | C4: C | D4: D
A5: MEGNEVEZÉS | C5: Létszám (fő) | D5: 2020. évi teljesítés
A6: 1 | B6: 011130 Önkormányzatok és önkormányzati hivatalok jogalkotó és általános igazgatási tevékenysége | C6: 2 | D6: 4457969
A7: 2 | B7: 013320 Köztemető-fenntartás és -működtetés | D7: 576966
A8: 3 | B8: 018010 Önkormányzatok elszámolásai a központi költségvetéssel | D8: 846280
A9: 4 | B9: 018030 Támogatás célú finanszírozási műveletek | D9: 3342615
A10: 5 | B10: 041233 Hosszabb időtartamú közfoglalkoztatás | C10: 1 | D10: 1001011
A11: 6 | B11: 045160 Közutak, hidak, alagutak üzemeltetése, fenntartása | D11: 19722672
A12: 7 | B12: 052020 Szennyvíz gyűjtése, tisztítása, elhelyezése | D12: 1447518
A13: 8 | B13: 063020 Víztermelés- kezelés, -ellátás | D13: 246453
A14: 9 | B14: 064010 Közvilágítás | D14: 245465
A15: 10 | B15: 066010 Zöldterület-kezelés | D15: 1830693
A16: 11 | B16: 066020 Város-, községgazdálkodási egyéb szolgáltatások | D16: 101160
A17: 12 | B17: 074040 Fertőző megbetegedések megelőzése, járványügyi ellátás | D17: 15004
A18: 13 | B18: 081045 Szabadidősport- (rekreációs sport-) tevékenység és támogatása | D18: 100000
A19: 14 | B19: 082042 Könyvtári állomány gyarapítása, nyilvántartása | D19: 998937
A20: 15 | B20: 082091 Közművelődés - közösségi és társadalmi részvétel fejlesztése | D20: 1218405
A21: 16 | B21: 104037 Intézményen kívüli gyermekétkeztetés | D21: 22500
A22: 17 | B22: 107051 Szociális étkeztetés szociális konyhán | D22: 64031
... A24: 19 | B24: 900060 Forgatási és befektetési célú finanszírozási műveletek | D24: 1500000
A25: 20 | B25: Kiadások összesen | C25: =SUM(C6:C23) -> 3 | D25: =SUM(D6:D24) -> 39116679
C27: forintban
A28: Bevételek
A29: A | B29: B | C29: C
A30: MEGNEVEZÉS | C30: 2020. évi teljesítés
A31: 1 | B31: 011130 Önkormányzatok és önkormányzati hivatalok jogalkotó és általános igazgatási tevékenysége | C31: 2880
A32: 2 | B32: 013350 Az önkormányzati vagyonnal való gazdálkodással kapcsolatos feladatok | C32: 2294500
A33: 3 | B33: 016030 Állampolgársági ügyek | C33: 35000
A34: 4 | B34: 018010 Önkormányzatok elszámolásai a központi költségvetéssel | C34: 12016967
A35: 5 | B35: 018030 Támogatási célú finanszírozási műveletek | C35: 12985805
A36: 6 | B36: 041233 Hosszabb időtartamú közfoglalkoztatás | C36: 1077065
A37: 7 | B37: 045160 Közutak, hidak, alagutak üzemeltetése, fenntartása | C37: 19290072
A38: 8 | B38: 052020 Szennyvíz gyűjtése, tisztítása, elhelyezése | C38: 882000
A39: 9 | B39: 063020 Víztermelés- kezelés, -ellátás | C39: 43216
A40: 10 | B40: 066010 Zöldterület-kezelés | C40: 407200
A41: 11 | B41: 066020 Város-, községgazdálkodási egyéb szolgáltatások | C41: 618
A42: 12 | B42: 900020 Önkormányzatok funkcióra nem sorolható bevételei államháztartáson kívülről | C42: 466682
...

Sheet 4
A1: Szentjakabfa Község Önkormányzata
A2: 2020. évi fejlesztési kiadások
I3: forintban
B4: A | C4: B | D4: C | E4: D | F4: E | I4: F
B5: Megnevezés | C5: Nettó összeg | D5: ÁFA | E5: Bruttó összeg | F5: Adósságot keletkeztető ügylet megkötésének szükségessége | I5: Adósságot keletkeztető ügylet kormányzati engedélyhez való kötöttsége
A6: 1 | B6: Sövénynyíró beszerzése | C6: 82598 | D6: 22301 | E6: =SUM(C6:D6) -> 104899 | F6: nem | I6: nem
A7: 2 | B7: Településszerkezeti és szabályozási terv | C7: 700000 | D7: 189000 | E7: =+C7+D7 -> 889000 | F7: nem | I7: nem
A8: 3 | B8: Beruházások összesen | C8: =SUM(C6:C7) -> 782598 | D8: =SUM(D6:D7) -> 211301 | E8: =SUM(E6:E7) -> 993899
A9: 4 | B9: Villámhárító felszerelése a Szentjakabfa Fő u. 37. sz. épületre | C9: 626700 | D9: 169209 | E9: =+C9+D9 -> 795909 | F9: nem | I9: nem
A10: 5 | B10: Ravatalozó felújításhoz tervkészítés | C10: 320000 | D10: 0 | E10: 320000 | F10: nem | I10: nem
A11: 6 | B11: Parkerdő színpad és tető készítése | C11: 1342000 | D11: 0 | E11: =+C11+D11 -> 1342000 | F11: nem | I11: nem
A12: 7 | B12: Kút utca, Kenderföldi utca útfelújítás (Magyar Falu Program) | C12: 14633443 | D12: 3859229 | E12: =+C12+D12 -> 18492672 | F12: nem | I12: nem
A13: 8 | B13: Felújítások összesen | C13: =SUM(C9:C12) -> 16922143 | D13: =SUM(D9:D12) -> 4028438 | E13: =SUM(E9:E12) -> 20950581
A14: 9 | B14: Beruházások és felújítások összesen: | C14: =C13+C8 -> 17704741 | D14: =D8+D13 -> 4239739 | E14: =E8+E13 -> 21944480
A15: 10 | B15: Felhalmozási célú pénzeszköz átadás (Bakonykarszt Zrt. Fejlesztési forrás elszámolása) | C15: 43216 | D15: 0 | E15: 43216 | F15: nem | I15: nem
A16: 11 | B16: Felhalmozási célú támogatásértékű kiadás | C16: 2899 | D16: 0 | E16: 2899 | F16: nem | I16: nem
A17: 12 | B17: Felhalmozási célú kölcsön nyújtása | C17: 1500000 | D17: 0 | E17: 1500000 | F17: nem | I17: nem
A18: 13 | B18: Felhalmozási kiadások összesen: | C18: =+C14+C15+C17+C16 -> 19250856 | D18: =+D14+D15+D17+D16 -> 4239739 | E18: =+E14+E15+E17+E16 -> 23490595

Sheet 5
A1: Szentjakabfa Község Önkormányzata
A2: 2020. évi maradvány
C3: forintban
B4: A | C4: B
A5: Megnevezés | C5: Összeg
A6: 1 | B6: Alaptevékenység költségvetési bevételei | C6: =+'1'!E75 -> 37164853
A7: 2 | B7: Alaptevékenység költségvetési kiadásai | C7: =+'2'!E104 -> 38285820
A8: 3 | B8: Alaptevékenység költségvetési egyenlege | C8: =+C6-C7 -> -1120967
A9: 4 | B9: Alaptevékenység finanszírozási bevételei | C9: =+'1'!E105 -> 13837152
A10: 5 | B10: Alaptevékenység finanszírozási kiadásai | C10: =+'2'!E134 -> 830859
A11: 6 | B11: Alaptevékenység finanszírozási egyenlege | C11: =+C9-C10 -> 13006293
A12: 7 | B12: Alaptevékenység maradványa | C12: =+C11+C8 -> 11885326
A13: 8 | B13: Vállalkozási tevékenység költségvetési bevételei | C13: 0
A14: 9 | B14: Vállalkozási tevékenység költségvetési kiadásai | C14: 0
A15: 10 | B15: Vállalkozási tevékenység költségvetési egyenlege | C15: 0
A16: 11 | B16: Vállalkozási tevékenység finanszírozási bevételei | C16: 0
A17: 12 | B17: Vállalkozási tevékenység finanszírozási kiadásai | C17: 0
A18: 13 | B18: Vállalkozási tevékenység finanszírozási egyenlege | C18: 0
A19: 14 | B19: Vállalkozási tevékenység maradványa | C19: 0
A20: 15 | B20: Összes maradvány | C20: =C12 -> 11885326
A21: 16 | B21: Alaptevékenység kötelezettségvállalással terhelt maradványa | C21: 1606080
A22: 17 | B22: Alaptevékenység szabad maradványa | C22: =+C20-C21 -> 10279246
A23: 18 | B23: Vállalkozási tevékenységet terhelő befizetési kötelezettség | C23: 0
A24: 19 | B24: Vállalkozási tevékenység felhasználható maradványa | C24: 0

Sheet 6
A1: Szentjakabfa Község Önkormányzata
A2: 2020. évi vagyonkimutatás | K2: forintban
A3: Sorsz. | B3: Eszközök | D3: Állományi érték
D4: 2019. év | H4: 2020. év
D5: Forgalomképtelen törzsvagyon | E5: Korlátozottan forgalomképes törzsvagyon | F5: Törzsvagyonon kívüli egyéb vagyon | G5: Összesen | H5: Forgalomképtelen törzsvagyon | I5: Korlátozottan forgalomképes törzsvagyon | J5: Törzsvagyonon kívüli egyéb vagyon | K5: Összesen
B6: A | D6: B | E6: C | F6: D | G6: E | H6: F | I6: G | J6: H | K6: I
A7: 1. | B7: 1. | C7: Vagyoni értékű jogok | D7: =SUM(A7:C7) -> 0 | E7: 0 | F7: =SUM(C7:E7) -> 0 | G7: =SUM(D7:F7) -> 0 | H7: 0 | I7: 0 | J7: 0 | K7: =SUM(H7:J7) -> 0
A8: 2. | B8: 2. | C8: Szellemi termékek | D8: =SUM(A8:C8) -> 0 | E8: 0 | F8: 273542 | G8: =SUM(D8:F8) -> 273542 | H8: 0 | I8: 0 | J8: 514214 | K8: =SUM(H8:J8) -> 514214
A9: 3. | B9: 3. | C9: Immateriális javak értékhelyesbítése | D9: =SUM(A9:C9) -> 0 | E9: 0 | F9: 0 | G9: =SUM(D9:F9) -> 0 | H9: 0 | I9: 0 | J9: 0 | K9: =SUM(H9:J9) -> 0
A10: 4. | B10: I. | C10: Immateriális javak összesen | D10: =SUM(D7:D9) -> 0 | E10: =SUM(E7:E9) -> 0 | F10: =SUM(F7:F9) -> 273542 | G10: =SUM(D10:F10) -> 273542 | H10: =SUM(H7:H9) -> 0 | I10: =SUM(I7:I9) -> 0 | J10: =SUM(J7:J9) -> 514214 | K10: =SUM(H10:J10) -> 514214
A11: 5. | B11: 1. | C11: Ingatlanok és a kapcs. vagyoni ért. jogok | D11: 52765271 | E11: 27534685 | F11: 17838981 | G11: =SUM(D11:F11) -> 98138937 | H11: 66588019 | I11: 27325433 | J11: 17558339 | K11: =SUM(H11:J11) -> 111471791
A12: 6. | B12: 2. | C12: Gépek, berendezések, felszerelések, járművek | D12: 0 | E12: 0 | F12: 7734319 | G12: =SUM(D12:F12) -> 7734319 | H12: 0 | I12: 0 | J12: 2485079 | K12: =SUM(H12:J12) -> 2485079
A13: 7. | B13: 3. | C13: Tenyészállatok | D13: 0 | E13: 0 | F13: 0 | G13: =SUM(D13:F13) -> 0 | H13: 0 | I13: 0 | J13: 0 | K13: =SUM(H13:J13) -> 0
A14: 8. | B14: 4. | C14: Beruházások, felújítások | D14: 0 | E14: 2074800 | F14: 0 | G14: =SUM(D14:F14) -> 2074800 | H14: 0 | I14: 4954186 | J14: 0 | K14: =SUM(H14:J14) -> 4954186
A15: 9. | B15: 5. | C15: Tárgyi eszközök értékhelyesbítése | D15: 0 | E15: 0 | F15: 0 | G15: =SUM(D15:F15) -> 0 | H15: 0 | I15: 0 | J15: 0 | K15: =SUM(H15:J15) -> 0
A16: 10. | B16: II. | C16: Tárgyi eszközök összesen | D16: =SUM(D11:D15) -> 52765271 | E16: =SUM(E11:E15) -> 29609485 | F16: =SUM(F11:F15) -> 25573300 | G16: =SUM(D16:F16) -> 107948056 | H16: =SUM(H11:H15) -> 66588019 | I16: =SUM(I11:I15) -> 32279619 | J16: =SUM(J11:J15) -> 20043418 | K16: =SUM(H16:J16) -> 118911056
A17: 11. | B17: 1. | C17: Tartós részesedések | D17: =SUM(D18) -> 290000 | E17: 0 | F17: 0 | G17: =SUM(D17:F17) -> 290000 | H17: =SUM(H18) -> 290000 | I17: 0 | J17: 0 | K17: =SUM(H17:J17) -> 290000
A18: 12. | B18: 2. | C18: - ebből: tartós részesedések nem pénzügyi vállalkozásban | D18: 290000 | E18: 0 | F18: 0 | G18: =SUM(D18:F18) -> 290000 | H18: 290000 | I18: 0 | J18: 0 | K18: =SUM(H18:J18) -> 290000
A19: 13. | B19: 3. | C19: - ebből: egyéb tartós részesedések | D19: 0 | E19: 0 | F19: 0 | G19: =SUM(D19:F19) -> 0 | H19: 0 | I19: 0 | J19: 0 | K19: =SUM(H19:J19) -> 0
A20: 14. | B20: 4. | C20: Tartós hitelviszonyt megtestesítő értékpapírok | D20: 0 | E20: 0 | F20: 0 | G20: =SUM(D20:F20) -> 0 | H20: 0 | I20: 0 | J20: 0 | K20: =SUM(H20:J20) -> 0
A21: 15. | B21: 5. | C21: - ebből: államkötvények | D21: 0 | E21: 0 | F21: 0 | G21: =SUM(D21:F21) -> 0 | H21: 0 | I21: 0 | J21: 0 | K21: =SUM(H21:J21) -> 0
A22: 16. | B22: 6. | C22: -ebből: helyi önkormányzatok kötvényei | D22: 0 | E22: 0 | F22: 0 | G22: =SUM(D22:F22) -> 0 | H22: 0 | I22: 0 | J22: 0 | K22: =SUM(H22:J22) -> 0
A23: 17. | C23: Befektetett pénzügyi eszközök értékhelyesbítése | D23: 0 | E23: 0 | F23: 0 | G23: =SUM(D23:F23) -> 0 | H23: 0 | I23: 0 | J23: 0 | K23: =SUM(H23:J23) -> 0
A24: 18. | B24: III. | C24: Befektetett pénzügyi eszközök összesen | D24: =+D17 -> 290000 | E24: =SUM(E17,E20,E23) -> 0 | F24: =SUM(F17,F20,F23) -> 0 | G24: =SUM(G17,G20,G23) -> 290000 | H24: =SUM(H17,H20,H23) -> 290000 | I24: =SUM(I17,I20,I23) -> 0 | J24: =SUM(J17,J20,J23) -> 0 | K24: =SUM(K17,K20,K23) -> 290000
A25: 19. | B25: 1. | C25: Koncesszióba, vagyonkezelésbe adott eszközök | D25: 0 | E25: 0 | F25: 0 | G25: =SUM(D25:F25) -> 0 | H25: 0 | I25: 0 | J25: 0 | K25: =SUM(H25:J25) -> 0
A26: 20. | B26: 2. | C26: Koncesszióba, vagyonkezelésbe adott eszközök értékhelyesbítése | D26: 0 | E26: 0 | F26: 0 | G26: =SUM(D26:F26) -> 0 | H26: 0 | I26: 0 | J26: 0 | K26: =SUM(H26:J26) -> 0
A27: 21. | B27: IV. | C27: Koncesszióba, vagyonkezelésbe adott eszközök összesen | D27: =SUM(D25:D26) -> 0 | E27: =SUM(E25:E26) -> 0 | F27: =SUM(F25:F26) -> 0 | G27: =SUM(D27:F27) -> 0 | H27: =SUM(H25:H26) -> 0 | I27: =SUM(I25:I26) -> 0 | J27: =SUM(J25:J26) -> 0 | K27: =SUM(K25:K26) -> 0
A28: 22. | B28: NEMZETI VAGYONBA TARTOZÓ BEFEKTETETT ESZKÖZÖK ÖSSZESEN | D28: =D10+D16+D24+D27 -> 53055271 | E28: =E10+E16+E24+E27 -> 29609485 | F28: =F10+F16+F24+F27 -> 25846842 | G28: =SUM(D28:F28) -> 108511598 | H28: =H10+H16+H24+H27 -> 66878019 | I28: =I10+I16+I24+I27 -> 32279619 | J28: =J10+J16+J24+J27 -> 20557632 | K28: =SUM(H28:J28) -> 119715270
A32: Sorszám | C32: Megnevezés | D32: Forgalomképtelen törzsvagyon bruttó értéke | E32: Korlátozottan forgalomképes vagyon bruttó értéke | F32: Üzleti vagyon bruttó értéke | G32: Összesen
C33: A | D33: B | E33: C | F33: D | G33: E
A34: 1 | C34: A) Befektetett eszközök
A35: 2 | C35: I. Immateriális javak | G35: =+G36+G38+G40+G41 -> 5073480
A36: 3 | C36: 1. Vagyoni értékű jogok | D36: 0 | E36: 0 | F36: 0 | G36: =SUM(D36:F36) -> 0
A37: 4 | C37: ebből: 0-ig leírt vagyoni értékű jogok | D37: 0 | E37: 0 | F37: 0 | G37: =SUM(D37:F37) -> 0
A38: 5 | C38: 2. Szellemi termékek | D38: 0 | E38: 725000 | F38: 4348480 | G38: =SUM(D38:F38) -> 5073480
A39: 6 | C39: ebből: 0-ig leírt szellemi termékek | D39: 0 | E39: 725000 | F39: 625000 | G39: =SUM(D39:F39) -> 1350000
A40: 7 | C40: Kisértékű vagyoni értékű jogok | D40: 0 | E40: ='[1]Városi Óvoda'!D44+[1]VIMSZ!D44+[1]VKSZK!D44+[1]Szoc.Szolg.!D44+'[1]Gyermekjóléti Kp.'!D44+[1]Önkorm.!D44+[1]Bölcsőde!D44+[1]Regenbogen!D44 -> #REF! | F40: ='[1]Városi Óvoda'!E44+[1]VIMSZ!E44+[1]VKSZK!E44+[1]Szoc.Szolg.!E44+'[1]Gyermekjóléti Kp.'!E44+[1]Önkorm.!E44+[1]Bölcsőde!E44+[1]Regenbogen!E44 -> #REF! | G40: 0
A41: 8 | C41: Kisértékű szellemi termékek | D41: 0 | E41: ='[1]Városi Óvoda'!D45+[1]VIMSZ!D45+[1]VKSZK!D45+[1]Szoc.Szolg.!D45+'[1]Gyermekjóléti Kp.'!D45+[1]Önkorm.!D45+[1]Bölcsőde!D45+[1]Regenbogen!D45 -> #REF! | F41: ='[1]Városi Óvoda'!E45+[1]VIMSZ!E45+[1]VKSZK!E45+[1]Szoc.Szolg.!E45+'[1]Gyermekjóléti Kp.'!E45+[1]Önkorm.!E45+[1]Bölcsőde!E45+[1]Regenbogen!E45 -> #REF! | G41: 0
A42: 9 | C42: II. Tárgyi eszközök | G42: =+G43+G45+G49+G50 -> 179111224
A43: 10 | C43: 1. Ingatlanok és kapcsolódó vagyoni értékű jogok | D43: 78985990 | E43: 33924202 | F43: 22064044 | G43: =SUM(D43:F43) -> 134974236
...

Sheet 7
A1: Szentjakabfa Község Önkormányzata
A2: Az önkormányzat tulajdonában álló gazdálkodó szervezetek kötelezettségei, és a részesedések alakulása
C3: forintban
A4: Megnevezés
A5: A | B5: B | C5: C
B6: Megnevezés | C6: Részesedések saját alapítású gazdasági társaságokban
A7: 1 | B7: Előző évi záró állomány (Bakonykarszt Zrt.) | C7: 290000
A8: 2 | B8: Növekedések | C8: 0
A9: 3 | B9: Csökkenések | C9: 0
A10: 4 | B10: Tárgyévi (tárgyidőszaki) záróállomány | C10: 290000
A11: 5 | B11: A gazdasági társaságok és nonprofit társaságok száma a nyitóállományban | C11: 1
A12: 6 | B12: A gazdasági társaságok és nonprofit társaságok száma a záróállományban | C12: 1
A13: 7 | B13: Gazdasági társaságok és nonprofit gazdasági társaságok fennálló kötelezettségei a tárgyidőszak végén | C13: 9998000

Sheet 8
A1: Szentjakabfa Község Önkormányzata
A2: 2020. évi költségvetési mérleg
E3: forintban
A4: A | B4: B | C4: C | D4: D | E4: E
A5: 1 | B5: MŰKÖDÉSI KIADÁSOK MÉRLEGE
A6: 2 | B6: Megnevezés | C6: Összeg | D6: Megnevezés | E6: Összeg
A7: 3 | B7: Önkormányzatok működési támogatásai | C7: =+'1'!E14 -> 11165620 | D7: Személyi juttatások | E7: =+'2'!E24 -> 4530661
A8: 4 | B8: Működési célú támogatások államháztartáson belülről | C8: =+'1'!E19+'1'!E17 -> 1077065 | D8: Munkaadót terhelő járulékok és szha | E8: =+'2'!E25 -> 642833
A9: 5 | B9: Vagyoni típusú adók, termékek és szolgáltatások adói, értékesítési és forgalmi adók | C9: =+'1'!E32+'1'!E36 -> 460050 | D9: Dologi kiadások | E9: =+'2'!E50 -> 4778729
A10: 6 | B10: Egyéb közhatalmi bevételek | C10: =+'1'!E39 -> 41532 | D10: Ellátottak pénzbeli juttatásai | E10: =+'2'!E63 -> 1379000
A11: 7 | B11: Egyéb működési bevételek | C11: =+'1'!E56 -> 3630514 | D11: Egyéb működési célú támogatások államháztartáson belülre | E11: =+'2'!E72+'2'!E70 -> 3339716
A12: 8 | B12: Működési célú átvett pénzeszközök | C12: =+'1'!E68 -> 0 | D12: Egyéb működési célú támogatások államháztartáson kívülre | E12: =+'2'!E78 -> 108865
A13: 9 | B13: Finanszírozási bevételek | C13: =+'1'!E105-C22 -> 13794434 | D13: Egyéb működési célú kiadások | E13: =+'2'!E65 -> 15421
A14: 10 | B14: Működési bevételek összesen | C14: =SUM(C7:C13) -> 30169215 | D14: Finanszírozási kiadások | E14: =+'2'!E117 -> 830859
A15: 11 | D15: Működési kiadások összesen | E15: =SUM(E7:E14) -> 15626084
A16: 12 | D16: Egyenleg | E16: =C14-E15 -> 14543131
A17: 13 | B17: FELHALMOZÁSI KIADÁSOK MÉRLEGE
A18: 14 | B18: Megnevezés | C18: Összeg | D18: Megnevezés | E18: Összeg
A19: 15 | B19: Felhalmozási célú támogatások államháztartáson belülről | C19: =+'1'!E26 -> 19290072 | D19: Beruházások | E19: =+'2'!E88 -> 993899
A20: 16 | B20: Felhalmozási bevételek | C20: =+'1'!E62 -> 0 | D20: Felújítások | E20: =+'2'!E93 -> 20950581
A21: 17 | B21: Felhalmozási célú átvett pénzeszközök | C21: =+'1'!E72 -> 1500000 | D21: Egyéb felhalmozási célú kiadások | E21: =+'2'!E102 -> 1546115
A22: 18 | B22: Finanszírozási bevételek | C22: 42718 | D22: Finanszírozási kiadások | E22: 0
A23: 19 | B23: Felhalmozási bevételek összesen | C23: =SUM(C19:C22) -> 20832790 | D23: Felhalmozási kiadások összesen | E23: =SUM(E19:E22) -> 23490595
A24: 20 | D24: Egyenleg | E24: =C23-E23 -> -2657805
A25: 21 | B25: ÖSSZEVONT ÖNKORMÁNYZATI MÉRLEG
A26: 22 | B26: Megnevezés | C26: Összeg | D26: Megnevezés | E26: Összeg
A27: 23 | B27: Működési bevételek | C27: =C14 -> 30169215 | D27: Működési kiadások | E27: =E15 -> 15626084
A28: 24 | B28: Felhalmozási bevételek | C28: =C23 -> 20832790 | D28: Felhalmozási kiadások | E28: =E23 -> 23490595
A29: 25 | B29: Összes bevétel | C29: =SUM(C27:C28) -> 51002005 | D29: Összes kiadás | E29: =E27+E28 -> 39116679

Sheet 9
A1: Szentjakabfa Község Önkormányzata
A2: 2020. évi pénzeszközök változása
C3: forintban
B4: A | C4: B
A5: Sorszám | B5: Megnevezés | C5: Összeg
A6: 1 | B6: Pénzkészlet tárgyidőszak elején | C6: 12973993
A7: 2 | B7: - Forintban vezetett költségvetési pénzforgalmi számlák egyenlege | C7: 12952243
A8: 3 | B8: - Devizabetét számlák egyenlege | C8: 0
A9: 4 | B9: - Forintpénztárak és betétkönyvek egyenlege | C9: 21750
A10: 5 | B10: - Valutapénztárak egyenlege | C10: 0
A11: 6 | B11: Pénzkészlet összesen | C11: =SUM(C7:C10) -> 12973993
A12: 7 | B12: Pénzforgalmi bevételek | C12: =+'1'!E106-'1'!E85 -> 38016200
A13: 8 | B13: Bevételi korrekciós tétel | C13: 21220
A14: 9 | B14: Pénzforgalmi kiadások | C14: =+'2'!E135 -> 39116679
A15: 10 | B15: Kiadási korrekciós tétel | C15: -3105
A16: 11 | B16: Pénzkészlet tárgyidőszak végén | C16: 11897839
A17: 12 | B17: Forintban vezetett költségvetési pénzforgalmi számlák egyenlege | C17: 11885069
A18: 13 | B18: - Devizabetét számlák egyenlege | C18: 0
A19: 14 | B19: - Forintpénztárak és betétkönyvek egyenlege | C19: 12770
A20: 15 | B20: - Valutapénztárak egyenlege | C20: 0
A21: 16 | B21: Pénzkészlet összesen | C21: =SUM(C17:C20) -> 11897839

Sheet 10
A1: Szentjakabfa Község Önkormányzata
A2: Több évre tervezett bevételek és kiadások
E3: forintban
A4: A | B4: B | C4: D | D4: E | E4: forintban
A5: Sorszám | B5: Megnevezés | C5: 2021. év | D5: 2022. év | E5: 2023. év
A6: 1 | B6: Önkormányzatok működési támogatásai | C6: 11476107 | D6: 11705629 | E6: 11939742
A7: 2 | B7: Működési célú támogatások államháztartáson belülről | C7: 2215000 | D7: 2259300 | E7: 2304486
A8: 3 | B8: Felhalmozási célú támogatások államháztartáson belülről | C8: 4999998 | D8: 0 | E8: 0
A9: 4 | B9: Közhatalmi bevételek | C9: 460000 | D9: 1100000 | E9: 1150000
A10: 5 | B10: Működési bevételek | C10: 3093569 | D10: 3155440.4 | E10: 3218549.2
A11: 6 | B11: Felhalmozási bevételek | C11: 0 | D11: 0 | E11: 0
A12: 7 | B12: Működési célú átvett pénzeszközök | C12: 0 | D12: 0 | E12: 0
A13: 8 | B13: Felhalmozási célú átvett pénzeszközök | C13: 0 | D13: 250000 | E13: 250000
A14: 12 | B14: Finanszírozási bevételek | C14: 13155326 | D14: 8550630 | E14: 6843222.6
A15: 13 | B15: Bevételek összesen | C15: 35400000 | D15: 27021000 | E15: 25706000
A16: 14 | B16: Személyi juttatások | C16: 6294000 | D16: 6419880 | E16: 6548277.6
A17: 15 | B17: Munkaadókat terhelő járulékok és szociális hozzájárulási adó | C17: 762000 | D17: 777240 | E17: 792784.8
... A25: 23 | B25: Kiadások összesen | C25: 35400000 | D25: 27021000 | E25: 25706000
