Workbook

Sheet 1
A1: Szentjakabfa Község Önkormányzata
A2: 2020. évi bevételek
E3: forintban
A4: Megnevezés | C4: Eredeti előirányzat | D4: Módosított előirányzat | E4: Teljesítés
A5: A | B5: B | C5: C | D5: D | E5: E
A6: 1 | B6: Helyi önkormányzatok működésének általános támogatása | C6: 7184810 | D6: 7184810 | E6: 7184810
A7: 2 | B7: Települési önkormányzatok egyes köznevelési feladatainak támogatása | C7: 0 | D7: 0 | E7: 0
A8: 3 | B8: Települési önkormányzatok szociális és gyermekjóléti feladatainak támogatása | C8: 1979100 | D8: 1962000 | E8: 1962000
A9: 4 | B9: Települési önkormányzatok gyermekétkeztetési feladatainak támogatása | C9: 0 | D9: 18810 | E9: 18810
A10: 5 | B10: Települési önkormányzatok szociális gyermekjóléti és gyermekétkeztetési feladatainak támogatása | C10: 1979100 | D10: =SUM(D8:D9) -> 1980810 | E10: =SUM(E8:E9) -> 1980810
A11: 6 | B11: Települési önkormányzatok kulturális feladatainak támogatása | C11: 1800000 | D11: =1800000+200000 -> 2000000 | E11: =1800000+200000 -> 2000000
A12: 7 | B12: Működési célú költségvetési támogatások és kiegészítő támogatások | C12: 0 | D12: 0 | E12: 0
A13: 8 | B13: Elszámolásból származó bevétel | C13: 0 | D13: 0 | E13: 0
A14: 9 | B14: Önkormányzatok működési támogatásai | C14: =+C11+C10+C6 -> 10963910 | D14: =+D11+D10+D6 -> 11165620 | E14: =+E11+E10+E6 -> 11165620
A15: 10 | B15: Elvonások és befizetések bevételei | C15: 0 | D15: 0 | E15: 0
A16: 11 | B16: Működési célú garancia- és kezességvállalásból származó megtérülések államháztartáson belülről | C16: 0 | D16: 0 | E16: 0
A17: 12 | B17: Működési célú visszatérítendő támogatások, kölcsönök visszatérülése államháztartáson belülről | C17: 0 | D17: 0 | E17: 0
A18: 13 | B18: Működési célú visszatérítendő támogatások, kölcsönök igénybevétele államháztartáson belülről | C18: 0 | D18: 0 | E18: 0
A19: 14 | B19: Egyéb működési célú támogatások bevételei államháztartáson belülről | C19: 1000000 | D19: 1077065 | E19: 1077065
A20: 15 | B20: Működési célú támogatások államháztartáson belülről | C20: =SUM(C14:C19) -> 11963910 | D20: =SUM(D14:D19) -> 12242685 | E20: =SUM(E14:E19) -> 12242685
A21: 16 | B21: Felhalmozási célú önkormányzati támogatások | C21: 0 | D21: 0 | E21: 0
A22: 17 | B22: Felhalmozási célú garancia- és kezességvállalásból származó megtérülések államháztartáson belülről | C22: 0 | D22: 0 | E22: 0
A23: 18 | B23: Felhalmozási célú visszatérítendő támogatások, kölcsönök visszatérülése államháztartáson belülről | C23: 0 | D23: 0 | E23: 0
A24: 19 | B24: Felhalmozási célú visszatérítendő támogatások, kölcsönök igénybevétele államháztartáson belülről | C24: 0 | D24: 0 | E24: 0
A25: 20 | B25: Egyéb felhalmozási célú támogatások bevételei államháztartáson belülről | C25: 5000000 | D25: 24290072 | E25: 19290072
A26: 21 | B26: Felhalmozási célú támogatások államháztartáson belülről | C26: =SUM(C21:C25) -> 5000000 | D26: =SUM(D21:D25) -> 24290072 | E26: =SUM(E21:E25) -> 19290072
A27: 22 | B27: Magánszemélyek jövedelemadói | C27: 0 | D27: 0 | E27: 0
A28: 23 | B28: Társaságok jövedelemadói | C28: 0 | D28: 0 | E28: 0
A29: 24 | B29: Jövedelemadók | C29: 0 | D29: 0 | E29: 0
A30: 25 | B30: Szociális hozzájárulási adó és járulékok | C30: 0 | D30: 0 | E30: 0
A31: 26 | B31: Bérhez és foglalkoztatáshoz kapcsolódó adók | C31: 0 | D31: 0 | E31: 0
A32: 27 | B32: Vagyoni típusú adók | C32: 500000 | D32: 500000 | E32: 460050
A33: 28 | B33: Értékesítési és forgalmi adók | C33: 0 | D33: 0 | E33: 0
A34: 29 | B34: Fogyasztási adók | C34: 0 | D34: 0 | E34: 0
A35: 30 | B35: Pénzügyi monopóliumok nyereségét terhelő adók | C35: 0 | D35: 0 | E35: 0
A36: 31 | B36: Gépjárműadók | C36: 600000 | D36: 0 | E36: 0
A37: 32 | B37: Egyéb áruhasználati és szolgáltatási adók | C37: 0 | D37: 0 | E37: 0
A38: 33 | B38: Termékek és szolgáltatások adói | C38: =+C37+C36+C35+C34+C33 -> 600000 | D38: =+D37+D36+D35+D34+D33 -> 0 | E38: =+E36 -> 0
A39: 34 | B39: Egyéb közhatalmi bevételek | C39: 0 | D39: 50000 | E39: 41532
A40: 35 | B40: Közhatalmi bevételek | C40: =+C38+C32 -> 1100000 | D40: =+D38+D32+D39 -> 550000 | E40: =+E39+E38+E32 -> 501582
A41: 36 | B41: Készletértékesítés ellenértéke | C41: 0 | D41: 0 | E41: 0
A42: 37 | B42: Szolgáltatások ellenértéke | C42: 888000 | D42: 1681000 | E42: 1681000
A43: 38 | B43: Közvetített szolgáltatások ellenértéke | C43: 0 | D43: 127000 | E43: 127000
A44: 39 | B44: Tulajdonosi bevételek | C44: 2207000 | D44: 1819000 | E44: 1818916
A45: 40 | B45: Ellátási díjak | C45: 0 | D45: 0 | E45: 0
A46: 41 | B46: Kiszámlázott általános forgalmi adó | C46: 0 | D46: 0 | E46: 0
A47: 42 | B47: Általános forgalmi adó visszatérítése | C47: 0 | D47: 0 | E47: 0
A48: 43 | B48: Befektetett pénzügyi eszközökből származó bevételek | C48: 0 | D48: 0 | E48: 0
A49: 44 | B49: Egyéb kapott (járó) kamatok és kamatjellegű bevételek | C49: 2813 | D49: 2813 | E49: 1703
A50: 45 | B50: Kamatbevételek és más nyereségjellegű bevételek | C50: =C49 -> 2813 | D50: =D49 -> 2813 | E50: =E49 -> 1703
A51: 46 | B51: Részesedésekből származó pénzügyi műveletek bevételei | C51: 0 | D51: 0 | E51: 0
A52: 47 | B52: Más egyéb pénzügyi műveletek bevételei | C52: 0 | D52: 0 | E52: 0
A53: 48 | B53: Egyéb pénzügyi műveletek bevételei | C53: 0 | D53: 0 | E53: 0
A54: 49 | B54: Biztosító által fizetett kártérítés | C54: 0 | D54: 0 | E54: 0
A55: 50 | B55: Egyéb működési bevételek | C55: 0 | D55: 3000 | E55: 1895
A56: 51 | B56: Működési bevételek | C56: =C50+C41+C42+C43+C44+C55 -> 3097813 | D56: =D50+D41+D42+D43+D44+D55 -> 3632813 | E56: =E50+E41+E42+E43+E44+E55 -> 3630514
A57: 52 | B57: Immateriális javak értékesítése | C57: 0 | D57: 0 | E57: 0
A58: 53 | B58: Ingatlanok értékesítése | C58: 0 | D58: 0 | E58: 0
A59: 54 | B59: Egyéb tárgyi eszközök értékesítése | C59: 0 | D59: 0 | E59: 0
A60: 55 | B60: Részesedések értékesítése | C60: 0 | D60: 0 | E60: 0
A61: 56 | B61: Részesedések megszűnéséhez kapcsolódó bevételek | C61: 0 | D61: 0 | E61: 0
A62: 57 | B62: Felhalmozási bevételek | C62: 0 | D62: 0 | E62: 0
A63: 58 | B63: Működési célú garancia- és kezességvállalásból származó megtérülések államháztartáson kívülről | C63: 0 | D63: 0 | E63: 0
A64: 59 | B64: Működési célú visszatérítendő támogatások, kölcsönök visszatérülése az Európai Uniótól | C64: 0 | D64: 0 | E64: 0
A65: 60 | B65: Működési célú visszatérítendő támogatások, kölcsönök visszatérülése kormányoktól és más nemzetközi szervezetektől | C65: 0 | D65: 0 | E65: 0
A66: 61 | B66: Működési célú visszatérítendő támogatások, kölcsönök visszatérülése államháztartáson kívülről | C66: 0 | D66: 0 | E66: 0
A67: 62 | B67: Egyéb működési célú átvett pénzeszközök | C67: 0 | D67: 0 | E67: 0
A68: 63 | B68: Működési célú átvett pénzeszközök | C68: 0 | D68: 0 | E68: 0
... A74: 69 | B74: Felhalmozási célú átvett pénzeszközök | C74: 0 | D74: 1500000 | E74: 1500000
A75: 70 | B75: Költségvetési bevételek | C75: =C68+C56+C40+C26+C20 -> 21161723 | D75: =D68+D56+D40+D26+D20+D74 -> 42215570 | E75: =E68+E56+E40+E26+E20+E62+E74 -> 37164853
A76: 71 | B76: Hosszú lejáratú hitelek, kölcsönök felvétele | C76: 0 | D76: 0 | E76: 0
A77: 72 | B77: Likviditási célú hitelek, kölcsönök felvétele pénzügyi vállalkozástól | C77: 0 | D77: 0 | E77: 0
A78: 73 | B78: Rövid lejáratú hitelek, kölcsönök felvétele | C78: 0 | D78: 0 | E78: 0
A79: 74 | B79: Hitel-, kölcsönfelvétel államháztartáson kívülről | C79: 0 | D79: 0 | E79: 0
A80: 75 | B80: Forgatási célú belföldi értékpapírok beváltása, értékesítése | C80: 0 | D80: 0 | E80: 0
A81: 76 | B81: Éven belüli lejáratú belföldi értékpapírok kibocsátása | C81: 0 | D81: 0 | E81: 0
A82: 77 | B82: Befektetési célú belföldi értékpapírok beváltása, értékesítése | C82: 0 | D82: 0 | E82: 0
A83: 78 | B83: Éven túli lejáratú belföldi értékpapírok kibocsátása | C83: 0 | D83: 0 | E83: 0
A84: 79 | B84: Belföldi értékpapírok bevételei | C84: 0 | D84: 0 | E84: 0
A85: 80 | B85: Előző év költségvetési maradványának igénybevétele | C85: 13016277 | D85: 12985805 | E85: 12985805
A86: 81 | B86: Előző év vállalkozási maradványának igénybevétele | C86: 0 | D86: 0 | E86: 0
A87: 82 | B87: Maradvány igénybevétele | C87: =SUM(C85:C86) -> 13016277 | D87: =SUM(D85:D86) -> 12985805 | E87: =SUM(E85:E86) -> 12985805
A88: 83 | B88: Államháztartáson belüli megelőlegezések | C88: 0 | D88: 1270000 | E88: 851347
A89: 84 | B89: Államháztartáson belüli megelőlegezések törlesztése | C89: 0 | D89: 0 | E89: 0
A90: 85 | B90: Központi, irányító szervi támogatás | C90: 0 | D90: 0 | E90: 0
A91: 86 | B91: Lekötött bankbetétek megszüntetése | C91: 0 | D91: 0 | E91: 0
A92: 87 | B92: Központi költségvetés sajátos finanszírozási bevételei | C92: 0 | D92: 0 | E92: 0
A93: 88 | B93: Hosszú lejáratú tulajdonosi kölcsönök bevételei | C93: 0 | D93: 0 | E93: 0
A94: 89 | B94: Rövid lejáratú tulajdonosi kölcsönök bevételei | C94: 0 | D94: 0 | E94: 0
A95: 90 | B95: Tulajdonosi kölcsönök bevételei | C95: 0 | D95: 0 | E95: 0
A96: 91 | B96: Belföldi finanszírozás bevételei | C96: 0 | D96: 1270000 | E96: =SUM(E88:E95) -> 851347
A97: 92 | B97: Forgatási célú külföldi értékpapírok beváltása, értékesítése | C97: 0 | D97: 0 | E97: 0
A98: 93 | B98: Befektetési célú külföldi értékpapírok beváltása, értékesítése | C98: 0 | D98: 0 | E98: 0
A99: 94 | B99: Külföldi értékpapírok kibocsátása | C99: 0 | D99: 0 | E99: 0
A100: 95 | B100: Hitelek, kölcsönök felvétele külföldi kormányoktól és nemzetközi szervezetektől | C100: 0 | D100: 0 | E100: 0
A101: 96 | B101: Hitelek, kölcsönök felvétele külföldi pénzintézetektől | C101: 0 | D101: 0 | E101: 0
A102: 97 | B102: Külföldi finanszírozás bevételei | C102: 0 | D102: 0 | E102: 0
A103: 98 | B103: Adóssághoz nem kapcsolódó származékos ügyletek bevételei | C103: 0 | D103: 0 | E103: 0
A104: 99 | B104: Váltóbevételek | C104: 0 | D104: 0 | E104: 0
A105: 100 | B105: Finanszírozási bevételek | C105: =C87+C96+C95+C102 -> 13016277 | D105: =D87+D96+D95+D102 -> 14255805 | E105: =+E88+E87 -> 13837152
...

Sheet 2
A1: Szentjakabfa Község Önkormányzata
A2: 2020. évi kiadások
E3: forintban
A4: Megnevezés | C4: Eredeti előirányzat | D4: Módosított előirányzat | E4: Teljesítés
A5: A | B5: B | C5: C | D5: D | E5: E
A6: 1 | B6: Törvény szerinti illetmények, munkabérek | C6: 979000 | D6: 979000 | E6: 915359
A7: 2 | B7: Normatív jutalmak | C7: 0 | D7: 0 | E7: 0
A8: 3 | B8: Céljuttatás, projektprémium | C8: 0 | D8: 0 | E8: 0
A9: 4 | B9: Készenléti, ügyeleti, helyettesítési díj, túlóra, túlszolgálat | C9: 0 | D9: 0 | E9: 0
A10: 5 | B10: Végkielégítés | C10: 0 | D10: 0 | E10: 0
A11: 6 | B11: Jubileumi jutalom | C11: 0 | D11: 0 | E11: 0
A12: 7 | B12: Béren kívüli juttatások | C12: 0 | D12: 0 | E12: 0
A13: 8 | B13: Ruházati költségtérítés | C13: 50000 | D13: 50000 | E13: 0
A14: 9 | B14: Közlekedési költségtérítés | C14: 0 | D14: 0 | E14: 0
A15: 10 | B15: Egyéb költségtérítések | C15: 0 | D15: 0 | E15: 0
A16: 11 | B16: Lakhatási támogatások | C16: 0 | D16: 0 | E16: 0
A17: 12 | B17: Szociális támogatások | C17: 0 | D17: 0 | E17: 0
A18: 13 | B18: Foglalkoztatottak egyéb személyi juttatásai | C18: 0 | D18: 0 | E18: 0
A19: 14 | B19: Foglalkoztatottak személyi juttatásai | C19: =SUM(C6:C18) -> 1029000 | D19: =SUM(D6:D18) -> 1029000 | E19: =SUM(E6:E18) -> 915359
A20: 15 | B20: Választott tisztségviselők juttatásai | C20: 2477000 | D20: 2477000 | E20: 2476620
A21: 16 | B21: Munkavégzésre irányuló egyéb jogviszonyban nem saját foglalkoztatottnak fizetett juttatások | C21: 1304000 | D21: 1304000 | E21: 1138682
A22: 17 | B22: Egyéb külső személyi juttatások | C22: 320000 | D22: 320000 | E22: 0
A23: 18 | B23: Külső személyi juttatások | C23: =SUM(C20:C22) -> 4101000 | D23: =SUM(D20:D22) -> 4101000 | E23: =SUM(E20:E22) -> 3615302
A24: 19 | B24: Személyi juttatások | C24: =C23+C19 -> 5130000 | D24: =D23+D19 -> 5130000 | E24: =E23+E19 -> 4530661
A25: 20 | B25: Munkaadókat terhelő járulékok és szociális hozzájárulási adó | C25: 747000 | D25: 747000 | E25: 642833
A26: 21 | B26: Szakmai anyagok beszerzése | C26: 70000 | D26: 50000 | E26: 0
A27: 22 | B27: Üzemeltetési anyagok beszerzése | C27: 902000 | D27: 821000 | E27: 381078
A28: 23 | B28: Árubeszerzés | C28: 0 | D28: 0 | E28: 0
A29: 24 | B29: Készletbeszerzés | C29: =SUM(C26:C28) -> 972000 | D29: =SUM(D26:D28) -> 871000 | E29: =SUM(E26:E28) -> 381078
A30: 25 | B30: Informatikai szolgáltatások igénybevétele | C30: 220000 | D30: 220000 | E30: 145949
A31: 26 | B31: Egyéb kommunikációs szolgáltatások | C31: 70000 | D31: 70000 | E31: 30058
A32: 27 | B32: Kommunikációs szolgáltatások | C32: =SUM(C30:C31) -> 290000 | D32: =SUM(D30:D31) -> 290000 | E32: =SUM(E30:E31) -> 176007
A33: 28 | B33: Közüzemi díjak | C33: 787000 | D33: 807000 | E33: 543333
A34: 29 | B34: Vásárolt élelmezés | C34: 93444 | D34: 93444 | E34: 68132
A35: 30 | B35: Bérleti és lízing díjak | C35: 0 | D35: 0 | E35: 0
A36: 31 | B36: Karbantartási, kisjavítási szolgáltatások | C36: 1400000 | D36: 1390000 | E36: 451000
A37: 32 | B37: Közvetített szolgáltatások | C37: 0 | D37: 100000 | E37: 100000
A38: 33 | B38: Szakmai tevékenységet segítő szolgáltatások | C38: 642000 | D38: 642000 | E38: 541240
A39: 34 | B39: Egyéb szolgáltatások | C39: 1415000 | D39: 2095000 | E39: 1743786
A40: 35 | B40: Szolgáltatási kiadások | C40: =SUM(C33:C39) -> 4337444 | D40: =SUM(D33:D39) -> 5127444 | E40: =SUM(E33:E39) -> 3447491
A41: 36 | B41: Kiküldetések kiadásai | C41: 0 | D41: 0 | E41: 0
A42: 37 | B42: Reklám- és propagandakiadások | C42: 0 | D42: 0 | E42: 0
A43: 38 | B43: Kiküldetések, reklám- és propagandakiadások | C43: 0 | D43: 0 | E43: =SUM(E41:E42) -> 0
A44: 39 | B44: Működési célú előzetesen felszámított általános forgalmi adó | C44: 1538000 | D44: 1651400 | E44: 658867
A45: 40 | B45: Fizetendő általános forgalmi adó | C45: 0 | D45: 0 | E45: 0
A46: 41 | B46: Kamatkiadások | C46: 0 | D46: 0 | E46: 0
A47: 42 | B47: Egyéb pénzügyi műveletek kiadásai | C47: 0 | D47: 0 | E47: 0
A48: 43 | B48: Egyéb dologi kiadások | C48: 132000 | D48: 163000 | E48: 115286
A49: 44 | B49: Különféle befizetések és egyéb dologi kiadások | C49: =SUM(C44:C48) -> 1670000 | D49: =SUM(D44:D48) -> 1814400 | E49: =SUM(E44:E48) -> 774153
A50: 45 | B50: Dologi kiadások | C50: =C49+C43+C40+C32+C29 -> 7269444 | D50: =D49+D43+D40+D32+D29 -> 8102844 | E50: =E49+E43+E40+E32+E29 -> 4778729
A51: 46 | B51: Társadalombiztosítási ellátások | C51: 0 | D51: 0 | E51: 0
A52: 47 | B52: Családi támogatások | C52: =C53 -> 0 | D52: =D53 -> 0 | E52: 0
A53: 48 | B53: ebből: egyéb pénzbeli és természetbeni gyermekvédelmi támogatások | E53: 0
A54: 49 | B54: Pénzbeli kárpótlások, kártérítések | C54: 0 | D54: 0 | E54: 0
A55: 50 | B55: Betegséggel kapcsolatos (nem társadalombiztosítási) ellátások | C55: 0 | D55: 0 | E55: 0
A56: 51 | B56: Foglalkoztatással, munkanélküliséggel kapcsolatos ellátások | C56: 0 | D56: 0 | E56: 0
A57: 52 | B57: Lakhatással kapcsolatos ellátások | C57: 0 | D57: 0 | E57: 0
A58: 53 | B58: Intézményi ellátottak pénzbeli juttatásai | C58: 0 | D58: 0 | E58: 0
A59: 54 | B59: Egyéb nem intézményi ellátások | C59: 1400000 | D59: 1445000 | E59: 1379000
A60: 55 | B60: ebből: egyéb, az önkormányzat rendeletében megállapított juttatás | C60: 0 | D60: 0 | E60: 0
A61: 56 | B61: települési támogatás | C61: 1400000 | D61: 1445000 | E61: 1379000
A62: 57 | B62: az önkormányzat által saját hatáskörben (nem szociális és gyermekvédelmi előírás alapján) adott más ellátás | C62: 0 | D62: 0 | E62: 0
A63: 58 | B63: Ellátottak pénzbeli juttatásai | C63: =C59+C58+C57+C56+C55+C54+C52+C51 -> 1400000 | D63: =D59+D58+D57+D56+D55+D54+D52+D51 -> 1445000 | E63: =+E59+E52 -> 1379000
A64: 59 | B64: Nemzetközi kötelezettségek | C64: 0 | D64: 0 | E64: 0
A65: 60 | B65: A helyi önkormányzatok előző évi elszámolásából származó kiadások | C65: 0 | D65: 16000 | E65: 15421
A66: 61 | B66: A helyi önkormányzatok törvényi előíráson alapuló befizetései | C66: 0 | D66: 0 | E66: 0
A67: 62 | B67: Egyéb elvonások és befizetések | C67: 0 | D67: 0 | E67: 0
A68: 63 | B68: Elvonások és befizetések | C68: 0 | D68: 16000 | E68: 15421
A69: 64 | B69: Működési célú garancia- és kezességvállalásból származó kifizetés államháztartáson belülre | C69: 0 | D69: 0 | E69: 0
A70: 65 | B70: Működési célú visszatérítendő támogatások, kölcsönök nyújtása államháztartáson belülre | C70: 0 | D70: 0 | E70: 0
A71: 66 | B71: Működési célú visszatérítendő támogatások, kölcsönök törlesztése államháztartáson belülre | C71: 0 | D71: 0 | E71: 0
A72: 67 | B72: Egyéb működési célú támogatások államháztartáson belülre | C72: 6000000 | D72: 5997101 | E72: 3339716
A73: 68 | B73: Működési célú garancia- és kezességvállalásból származó kifizetés államháztartáson kívülre | C73: 0 | D73: 0 | E73: 0
A74: 69 | B74: Működési célú visszatérítendő támogatások, kölcsönök nyújtása államháztartáson kívülre | C74: 0 | D74: 0 | E74: 0
A75: 70 | B75: Árkiegészítések, ártámogatások | C75: 0 | D75: 0 | E75: 0
... A79: 74 | B79: Tartalékok | C79: 1606000 | D79: 1148303 | E79: 0
A80: 75 | B80: Egyéb működési célú kiadások | C80: =SUM(C69:C79) -> 7706000 | D80: =SUM(D69:D79)+D68 -> 7311404 | E80: =SUM(E68:E79) -> 3464002
A81: 76 | B81: Immateriális javak beszerzése, létesítése | C81: 0 | D81: 1000000 | E81: 700000
A82: 77 | B82: Ingatlanok beszerzése, létesítése | C82: 0 | D82: 0 | E82: 0
A83: 78 | B83: Informatikai eszközök beszerzése, létesítése | C83: 0 | D83: 0 | E83: 0
A84: 79 | B84: Egyéb tárgyi eszközök beszerzése, létesítése | C84: 0 | D84: 200000 | E84: 82598
A85: 80 | B85: Részesedések beszerzése | C85: 0 | D85: 0 | E85: 0
A86: 81 | B86: Meglévő részesedések növeléséhez kapcsolódó kiadások | C86: 0 | D86: 0 | E86: 0
A87: 82 | B87: Beruházási célú előzetesen felszámított általános forgalmi adó | C87: 0 | D87: =270000+54000 -> 324000 | E87: 211301
A88: 83 | B88: Beruházások | C88: =SUM(C81:C87) -> 0 | D88: =SUM(D81:D87) -> 1524000 | E88: =SUM(E81:E87) -> 993899
A89: 84 | B89: Ingatlanok felújítása | C89: 7825000 | D89: =22418443+377000 -> 22795443 | E89: 16922143
A90: 85 | B90: Informatikai eszközök felújítása | C90: 0 | D90: 0 | E90: 0
A91: 86 | B91: Egyéb tárgyi eszközök felújítása | C91: 0 | D91: 0 | E91: 0
A92: 87 | B92: Felújítási célú előzetesen felszámított általános forgalmi adó | C92: 2114000 | D92: =6054229+102000 -> 6156229 | E92: 4028438
A93: 88 | B93: Felújítások | C93: =SUM(C89:C92) -> 9939000 | D93: =SUM(D89:D92) -> 28951672 | E93: =SUM(E89:E92) -> 20950581
A94: 89 | B94: Felhalmozási célú garancia- és kezességvállalásból származó kifizetés államháztartáson belülre | C94: 0 | D94: 0 | E94: 0
A95: 90 | B95: Felhalmozási célú visszatérítendő támogatások, kölcsönök nyújtása államháztartáson belülre | C95: 0 | D95: 0 | E95: 0
A96: 91 | B96: Felhalmozási célú visszatérítendő támogatások, kölcsönök törlesztése államháztartáson belülre | C96: 0 | D96: 0 | E96: 0
A97: 92 | B97: Egyéb felhalmozási célú támogatások államháztartáson belülre | C97: 0 | D97: 2899 | E97: 2899
A98: 93 | B98: Felhalmozási célú garancia- és kezességvállalásból származó kifizetés államháztartáson kívülre | C98: 0 | D98: 0 | E98: 0
A99: 94 | B99: Felhalmozási célú visszatérítendő támogatások, kölcsönök nyújtása államháztartáson kívülre | C99: 1500000 | D99: 1500000 | E99: 1500000
A100: 95 | B100: Lakástámogatás | C100: 0 | D100: 0 | E100: 0
A101: 96 | B101: Egyéb felhalmozási célú támogatások államháztartáson kívülre | C101: 48000 | D101: 48000 | E101: 43216
A102: 97 | B102: Egyéb felhalmozási célú támogatások államháztartáson kívülre | C102: =SUM(C94:C101) -> 1548000 | D102: =SUM(D94:D101) -> 1550899 | E102: =SUM(E94:E101) -> 1546115
A103: 98 | B103: Egyéb felhalmozási célú kiadások | C103: =C102 -> 1548000 | D103: =D102 -> 1550899 | E103: 42718
...

Sheet 3
A1: Szentjakabfa Község Önkormányzata
A2: 2020. évi bevételek és kiadások kormányzati funkciónként
A3: Kiadások | D3: forintban
A4: A | B4: B | C4: C | D4: D
A5: MEGNEVEZÉS | C5: Létszám (fő) | D5: 2020. évi teljesítés
A6: 1 | B6: 011130 Önkormányzatok és önkormányzati hivatalok jogalkotó és általános igazgatási tevékenysége | C6: 2 | D6: 4457969
A7: 2 | B7: 013320 Köztemető-fenntartás és -működtetés | D7: 576966
A8: 3 | B8: 018010 Önkormányzatok elszámolásai a központi költségvetéssel | D8: 846280
A9: 4 | B9: 018030 Támogatás célú finanszírozási műveletek | D9: 3342615
A10: 5 | B10: 041233 Hosszabb időtartamú közfoglalkoztatás | C10: 1 | D10: 1001011
A11: 6 | B11: 045160 Közutak, hidak, alagutak üzemeltetése, fenntartása | D11: 19722672
A12: 7 | B12: 052020 Szennyvíz gyűjtése, tisztítása, elhelyezése | D12: 1447518
A13: 8 | B13: 063020 Víztermelés- kezelés, -ellátás | D13: 246453
A14: 9 | B14: 064010 Közvilágítás | D14: 245465
A15: 10 | B15: 066010 Zöldterület-kezelés | D15: 1830693
A16: 11 | B16: 066020 Város-, községgazdálkodási egyéb szolgáltatások | D16: 101160
A17: 12 | B17: 074040 Fertőző megbetegedések megelőzése, járványügyi ellátás | D17: 15004
A18: 13 | B18: 081045 Szabadidősport- (rekreációs sport-) tevékenység és támogatása | D18: 100000
A19: 14 | B19: 082042 Könyvtári állomány gyarapítása, nyilvántartása | D19: 998937
A20: 15 | B20: 082091 Közművelődés - közösségi és társadalmi részvétel fejlesztése | D20: 1218405
A21: 16 | B21: 104037 Intézményen kívüli gyermekétkeztetés | D21: 22500
A22: 17 | B22: 107051 Szociális étkeztetés szociális konyhán | D22: 64031
... A24: 19 | B24: 900060 Forgatási és befektetési célú finanszírozási műveletek | D24: 1500000
A25: 20 | B25: Kiadások összesen | C25: =SUM(C6:C23) -> 3 | D25: =SUM(D6:D24) -> 39116679
C27: forintban
A28: Bevételek
A29: A | B29: B | C29: C
A30: MEGNEVEZÉS | C30: 2020. évi teljesítés
A31: 1 | B31: 011130 Önkormányzatok és önkormányzati hivatalok jogalkotó és általános igazgatási tevékenysége | C31: 2880
A32: 2 | B32: 013350 Az önkormányzati vagyonnal való gazdálkodással kapcsolatos feladatok | C32: 2294500
A33: 3 | B33: 016030 Állampolgársági ügyek | C33: 35000
A34: 4 | B34: 018010 Önkormányzatok elszámolásai a központi költségvetéssel | C34: 12016967
A35: 5 | B35: 018030 Támogatási célú finanszírozási műveletek | C35: 12985805
A36: 6 | B36: 041233 Hosszabb időtartamú közfoglalkoztatás | C36: 1077065
A37: 7 | B37: 045160 Közutak, hidak, alagutak üzemeltetése, fenntartása | C37: 19290072
A38: 8 | B38: 052020 Szennyvíz gyűjtése, tisztítása, elhelyezése | C38: 882000
A39: 9 | B39: 063020 Víztermelés- kezelés, -ellátás | C39: 43216
A40: 10 | B40: 066010 Zöldterület-kezelés | C40: 407200
A41: 11 | B41: 066020 Város-, községgazdálkodási egyéb szolgáltatások | C41: 618
A42: 12 | B42: 900020 Önkormányzatok funkcióra nem sorolható bevételei államháztartáson kívülről | C42: 466682
A43: 13 | B43: 900060 Forgatási és befektetési célú finanszírozási műveletek | C43: 1500000
A44: 14 | B44: Bevételek összesen | C44: =SUM(C31:C43) -> 51002005

Sheet 4
A1: Szentjakabfa Község Önkormányzata
A2: 2020. évi fejlesztési kiadások
I3: forintban
B4: A | C4: B | D4: C | E4: D | F4: E | I4: F
B5: Megnevezés | C5: Nettó összeg | D5: ÁFA | E5: Bruttó összeg | F5: Adósságot keletkeztető ügylet megkötésének szükségessége | I5: Adósságot keletkeztető ügylet kormányzati engedélyhez való kötöttsége
A6: 1 | B6: Sövénynyíró beszerzése | C6: 82598 | D6: 22301 | E6: =SUM(C6:D6) -> 104899 | F6: nem | I6: nem
A7: 2 | B7: Településszerkezeti és szabályozási terv | C7: 700000 | D7: 189000 | E7: =+C7+D7 -> 889000 | F7: nem | I7: nem
A8: 3 | B8: Beruházások összesen | C8: =SUM(C6:C7) -> 782598 | D8: =SUM(D6:D7) -> 211301 | E8: =SUM(E6:E7) -> 993899
A9: 4 | B9: Villámhárító felszerelése a Szentjakabfa Fő u. 37. sz. épületre | C9: 626700 | D9: 169209 | E9: =+C9+D9 -> 795909 | F9: nem | I9: nem
A10: 5 | B10: Ravatalozó felújításhoz tervkészítés | C10: 320000 | D10: 0 | E10: 320000 | F10: nem | I10: nem
A11: 6 | B11: Parkerdő színpad és tető készítése | C11: 1342000 | D11: 0 | E11: =+C11+D11 -> 1342000 | F11: nem | I11: nem
A12: 7 | B12: Kút utca, Kenderföldi utca útfelújítás (Magyar Falu Program) | C12: 14633443 | D12: 3859229 | E12: =+C12+D12 -> 18492672 | F12: nem | I12: nem
A13: 8 | B13: Felújítások összesen | C13: =SUM(C9:C12) -> 16922143 | D13: =SUM(D9:D12) -> 4028438 | E13: =SUM(E9:E12) -> 20950581
A14: 9 | B14: Beruházások és felújítások összesen: | C14: =C13+C8 -> 17704741 | D14: =D8+D13 -> 4239739 | E14: =E8+E13 -> 21944480
A15: 10 | B15: Felhalmozási célú pénzeszköz átadás (Bakonykarszt Zrt. Fejlesztési forrás elszámolása) | C15: 43216 | D15: 0 | E15: 43216 | F15: nem | I15: nem
A16: 11 | B16: Felhalmozási célú támogatásértékű kiadás | C16: 2899 | D16: 0 | E16: 2899 | F16: nem | I16: nem
A17: 12 | B17: Felhalmozási célú kölcsön nyújtása | C17: 1500000 | D17: 0 | E17: 1500000 | F17: nem | I17: nem
A18: 13 | B18: Felhalmozási kiadások összesen: | C18: =+C14+C15+C17+C16 -> 19250856 | D18: =+D14+D15+D17+D16 -> 4239739 | E18: =+E14+E15+E17+E16 -> 23490595

Sheet 5
A1: Szentjakabfa Község Önkormányzata
A2: 2020. évi maradvány
C3: forintban
B4: A | C4: B
A5: Megnevezés | C5: Összeg
A6: 1 | B6: Alaptevékenység költségvetési bevételei | C6: =+'1'!E75 -> 37164853
A7: 2 | B7: Alaptevékenység költségvetési kiadásai | C7: =+'2'!E104 -> 38285820
A8: 3 | B8: Alaptevékenység költségvetési egyenlege | C8: =+C6-C7 -> -1120967
A9: 4 | B9: Alaptevékenység finanszírozási bevételei | C9: =+'1'!E105 -> 13837152
A10: 5 | B10: Alaptevékenység finanszírozási kiadásai | C10: =+'2'!E134 -> 830859
A11: 6 | B11: Alaptevékenység finanszírozási egyenlege | C11: =+C9-C10 -> 13006293
A12: 7 | B12: Alaptevékenység maradványa | C12: =+C11+C8 -> 11885326
A13: 8 | B13: Vállalkozási tevékenység költségvetési bevételei | C13: 0
A14: 9 | B14: Vállalkozási tevékenység költségvetési kiadásai | C14: 0
A15: 10 | B15: Vállalkozási tevékenység költségvetési egyenlege | C15: 0
A16: 11 | B16: Vállalkozási tevékenység finanszírozási bevételei | C16: 0
A17: 12 | B17: Vállalkozási tevékenység finanszírozási kiadásai | C17: 0
A18: 13 | B18: Vállalkozási tevékenység finanszírozási egyenlege | C18: 0
A19: 14 | B19: Vállalkozási tevékenység maradványa | C19: 0
A20: 15 | B20: Összes maradvány | C20: =C12 -> 11885326
A21: 16 | B21: Alaptevékenység kötelezettségvállalással terhelt maradványa | C21: 1606080
A22: 17 | B22: Alaptevékenység szabad maradványa | C22: =+C20-C21 -> 10279246
A23: 18 | B23: Vállalkozási tevékenységet terhelő befizetési kötelezettség | C23: 0
A24: 19 | B24: Vállalkozási tevékenység felhasználható maradványa | C24: 0

Sheet 6
A1: Szentjakabfa Község Önkormányzata
A2: 2020. évi vagyonkimutatás | K2: forintban
A3: Sorsz. | B3: Eszközök | D3: Állományi érték
D4: 2019. év | H4: 2020. év
D5: Forgalomképtelen törzsvagyon | E5: Korlátozottan forgalomképes törzsvagyon | F5: Törzsvagyonon kívüli egyéb vagyon | G5: Összesen | H5: Forgalomképtelen törzsvagyon | I5: Korlátozottan forgalomképes törzsvagyon | J5: Törzsvagyonon kívüli egyéb vagyon | K5: Összesen
B6: A | D6: B | E6: C | F6: D | G6: E | H6: F | I6: G | J6: H | K6: I
A7: 1. | B7: 1. | C7: Vagyoni értékű jogok | D7: =SUM(A7:C7) -> 0 | E7: 0 | F7: =SUM(C7:E7) -> 0 | G7: =SUM(D7:F7) -> 0 | H7: 0 | I7: 0 | J7: 0 | K7: =SUM(H7:J7) -> 0
A8: 2. | B8: 2. | C8: Szellemi termékek | D8: =SUM(A8:C8) -> 0 | E8: 0 | F8: 273542 | G8: =SUM(D8:F8) -> 273542 | H8: 0 | I8: 0 | J8: 514214 | K8: =SUM(H8:J8) -> 514214
A9: 3. | B9: 3. | C9: Immateriális javak értékhelyesbítése | D9: =SUM(A9:C9) -> 0 | E9: 0 | F9: 0 | G9: =SUM(D9:F9) -> 0 | H9: 0 | I9: 0 | J9: 0 | K9: =SUM(H9:J9) -> 0
A10: 4. | B10: I. | C10: Immateriális javak összesen | D10: =SUM(D7:D9) -> 0 | E10: =SUM(E7:E9) -> 0 | F10: =SUM(F7:F9) -> 273542 | G10: =SUM(D10:F10) -> 273542 | H10: =SUM(H7:H9) -> 0 | I10: =SUM(I7:I9) -> 0 | J10: =SUM(J7:J9) -> 514214 | K10: =SUM(H10:J10) -> 514214
A11: 5. | B11: 1. | C11: Ingatlanok és a kapcs. vagyoni ért. jogok | D11: 52765271 | E11: 27534685 | F11: 17838981 | G11: =SUM(D11:F11) -> 98138937 | H11: 66588019 | I11: 27325433 | J11: 17558339 | K11: =SUM(H11:J11) -> 111471791
A12: 6. | B12: 2. | C12: Gépek, berendezések, felszerelések, járművek | D12: 0 | E12: 0 | F12: 7734319 | G12: =SUM(D12:F12) -> 7734319 | H12: 0 | I12: 0 | J12: 2485079 | K12: =SUM(H12:J12) -> 2485079
A13: 7. | B13: 3. | C13: Tenyészállatok | D13: 0 | E13: 0 | F13: 0 | G13: =SUM(D13:F13) -> 0 | H13: 0 | I13: 0 | J13: 0 | K13: =SUM(H13:J13) -> 0
A14: 8. | B14: 4. | C14: Beruházások, felújítások | D14: 0 | E14: 2074800 | F14: 0 | G14: =SUM(D14:F14) -> 2074800 | H14: 0 | I14: 4954186 | J14: 0 | K14: =SUM(H14:J14) -> 4954186
A15: 9. | B15: 5. | C15: Tárgyi eszközök értékhelyesbítése | D15: 0 | E15: 0 | F15: 0 | G15: =SUM(D15:F15) -> 0 | H15: 0 | I15: 0 | J15: 0 | K15: =SUM(H15:J15) -> 0
A16: 10. | B16: II. | C16: Tárgyi eszközök összesen | D16: =SUM(D11:D15) -> 52765271 | E16: =SUM(E11:E15) -> 29609485 | F16: =SUM(F11:F15) -> 25573300 | G16: =SUM(D16:F16) -> 107948056 | H16: =SUM(H11:H15) -> 66588019 | I16: =SUM(I11:I15) -> 32279619 | J16: =SUM(J11:J15) -> 20043418 | K16: =SUM(H16:J16) -> 118911056
A17: 11. | B17: 1. | C17: Tartós részesedések | D17: =SUM(D18) -> 290000 | E17: 0 | F17: 0 | G17: =SUM(D17:F17) -> 290000 | H17: =SUM(H18) -> 290000 | I17: 0 | J17: 0 | K17: =SUM(H17:J17) -> 290000
A18: 12. | B18: 2. | C18: - ebből: tartós részesedések nem pénzügyi vállalkozásban | D18: 290000 | E18: 0 | F18: 0 | G18: =SUM(D18:F18) -> 290000 | H18: 290000 | I18: 0 | J18: 0 | K18: =SUM(H18:J18) -> 290000
A19: 13. | B19: 3. | C19: - ebből: egyéb tartós részesedések | D19: 0 | E19: 0 | F19: 0 | G19: =SUM(D19:F19) -> 0 | H19: 0 | I19: 0 | J19: 0 | K19: =SUM(H19:J19) -> 0
A20: 14. | B20: 4. | C20: Tartós hitelviszonyt megtestesítő értékpapírok | D20: 0 | E20: 0 | F20: 0 | G20: =SUM(D20:F20) -> 0 | H20: 0 | I20: 0 | J20: 0 | K20: =SUM(H20:J20) -> 0
A21: 15. | B21: 5. | C21: - ebből: államkötvények | D21: 0 | E21: 0 | F21: 0 | G21: =SUM(D21:F21) -> 0 | H21: 0 | I21: 0 | J21: 0 | K21: =SUM(H21:J21) -> 0
A22: 16. | B22: 6. | C22: -ebből: helyi önkormányzatok kötvényei | D22: 0 | E22: 0 | F22: 0 | G22: =SUM(D22:F22) -> 0 | H22: 0 | I22: 0 | J22: 0 | K22: =SUM(H22:J22) -> 0
A23: 17. | C23: Befektetett pénzügyi eszközök értékhelyesbítése | D23: 0 | E23: 0 | F23: 0 | G23: =SUM(D23:F23) -> 0 | H23: 0 | I23: 0 | J23: 0 | K23: =SUM(H23:J23) -> 0
A24: 18. | B24: III. | C24: Befektetett pénzügyi eszközök összesen | D24: =+D17 -> 290000 | E24: =SUM(E17,E20,E23) -> 0 | F24: =SUM(F17,F20,F23) -> 0 | G24: =SUM(G17,G20,G23) -> 290000 | H24: =SUM(H17,H20,H23) -> 290000 | I24: =SUM(I17,I20,I23) -> 0 | J24: =SUM(J17,J20,J23) -> 0 | K24: =SUM(K17,K20,K23) -> 290000
A25: 19. | B25: 1. | C25: Koncesszióba, vagyonkezelésbe adott eszközök | D25: 0 | E25: 0 | F25: 0 | G25: =SUM(D25:F25) -> 0 | H25: 0 | I25: 0 | J25: 0 | K25: =SUM(H25:J25) -> 0
A26: 20. | B26: 2. | C26: Koncesszióba, vagyonkezelésbe adott eszközök értékhelyesbítése | D26: 0 | E26: 0 | F26: 0 | G26: =SUM(D26:F26) -> 0 | H26: 0 | I26: 0 | J26: 0 | K26: =SUM(H26:J26) -> 0
A27: 21. | B27: IV. | C27: Koncesszióba, vagyonkezelésbe adott eszközök összesen | D27: =SUM(D25:D26) -> 0 | E27: =SUM(E25:E26) -> 0 | F27: =SUM(F25:F26) -> 0 | G27: =SUM(D27:F27) -> 0 | H27: =SUM(H25:H26) -> 0 | I27: =SUM(I25:I26) -> 0 | J27: =SUM(J25:J26) -> 0 | K27: =SUM(K25:K26) -> 0
A28: 22. | B28: NEMZETI VAGYONBA TARTOZÓ BEFEKTETETT ESZKÖZÖK ÖSSZESEN | D28: =D10+D16+D24+D27 -> 53055271 | E28: =E10+E16+E24+E27 -> 29609485 | F28: =F10+F16+F24+F27 -> 25846842 | G28: =SUM(D28:F28) -> 108511598 | H28: =H10+H16+H24+H27 -> 66878019 | I28: =I10+I16+I24+I27 -> 32279619 | J28: =J10+J16+J24+J27 -> 20557632 | K28: =SUM(H28:J28) -> 119715270
A32: Sorszám | C32: Megnevezés | D32: Forgalomképtelen törzsvagyon bruttó értéke | E32: Korlátozottan forgalomképes vagyon bruttó értéke | F32: Üzleti vagyon bruttó értéke | G32: Összesen
C33: A | D33: B | E33: C | F33: D | G33: E
A34: 1 | C34: A) Befektetett eszközök
A35: 2 | C35: I. Immateriális javak | G35: =+G36+G38+G40+G41 -> 5073480
A36: 3 | C36: 1. Vagyoni értékű jogok | D36: 0 | E36: 0 | F36: 0 | G36: =SUM(D36:F36) -> 0
A37: 4 | C37: ebből: 0-ig leírt vagyoni értékű jogok | D37: 0 | E37: 0 | F37: 0 | G37: =SUM(D37:F37) -> 0
A38: 5 | C38: 2. Szellemi termékek | D38: 0 | E38: 725000 | F38: 4348480 | G38: =SUM(D38:F38) -> 5073480
A39: 6 | C39: ebből: 0-ig leírt szellemi termékek | D39: 0 | E39: 725000 | F39: 625000 | G39: =SUM(D39:F39) -> 1350000
A40: 7 | C40: Kisértékű vagyoni értékű jogok | D40: 0 | E40: ='[1]Városi Óvoda'!D44+[1]VIMSZ!D44+[1]VKSZK!D44+[1]Szoc.Szolg.!D44+'[1]Gyermekjóléti Kp.'!D44+[1]Önkorm.!D44+[1]Bölcsőde!D44+[1]Regenbogen!D44 -> #REF! | F40: ='[1]Városi Óvoda'!E44+[1]VIMSZ!E44+[1]VKSZK!E44+[1]Szoc.Szolg.!E44+'[1]Gyermekjóléti Kp.'!E44+[1]Önkorm.!E44+[1]Bölcsőde!E44+[1]Regenbogen!E44 -> #REF! | G40: 0
A41: 8 | C41: Kisértékű szellemi termékek | D41: 0 | E41: ='[1]Városi Óvoda'!D45+[1]VIMSZ!D45+[1]VKSZK!D45+[1]Szoc.Szolg.!D45+'[1]Gyermekjóléti Kp.'!D45+[1]Önkorm.!D45+[1]Bölcsőde!D45+[1]Regenbogen!D45 -> #REF! | F41: ='[1]Városi Óvoda'!E45+[1]VIMSZ!E45+[1]VKSZK!E45+[1]Szoc.Szolg.!E45+'[1]Gyermekjóléti Kp.'!E45+[1]Önkorm.!E45+[1]Bölcsőde!E45+[1]Regenbogen!E45 -> #REF! | G41: 0
A42: 9 | C42: II. Tárgyi eszközök | G42: =+G43+G45+G49+G50 -> 179111224
A43: 10 | C43: 1. Ingatlanok és kapcsolódó vagyoni értékű jogok | D43: 78985990 | E43: 33924202 | F43: 22064044 | G43: =SUM(D43:F43) -> 134974236
A44: 11 | C44: ebből: 0-ig leírt ingatlanok és kapcsolódó vagyoni értékű jogok | D44: 0 | E44: 0 | F44: 0 | G44: =SUM(D44:F44) -> 0
A45: 12 | C45: 2. Gépek, berendezések, felszerelések, járművek | D45: 0 | E45: 0 | F45: 39182802 | G45: =SUM(D45:F45) -> 39182802
A46: 13 | C46: ebből: Kulturális javak | D46: 0 | E46: 0 | F46: 55000 | G46: =SUM(D46:F46) -> 55000
A47: 14 | C47: ebből: 0-ig leírt gépek, berendezések, felszerelések, járművek | D47: 0 | E47: 0 | F47: 2609746 | G47: =SUM(D47:F47) -> 2609746
A48: 15 | C48: Kisértékű gépek, berendezések, felszerelések, járművek | D48: 410801 | E48: ='[1]Városi Óvoda'!D52+[1]VIMSZ!D52+[1]VKSZK!D52+[1]Szoc.Szolg.!D52+'[1]Gyermekjóléti Kp.'!D52+[1]Önkorm.!D52+[1]Bölcsőde!D52+[1]Regenbogen!D52 -> #REF! | F48: ='[1]Városi Óvoda'!E52+[1]VIMSZ!E52+[1]VKSZK!E52+[1]Szoc.Szolg.!E52+'[1]Gyermekjóléti Kp.'!E52+[1]Önkorm.!E52+[1]Bölcsőde!E52+[1]Regenbogen!E52 -> #REF! | G48: =+D48 -> 410801
A49: 16 | C49: 3. Tenyészállatok | D49: 0 | E49: 0 | F49: 0 | G49: =SUM(D49:F49) -> 0
A50: 17 | C50: 4. Berházások, felújítások | D50: 4954186 | E50: ='[1]Városi Óvoda'!D54+[1]VIMSZ!D54+[1]VKSZK!D54+[1]Szoc.Szolg.!D54+'[1]Gyermekjóléti Kp.'!D54+[1]Önkorm.!D54+[1]Bölcsőde!D54+[1]Regenbogen!D54 -> #REF! | F50: ='[1]Városi Óvoda'!E54+[1]VIMSZ!E54+[1]VKSZK!E54+[1]Szoc.Szolg.!E54+'[1]Gyermekjóléti Kp.'!E54+[1]Önkorm.!E54+[1]Bölcsőde!E54+[1]Regenbogen!E54 -> #REF! | G50: =+D50 -> 4954186
A51: 18 | C51: 5. Tárgyi eszközök értékhelyesbítése | D51: 0 | E51: 0 | F51: 0 | G51: =SUM(D51:F51) -> 0
A52: 19 | C52: III. Befektetett pénzügyi eszközök | E52: ='[1]Városi Óvoda'!D56+[1]VIMSZ!D56+[1]VKSZK!D56+[1]Szoc.Szolg.!D56+'[1]Gyermekjóléti Kp.'!D56+[1]Önkorm.!D56+[1]Bölcsőde!D56+[1]Regenbogen!D56 -> #REF! | F52: ='[1]Városi Óvoda'!E56+[1]VIMSZ!E56+[1]VKSZK!E56+[1]Szoc.Szolg.!E56+'[1]Gyermekjóléti Kp.'!E56+[1]Önkorm.!E56+[1]Bölcsőde!E56+[1]Regenbogen!E56 -> #REF! | G52: =SUM(G53) -> 290000
A53: 20 | C53: 1. Tartós részesedések | D53: 290000 | E53: ='[1]Városi Óvoda'!D57+[1]VIMSZ!D57+[1]VKSZK!D57+[1]Szoc.Szolg.!D57+'[1]Gyermekjóléti Kp.'!D57+[1]Önkorm.!D57+[1]Bölcsőde!D57+[1]Regenbogen!D57 -> #REF! | F53: ='[1]Városi Óvoda'!E57+[1]VIMSZ!E57+[1]VKSZK!E57+[1]Szoc.Szolg.!E57+'[1]Gyermekjóléti Kp.'!E57+[1]Önkorm.!E57+[1]Bölcsőde!E57+[1]Regenbogen!E57 -> #REF! | G53: =+D53 -> 290000
A54: 21 | C54: 2. Tartós hitelviszonyt megtestesítő értékpapírok | D54: 0 | E54: ='[1]Városi Óvoda'!D58+[1]VIMSZ!D58+[1]VKSZK!D58+[1]Szoc.Szolg.!D58+'[1]Gyermekjóléti Kp.'!D58+[1]Önkorm.!D58+[1]Bölcsőde!D58+[1]Regenbogen!D58 -> #REF! | F54: ='[1]Városi Óvoda'!E58+[1]VIMSZ!E58+[1]VKSZK!E58+[1]Szoc.Szolg.!E58+'[1]Gyermekjóléti Kp.'!E58+[1]Önkorm.!E58+[1]Bölcsőde!E58+[1]Regenbogen!E58 -> #REF! | G54: 0
A55: 22 | C55: 3. Befektetett pénzügyi eszközök értékhelyesbítése | D55: 0 | E55: ='[1]Városi Óvoda'!D59+[1]VIMSZ!D59+[1]VKSZK!D59+[1]Szoc.Szolg.!D59+'[1]Gyermekjóléti Kp.'!D59+[1]Önkorm.!D59+[1]Bölcsőde!D59+[1]Regenbogen!D59 -> #REF! | F55: ='[1]Városi Óvoda'!E59+[1]VIMSZ!E59+[1]VKSZK!E59+[1]Szoc.Szolg.!E59+'[1]Gyermekjóléti Kp.'!E59+[1]Önkorm.!E59+[1]Bölcsőde!E59+[1]Regenbogen!E59 -> #REF! | G55: 0
A56: 23 | C56: IV. Koncesszióba, vagyonkezelésbe adott eszközök | D56: 0 | E56: 0 | F56: 0 | G56: =SUM(D56:F56) -> 0
A57: 24 | C57: B) Forgóeszközök | G57: =SUM(D57:F57) -> 0
A58: 25 | C58: I. Készletek | D58: 0 | E58: ='[1]Városi Óvoda'!D62+[1]VIMSZ!D62+[1]VKSZK!D62+[1]Szoc.Szolg.!D62+'[1]Gyermekjóléti Kp.'!D62+[1]Önkorm.!D62+[1]Bölcsőde!D62+[1]Regenbogen!D62 -> #REF! | F58: ='[1]Városi Óvoda'!E62+[1]VIMSZ!E62+[1]VKSZK!E62+[1]Szoc.Szolg.!E62+'[1]Gyermekjóléti Kp.'!E62+[1]Önkorm.!E62+[1]Bölcsőde!E62+[1]Regenbogen!E62 -> #REF! | G58: 0
A59: 26 | C59: II. Érékpapírok | D59: 0 | E59: ='[1]Városi Óvoda'!D63+[1]VIMSZ!D63+[1]VKSZK!D63+[1]Szoc.Szolg.!D63+'[1]Gyermekjóléti Kp.'!D63+[1]Önkorm.!D63+[1]Bölcsőde!D63+[1]Regenbogen!D63 -> #REF! | F59: ='[1]Városi Óvoda'!E63+[1]VIMSZ!E63+[1]VKSZK!E63+[1]Szoc.Szolg.!E63+'[1]Gyermekjóléti Kp.'!E63+[1]Önkorm.!E63+[1]Bölcsőde!E63+[1]Regenbogen!E63 -> #REF! | G59: 0
A60: 27 | C60: C) Pénzeszközök | E60: ='[1]Városi Óvoda'!D64+[1]VIMSZ!D64+[1]VKSZK!D64+[1]Szoc.Szolg.!D64+'[1]Gyermekjóléti Kp.'!D64+[1]Önkorm.!D64+[1]Bölcsőde!D64+[1]Regenbogen!D64 -> #REF! | F60: ='[1]Városi Óvoda'!E64+[1]VIMSZ!E64+[1]VKSZK!E64+[1]Szoc.Szolg.!E64+'[1]Gyermekjóléti Kp.'!E64+[1]Önkorm.!E64+[1]Bölcsőde!E64+[1]Regenbogen!E64 -> #REF! | G60: =SUM(G61:G64) -> 11897839
A61: 28 | C61: I. Lekötött bankbetétek | D61: 0 | E61: ='[1]Városi Óvoda'!D65+[1]VIMSZ!D65+[1]VKSZK!D65+[1]Szoc.Szolg.!D65+'[1]Gyermekjóléti Kp.'!D65+[1]Önkorm.!D65+[1]Bölcsőde!D65+[1]Regenbogen!D65 -> #REF! | F61: ='[1]Városi Óvoda'!E65+[1]VIMSZ!E65+[1]VKSZK!E65+[1]Szoc.Szolg.!E65+'[1]Gyermekjóléti Kp.'!E65+[1]Önkorm.!E65+[1]Bölcsőde!E65+[1]Regenbogen!E65 -> #REF! | G61: 0
A62: 29 | C62: II. Pénztárak, csekkek, betétkönyvek | D62: 12770 | E62: ='[1]Városi Óvoda'!D66+[1]VIMSZ!D66+[1]VKSZK!D66+[1]Szoc.Szolg.!D66+'[1]Gyermekjóléti Kp.'!D66+[1]Önkorm.!D66+[1]Bölcsőde!D66+[1]Regenbogen!D66 -> #REF! | F62: ='[1]Városi Óvoda'!E66+[1]VIMSZ!E66+[1]VKSZK!E66+[1]Szoc.Szolg.!E66+'[1]Gyermekjóléti Kp.'!E66+[1]Önkorm.!E66+[1]Bölcsőde!E66+[1]Regenbogen!E66 -> #REF! | G62: =+D62 -> 12770
A63: 30 | C63: III. Forintszámlák | D63: 11885069 | E63: ='[1]Városi Óvoda'!D67+[1]VIMSZ!D67+[1]VKSZK!D67+[1]Szoc.Szolg.!D67+'[1]Gyermekjóléti Kp.'!D67+[1]Önkorm.!D67+[1]Bölcsőde!D67+[1]Regenbogen!D67 -> #REF! | F63: ='[1]Városi Óvoda'!E67+[1]VIMSZ!E67+[1]VKSZK!E67+[1]Szoc.Szolg.!E67+'[1]Gyermekjóléti Kp.'!E67+[1]Önkorm.!E67+[1]Bölcsőde!E67+[1]Regenbogen!E67 -> #REF! | G63: =+D63 -> 11885069
A64: 31 | C64: IV. Devizaszámlák | D64: 0 | E64: ='[1]Városi Óvoda'!D68+[1]VIMSZ!D68+[1]VKSZK!D68+[1]Szoc.Szolg.!D68+'[1]Gyermekjóléti Kp.'!D68+[1]Önkorm.!D68+[1]Bölcsőde!D68+[1]Regenbogen!D68 -> #REF! | F64: ='[1]Városi Óvoda'!E68+[1]VIMSZ!E68+[1]VKSZK!E68+[1]Szoc.Szolg.!E68+'[1]Gyermekjóléti Kp.'!E68+[1]Önkorm.!E68+[1]Bölcsőde!E68+[1]Regenbogen!E68 -> #REF! | G64: 0
A65: 32 | C65: 01-02. számlacsoportba nyilvántarott eszközök | D65: 0 | E65: =+E66 -> 23562669 | F65: =+F66 -> 0 | G65: =SUM(D65:F65) -> 23562669
A66: 33 | C66: Államháztartáson belülre vagyonkezelésbe adott eszközök | D66: 0 | E66: 23562669 | F66: 0 | G66: =SUM(D66:F66) -> 23562669

Sheet 7
A1: Szentjakabfa Község Önkormányzata
A2: Az önkormányzat tulajdonában álló gazdálkodó szervezetek kötelezettségei, és a részesedések alakulása
C3: forintban
A4: Megnevezés
A5: A | B5: B | C5: C
B6: Megnevezés | C6: Részesedések saját alapítású gazdasági társaságokban
A7: 1 | B7: Előző évi záró állomány (Bakonykarszt Zrt.) | C7: 290000
A8: 2 | B8: Növekedések | C8: 0
A9: 3 | B9: Csökkenések | C9: 0
A10: 4 | B10: Tárgyévi (tárgyidőszaki) záróállomány | C10: 290000
A11: 5 | B11: A gazdasági társaságok és nonprofit társaságok száma a nyitóállományban | C11: 1
A12: 6 | B12: A gazdasági társaságok és nonprofit társaságok száma a záróállományban | C12: 1
A13: 7 | B13: Gazdasági társaságok és nonprofit gazdasági társaságok fennálló kötelezettségei a tárgyidőszak végén | C13: 9998000

Sheet 8
A1: Szentjakabfa Község Önkormányzata
A2: 2020. évi költségvetési mérleg
E3: forintban
A4: A | B4: B | C4: C | D4: D | E4: E
A5: 1 | B5: MŰKÖDÉSI KIADÁSOK MÉRLEGE
A6: 2 | B6: Megnevezés | C6: Összeg | D6: Megnevezés | E6: Összeg
A7: 3 | B7: Önkormányzatok működési támogatásai | C7: =+'1'!E14 -> 11165620 | D7: Személyi juttatások | E7: =+'2'!E24 -> 4530661
A8: 4 | B8: Működési célú támogatások államháztartáson belülről | C8: =+'1'!E19+'1'!E17 -> 1077065 | D8: Munkaadót terhelő járulékok és szha | E8: =+'2'!E25 -> 642833
A9: 5 | B9: Vagyoni típusú adók, termékek és szolgáltatások adói, értékesítési és forgalmi adók | C9: =+'1'!E32+'1'!E36 -> 460050 | D9: Dologi kiadások | E9: =+'2'!E50 -> 4778729
A10: 6 | B10: Egyéb közhatalmi bevételek | C10: =+'1'!E39 -> 41532 | D10: Ellátottak pénzbeli juttatásai | E10: =+'2'!E63 -> 1379000
A11: 7 | B11: Egyéb működési bevételek | C11: =+'1'!E56 -> 3630514 | D11: Egyéb működési célú támogatások államháztartáson belülre | E11: =+'2'!E72+'2'!E70 -> 3339716
A12: 8 | B12: Működési célú átvett pénzeszközök | C12: =+'1'!E68 -> 0 | D12: Egyéb működési célú támogatások államháztartáson kívülre | E12: =+'2'!E78 -> 108865
A13: 9 | B13: Finanszírozási bevételek | C13: =+'1'!E105-C22 -> 13794434 | D13: Egyéb működési célú kiadások | E13: =+'2'!E65 -> 15421
A14: 10 | B14: Működési bevételek összesen | C14: =SUM(C7:C13) -> 30169215 | D14: Finanszírozási kiadások | E14: =+'2'!E117 -> 830859
A15: 11 | D15: Működési kiadások összesen | E15: =SUM(E7:E14) -> 15626084
A16: 12 | D16: Egyenleg | E16: =C14-E15 -> 14543131
A17: 13 | B17: FELHALMOZÁSI KIADÁSOK MÉRLEGE
A18: 14 | B18: Megnevezés | C18: Összeg | D18: Megnevezés | E18: Összeg
A19: 15 | B19: Felhalmozási célú támogatások államháztartáson belülről | C19: =+'1'!E26 -> 19290072 | D19: Beruházások | E19: =+'2'!E88 -> 993899
A20: 16 | B20: Felhalmozási bevételek | C20: =+'1'!E62 -> 0 | D20: Felújítások | E20: =+'2'!E93 -> 20950581
A21: 17 | B21: Felhalmozási célú átvett pénzeszközök | C21: =+'1'!E72 -> 1500000 | D21: Egyéb felhalmozási célú kiadások | E21: =+'2'!E102 -> 1546115
A22: 18 | B22: Finanszírozási bevételek | C22: 42718 | D22: Finanszírozási kiadások | E22: 0
A23: 19 | B23: Felhalmozási bevételek összesen | C23: =SUM(C19:C22) -> 20832790 | D23: Felhalmozási kiadások összesen | E23: =SUM(E19:E22) -> 23490595
A24: 20 | D24: Egyenleg | E24: =C23-E23 -> -2657805
A25: 21 | B25: ÖSSZEVONT ÖNKORMÁNYZATI MÉRLEG
A26: 22 | B26: Megnevezés | C26: Összeg | D26: Megnevezés | E26: Összeg
A27: 23 | B27: Működési bevételek | C27: =C14 -> 30169215 | D27: Működési kiadások | E27: =E15 -> 15626084
A28: 24 | B28: Felhalmozási bevételek | C28: =C23 -> 20832790 | D28: Felhalmozási kiadások | E28: =E23 -> 23490595
A29: 25 | B29: Összes bevétel | C29: =SUM(C27:C28) -> 51002005 | D29: Összes kiadás | E29: =E27+E28 -> 39116679

Sheet 9
A1: Szentjakabfa Község Önkormányzata
A2: 2020. évi pénzeszközök változása
C3: forintban
B4: A | C4: B
A5: Sorszám | B5: Megnevezés | C5: Összeg
A6: 1 | B6: Pénzkészlet tárgyidőszak elején | C6: 12973993
A7: 2 | B7: - Forintban vezetett költségvetési pénzforgalmi számlák egyenlege | C7: 12952243
A8: 3 | B8: - Devizabetét számlák egyenlege | C8: 0
A9: 4 | B9: - Forintpénztárak és betétkönyvek egyenlege | C9: 21750
A10: 5 | B10: - Valutapénztárak egyenlege | C10: 0
A11: 6 | B11: Pénzkészlet összesen | C11: =SUM(C7:C10) -> 12973993
A12: 7 | B12: Pénzforgalmi bevételek | C12: =+'1'!E106-'1'!E85 -> 38016200
A13: 8 | B13: Bevételi korrekciós tétel | C13: 21220
A14: 9 | B14: Pénzforgalmi kiadások | C14: =+'2'!E135 -> 39116679
A15: 10 | B15: Kiadási korrekciós tétel | C15: -3105
A16: 11 | B16: Pénzkészlet tárgyidőszak végén | C16: 11897839
A17: 12 | B17: Forintban vezetett költségvetési pénzforgalmi számlák egyenlege | C17: 11885069
A18: 13 | B18: - Devizabetét számlák egyenlege | C18: 0
A19: 14 | B19: - Forintpénztárak és betétkönyvek egyenlege | C19: 12770
A20: 15 | B20: - Valutapénztárak egyenlege | C20: 0
A21: 16 | B21: Pénzkészlet összesen | C21: =SUM(C17:C20) -> 11897839

Sheet 10
A1: Szentjakabfa Község Önkormányzata
A2: Több évre tervezett bevételek és kiadások
E3: forintban
A4: A | B4: B | C4: D | D4: E | E4: forintban
A5: Sorszám | B5: Megnevezés | C5: 2021. év | D5: 2022. év | E5: 2023. év
A6: 1 | B6: Önkormányzatok működési támogatásai | C6: 11476107 | D6: 11705629 | E6: 11939742
A7: 2 | B7: Működési célú támogatások államháztartáson belülről | C7: 2215000 | D7: 2259300 | E7: 2304486
A8: 3 | B8: Felhalmozási célú támogatások államháztartáson belülről | C8: 4999998 | D8: 0 | E8: 0
A9: 4 | B9: Közhatalmi bevételek | C9: 460000 | D9: 1100000 | E9: 1150000
A10: 5 | B10: Működési bevételek | C10: 3093569 | D10: 3155440.4 | E10: 3218549.2
A11: 6 | B11: Felhalmozási bevételek | C11: 0 | D11: 0 | E11: 0
A12: 7 | B12: Működési célú átvett pénzeszközök | C12: 0 | D12: 0 | E12: 0
A13: 8 | B13: Felhalmozási célú átvett pénzeszközök | C13: 0 | D13: 250000 | E13: 250000
A14: 12 | B14: Finanszírozási bevételek | C14: 13155326 | D14: 8550630 | E14: 6843222.6
A15: 13 | B15: Bevételek összesen | C15: 35400000 | D15: 27021000 | E15: 25706000
A16: 14 | B16: Személyi juttatások | C16: 6294000 | D16: 6419880 | E16: 6548277.6
A17: 15 | B17: Munkaadókat terhelő járulékok és szociális hozzájárulási adó | C17: 762000 | D17: 777240 | E17: 792784.8
... A25: 23 | B25: Kiadások összesen | C25: 35400000 | D25: 27021000 | E25: 25706000
