Workbook

Sheet TARTALOMJEGYZÉK
A1: 2021
A2: Tartalomjegyzék
A4: Dokumentum neve | B4: A dokumentációs rendszerben található táblázatok listája | C4: Ugrás
A6: KÖLTSÉGVETÉSI RENDLET
A7: Alapadatok | B7: Adatok megadása | C7: =HYPERLINK(SUBSTITUTE(CELL("address",ALAPADATOK!A1),"'",""),SUBSTITUTE(MID(CELL("address",ALAPADATOK!A1),SEARCH("]",CELL("address",ALAPADATOK!A1),1)+1,LEN(CELL("address",ALAPADATOK!A1))-SEARCH("]",CELL("address",ALAPADATOK!A1),1)),"'","")) -> ALAPADATOK!$A$1
A8: Összefüggések | B8: Táblázatok adatainak összefüggései | C8: =HYPERLINK(SUBSTITUTE(CELL("address",KV_ÖSSZEFÜGGÉSEK!A1),"'",""),SUBSTITUTE(MID(CELL("address",KV_ÖSSZEFÜGGÉSEK!A1),SEARCH("]",CELL("address",KV_ÖSSZEFÜGGÉSEK!A1),1)+1,LEN(CELL("address",KV_ÖSSZEFÜGGÉSEK!A1))-SEARCH("]",CELL("address",KV_ÖSSZEFÜGGÉSEK!A1),1)),"'","")) -> KV_ÖSSZEFÜGGÉSEK!$A$1
A9: 1.1. melléklet | B9: Önkormányzat összevont pénzügyi mérlege összesen | C9: =HYPERLINK(SUBSTITUTE(CELL("address",KV_1.1.sz.mell.!A1),"'",""),SUBSTITUTE(MID(CELL("address",KV_1.1.sz.mell.!A1),SEARCH("]",CELL("address",KV_1.1.sz.mell.!A1),1)+1,LEN(CELL("address",KV_1.1.sz.mell.!A1))-SEARCH("]",CELL("address",KV_1.1.sz.mell.!A1),1)),"'","")) -> KV_1.1.sz.mell.!$A$1
A10: 1.2. melléklet | B10: Önkormányzat kötelező feladatainak összevont pénzügyi mérlege | C10: =HYPERLINK(SUBSTITUTE(CELL("address",KV_1.2.sz.mell.!A1),"'",""),SUBSTITUTE(MID(CELL("address",KV_1.2.sz.mell.!A1),SEARCH("]",CELL("address",KV_1.2.sz.mell.!A1),1)+1,LEN(CELL("address",KV_1.2.sz.mell.!A1))-SEARCH("]",CELL("address",KV_1.2.sz.mell.!A1),1)),"'","")) -> KV_1.2.sz.mell.!$A$1
A11: 1.3. melléklet | B11: Önkormányzat önként vállalt feladatainak összevont pénzügyi mérlege | C11: =HYPERLINK(SUBSTITUTE(CELL("address",#REF!),"'",""),SUBSTITUTE(MID(CELL("address",#REF!),SEARCH("]",CELL("address",#REF!),1)+1,LEN(CELL("address",#REF!))-SEARCH("]",CELL("address",#REF!),1)),"'","")) -> #REF!
A12: 1.4. melléklet | B12: Önkormányzat államigazgatási feladatainak összevont pénzügyi mérlege | C12: =HYPERLINK(SUBSTITUTE(CELL("address",#REF!),"'",""),SUBSTITUTE(MID(CELL("address",#REF!),SEARCH("]",CELL("address",#REF!),1)+1,LEN(CELL("address",#REF!))-SEARCH("]",CELL("address",#REF!),1)),"'","")) -> #REF!
A13: 2.1. melléklet | B13: Működési célú bevételek, kiadások mérlege | C13: =HYPERLINK(SUBSTITUTE(CELL("address",KV_2.1.sz.mell.!A1),"'",""),SUBSTITUTE(MID(CELL("address",KV_2.1.sz.mell.!A1),SEARCH("]",CELL("address",KV_2.1.sz.mell.!A1),1)+1,LEN(CELL("address",KV_2.1.sz.mell.!A1))-SEARCH("]",CELL("address",KV_2.1.sz.mell.!A1),1)),"'","")) -> KV_2.1.sz.mell.!$A$1
A14: 2.2. melléklet | B14: Felhalmozási célú bevételek, kiadások mérlege | C14: =HYPERLINK(SUBSTITUTE(CELL("address",KV_2.2.sz.mell.!A1),"'",""),SUBSTITUTE(MID(CELL("address",KV_2.2.sz.mell.!A1),SEARCH("]",CELL("address",KV_2.2.sz.mell.!A1),1)+1,LEN(CELL("address",KV_2.2.sz.mell.!A1))-SEARCH("]",CELL("address",KV_2.2.sz.mell.!A1),1)),"'","")) -> KV_2.2.sz.mell.!$A$1
A15: Ellenőrző lista | B15: Ellenőrzés az 1-es és 2.1., 2.2. mellékletek adati esetében | C15: =HYPERLINK(SUBSTITUTE(CELL("address",KV_ELLENŐRZÉS!A1),"'",""),SUBSTITUTE(MID(CELL("address",KV_ELLENŐRZÉS!A1),SEARCH("]",CELL("address",KV_ELLENŐRZÉS!A1),1)+1,LEN(CELL("address",KV_ELLENŐRZÉS!A1))-SEARCH("]",CELL("address",KV_ELLENŐRZÉS!A1),1)),"'","")) -> KV_ELLENŐRZÉS!$A$1
A16: 3. melléklet | B16: Adósságot keletkeztető ügyletek táblázata | C16: =HYPERLINK(SUBSTITUTE(CELL("address",KV_3.sz.mell.!A1),"'",""),SUBSTITUTE(MID(CELL("address",KV_3.sz.mell.!A1),SEARCH("]",CELL("address",KV_3.sz.mell.!A1),1)+1,LEN(CELL("address",KV_3.sz.mell.!A1))-SEARCH("]",CELL("address",KV_3.sz.mell.!A1),1)),"'","")) -> KV_3.sz.mell.!$A$1
A17: 4. melléklet | B17: Önkormányzat saját bevételeinek bemutatása | C17: =HYPERLINK(SUBSTITUTE(CELL("address",KV_4.sz.mell.!A1),"'",""),SUBSTITUTE(MID(CELL("address",KV_4.sz.mell.!A1),SEARCH("]",CELL("address",KV_4.sz.mell.!A1),1)+1,LEN(CELL("address",KV_4.sz.mell.!A1))-SEARCH("]",CELL("address",KV_4.sz.mell.!A1),1)),"'","")) -> KV_4.sz.mell.!$A$1
A18: 5. melléklet | B18: Az önkormányzat adósságot keletkeztető fejlesztései céljai | C18: =HYPERLINK(SUBSTITUTE(CELL("address",KV_5.sz.mell.!A1),"'",""),SUBSTITUTE(MID(CELL("address",KV_5.sz.mell.!A1),SEARCH("]",CELL("address",KV_5.sz.mell.!A1),1)+1,LEN(CELL("address",KV_5.sz.mell.!A1))-SEARCH("]",CELL("address",KV_5.sz.mell.!A1),1)),"'","")) -> KV_5.sz.mell.!$A$1
A19: 6. melléklet | B19: Beruházások előirányzatai | C19: =HYPERLINK(SUBSTITUTE(CELL("address",KV_6.sz.mell.!A1),"'",""),SUBSTITUTE(MID(CELL("address",KV_6.sz.mell.!A1),SEARCH("]",CELL("address",KV_6.sz.mell.!A1),1)+1,LEN(CELL("address",KV_6.sz.mell.!A1))-SEARCH("]",CELL("address",KV_6.sz.mell.!A1),1)),"'","")) -> KV_6.sz.mell.!$A$1
A20: 7. melléklet | B20: Felújítások előirányzatai | C20: =HYPERLINK(SUBSTITUTE(CELL("address",KV_7.sz.mell.!A1),"'",""),SUBSTITUTE(MID(CELL("address",KV_7.sz.mell.!A1),SEARCH("]",CELL("address",KV_7.sz.mell.!A1),1)+1,LEN(CELL("address",KV_7.sz.mell.!A1))-SEARCH("]",CELL("address",KV_7.sz.mell.!A1),1)),"'","")) -> KV_7.sz.mell.!$A$1
A21: 8. melléklet | B21: EU-s projektek táblázatai | C21: =HYPERLINK(SUBSTITUTE(CELL("address",KV_8.sz.mell.!A1),"'",""),SUBSTITUTE(MID(CELL("address",KV_8.sz.mell.!A1),SEARCH("]",CELL("address",KV_8.sz.mell.!A1),1)+1,LEN(CELL("address",KV_8.sz.mell.!A1))-SEARCH("]",CELL("address",KV_8.sz.mell.!A1),1)),"'","")) -> KV_8.sz.mell.!$A$1
A22: 9.1. melléklet | B22: Önkormányzat bevételei kiadásai (összesen) | C22: =HYPERLINK(SUBSTITUTE(CELL("address",KV_9.1.sz.mell!A1),"'",""),SUBSTITUTE(MID(CELL("address",KV_9.1.sz.mell!A1),SEARCH("]",CELL("address",KV_9.1.sz.mell!A1),1)+1,LEN(CELL("address",KV_9.1.sz.mell!A1))-SEARCH("]",CELL("address",KV_9.1.sz.mell!A1),1)),"'","")) -> KV_9.1.sz.mell!$A$1
A23: 9.1.1. melléklet | B23: Önkormányzat kötelező feladatai | C23: =HYPERLINK(SUBSTITUTE(CELL("address",#REF!),"'",""),SUBSTITUTE(MID(CELL("address",#REF!),SEARCH("]",CELL("address",#REF!),1)+1,LEN(CELL("address",#REF!))-SEARCH("]",CELL("address",#REF!),1)),"'","")) -> #REF!
A24: 9.1.2. melléklet | B24: Önkormányzat önként vállalt feladatai | C24: =HYPERLINK(SUBSTITUTE(CELL("address",#REF!),"'",""),SUBSTITUTE(MID(CELL("address",#REF!),SEARCH("]",CELL("address",#REF!),1)+1,LEN(CELL("address",#REF!))-SEARCH("]",CELL("address",#REF!),1)),"'","")) -> #REF!
A25: 9.1.3. melléklet | B25: Önkormányzat államigazgatási feladatai | C25: =HYPERLINK(SUBSTITUTE(CELL("address",#REF!),"'",""),SUBSTITUTE(MID(CELL("address",#REF!),SEARCH("]",CELL("address",#REF!),1)+1,LEN(CELL("address",#REF!))-SEARCH("]",CELL("address",#REF!),1)),"'","")) -> #REF!
A26: 9.2. melléklet | B26: Polgármesteri/Közös hivatal költségvetési táblái (9.2.1., 9.2.2., 9.2.3.) | C26: =HYPERLINK(SUBSTITUTE(CELL("address",KV_9.2.sz.mell!A1),"'",""),SUBSTITUTE(MID(CELL("address",KV_9.2.sz.mell!A1),SEARCH("]",CELL("address",KV_9.2.sz.mell!A1),1)+1,LEN(CELL("address",KV_9.2.sz.mell!A1))-SEARCH("]",CELL("address",KV_9.2.sz.mell!A1),1)),"'","")) -> KV_9.2.sz.mell!$A$1
A27: 9.3. melléklet | B27: =CONCATENATE(ALAPADATOK!B13) -> Szászvári Óvoda Intézményfenntartó Társulás | C27: =HYPERLINK(SUBSTITUTE(CELL("address",KV_9.3.sz.mell!A1),"'",""),SUBSTITUTE(MID(CELL("address",KV_9.3.sz.mell!A1),SEARCH("]",CELL("address",KV_9.3.sz.mell!A1),1)+1,LEN(CELL("address",KV_9.3.sz.mell!A1))-SEARCH("]",CELL("address",KV_9.3.sz.mell!A1),1)),"'","")) -> KV_9.3.sz.mell!$A$1
A28: 9.4. melléklet | B28: =CONCATENATE(ALAPADATOK!B15) -> Szászvári Hársvirág Óvoda | C28: =HYPERLINK(SUBSTITUTE(CELL("address",KV_9.4.sz.mell!A1),"'",""),SUBSTITUTE(MID(CELL("address",KV_9.4.sz.mell!A1),SEARCH("]",CELL("address",KV_9.4.sz.mell!A1),1)+1,LEN(CELL("address",KV_9.4.sz.mell!A1))-SEARCH("]",CELL("address",KV_9.4.sz.mell!A1),1)),"'","")) -> KV_9.4.sz.mell!$A$1
A29: 9.5. melléklet | B29: =CONCATENATE(ALAPADATOK!B17) -> Bóbita Bölcsőde Szászvár | C29: =HYPERLINK(SUBSTITUTE(CELL("address",KV_9.5.sz.mell!A1),"'",""),SUBSTITUTE(MID(CELL("address",KV_9.5.sz.mell!A1),SEARCH("]",CELL("address",KV_9.5.sz.mell!A1),1)+1,LEN(CELL("address",KV_9.5.sz.mell!A1))-SEARCH("]",CELL("address",KV_9.5.sz.mell!A1),1)),"'","")) -> KV_9.5.sz.mell!$A$1
A30: 9.6. melléklet | B30: =CONCATENATE(ALAPADATOK!B19) -> 4 kvi név | C30: =HYPERLINK(SUBSTITUTE(CELL("address",#REF!),"'",""),SUBSTITUTE(MID(CELL("address",#REF!),SEARCH("]",CELL("address",#REF!),1)+1,LEN(CELL("address",#REF!))-SEARCH("]",CELL("address",#REF!),1)),"'","")) -> #REF!
A31: 9.7. melléklet | B31: =CONCATENATE(ALAPADATOK!B21) -> 5 kvi név | C31: =HYPERLINK(SUBSTITUTE(CELL("address",#REF!),"'",""),SUBSTITUTE(MID(CELL("address",#REF!),SEARCH("]",CELL("address",#REF!),1)+1,LEN(CELL("address",#REF!))-SEARCH("]",CELL("address",#REF!),1)),"'","")) -> #REF!
A32: 9.8. melléklet | B32: =CONCATENATE(ALAPADATOK!B23) -> 6 kvi név | C32: =HYPERLINK(SUBSTITUTE(CELL("address",#REF!),"'",""),SUBSTITUTE(MID(CELL("address",#REF!),SEARCH("]",CELL("address",#REF!),1)+1,LEN(CELL("address",#REF!))-SEARCH("]",CELL("address",#REF!),1)),"'","")) -> #REF!
A33: 9.9. melléklet | B33: =CONCATENATE(ALAPADATOK!B25) -> 7 kvi név | C33: =HYPERLINK(SUBSTITUTE(CELL("address",#REF!),"'",""),SUBSTITUTE(MID(CELL("address",#REF!),SEARCH("]",CELL("address",#REF!),1)+1,LEN(CELL("address",#REF!))-SEARCH("]",CELL("address",#REF!),1)),"'","")) -> #REF!
A34: 9.10. melléklet | B34: =CONCATENATE(ALAPADATOK!B27) -> 8 kvi név | C34: =HYPERLINK(SUBSTITUTE(CELL("address",#REF!),"'",""),SUBSTITUTE(MID(CELL("address",#REF!),SEARCH("]",CELL("address",#REF!),1)+1,LEN(CELL("address",#REF!))-SEARCH("]",CELL("address",#REF!),1)),"'","")) -> #REF!
A35: 9.11. melléklet | B35: =CONCATENATE(ALAPADATOK!B29) -> 9 kvi név | C35: =HYPERLINK(SUBSTITUTE(CELL("address",#REF!),"'",""),SUBSTITUTE(MID(CELL("address",#REF!),SEARCH("]",CELL("address",#REF!),1)+1,LEN(CELL("address",#REF!))-SEARCH("]",CELL("address",#REF!),1)),"'","")) -> #REF!
A36: 9.12. melléklet | B36: =CONCATENATE(ALAPADATOK!B31) -> 10 kvi név | C36: =HYPERLINK(SUBSTITUTE(CELL("address",#REF!),"'",""),SUBSTITUTE(MID(CELL("address",#REF!),SEARCH("]",CELL("address",#REF!),1)+1,LEN(CELL("address",#REF!))-SEARCH("]",CELL("address",#REF!),1)),"'","")) -> #REF!
A37: 10. melléklet | B37: Adatszolgáltatás az elismert tartozásállományról | C37: =HYPERLINK(SUBSTITUTE(CELL("address",KV_10.sz.mell!A1),"'",""),SUBSTITUTE(MID(CELL("address",KV_10.sz.mell!A1),SEARCH("]",CELL("address",KV_10.sz.mell!A1),1)+1,LEN(CELL("address",KV_10.sz.mell!A1))-SEARCH("]",CELL("address",KV_10.sz.mell!A1),1)),"'","")) -> KV_10.sz.mell!$A$1
A38: 1. számú tájékoztató tábla | B38: =KV_1.sz.tájékoztató_t.!A3 -> Tájékoztató a 2019. évi tény, 2020. évi várható és 2021. évi terv adatokról | C38: =HYPERLINK(SUBSTITUTE(CELL("address",KV_1.sz.tájékoztató_t.!A1),"'",""),SUBSTITUTE(MID(CELL("address",KV_1.sz.tájékoztató_t.!A1),SEARCH("]",CELL("address",KV_1.sz.tájékoztató_t.!A1),1)+1,LEN(CELL("address",KV_1.sz.tájékoztató_t.!A1))-SEARCH("]",CELL("address",KV_1.sz.tájékoztató_t.!A1),1)),"'","")) -> KV_1.sz.tájékoztató_t.!$A$1
A39: 2. számú tájékoztató tábla | B39: Többéves kihatással járó döntések számszerűsítése évenkénti bontásban és összesítve célok szerint | C39: =HYPERLINK(SUBSTITUTE(CELL("address",KV_2.sz.tájékoztató_t.!A1),"'",""),SUBSTITUTE(MID(CELL("address",KV_2.sz.tájékoztató_t.!A1),SEARCH("]",CELL("address",KV_2.sz.tájékoztató_t.!A1),1)+1,LEN(CELL("address",KV_2.sz.tájékoztató_t.!A1))-SEARCH("]",CELL("address",KV_2.sz.tájékoztató_t.!A1),1)),"'","")) -> KV_2.sz.tájékoztató_t.!$A$1
A40: 3. számú tájékoztató tábla | B40: Az önkormányzat által adott közvetett támogatások (kedvezmények) | C40: =HYPERLINK(SUBSTITUTE(CELL("address",KV_3.sz.tájékoztató_t.!A1),"'",""),SUBSTITUTE(MID(CELL("address",KV_3.sz.tájékoztató_t.!A1),SEARCH("]",CELL("address",KV_3.sz.tájékoztató_t.!A1),1)+1,LEN(CELL("address",KV_3.sz.tájékoztató_t.!A1))-SEARCH("]",CELL("address",KV_3.sz.tájékoztató_t.!A1),1)),"'","")) -> KV_3.sz.tájékoztató_t.!$A$1
A41: 4. számú tájékoztató tábla | B41: =KV_4.sz.tájékoztató_t.!A2 -> Előirányzat-felhasználási terv 2021. évre | C41: =HYPERLINK(SUBSTITUTE(CELL("address",KV_4.sz.tájékoztató_t.!A1),"'",""),SUBSTITUTE(MID(CELL("address",KV_4.sz.tájékoztató_t.!A1),SEARCH("]",CELL("address",KV_4.sz.tájékoztató_t.!A1),1)+1,LEN(CELL("address",KV_4.sz.tájékoztató_t.!A1))-SEARCH("]",CELL("address",KV_4.sz.tájékoztató_t.!A1),1)),"'","")) -> KV_4.sz.tájékoztató_t.!$A$1
A42: 5. számú tájékoztató tábla | B42: =KV_5.sz.tájékoztató_t!B1 -> A 2021. évi általános működés és ágazati feladatok támogatásának alakulása jogcímenként | C42: =HYPERLINK(SUBSTITUTE(CELL("address",KV_5.sz.tájékoztató_t!A1),"'",""),SUBSTITUTE(MID(CELL("address",KV_5.sz.tájékoztató_t!A1),SEARCH("]",CELL("address",KV_5.sz.tájékoztató_t!A1),1)+1,LEN(CELL("address",KV_5.sz.tájékoztató_t!A1))-SEARCH("]",CELL("address",KV_5.sz.tájékoztató_t!A1),1)),"'","")) -> KV_5.sz.tájékoztató_t!$A$1
...

Sheet ALAPADATOK
A1: ALAPADATOK
A3: Szászvár Nagyközség Önkormányzata
A6: Előterjesztéskor
A7: a | B7: … | C7: / | D7: 2021 | E7: ( | G7: ) | H7: önkormányzati rendelethez
K10: Mellékletben külön?
A11: Szászvári Közös Önkormányzati Hivatal | K11: Igen | M11: 9. | N11: =IF($K$11="Nem","",2) -> 2 | O11: . | P11: =CONCATENATE(M11,N11,O11) -> 9.2.
A13: 1. költségvetési szerv neve | B13: Szászvári Óvoda Intézményfenntartó Társulás | M13: 9. | N13: =IF(K11="Nem",2,3) -> 3 | O13: . | P13: =CONCATENATE(M13,N13,O13) -> 9.3.
A15: 2. költségvetési szerv neve | B15: Szászvári Hársvirág Óvoda | M15: 9. | N15: =N13+1 -> 4 | O15: . | P15: =CONCATENATE(M15,N15,O15) -> 9.4.
A17: 3. költségvetési szerv neve | B17: Bóbita Bölcsőde Szászvár | M17: 9. | N17: =N15+1 -> 5 | O17: . | P17: =CONCATENATE(M17,N17,O17) -> 9.5.
A19: 4. költségvetési szerv neve | B19: 4 kvi név | M19: 9. | N19: =N17+1 -> 6 | O19: . | P19: =CONCATENATE(M19,N19,O19) -> 9.6.
A21: 5. költségvetési szerv neve | B21: 5 kvi név | M21: 9. | N21: =N19+1 -> 7 | O21: . | P21: =CONCATENATE(M21,N21,O21) -> 9.7.
A23: 6. költségvetési szerv neve | B23: 6 kvi név | M23: 9. | N23: =N21+1 -> 8 | O23: . | P23: =CONCATENATE(M23,N23,O23) -> 9.8.
A25: 7. költségvetési szerv neve | B25: 7 kvi név | M25: 9. | N25: =N23+1 -> 9 | O25: . | P25: =CONCATENATE(M25,N25,O25) -> 9.9.
A27: 8. költségvetési szerv neve | B27: 8 kvi név | M27: 9. | N27: =N25+1 -> 10 | O27: . | P27: =CONCATENATE(M27,N27,O27) -> 9.10.
A29: 8. költségvetési szerv neve | B29: 9 kvi név | M29: 9. | N29: =N27+1 -> 11 | O29: . | P29: =CONCATENATE(M29,N29,O29) -> 9.11.
A31: 10. költségvetési szerv neve | B31: 10 kvi név | M31: 9. | N31: =N29+1 -> 12 | O31: . | P31: =CONCATENATE(M31,N31,O31) -> 9.12.

Sheet KV_ÖSSZEFÜGGÉSEK
A2: Költségvetési rendelet űrlapjainak összefüggései:
A5: =CONCATENATE(ALAPADATOK!D7,". évi előirányzat BEVÉTELEK") -> 2021. évi előirányzat BEVÉTELEK
A7: 1.1. sz. melléklet Bevételek táblázat C. oszlop 9 sora = | B7: 2.1. számú melléklet C. oszlop 13. sor + 2.2. számú melléklet C. oszlop 12. sor
A8: 1.1. sz. melléklet Bevételek táblázat C. oszlop 17 sora = | B8: 2.1. számú melléklet C. oszlop 24. sor + 2.2. számú melléklet C. oszlop 25. sor
A9: 1.1. sz. melléklet Bevételek táblázat C. oszlop 18 sora = | B9: 2.1. számú melléklet C. oszlop 25. sor + 2.2. számú melléklet C. oszlop 26. sor
A12: =+CONCATENATE(LEFT(A5,4),". évi előirányzat KIADÁSOK") -> 2021. évi előirányzat KIADÁSOK
A14: 1.1. sz. melléklet Kiadások táblázat C. oszlop 3 sora = | B14: 2.1. számú melléklet E. oszlop 13. sor + 2.2. számú melléklet E. oszlop 12. sor
A15: 1.1. sz. melléklet Kiadások táblázat C. oszlop 10 sora = | B15: 2.1. számú melléklet E. oszlop 24. sor + 2.2. számú melléklet E. oszlop 25. sor
A16: 1.1. sz. melléklet Kiadások táblázat C. oszlop 11 sora = | B16: 2.1. számú melléklet E. oszlop 25. sor + 2.2. számú melléklet E. oszlop 26. sor

Sheet KV_1.1.sz.mell.
B1: =CONCATENATE("1.1. melléklet ",ALAPADATOK!A7," ",ALAPADATOK!B7," ",ALAPADATOK!C7," ",ALAPADATOK!D7," ",ALAPADATOK!E7," ",ALAPADATOK!F7," ",ALAPADATOK!G7," ",ALAPADATOK!H7) -> 1.1. melléklet a … / 2021 ( ) önkormányzati rendelethez
B2: =CONCATENATE(ALAPADATOK!A3) -> Szászvár Nagyközség Önkormányzata
B3: =CONCATENATE(ALAPADATOK!D7,". ÉVI KÖLTSÉGVETÉS") -> 2021. ÉVI KÖLTSÉGVETÉS
B4: ÖSSZEVONT MÉRLEGE
A6: B E V É T E L E K
A7: 1. sz. táblázat | C7: Forintban!
A8: Sor- szám | B8: Bevételi jogcím | C8: =+CONCATENATE(LEFT(KV_ÖSSZEFÜGGÉSEK!A5,4),". évi előirányzat") -> 2021. évi előirányzat
B9: A | C9: B
A10: 1. | B10: Önkormányzat működési támogatásai (1.1.+…+.1.6.) | C10: =+C11+C12+C13+C14+C15+C16 -> 233233406
A11: 1.1. | B11: Helyi önkormányzatok működésének általános támogatása | C11: 84661051
A12: 1.2. | B12: Önkormányzatok egyes köznevelési feladatainak támogatása | C12: 66362700
A13: 1.3. | B13: Önkormányzatok szociális és gyermekjóléti, étkeztetési feladatainak támogatása | C13: 77157895
A14: 1.4. | B14: Önkormányzatok kulturális feladatainak támogatása | C14: 5051760
A15: 1.5. | B15: Működési célú kvi támogatások és kiegészítő támogatások
A16: 1.6. | B16: Elszámolásból származó bevételek
A17: 2. | B17: Működési célú támogatások államháztartáson belülről (2.1.+…+.2.5.) | C17: =+C18+C19+C20+C21+C22 -> 150449472
A18: 2.1. | B18: Elvonások és befizetések bevételei
A19: 2.2. | B19: Működési célú garancia- és kezességvállalásból megtérülések
A20: 2.3. | B20: Működési célú visszatérítendő támogatások, kölcsönök visszatérülése
A21: 2.4. | B21: Működési célú visszatérítendő támogatások, kölcsönök igénybevétele
A22: 2.5. | B22: Egyéb működési célú támogatások bevételei államháztartáson belülről | C22: 150449472
A23: 2.6. | B23: 2.5.-ből EU-s támogatás
A24: 3. | B24: Felhalmozási célú támogatások államháztartáson belülről (3.1.+…+3.5.) | C24: =+C25+C26+C27+C28+C29 -> 0
A25: 3.1. | B25: Felhalmozási célú önkormányzati támogatások
A26: 3.2. | B26: Felhalmozási célú garancia- és kezességvállalásból megtérülések
A27: 3.3. | B27: Felhalmozási célú visszatérítendő támogatások, kölcsönök visszatérülése
A28: 3.4. | B28: Felhalmozási célú visszatérítendő támogatások, kölcsönök igénybevétele
A29: 3.5. | B29: Egyéb felhalmozási célú támogatások bevételei
A30: 3.6. | B30: 3.5.-ből EU-s támogatás
A31: 4. | B31: Közhatalmi bevételek (4.1.+…+4.7.) | C31: =SUM(C32:C38) -> 31023000
A32: 4.1. | B32: Pótlék
A33: 4.2. | B33: Idegenforgalmi adó | C33: 140000
A34: 4.3. | B34: Iparűzési adó | C34: 21000000
A35: 4.4. | B35: Talajterhelési díj
A36: 4.5. | B36: Gépjárműadó
A37: 4.6. | B37: Egyéb bevétel (mezőőri jár.) | C37: 383000
A38: 4.7. | B38: Kommunális adó | C38: 9500000
A39: 5. | B39: Működési bevételek (5.1.+…+ 5.11.) | C39: =SUM(C40:C50) -> 20760000
A40: 5.1. | B40: Készletértékesítés ellenértéke | C40: 5000000 | D40: fa
A41: 5.2. | B41: Szolgáltatások ellenértéke | C41: 2760000
...

Sheet KV_1.2.sz.mell.
B1: =CONCATENATE("1.2. melléklet ",ALAPADATOK!A7," ",ALAPADATOK!B7," ",ALAPADATOK!C7," ",ALAPADATOK!D7," ",ALAPADATOK!E7," ",ALAPADATOK!F7," ",ALAPADATOK!G7," ",ALAPADATOK!H7) -> 1.2. melléklet a … / 2021 ( ) önkormányzati rendelethez
B2: =CONCATENATE(ALAPADATOK!A3) -> Szászvár Nagyközség Önkormányzata
B3: =KV_1.1.sz.mell.!B3 -> 2021. ÉVI KÖLTSÉGVETÉS
B4: KÖTELEZŐ FELADATOK MÉRLEGE
A6: B E V É T E L E K
A7: 1. sz. táblázat | C7: =CONCATENATE(KV_1.1.sz.mell.!C7) -> Forintban!
A8: Sor- szám | B8: Bevételi jogcím | C8: =+CONCATENATE(LEFT(KV_ÖSSZEFÜGGÉSEK!A5,4),". évi előirányzat") -> 2021. évi előirányzat
B9: A | C9: B
A10: 1. | B10: Önkormányzat működési támogatásai (1.1.+…+.1.6.) | C10: =KV_1.1.sz.mell.!C10 -> 233233406
A11: 1.1. | B11: Helyi önkormányzatok működésének általános támogatása | C11: =KV_1.1.sz.mell.!C11 -> 84661051
A12: 1.2. | B12: Önkormányzatok egyes köznevelési feladatainak támogatása | C12: =KV_1.1.sz.mell.!C12 -> 66362700
A13: 1.3. | B13: Önkormányzatok szociális és gyermekjóléti, étkeztetési feladatainak támogatása | C13: =KV_1.1.sz.mell.!C13 -> 77157895
A14: 1.4. | B14: Önkormányzatok kulturális feladatainak támogatása | C14: =KV_1.1.sz.mell.!C14 -> 5051760
A15: 1.5. | B15: Működési célú kvi támogatások és kiegészítő támogatások | C15: =KV_1.1.sz.mell.!C15 -> 0
A16: 1.6. | B16: Elszámolásból származó bevételek | C16: =KV_1.1.sz.mell.!C16 -> 0
A17: 2. | B17: Működési célú támogatások államháztartáson belülről (2.1.+…+.2.5.) | C17: =KV_1.1.sz.mell.!C17 -> 150449472
A18: 2.1. | B18: Elvonások és befizetések bevételei | C18: =KV_1.1.sz.mell.!C18 -> 0
A19: 2.2. | B19: Működési célú garancia- és kezességvállalásból megtérülések | C19: =KV_1.1.sz.mell.!C19 -> 0
A20: 2.3. | B20: Működési célú visszatérítendő támogatások, kölcsönök visszatérülése | C20: =KV_1.1.sz.mell.!C20 -> 0
A21: 2.4. | B21: Működési célú visszatérítendő támogatások, kölcsönök igénybevétele | C21: =KV_1.1.sz.mell.!C21 -> 0
... A31: 4. | B31: Közhatalmi bevételek (4.1.+…+4.7.) | C31: =KV_1.1.sz.mell.!C31 -> 31023000
A32: 4.1. | B32: =KV_1.1.sz.mell.!B32 -> Pótlék | C32: =KV_1.1.sz.mell.!C32 -> 0
A33: 4.2. | B33: =KV_1.1.sz.mell.!B33 -> Idegenforgalmi adó | C33: =KV_1.1.sz.mell.!C33 -> 140000
A34: 4.3. | B34: =KV_1.1.sz.mell.!B34 -> Iparűzési adó | C34: =KV_1.1.sz.mell.!C34 -> 21000000
A35: 4.4. | B35: =KV_1.1.sz.mell.!B35 -> Talajterhelési díj | C35: =KV_1.1.sz.mell.!C35 -> 0
A36: 4.5. | B36: =KV_1.1.sz.mell.!B36 -> Gépjárműadó | C36: =KV_1.1.sz.mell.!C36 -> 0
A37: 4.6. | B37: =KV_1.1.sz.mell.!B37 -> Egyéb bevétel (mezőőri jár.) | C37: =KV_1.1.sz.mell.!C37 -> 383000
A38: 4.7. | B38: =KV_1.1.sz.mell.!B38 -> Kommunális adó | C38: =KV_1.1.sz.mell.!C38 -> 9500000
A39: 5. | B39: Működési bevételek (5.1.+…+ 5.11.) | C39: =KV_1.1.sz.mell.!C39 -> 20760000
A40: 5.1. | B40: Készletértékesítés ellenértéke | C40: =KV_1.1.sz.mell.!C40 -> 5000000
A41: 5.2. | B41: Szolgáltatások ellenértéke | C41: =KV_1.1.sz.mell.!C41 -> 2760000
A42: 5.3. | B42: Közvetített szolgáltatások értéke | C42: =KV_1.1.sz.mell.!C42 -> 0
A43: 5.4. | B43: Tulajdonosi bevételek | C43: =KV_1.1.sz.mell.!C43 -> 0
A44: 5.5. | B44: Ellátási díjak | C44: =KV_1.1.sz.mell.!C44 -> 12600000
A45: 5.6. | B45: Kiszámlázott általános forgalmi adó | C45: =KV_1.1.sz.mell.!C45 -> 0
A46: 5.7. | B46: Általános forgalmi adó visszatérítése | C46: =KV_1.1.sz.mell.!C46 -> 0
A47: 5.8. | B47: Kamatbevételek és más nyereségjellegű bevételek | C47: =KV_1.1.sz.mell.!C47 -> 0
A48: 5.9. | B48: Egyéb pénzügyi műveletek bevételei | C48: =KV_1.1.sz.mell.!C48 -> 0
A49: 5.10. | B49: Biztosító által fizetett kártérítés | C49: =KV_1.1.sz.mell.!C49 -> 0
A50: 5.11. | B50: Egyéb működési bevételek | C50: =KV_1.1.sz.mell.!C50 -> 400000
...

Sheet KV_2.1.sz.mell.
B1: I. Működési célú bevételek és kiadások mérlege (Önkormányzati szinten) | F1: =CONCATENATE("2.1. melléklet ",ALAPADATOK!A7," ",ALAPADATOK!B7," ",ALAPADATOK!C7," ",ALAPADATOK!D7," ",ALAPADATOK!E7," ",ALAPADATOK!F7," ",ALAPADATOK!G7," ",ALAPADATOK!H7) -> 2.1. melléklet a … / 2021 ( ) önkormányzati rendelethez
E2: =CONCATENATE(KV_1.1.sz.mell.!C7) -> Forintban!
A3: Sor- szám | B3: Bevételek | D3: Kiadások
B4: Megnevezés | C4: =+KV_1.1.sz.mell.!C8 -> 2021. évi előirányzat | D4: Megnevezés | E4: =+C4 -> 2021. évi előirányzat
B5: A | C5: B | D5: C | E5: D
A6: 1. | B6: Önkormányzatok működési támogatásai | C6: =KV_1.1.sz.mell.!C10 -> 233233406 | D6: Személyi juttatások | E6: =KV_1.1.sz.mell.!C99 -> 74683140
A7: 2. | B7: Működési célú támogatások államháztartáson belülről | C7: =KV_1.1.sz.mell.!C17 -> 150449472 | D7: Munkaadókat terhelő járulékok és szociális hozzájárulási adó | E7: =KV_1.1.sz.mell.!C100 -> 12045770
A8: 3. | B8: 2.-ból EU-s támogatás | D8: Dologi kiadások | E8: =KV_1.1.sz.mell.!C101 -> 87623430
A9: 4. | B9: Közhatalmi bevételek | C9: =KV_1.1.sz.mell.!C31 -> 31023000 | D9: Ellátottak pénzbeli juttatásai | E9: =KV_1.1.sz.mell.!C102 -> 7736000
A10: 5. | B10: Működési bevételek | C10: =KV_1.1.sz.mell.!C39 -> 20760000 | D10: Egyéb működési célú kiadások | E10: =KV_1.1.sz.mell.!C103 -> 171041947
A11: 6. | B11: Működési célú átvett pénzeszközök | D11: Tartalékok
A12: 7. | B12: 6.-ból EU-s támogatás (közvetlen)
A13: 8.
A14: 9.
A15: 10.
A16: 11.
A17: 12.
A18: 13. | B18: Költségvetési bevételek összesen (1.+2.+4.+5.+6.+8.+…+12.) | C18: =C6+C7+C9+C10+C11+C13+C14+C15+C16+C17 -> 435465878 | D18: Költségvetési kiadások összesen (1.+...+12.) | E18: =SUM(E6:E17) -> 353130287
A19: 14. | B19: Hiány belső finanszírozásának bevételei (15.+…+18. ) | C19: =+C20+C21+C22+C23 -> 60733238 | D19: Értékpapír vásárlása, visszavásárlása
A20: 15. | B20: Költségvetési maradvány igénybevétele | C20: =KV_1.1.sz.mell.!C78 -> 60733238 | D20: Likviditási célú hitelek törlesztése
A21: 16. | B21: Vállalkozási maradvány igénybevétele | D21: Rövid lejáratú hitelek törlesztése
A22: 17. | B22: Betét visszavonásából származó bevétel | D22: Hosszú lejáratú hitelek törlesztése
A23: 18. | B23: Értékpapír értékesítése | D23: Kölcsön törlesztése
A24: 19. | B24: Hiány külső finanszírozásának bevételei (20.+…+21.) | C24: =+C25+C26 -> 0 | D24: Forgatási célú belföldi, külföldi értékpapírok vásárlása
A25: 20. | B25: Likviditási célú hitelek, kölcsönök felvétele | D25: Pénzeszközök lekötött betétként elhelyezése
A26: 21. | B26: Egyéb | D26: Adóssághoz nem kapcsolódó származékos ügyletek
A27: 22. | B27: Váltóbevételek | D27: Váltókiadások
A28: 23. | B28: Adóssághoz nem kapcsolódó származékos ügyletek bevételei | D28: Hivatal finanszírozás | E28: =KV_1.1.sz.mell.!C146 -> 0
A29: 24. | B29: Működési célú finanszírozási bevételek összesen (14.+19.+22.+23.) | C29: =+C19+C24+C27+C28 -> 60733238 | D29: Működési célú finanszírozási kiadások összesen (14.+...+23.) | E29: =SUM(E19:E28) -> 0
A30: 25. | B30: BEVÉTEL ÖSSZESEN (13.+24.) | C30: =+C18+C29 -> 496199116 | D30: KIADÁSOK ÖSSZESEN (13.+24.) | E30: =+E18+E29 -> 353130287
A31: 26. | B31: Költségvetési hiány: | C31: =IF(C18-E18<0,E18-C18,"-") -> - | D31: Költségvetési többlet: | E31: =IF(C18-E18>0,C18-E18,"-") -> 82335591
A32: 27. | B32: Bruttó hiány: | C32: =IF(C30-E30<0,E30-C30,"-") -> - | D32: Bruttó többlet: | E32: =IF(C30-E30>0,C30-E30,"-") -> 143068829
A33: =IF(C32<>"-","Nem lehet bruttó hiány, mert az Mötv. 111. § (4) bekezédse szerint A költségvetési rendeletben működési hiány nem tervezhető.","")

Sheet KV_2.2.sz.mell.
B1: II. Felhalmozási célú bevételek és kiadások mérlege (Önkormányzati szinten) | F1: =CONCATENATE("2.2. melléklet ",ALAPADATOK!A7," ",ALAPADATOK!B7," ",ALAPADATOK!C7," ",ALAPADATOK!D7," ",ALAPADATOK!E7," ",ALAPADATOK!F7," ",ALAPADATOK!G7," ",ALAPADATOK!H7) -> 2.2. melléklet a … / 2021 ( ) önkormányzati rendelethez
E2: =CONCATENATE(KV_1.1.sz.mell.!C7) -> Forintban!
A3: Sor- szám | B3: Bevételek | D3: Kiadások
B4: Megnevezés | C4: =+KV_2.1.sz.mell.!C4 -> 2021. évi előirányzat | D4: Megnevezés | E4: =+KV_2.1.sz.mell.!C4 -> 2021. évi előirányzat
B5: A | C5: B | D5: C | E5: D
A6: 1. | B6: Felhalmozási célú támogatások államháztartáson belülről | C6: =KV_1.2.sz.mell.!C24 -> 0 | D6: Beruházások | E6: =KV_1.1.sz.mell.!C120 -> 112676281
A7: 2. | B7: 1.-ből EU-s támogatás | D7: 1.-ből EU-s forrásból megvalósuló beruházás
A8: 3. | B8: Felhalmozási bevételek | C8: =KV_1.1.sz.mell.!C51 -> 7500000 | D8: Felújítások | E8: =KV_1.1.sz.mell.!C122 -> 0
A9: 4. | B9: Felhalmozási célú átvett pénzeszközök átvétele | C9: =KV_1.1.sz.mell.!C62 -> 0 | D9: 3.-ból EU-s forrásból megvalósuló felújítás
A10: 5. | B10: 4.-ből EU-s támogatás (közvetlen) | D10: Egyéb felhalmozási kiadások
A11: 6. | B11: Egyéb felhalmozási célú bevételek
A12: 7.
A13: 8.
A14: 9.
A15: 10.
A16: 11. | D16: Tartalékok
A17: 12. | B17: Költségvetési bevételek összesen: (1.+3.+4.+6.+…+11.) | C17: =+C6+C8+C9+C11+C12+C13+C14+C15+C16 -> 7500000 | D17: Költségvetési kiadások összesen: (1.+3.+5.+...+11.) | E17: =+E6+E8+E10+E11+E12+E13+E14+E15+E16 -> 112676281
A18: 13. | B18: Hiány belső finanszírozás bevételei ( 14+…+18) | C18: =SUM(C19:C23) -> 0 | D18: Értékpapír vásárlása, visszavásárlása
A19: 14. | B19: Költségvetési maradvány igénybevétele | D19: Hitelek törlesztése
A20: 15. | B20: Vállalkozási maradvány igénybevétele | D20: Rövid lejáratú hitelek törlesztése | E20: =KV_1.1.sz.mell.!C137 -> 100000000
A21: 16. | B21: Betét visszavonásából származó bevétel | D21: Hosszú lejáratú hitelek törlesztése | E21: =KV_1.1.sz.mell.!C135 -> 37892548
A22: 17. | B22: Értékpapír értékesítése | D22: Kölcsön törlesztése
A23: 18. | B23: Egyéb belső finanszírozási bevételek | D23: Befektetési célú belföldi, külföldi értékpapírok vásárlása
A24: 19. | B24: Hiány külső finanszírozásának bevételei (20+…+24 ) | C24: =+C25+C26+C27+C28+C29 -> 100000000 | D24: Betét elhelyezése
A25: 20. | B25: Hosszú lejáratú hitelek, kölcsönök felvétele | D25: Pénzügyi lízing kiadásai
A26: 21. | B26: Likviditási célú hitelek, kölcsönök felvétele
A27: 22. | B27: Rövid lejáratú hitelek, kölcsönök felvétele | C27: =KV_1.1.sz.mell.!C71 -> 100000000
A28: 23. | B28: Értékpapírok kibocsátása
A29: 24. | B29: Egyéb külső finanszírozási bevételek
A30: 25. | B30: Felhalmozási célú finanszírozási bevételek összesen (13.+19.) | C30: =+C18+C24 -> 100000000 | D30: Felhalmozási célú finanszírozási kiadások összesen (13.+...+24.) | E30: =SUM(E18:E29) -> 137892548
A31: 26. | B31: BEVÉTEL ÖSSZESEN (12+25) | C31: =+C17+C30 -> 107500000 | D31: KIADÁSOK ÖSSZESEN (12+25) | E31: =+E17+E30 -> 250568829
A32: 27. | B32: Költségvetési hiány: | C32: =IF(C17-E17<0,E17-C17,"-") -> 105176281 | D32: Költségvetési többlet: | E32: =IF(C17-E17>0,C17-E17,"-") -> -
A33: 28. | B33: Bruttó hiány: | C33: =IF(C31-E31<0,E31-C31,"-") -> 143068829 | D33: Bruttó többlet: | E33: =IF(C31-E31>0,C31-E31,"-") -> -
B36: Összes 1.1 | C36: =KV_1.1.sz.mell.!C92 -> 603699116 | E36: =KV_1.1.sz.mell.!C159 -> 603699116
B37: Összes 2.1+2.2 | C37: =KV_2.1.sz.mell.!C30+KV_2.2.sz.mell.!C31 -> 603699116 | E37: =KV_2.1.sz.mell.!E30+KV_2.2.sz.mell.!E31 -> 603699116
B38: Különbség | C38: =C36-C37 -> 0 | E38: =E36-E37 -> 0

Sheet KV_ELLENŐRZÉS
A1: Költségvetési rendelet űrlapjainak összefüggései: | E1: ELTÉRÉS
A4: =+KV_ÖSSZEFÜGGÉSEK!A5 -> 2021. évi előirányzat BEVÉTELEK
A6: 1.1. sz. melléklet Bevételek táblázat C. oszlop 9 sora = | B6: =+KV_1.1.sz.mell.!C67 -> 442965878 | C6: 2.1. számú melléklet C. oszlop 13. sor + 2.2. számú melléklet C. oszlop 12. sor | D6: =+KV_2.1.sz.mell.!C18+KV_2.2.sz.mell.!C17 -> 442965878 | E6: =+B6-D6 -> 0
A7: 1.1. sz. melléklet Bevételek táblázat C. oszlop 17 sora = | B7: =+KV_1.1.sz.mell.!C91 -> 160733238 | C7: 2.1. számú melléklet C. oszlop 24. sor + 2.2. számú melléklet C. oszlop 25. sor | D7: =+KV_2.1.sz.mell.!C29+KV_2.2.sz.mell.!C30 -> 160733238 | E7: =+B7-D7 -> 0
A8: 1.1. sz. melléklet Bevételek táblázat C. oszlop 18 sora = | B8: =+KV_1.1.sz.mell.!C92 -> 603699116 | C8: 2.1. számú melléklet C. oszlop 25. sor + 2.2. számú melléklet C. oszlop 26. sor | D8: =+KV_2.1.sz.mell.!C30+KV_2.2.sz.mell.!C31 -> 603699116 | E8: =+B8-D8 -> 0
A11: =+KV_ÖSSZEFÜGGÉSEK!A12 -> 2021. évi előirányzat KIADÁSOK
A13: 1.1. sz. melléklet Kiadások táblázat C. oszlop 3 sora = | B13: =+KV_1.1.sz.mell.!C133 -> 465806568 | C13: 2.1. számú melléklet E. oszlop 13. sor + 2.2. számú melléklet E. oszlop 12. sor | D13: =+KV_2.1.sz.mell.!E18+KV_2.2.sz.mell.!E17 -> 465806568 | E13: =+B13-D13 -> 0
A14: 1.1. sz. melléklet Kiadások táblázat C. oszlop 10 sora = | B14: =+KV_1.1.sz.mell.!C158 -> 137892548 | C14: 2.1. számú melléklet E. oszlop 24. sor + 2.2. számú melléklet E. oszlop 25. sor | D14: =+KV_2.1.sz.mell.!E29+KV_2.2.sz.mell.!E30 -> 137892548 | E14: =+B14-D14 -> 0
A15: 1.1. sz. melléklet Kiadások táblázat C. oszlop 11 sora = | B15: =+KV_1.1.sz.mell.!C159 -> 603699116 | C15: 2.1. számú melléklet E. oszlop 25. sor + 2.2. számú melléklet E. oszlop 26. sor | D15: =+KV_2.1.sz.mell.!E30+KV_2.2.sz.mell.!E31 -> 603699116 | E15: =+B15-D15 -> 0

Sheet KV_3.sz.mell.
B2: =CONCATENATE("3. melléklet ",ALAPADATOK!A7," ",ALAPADATOK!B7," ",ALAPADATOK!C7," ",ALAPADATOK!D7," ",ALAPADATOK!E7," ",ALAPADATOK!F7," ",ALAPADATOK!G7," ",ALAPADATOK!H7) -> 3. melléklet a … / 2021 ( ) önkormányzati rendelethez
A4: =CONCATENATE(PROPER(ALAPADATOK!A3)," adósságot keletkeztető ügyletekből és kezességvállalásokból fennálló kötelezettségei") -> Szászvár Nagyközség Önkormányzata adósságot keletkeztető ügyletekből és kezességvállalásokból fennálló kötelezettségei
E5: =KV_2.2.sz.mell.!E2 -> Forintban!
A6: Sor-szám | B6: MEGNEVEZÉS | C6: Évek | F6: Összesen (F=C+D+E)
C7: =+LEFT(KV_ÖSSZEFÜGGÉSEK!A5,4)+1 -> 2022 | D7: =+C7+1 -> 2023 | E7: =+D7+1 -> 2024
B8: A | C8: B | D8: C | E8: D | F8: E
A9: 1. | B9: Orvosi rendelő felújítás | C9: 2140792 | D9: 2250115 | E9: 2337572 | F9: =SUM(C9:E9) -> 6728479
A10: 2. | F10: =SUM(C10:E10) -> 0
A11: 3. | F11: =SUM(C11:E11) -> 0
A12: 4. | F12: =SUM(C12:E12) -> 0
A13: 5. | F13: =SUM(C13:E13) -> 0
A14: 6. | B14: ÖSSZES KÖTELEZETTSÉG | C14: =SUM(C9:C13) -> 2140792 | D14: =SUM(D9:D13) -> 2250115 | E14: =SUM(E9:E13) -> 2337572 | F14: =SUM(F9:F13) -> 6728479

Sheet KV_4.sz.mell.
B2: =CONCATENATE("4. melléklet ",ALAPADATOK!A7," ",ALAPADATOK!B7," ",ALAPADATOK!C7," ",ALAPADATOK!D7," ",ALAPADATOK!E7," ",ALAPADATOK!F7," ",ALAPADATOK!G7," ",ALAPADATOK!H7) -> 4. melléklet a … / 2021 ( ) önkormányzati rendelethez
A4: =CONCATENATE(PROPER(ALAPADATOK!A3)," saját bevételeinek részletezése az adósságot keletkeztető ügyletből származó tárgyévi fizetési kötelezettség megállapításához") -> Szászvár Nagyközség Önkormányzata saját bevételeinek részletezése az adósságot keletkeztető ügyletből származó tárgyévi fizetési kötelezettség megállapításához
C5: =KV_2.2.sz.mell.!E2 -> Forintban!
A6: Sor-szám | B6: Bevételi jogcímek | C6: =+KV_1.1.sz.mell.!C8 -> 2021. évi előirányzat
B7: A | C7: B
A8: 1. | B8: Helyi adóból és a települési adóból származó bevétel | C8: 30640000
A9: 2. | B9: Az önkormányzati vagyon és az önkormányzatot megillető vagyoni értékű jog értékesítéséből és hasznosításából származó bevétel
A10: 3. | B10: Osztalék, koncessziós díj és hozambevétel
A11: 4. | B11: Tárgyi eszköz és az immateriális jószág, részvény, részesedés, vállalat értékesítéséből vagy privatizációból származó bevétel
A12: 5. | B12: Bírság-, pótlék- és díjbevétel | C12: 383000
A13: 6. | B13: Kezesség-, illetve garanciavállalással kapcsolatos megtérülés
A14: SAJÁT BEVÉTELEK ÖSSZESEN* | C14: =SUM(C8:C13) -> 31023000
A15: *Az adósságot keletkeztető ügyletekhez történő hozzájárulás részletes szabályairól szóló 353/2011. (XII.31.) Korm. Rendelet 2.§ (1) bekezdése alapján.

Sheet KV_5.sz.mell.
B2: =CONCATENATE("5. melléklet ",ALAPADATOK!A7," ",ALAPADATOK!B7," ",ALAPADATOK!C7," ",ALAPADATOK!D7," ",ALAPADATOK!E7," ",ALAPADATOK!F7," ",ALAPADATOK!G7," ",ALAPADATOK!H7) -> 5. melléklet a … / 2021 ( ) önkormányzati rendelethez
A4: =CONCATENATE(PROPER(ALAPADATOK!A3)," ",ALAPADATOK!D7,". évi adósságot keletkeztető fejlesztési céljai") -> Szászvár Nagyközség Önkormányzata 2021. évi adósságot keletkeztető fejlesztési céljai
C5: =KV_4.sz.mell.!C5 -> Forintban!
A6: Sor-szám | B6: Fejlesztési cél leírása | C6: Fejlesztés várható kiadása
B7: A | C7: B
A8: 1. | B8: Nem releváns
A9: 2.
A10: 3.
A11: 4. | B11: ADÓSSÁGOT KELETKEZTETŐ ÜGYLETEK VÁRHATÓ EGYÜTTES ÖSSZEGE* | C11: =SUM(C8:C10) -> 0
A12: * Magyarország gazdasági stabilitásáról szóló 2011. évi CXCIV. törvény 8. § (2) bekezdése szerinti adósságot keletkezető ügyletek.

Sheet KV_6.sz.mell.
B2: =CONCATENATE("6. melléklet ",ALAPADATOK!A7," ",ALAPADATOK!B7," ",ALAPADATOK!C7," ",ALAPADATOK!D7," ",ALAPADATOK!E7," ",ALAPADATOK!F7," ",ALAPADATOK!G7," ",ALAPADATOK!H7) -> 6. melléklet a … / 2021 ( ) önkormányzati rendelethez
A4: Beruházási (felhalmozási) kiadások előirányzata beruházásonként
F5: =KV_5.sz.mell.!C5 -> Forintban!
A6: Beruházás megnevezése | B6: Teljes költség | C6: Kivitelezés kezdési és befejezési éve | D6: =+CONCATENATE("Felhasználás ",LEFT(KV_ÖSSZEFÜGGÉSEK!A5,4)-1,". XII. 31-ig") -> Felhasználás 2020. XII. 31-ig | E6: =+KV_1.1.sz.mell.!C8 -> 2021. évi előirányzat | F6: =+CONCATENATE(LEFT(KV_ÖSSZEFÜGGÉSEK!A5,4),". utáni szükséglet") -> 2021. utáni szükséglet
A7: A | B7: B | C7: C | D7: D | E7: E | F7: F=(B-D-E)
A8: Magyar Falu - Járdaépítés | B8: 1904297 | C8: 2021 | D8: 0 | E8: 1904297 | F8: 0
A9: Magyar Falu - Elhagyott ingatlan | B9: 4350645 | C9: 2021 | D9: 0 | E9: 4350645 | F9: 0
A10: Magyar Falu - Orvosi eszközök beszerzése | B10: 2994455 | C10: 2021 | D10: 0 | E10: 2994455 | F10: 0
A11: Magyar Falu - Építési telek kialakítása | B11: 9927568 | C11: 2021 | D11: 0 | E11: 9927568 | F11: 0
A12: TOP-2.1.3-16 - Völgységi patak mederrendezése | B12: 96500000 | C12: 2021 | D12: 3985815 | E12: 92514185 | F12: 0
A13: ÖSSZESEN: | B13: =SUM(B8:B12) -> 115676965 | D13: =SUM(D8:D12) -> 3985815 | E13: =SUM(E8:E12) -> 111691150 | F13: =SUM(F8:F12) -> 0

Sheet KV_7.sz.mell.
B2: =CONCATENATE("7. melléklet ",ALAPADATOK!A7," ",ALAPADATOK!B7," ",ALAPADATOK!C7," ",ALAPADATOK!D7," ",ALAPADATOK!E7," ",ALAPADATOK!F7," ",ALAPADATOK!G7," ",ALAPADATOK!H7) -> 7. melléklet a … / 2021 ( ) önkormányzati rendelethez
A4: Felújítási kiadások előirányzata felújításonként
F5: =KV_6.sz.mell.!F5 -> Forintban!
A6: Felújítás megnevezése | B6: Teljes költség | C6: Kivitelezés kezdési és befejezési éve | D6: =+KV_6.sz.mell.!D6 -> Felhasználás 2020. XII. 31-ig | E6: =+KV_6.sz.mell.!E6 -> 2021. évi előirányzat | F6: =+CONCATENATE(LEFT(KV_ÖSSZEFÜGGÉSEK!A5,4),". utáni szükséglet ",CHAR(10),"") -> 2021. utáni szükséglet
A7: A | B7: B | C7: C | D7: D | E7: E | F7: F=(B-D-E)
A8: Magyar Falu-Program járdafelújítás | B8: 3047776 | C8: 2021 | D8: 0 | E8: 3047776 | F8: =B8-D8-E8 -> 0
F9: =B9-D9-E9 -> 0
F10: =B10-D10-E10 -> 0
F11: =B11-D11-E11 -> 0
F12: =B12-D12-E12 -> 0
F13: =B13-D13-E13 -> 0
F14: =B14-D14-E14 -> 0
F15: =B15-D15-E15 -> 0
F16: =B16-D16-E16 -> 0
F17: =B17-D17-E17 -> 0
F18: =B18-D18-E18 -> 0
F19: =B19-D19-E19 -> 0
F20: =B20-D20-E20 -> 0
... F24: =B24-D24-E24 -> 0
A25: ÖSSZESEN: | B25: =SUM(B8:B24) -> 3047776 | D25: =SUM(D8:D24) -> 0 | E25: =SUM(E8:E24) -> 3047776 | F25: =SUM(F8:F24) -> 0

Sheet KV_8.sz.mell.
F1: =CONCATENATE("8. melléklet ",ALAPADATOK!A7," ",ALAPADATOK!B7," ",ALAPADATOK!C7," ",ALAPADATOK!D7," ",ALAPADATOK!E7," ",ALAPADATOK!F7," ",ALAPADATOK!G7," ",ALAPADATOK!H7) -> 8. melléklet a … / 2021 ( ) önkormányzati rendelethez
A2: Önkormányzaton kívüli EU-s projekthez történő hozzájárulás
E3: =KV_7.sz.mell.!F5 -> Forintban!
A4: Támogatott neve | E4: Előirányzat
A5: Szászvár Nagyközség Önkormányzat
A7: Összesen: | E7: =SUM(E5:E6) -> 0
A9: Európai uniós támogatással megvalósuló projektek
A10: bevételei, kiadásai, hozzájárulások
A11: EU-s projekt neve, azonosítója:* EFOP-3.3.2-16-00173
E12: =$E$3 -> Forintban!
A13: Források | B13: Támogatási szerződés szerinti bevételek, kiadások
B14: Összes tervezett forrás, kiadás | C14: Évenkénti ütemezés
C15: =CONCATENATE(TARTALOMJEGYZÉK!$A$1,". előtti tervezett forrás, kiadás") -> 2021. előtti tervezett forrás, kiadás | D15: =CONCATENATE(TARTALOMJEGYZÉK!$A$1,". évi eredeti előirányzat") -> 2021. évi eredeti előirányzat | E15: =CONCATENATE(TARTALOMJEGYZÉK!$A$1,". év utáni tervezett forrás, kiadás") -> 2021. év utáni tervezett forrás, kiadás
A17: A | B17: B=(C+D+E) | C17: C | D17: D | E17: E
A18: Saját erő
A19: - saját erőből központi támogatás
A20: EU-s forrás | B20: 25000000 | C20: 25000000 | D20: 0 | E20: 0
A21: Társfinanszírozás
A22: Hitel
A23: Egyéb forrás
A24: Források összesen: | B24: =B18+SUM(B20:B23) -> 25000000 | C24: =C18+SUM(C20:C23) -> 25000000 | D24: =D18+SUM(D20:D23) -> 0 | E24: =E18+SUM(E20:E23) -> 0
A25: Személyi jellegű
A26: Beruházások, beszerzések | B26: 1850000 | C26: 23150000 | D26: 1850000
A27: Szolgáltatások igénybe vétele
A28: Adminisztratív költségek
A30: Kiadások összesen: | B30: =SUM(B25:B29) -> 1850000 | C30: =SUM(C25:C29) -> 23150000 | D30: =SUM(D25:D29) -> 1850000 | E30: 0
A31: * Amennyiben több projekt megvalósítása történi egy időben akkor azokat külön-külön, projektenként be kell mutatni!
A33: EU-s projekt neve, azonosítója: TOP-2.1.3-16 Völgységi patak mederrendezése
E34: =$E$3 -> Forintban!
A35: Források | B35: Támogatási szerződés szerinti bevételek, kiadások
B36: Összes tervezett forrás, kiadás | C36: Évenkénti ütemezés
C37: =CONCATENATE(TARTALOMJEGYZÉK!$A$1,". előtti tervezett forrás, kiadás") -> 2021. előtti tervezett forrás, kiadás | D37: =CONCATENATE(TARTALOMJEGYZÉK!$A$1,". évi eredeti előirányzat") -> 2021. évi eredeti előirányzat | E37: =CONCATENATE(TARTALOMJEGYZÉK!$A$1,". év utáni tervezett forrás, kiadás") -> 2021. év utáni tervezett forrás, kiadás
A39: A | B39: B=(C+D+E) | C39: C | D39: D | E39: E
A40: Saját erő
A41: - saját erőből központi támogatás
A42: EU-s forrás | B42: 96500000 | C42: 0 | D42: 96500000 | E42: 0
A43: Társfinanszírozás
A44: Hitel
A45: Egyéb forrás
A46: Források összesen: | B46: =B40+SUM(B42:B45) -> 96500000 | C46: =C40+SUM(C42:C45) -> 0 | D46: =D40+SUM(D42:D45) -> 96500000 | E46: =E40+SUM(E42:E45) -> 0
...

Sheet KV_9.1.sz.mell
C1: =CONCATENATE("9.1. melléklet ",ALAPADATOK!A7," ",ALAPADATOK!B7," ",ALAPADATOK!C7," ",ALAPADATOK!D7," ",ALAPADATOK!E7," ",ALAPADATOK!F7," ",ALAPADATOK!G7," ",ALAPADATOK!H7) -> 9.1. melléklet a … / 2021 ( ) önkormányzati rendelethez
A2: Megnevezés | B2: =CONCATENATE(ALAPADATOK!A3) -> Szászvár Nagyközség Önkormányzata | C2: 01
A3: Feladat megnevezése | B3: Összes bevétel, kiadás | C3: 01
C4: =KV_7.sz.mell.!F5 -> Forintban!
A5: Száma | B5: Kiemelt előirányzat, előirányzat megnevezése | C5: Előirányzat
B6: A | C6: B
B7: Bevételek
A8: 1. | B8: Önkormányzat működési támogatásai (1.1.+…+.1.6.) | C8: =KV_1.1.sz.mell.!C10 -> 233233406
A9: 1.1. | B9: Helyi önkormányzatok működésének általános támogatása | C9: =KV_1.1.sz.mell.!C11 -> 84661051
A10: 1.2. | B10: Önkormányzatok egyes köznevelési feladatainak támogatása | C10: =KV_1.1.sz.mell.!C12 -> 66362700
A11: 1.3. | B11: Önkormányzatok szociális és gyermekjóléti, étkeztetési feladatainak támogatása | C11: =KV_1.1.sz.mell.!C13 -> 77157895
A12: 1.4. | B12: Önkormányzatok kulturális feladatainak támogatása | C12: =KV_1.1.sz.mell.!C14 -> 5051760
A13: 1.5. | B13: Működési célú kvi támogatások és kiegészítő támogatások | C13: =KV_1.1.sz.mell.!C15 -> 0
A14: 1.6. | B14: Elszámolásból származó bevételek | C14: =KV_1.1.sz.mell.!C16 -> 0
A15: 2. | B15: Működési célú támogatások államháztartáson belülről (2.1.+…+.2.5.) | C15: =KV_1.1.sz.mell.!C17 -> 150449472
A16: 2.1. | B16: Elvonások és befizetések bevételei | C16: =KV_1.1.sz.mell.!C18 -> 0
A17: 2.2. | B17: Működési célú garancia- és kezességvállalásból megtérülések | C17: =KV_1.1.sz.mell.!C19 -> 0
A18: 2.3. | B18: Működési célú visszatérítendő támogatások, kölcsönök visszatérülése | C18: =KV_1.1.sz.mell.!C20 -> 0
A19: 2.4. | B19: Működési célú visszatérítendő támogatások, kölcsönök igénybevétele | C19: =KV_1.1.sz.mell.!C21 -> 0
... A29: 4. | B29: Közhatalmi bevételek (4.1.+...+4.7.) | C29: =KV_1.1.sz.mell.!C31 -> 31023000
A30: 4.1. | B30: =KV_1.1.sz.mell.!B32 -> Pótlék | C30: =KV_1.1.sz.mell.!C32 -> 0
A31: 4.2. | B31: =KV_1.1.sz.mell.!B33 -> Idegenforgalmi adó | C31: =KV_1.1.sz.mell.!C33 -> 140000
A32: 4.3. | B32: =KV_1.1.sz.mell.!B34 -> Iparűzési adó | C32: =KV_1.1.sz.mell.!C34 -> 21000000
A33: 4.4. | B33: =KV_1.1.sz.mell.!B35 -> Talajterhelési díj | C33: =KV_1.1.sz.mell.!C35 -> 0
A34: 4.5. | B34: =KV_1.1.sz.mell.!B36 -> Gépjárműadó | C34: =KV_1.1.sz.mell.!C36 -> 0
A35: 4.6. | B35: =KV_1.1.sz.mell.!B37 -> Egyéb bevétel (mezőőri jár.) | C35: =KV_1.1.sz.mell.!C37 -> 383000
A36: 4.7. | B36: =KV_1.1.sz.mell.!B38 -> Kommunális adó | C36: =KV_1.1.sz.mell.!C38 -> 9500000
A37: 5. | B37: Működési bevételek (5.1.+…+ 5.11.) | C37: =KV_1.1.sz.mell.!C39 -> 20760000
A38: 5.1. | B38: Készletértékesítés ellenértéke | C38: =KV_1.1.sz.mell.!C40 -> 5000000
A39: 5.2. | B39: Szolgáltatások ellenértéke | C39: =KV_1.1.sz.mell.!C41 -> 2760000
A40: 5.3. | B40: Közvetített szolgáltatások értéke | C40: =KV_1.1.sz.mell.!C42 -> 0
A41: 5.4. | B41: Tulajdonosi bevételek | C41: =KV_1.1.sz.mell.!C43 -> 0
A42: 5.5. | B42: Ellátási díjak | C42: =KV_1.1.sz.mell.!C44 -> 12600000
A43: 5.6. | B43: Kiszámlázott általános forgalmi adó | C43: =KV_1.1.sz.mell.!C45 -> 0
A44: 5.7. | B44: Általános forgalmi adó visszatérítése | C44: =KV_1.1.sz.mell.!C46 -> 0
A45: 5.8. | B45: Kamatbevételek és más nyereségjellegű bevételek | C45: =KV_1.1.sz.mell.!C47 -> 0
A46: 5.9. | B46: Egyéb pénzügyi műveletek bevételei | C46: =KV_1.1.sz.mell.!C48 -> 0
A47: 5.10. | B47: Biztosító által fizetett kártérítés | C47: =KV_1.1.sz.mell.!C49 -> 0
A48: 5.11. | B48: Egyéb működési bevételek | C48: =KV_1.1.sz.mell.!C50 -> 400000
... A90: 18. | B90: BEVÉTELEK ÖSSZESEN: (9+17) | C90: =KV_1.1.sz.mell.!C92 -> 603699116
...

Sheet KV_9.2.sz.mell
C1: =CONCATENATE("9.2. melléklet ",ALAPADATOK!A7," ",ALAPADATOK!B7," ",ALAPADATOK!C7," ",ALAPADATOK!D7," ",ALAPADATOK!E7," ",ALAPADATOK!F7," ",ALAPADATOK!G7," ",ALAPADATOK!H7) -> 9.2. melléklet a … / 2021 ( ) önkormányzati rendelethez
A2: Költségvetési szerv megnevezése | B2: =CONCATENATE(ALAPADATOK!A11) -> Szászvári Közös Önkormányzati Hivatal | C2: 02
A3: Feladat megnevezése | B3: Összes bevétel, kiadás | C3: 01
C4: Forintban!
A5: Száma | B5: Kiemelt előirányzat, előirányzat megnevezése | C5: Előirányzat
B6: A | C6: B
B7: Bevételek
A8: 1. | B8: Működési bevételek (1.1.+…+1.11.) | C8: =SUM(C9:C19) -> 0
A9: 1.1. | B9: Készletértékesítés ellenértéke
A10: 1.2. | B10: Szolgáltatások ellenértéke
A11: 1.3. | B11: Közvetített szolgáltatások értéke
A12: 1.4. | B12: Tulajdonosi bevételek
A13: 1.5. | B13: Ellátási díjak
A14: 1.6. | B14: Kiszámlázott általános forgalmi adó
A15: 1.7. | B15: Általános forgalmi adó visszatérülése
A16: 1.8. | B16: Kamatbevételek
A17: 1.9. | B17: Egyéb pénzügyi műveletek bevételei
A18: 1.10. | B18: Biztosító által fizetett kártérítés
A19: 1.11. | B19: Egyéb működési bevételek
A20: 2. | B20: Működési célú támogatások államháztartáson belülről (2.1.+…+2.3.) | C20: =SUM(C21:C23) -> 0
A21: 2.1. | B21: Elvonások és befizetések bevételei
A22: 2.2. | B22: Visszatérítendő támogatások, kölcsönök visszatérülése ÁH-n belülről
A23: 2.3. | B23: Egyéb működési célú támogatások bevételei államháztartáson belülről
A24: 2.4. | B24: 2.3-ból EU támogatás
A25: 3. | B25: Közhatalmi bevételek
A26: 4. | B26: Felhalmozási célú támogatások államháztartáson belülről (4.1.+…+4.3.) | C26: =+C27+C28+C29 -> 0
A27: 4.1. | B27: Felhalmozási célú önkormányzati támogatások
A28: 4.2. | B28: Visszatérítendő támogatások, kölcsönök visszatérülése ÁH-n belülről
A29: 4.3. | B29: Egyéb felhalmozási célú támogatások bevételei államháztartáson belülről
A30: 4.4. | B30: 4.3.-ból EU-s támogatás
A31: 5. | B31: Felhalmozási bevételek (5.1.+…+5.3.) | C31: =+C32+C33+C34 -> 0
A32: 5.1. | B32: Immateriális javak értékesítése
A33: 5.2. | B33: Ingatlanok értékesítése
A34: 5.3. | B34: Egyéb tárgyi eszközök értékesítése
A35: 6. | B35: Működési célú átvett pénzeszközök | C35: 54659223
A36: 7. | B36: Felhalmozási célú átvett pénzeszközök
A37: 8. | B37: Költségvetési bevételek összesen (1.+…+7.) | C37: =+C8+C20+C25+C26+C31+C35+C36 -> 54659223
A38: 9. | B38: Finanszírozási bevételek (9.1.+…+9.3.) | C38: =+C39+C40+C41 -> 3549802
A39: 9.1. | B39: Költségvetési maradvány igénybevétele | C39: 3549802
A40: 9.2. | B40: Vállalkozási maradvány igénybevétele
...

Sheet KV_9.3.sz.mell
C1: =CONCATENATE(ALAPADATOK!P13," melléklet ",ALAPADATOK!A7," ",ALAPADATOK!B7," ",ALAPADATOK!C7," ",ALAPADATOK!D7," ",ALAPADATOK!E7," ",ALAPADATOK!F7," ",ALAPADATOK!G7," ",ALAPADATOK!H7) -> 9.3. melléklet a … / 2021 ( ) önkormányzati rendelethez
A2: Költségvetési szerv megnevezése | B2: =CONCATENATE(ALAPADATOK!B13) -> Szászvári Óvoda Intézményfenntartó Társulás | C2: 03
A3: Feladat megnevezése | B3: Összes bevétel, kiadás | C3: 01
C4: Forintban!
A5: Száma | B5: Kiemelt előirányzat, előirányzat megnevezése | C5: Előirányzat
B6: A | C6: B
B7: Bevételek
A8: 1. | B8: Működési bevételek (1.1.+…+1.11.) | C8: =SUM(C9:C19) -> 0
A9: 1.1. | B9: Készletértékesítés ellenértéke
A10: 1.2. | B10: Szolgáltatások ellenértéke
A11: 1.3. | B11: Közvetített szolgáltatások értéke
A12: 1.4. | B12: Tulajdonosi bevételek
A13: 1.5. | B13: Ellátási díjak
A14: 1.6. | B14: Kiszámlázott általános forgalmi adó
A15: 1.7. | B15: Általános forgalmi adó visszatérülése
A16: 1.8. | B16: Kamatbevételek
A17: 1.9. | B17: Egyéb pénzügyi műveletek bevételei
A18: 1.10. | B18: Biztosító által fizetett kártérítés
A19: 1.11. | B19: Egyéb működési bevételek
A20: 2. | B20: Működési célú támogatások államháztartáson belülről (2.1.+…+2.3.) | C20: =SUM(C21:C23) -> 0
A21: 2.1. | B21: Elvonások és befizetések bevételei
A22: 2.2. | B22: Visszatérítendő támogatások, kölcsönök visszatérülése ÁH-n belülről
A23: 2.3. | B23: Egyéb működési célú támogatások bevételei államháztartáson belülről
A24: 2.4. | B24: 2.3.-ból EU támogatás
A25: 3. | B25: Közhatalmi bevételek
A26: 4. | B26: Felhalmozási célú támogatások államháztartáson belülről (4.1.+4.2.) | C26: =+C27+C28 -> 0
A27: 4.1. | B27: Visszatérítendő támogatások, kölcsönök visszatérülése ÁH-n belülről
A28: 4.2. | B28: Egyéb felhalmozási célú támogatások bevételei államháztartáson belülről
A29: 4.3. | B29: 4.2.-ből EU-s támogatás
A30: 5. | B30: Felhalmozási bevételek (5.1.+…+5.3.) | C30: =+C31+C32+C33 -> 0
A31: 5.1. | B31: Immateriális javak értékesítése
A32: 5.2. | B32: Ingatlanok értékesítése
A33: 5.3. | B33: Egyéb tárgyi eszközök értékesítése
A34: 6. | B34: Működési célú átvett pénzeszközök | C34: 66362700
A35: 7. | B35: Felhalmozási célú átvett pénzeszközök
A36: 8. | B36: KÖLTSÉGVETÉSI BEVÉTELEK ÖSSZESEN (1.+…+7.) | C36: =+C8+C20+C25+C26+C30+C34+C35 -> 66362700
A37: 9. | B37: Finanszírozási bevételek (9.1.+…+9.3.) | C37: =+C38+C39+C40 -> 0
A38: 9.1. | B38: Költségvetési maradvány igénybevétele
A39: 9.2. | B39: Vállalkozási maradvány igénybevétele
A40: 9.3. | B40: Irányító szervi (önkormányzati) támogatás (intézményfinanszírozás)
...

Sheet KV_9.4.sz.mell
C1: =CONCATENATE(ALAPADATOK!P15," melléklet ",ALAPADATOK!A7," ",ALAPADATOK!B7," ",ALAPADATOK!C7," ",ALAPADATOK!D7," ",ALAPADATOK!E7," ",ALAPADATOK!F7," ",ALAPADATOK!G7," ",ALAPADATOK!H7) -> 9.4. melléklet a … / 2021 ( ) önkormányzati rendelethez
A2: Költségvetési szerv megnevezése | B2: =CONCATENATE(ALAPADATOK!B15) -> Szászvári Hársvirág Óvoda | C2: 04
A3: Feladat megnevezése | B3: Összes bevétel, kiadás | C3: 01
C4: Forintban!
A5: Száma | B5: Kiemelt előirányzat, előirányzat megnevezése | C5: Előirányzat
B6: A | C6: B
B7: Bevételek
A8: 1. | B8: Működési bevételek (1.1.+…+1.11.) | C8: =SUM(C9:C19) -> 0
A9: 1.1. | B9: Készletértékesítés ellenértéke
A10: 1.2. | B10: Szolgáltatások ellenértéke
A11: 1.3. | B11: Közvetített szolgáltatások értéke
A12: 1.4. | B12: Tulajdonosi bevételek
A13: 1.5. | B13: Ellátási díjak
A14: 1.6. | B14: Kiszámlázott általános forgalmi adó
A15: 1.7. | B15: Általános forgalmi adó visszatérülése
A16: 1.8. | B16: Kamatbevételek
A17: 1.9. | B17: Egyéb pénzügyi műveletek bevételei
A18: 1.10. | B18: Biztosító által fizetett kártérítés
A19: 1.11. | B19: Egyéb működési bevételek
A20: 2. | B20: Működési célú támogatások államháztartáson belülről (2.1.+…+2.3.) | C20: =SUM(C21:C23) -> 0
A21: 2.1. | B21: Elvonások és befizetések bevételei
A22: 2.2. | B22: Visszatérítendő támogatások, kölcsönök visszatérülése ÁH-n belülről
A23: 2.3. | B23: Egyéb működési célú támogatások bevételei államháztartáson belülről
A24: 2.4. | B24: 2.3.-ból EU támogatás
A25: 3. | B25: Közhatalmi bevételek
A26: 4. | B26: Felhalmozási célú támogatások államháztartáson belülről (4.1.+4.2.) | C26: =+C27+C28 -> 0
A27: 4.1. | B27: Visszatérítendő támogatások, kölcsönök visszatérülése ÁH-n belülről
A28: 4.2. | B28: Egyéb felhalmozási célú támogatások bevételei államháztartáson belülről
A29: 4.3. | B29: 4.2.-ből EU-s támogatás
A30: 5. | B30: Felhalmozási bevételek (5.1.+…+5.3.) | C30: =+C31+C32+C33 -> 0
A31: 5.1. | B31: Immateriális javak értékesítése
A32: 5.2. | B32: Ingatlanok értékesítése
A33: 5.3. | B33: Egyéb tárgyi eszközök értékesítése
A34: 6. | B34: Működési célú átvett pénzeszközök
A35: 7. | B35: Felhalmozási célú átvett pénzeszközök
A36: 8. | B36: KÖLTSÉGVETÉSI BEVÉTELEK ÖSSZESEN (1.+…+7.) | C36: =+C8+C20+C25+C26+C30+C34+C35 -> 0
A37: 9. | B37: Finanszírozási bevételek (9.1.+…+9.3.) | C37: =+C38+C39+C40 -> 69717197
A38: 9.1. | B38: Költségvetési maradvány igénybevétele
A39: 9.2. | B39: Vállalkozási maradvány igénybevétele
A40: 9.3. | B40: Irányító szervi (önkormányzati) támogatás (intézményfinanszírozás) | C40: 69717197
...

Sheet KV_9.5.sz.mell
C1: =CONCATENATE(ALAPADATOK!P17," melléklet ",ALAPADATOK!A7," ",ALAPADATOK!B7," ",ALAPADATOK!C7," ",ALAPADATOK!D7," ",ALAPADATOK!E7," ",ALAPADATOK!F7," ",ALAPADATOK!G7," ",ALAPADATOK!H7) -> 9.5. melléklet a … / 2021 ( ) önkormányzati rendelethez
A2: Költségvetési szerv megnevezése | B2: =CONCATENATE(ALAPADATOK!B17) -> Bóbita Bölcsőde Szászvár | C2: 05
A3: Feladat megnevezése | B3: Összes bevétel, kiadás | C3: 01
C4: Forintban!
A5: Száma | B5: Kiemelt előirányzat, előirányzat megnevezése | C5: Előirányzat
B6: A | C6: B
B7: Bevételek
A8: 1. | B8: Működési bevételek (1.1.+…+1.11.) | C8: =SUM(C9:C19) -> 0
A9: 1.1. | B9: Készletértékesítés ellenértéke
A10: 1.2. | B10: Szolgáltatások ellenértéke
A11: 1.3. | B11: Közvetített szolgáltatások értéke
A12: 1.4. | B12: Tulajdonosi bevételek
A13: 1.5. | B13: Ellátási díjak
A14: 1.6. | B14: Kiszámlázott általános forgalmi adó
A15: 1.7. | B15: Általános forgalmi adó visszatérülése
A16: 1.8. | B16: Kamatbevételek
A17: 1.9. | B17: Egyéb pénzügyi műveletek bevételei
A18: 1.10. | B18: Biztosító által fizetett kártérítés
A19: 1.11. | B19: Egyéb működési bevételek
A20: 2. | B20: Működési célú támogatások államháztartáson belülről (2.1.+…+2.3.) | C20: =SUM(C21:C23) -> 0
A21: 2.1. | B21: Elvonások és befizetések bevételei
A22: 2.2. | B22: Visszatérítendő támogatások, kölcsönök visszatérülése ÁH-n belülről
A23: 2.3. | B23: Egyéb működési célú támogatások bevételei államháztartáson belülről
A24: 2.4. | B24: 2.3.-ból EU támogatás
A25: 3. | B25: Közhatalmi bevételek
A26: 4. | B26: Felhalmozási célú támogatások államháztartáson belülről (4.1.+4.2.) | C26: =+C27+C28 -> 0
A27: 4.1. | B27: Visszatérítendő támogatások, kölcsönök visszatérülése ÁH-n belülről
A28: 4.2. | B28: Egyéb felhalmozási célú támogatások bevételei államháztartáson belülről
A29: 4.3. | B29: 4.2.-ből EU-s támogatás
A30: 5. | B30: Felhalmozási bevételek (5.1.+…+5.3.) | C30: =+C31+C32+C33 -> 0
A31: 5.1. | B31: Immateriális javak értékesítése
A32: 5.2. | B32: Ingatlanok értékesítése
A33: 5.3. | B33: Egyéb tárgyi eszközök értékesítése
A34: 6. | B34: Működési célú átvett pénzeszközök
A35: 7. | B35: Felhalmozási célú átvett pénzeszközök
A36: 8. | B36: KÖLTSÉGVETÉSI BEVÉTELEK ÖSSZESEN (1.+…+7.) | C36: =+C8+C20+C25+C26+C30+C34+C35 -> 0
A37: 9. | B37: Finanszírozási bevételek (9.1.+…+9.3.) | C37: =+C38+C39+C40 -> 44590156
A38: 9.1. | B38: Költségvetési maradvány igénybevétele
A39: 9.2. | B39: Vállalkozási maradvány igénybevétele
A40: 9.3. | B40: Irányító szervi (önkormányzati) támogatás (intézményfinanszírozás) | C40: 44590156
...

Sheet KV_10.sz.mell
B2: =CONCATENATE("10. melléklet ",ALAPADATOK!A7," ",ALAPADATOK!B7," ",ALAPADATOK!C7," ",ALAPADATOK!D7," ",ALAPADATOK!E7," ",ALAPADATOK!F7," ",ALAPADATOK!G7," ",ALAPADATOK!H7) -> 10. melléklet a … / 2021 ( ) önkormányzati rendelethez
A4: Adatszolgáltatás az elismert tartozásállományról
A6: Költségvetési szerv neve: | C6: Szászvár Nagyközség Önkorányzata
A8: Költségvetési szerv számlaszáma: | C8: 71800068-11096252
A10: Éves eredeti kiadási előirányzat: | C10: =KV_1.1.sz.mell.!C159 -> 603699116 | E10: Ft
A11: 30 napon túli elismert tartozásállomány összesen: | E11: =D18+E18 -> 7033572 | F11: Ft | G11: Forintban
A12: Sor-szám | B12: Tartozásállomány megnevezése | C12: 30 nap alatti állomány | D12: 30-60 nap közötti állomány | E12: 60 napon túli állomány | F12: Át-ütemezett | G12: Összesen:
A13: 1. | B13: Állammal szembeni tartozások | G13: =SUM(C13:F13) -> 0
A14: 2. | B14: Központi költségvetéssel szemben fennálló tartozás | G14: =SUM(C14:F14) -> 0
A15: 3. | B15: Elkülönített állami pénzalapokkal szembeni tartozás | G15: =SUM(C15:F15) -> 0
A16: 4. | B16: TB alapokkal szembeni tartozás | G16: =SUM(C16:F16) -> 0
A17: 5. | B17: Tartozásállomány önkormányzatok és intézmények felé | G17: =SUM(C17:F17) -> 0
A18: 6. | B18: Egyéb tartozásállomány | C18: 77710 | D18: 1710382 | E18: 5323190 | G18: =SUM(C18:F18) -> 7111282
A19: 7. | B19: Összesen: | C19: =SUM(C13:C18) -> 77710 | D19: =SUM(D13:D18) -> 1710382 | E19: =SUM(E13:E18) -> 5323190 | F19: =SUM(F13:F18) -> 0 | G19: =SUM(C19:F19) -> 7111282
A23: =+CONCATENATE("Szászvár, ",LEFT(KV_ÖSSZEFÜGGÉSEK!A5,4),". február hó 23 nap") -> Szászvár, 2021. február hó 23 nap
D27: költségvetési szerv vezetője

Sheet KV_1.sz.tájékoztató_t.
E1: =CONCATENATE("1. tájékoztató tábla ",ALAPADATOK!A7," ",ALAPADATOK!B7," ",ALAPADATOK!C7," ",ALAPADATOK!D7," ",ALAPADATOK!E7," ",ALAPADATOK!F7," ",ALAPADATOK!G7," ",ALAPADATOK!H7) -> 1. tájékoztató tábla a … / 2021 ( ) önkormányzati rendelethez
A2: =CONCATENATE(ALAPADATOK!A3) -> Szászvár Nagyközség Önkormányzata
A3: =CONCATENATE("Tájékoztató a ",ALAPADATOK!D7-2,". évi tény, ",ALAPADATOK!D7-1,". évi várható és ",ALAPADATOK!D7,". évi terv adatokról") -> Tájékoztató a 2019. évi tény, 2020. évi várható és 2021. évi terv adatokról
A4: B E V É T E L E K
A5: 1. sz. táblázat | E5: =KV_10.sz.mell!G11 -> Forintban
A6: Sor- szám | B6: Bevételi jogcím | C6: =+CONCATENATE(LEFT(KV_ÖSSZEFÜGGÉSEK!A5,4)-2,". évi tény") -> 2019. évi tény | D6: =+CONCATENATE(LEFT(KV_ÖSSZEFÜGGÉSEK!A5,4)-1,". évi várható") -> 2020. évi várható | E6: =+KV_1.1.sz.mell.!C8 -> 2021. évi előirányzat
A7: A | B7: B | C7: C | D7: D | E7: E
A8: 1. | B8: Önkormányzat működési támogatásai (1.1.+…+.1.6.) | C8: =+C9+C10+C11+C12+C13+C14 -> 211097890 | D8: =+D9+D10+D11+D12+D13+D14 -> 252957957 | E8: =KV_1.1.sz.mell.!C10 -> 233233406
A9: 1.1. | B9: Helyi önkormányzatok működésének általános támogatása | C9: 77784727 | D9: 85999269 | E9: =KV_1.1.sz.mell.!C11 -> 84661051
A10: 1.2. | B10: Önkormányzatok egyes köznevelési feladatainak támogatása | C10: 64129200 | D10: 68521725 | E10: =KV_1.1.sz.mell.!C12 -> 66362700
A11: 1.3. | B11: Önkormányzatok szociális és gyermekjóléti feladatainak támogatása | C11: 51890795 | D11: 83041678 | E11: =KV_1.1.sz.mell.!C13 -> 77157895
A12: 1.4. | B12: Önkormányzatok kulturális feladatainak támogatása | C12: 2940710 | D12: 3931859 | E12: =KV_1.1.sz.mell.!C14 -> 5051760
A13: 1.5. | B13: Működési célú kvi támogatások és kiegészítő támogatások | C13: 10922400 | D13: 10799800 | E13: =KV_1.1.sz.mell.!C15 -> 0
A14: 1.6. | B14: Elszámolásból származó bevételek | C14: 3430058 | D14: 663626 | E14: =KV_1.1.sz.mell.!C16 -> 0
A15: 2. | B15: Működési célú támogatások államháztartáson belülről (2.1.+…+.2.5.) | C15: =+C16+C17+C18+C19+C20 -> 143821743 | D15: =+D16+D17+D18+D19+D20 -> 51017575 | E15: =KV_1.1.sz.mell.!C17 -> 150449472
A16: 2.1. | B16: Elvonások és befizetések bevételei | E16: =KV_1.1.sz.mell.!C18 -> 0
A17: 2.2. | B17: Működési célú garancia- és kezességvállalásból megtérülések | E17: =KV_1.1.sz.mell.!C19 -> 0
A18: 2.3. | B18: Működési célú visszatérítendő támogatások, kölcsönök visszatérülése | E18: =KV_1.1.sz.mell.!C20 -> 0
A19: 2.4. | B19: Működési célú visszatérítendő támogatások, kölcsönök igénybevétele | E19: =KV_1.1.sz.mell.!C21 -> 0
A20: 2.5. | B20: Egyéb működési célú támogatások bevételei | C20: 143821743 | D20: 51017575 | E20: =KV_1.1.sz.mell.!C22 -> 150449472
A21: 2.6. | B21: 2.5.-ből EU-s támogatás | E21: =KV_1.1.sz.mell.!C23 -> 0
A22: 3. | B22: Felhalmozási célú támogatások államháztartáson belülről (3.1.+…+3.5.) | C22: =+C23+C24+C25+C26+C27 -> 39311805 | D22: =+D23+D24+D25+D26+D27 -> 55009269 | E22: =KV_1.1.sz.mell.!C24 -> 0
A23: 3.1. | B23: Felhalmozási célú önkormányzati támogatások | C23: 8003943 | E23: =KV_1.1.sz.mell.!C25 -> 0
A24: 3.2. | B24: Felhalmozási célú garancia- és kezességvállalásból megtérülések | E24: =KV_1.1.sz.mell.!C26 -> 0
A25: 3.3. | B25: Felhalmozási célú visszatérítendő támogatások, kölcsönök visszatérülése | E25: =KV_1.1.sz.mell.!C27 -> 0
A26: 3.4. | B26: Felhalmozási célú visszatérítendő támogatások, kölcsönök igénybevétele | E26: =KV_1.1.sz.mell.!C28 -> 0
A27: 3.5. | B27: Egyéb felhalmozási célú támogatások bevételei | C27: 31307862 | D27: 55009269 | E27: =KV_1.1.sz.mell.!C29 -> 0
A28: 3.6. | B28: 3.5.-ből EU-s támogatás | E28: =KV_1.1.sz.mell.!C30 -> 0
