Workbook

Sheet TARTALOMJEGYZÉK
A1: 2021
A2: Tartalomjegyzék
A4: Dokumentum neve | B4: A dokumentációs rendszerben található táblázatok listája | C4: Ugrás
A6: KÖLTSÉGVETÉSI RENDLET
A7: Alapadatok | B7: Adatok megadása | C7: =HYPERLINK(SUBSTITUTE(CELL("address",ALAPADATOK!A1),"'",""),SUBSTITUTE(MID(CELL("address",ALAPADATOK!A1),SEARCH("]",CELL("address",ALAPADATOK!A1),1)+1,LEN(CELL("address",ALAPADATOK!A1))-SEARCH("]",CELL("address",ALAPADATOK!A1),1)),"'","")) -> ALAPADATOK!$A$1
A8: Összefüggések | B8: Táblázatok adatainak összefüggései | C8: =HYPERLINK(SUBSTITUTE(CELL("address",KV_ÖSSZEFÜGGÉSEK!A1),"'",""),SUBSTITUTE(MID(CELL("address",KV_ÖSSZEFÜGGÉSEK!A1),SEARCH("]",CELL("address",KV_ÖSSZEFÜGGÉSEK!A1),1)+1,LEN(CELL("address",KV_ÖSSZEFÜGGÉSEK!A1))-SEARCH("]",CELL("address",KV_ÖSSZEFÜGGÉSEK!A1),1)),"'","")) -> KV_ÖSSZEFÜGGÉSEK!$A$1
A9: 1.1. melléklet | B9: Önkormányzat összevont pénzügyi mérlege összesen | C9: =HYPERLINK(SUBSTITUTE(CELL("address",KV_1.1.sz.mell.!A1),"'",""),SUBSTITUTE(MID(CELL("address",KV_1.1.sz.mell.!A1),SEARCH("]",CELL("address",KV_1.1.sz.mell.!A1),1)+1,LEN(CELL("address",KV_1.1.sz.mell.!A1))-SEARCH("]",CELL("address",KV_1.1.sz.mell.!A1),1)),"'","")) -> KV_1.1.sz.mell.!$A$1
A10: 1.2. melléklet | B10: Önkormányzat kötelező feladatainak összevont pénzügyi mérlege | C10: =HYPERLINK(SUBSTITUTE(CELL("address",KV_1.2.sz.mell.!A1),"'",""),SUBSTITUTE(MID(CELL("address",KV_1.2.sz.mell.!A1),SEARCH("]",CELL("address",KV_1.2.sz.mell.!A1),1)+1,LEN(CELL("address",KV_1.2.sz.mell.!A1))-SEARCH("]",CELL("address",KV_1.2.sz.mell.!A1),1)),"'","")) -> KV_1.2.sz.mell.!$A$1
A11: 1.3. melléklet | B11: Önkormányzat önként vállalt feladatainak összevont pénzügyi mérlege | C11: =HYPERLINK(SUBSTITUTE(CELL("address",#REF!),"'",""),SUBSTITUTE(MID(CELL("address",#REF!),SEARCH("]",CELL("address",#REF!),1)+1,LEN(CELL("address",#REF!))-SEARCH("]",CELL("address",#REF!),1)),"'","")) -> #REF!
A12: 1.4. melléklet | B12: Önkormányzat államigazgatási feladatainak összevont pénzügyi mérlege | C12: =HYPERLINK(SUBSTITUTE(CELL("address",#REF!),"'",""),SUBSTITUTE(MID(CELL("address",#REF!),SEARCH("]",CELL("address",#REF!),1)+1,LEN(CELL("address",#REF!))-SEARCH("]",CELL("address",#REF!),1)),"'","")) -> #REF!
A13: 2.1. melléklet | B13: Működési célú bevételek, kiadások mérlege | C13: =HYPERLINK(SUBSTITUTE(CELL("address",KV_2.1.sz.mell.!A1),"'",""),SUBSTITUTE(MID(CELL("address",KV_2.1.sz.mell.!A1),SEARCH("]",CELL("address",KV_2.1.sz.mell.!A1),1)+1,LEN(CELL("address",KV_2.1.sz.mell.!A1))-SEARCH("]",CELL("address",KV_2.1.sz.mell.!A1),1)),"'","")) -> KV_2.1.sz.mell.!$A$1
A14: 2.2. melléklet | B14: Felhalmozási célú bevételek, kiadások mérlege | C14: =HYPERLINK(SUBSTITUTE(CELL("address",KV_2.2.sz.mell.!A1),"'",""),SUBSTITUTE(MID(CELL("address",KV_2.2.sz.mell.!A1),SEARCH("]",CELL("address",KV_2.2.sz.mell.!A1),1)+1,LEN(CELL("address",KV_2.2.sz.mell.!A1))-SEARCH("]",CELL("address",KV_2.2.sz.mell.!A1),1)),"'","")) -> KV_2.2.sz.mell.!$A$1
A15: Ellenőrző lista | B15: Ellenőrzés az 1-es és 2.1., 2.2. mellékletek adati esetében | C15: =HYPERLINK(SUBSTITUTE(CELL("address",KV_ELLENŐRZÉS!A1),"'",""),SUBSTITUTE(MID(CELL("address",KV_ELLENŐRZÉS!A1),SEARCH("]",CELL("address",KV_ELLENŐRZÉS!A1),1)+1,LEN(CELL("address",KV_ELLENŐRZÉS!A1))-SEARCH("]",CELL("address",KV_ELLENŐRZÉS!A1),1)),"'","")) -> KV_ELLENŐRZÉS!$A$1
A16: 3. melléklet | B16: Adósságot keletkeztető ügyletek táblázata | C16: =HYPERLINK(SUBSTITUTE(CELL("address",KV_3.sz.mell.!A1),"'",""),SUBSTITUTE(MID(CELL("address",KV_3.sz.mell.!A1),SEARCH("]",CELL("address",KV_3.sz.mell.!A1),1)+1,LEN(CELL("address",KV_3.sz.mell.!A1))-SEARCH("]",CELL("address",KV_3.sz.mell.!A1),1)),"'","")) -> KV_3.sz.mell.!$A$1
A17: 4. melléklet | B17: Önkormányzat saját bevételeinek bemutatása | C17: =HYPERLINK(SUBSTITUTE(CELL("address",KV_4.sz.mell.!A1),"'",""),SUBSTITUTE(MID(CELL("address",KV_4.sz.mell.!A1),SEARCH("]",CELL("address",KV_4.sz.mell.!A1),1)+1,LEN(CELL("address",KV_4.sz.mell.!A1))-SEARCH("]",CELL("address",KV_4.sz.mell.!A1),1)),"'","")) -> KV_4.sz.mell.!$A$1
A18: 5. melléklet | B18: Az önkormányzat adósságot keletkeztető fejlesztései céljai | C18: =HYPERLINK(SUBSTITUTE(CELL("address",KV_5.sz.mell.!A1),"'",""),SUBSTITUTE(MID(CELL("address",KV_5.sz.mell.!A1),SEARCH("]",CELL("address",KV_5.sz.mell.!A1),1)+1,LEN(CELL("address",KV_5.sz.mell.!A1))-SEARCH("]",CELL("address",KV_5.sz.mell.!A1),1)),"'","")) -> KV_5.sz.mell.!$A$1
A19: 6. melléklet | B19: Beruházások előirányzatai | C19: =HYPERLINK(SUBSTITUTE(CELL("address",KV_6.sz.mell.!A1),"'",""),SUBSTITUTE(MID(CELL("address",KV_6.sz.mell.!A1),SEARCH("]",CELL("address",KV_6.sz.mell.!A1),1)+1,LEN(CELL("address",KV_6.sz.mell.!A1))-SEARCH("]",CELL("address",KV_6.sz.mell.!A1),1)),"'","")) -> KV_6.sz.mell.!$A$1
A20: 7. melléklet | B20: Felújítások előirányzatai | C20: =HYPERLINK(SUBSTITUTE(CELL("address",KV_7.sz.mell.!A1),"'",""),SUBSTITUTE(MID(CELL("address",KV_7.sz.mell.!A1),SEARCH("]",CELL("address",KV_7.sz.mell.!A1),1)+1,LEN(CELL("address",KV_7.sz.mell.!A1))-SEARCH("]",CELL("address",KV_7.sz.mell.!A1),1)),"'","")) -> KV_7.sz.mell.!$A$1
A21: 8. melléklet | B21: EU-s projektek táblázatai | C21: =HYPERLINK(SUBSTITUTE(CELL("address",KV_8.sz.mell.!A1),"'",""),SUBSTITUTE(MID(CELL("address",KV_8.sz.mell.!A1),SEARCH("]",CELL("address",KV_8.sz.mell.!A1),1)+1,LEN(CELL("address",KV_8.sz.mell.!A1))-SEARCH("]",CELL("address",KV_8.sz.mell.!A1),1)),"'","")) -> KV_8.sz.mell.!$A$1
A22: 9.1. melléklet | B22: Önkormányzat bevételei kiadásai (összesen) | C22: =HYPERLINK(SUBSTITUTE(CELL("address",KV_9.1.sz.mell!A1),"'",""),SUBSTITUTE(MID(CELL("address",KV_9.1.sz.mell!A1),SEARCH("]",CELL("address",KV_9.1.sz.mell!A1),1)+1,LEN(CELL("address",KV_9.1.sz.mell!A1))-SEARCH("]",CELL("address",KV_9.1.sz.mell!A1),1)),"'","")) -> KV_9.1.sz.mell!$A$1
A23: 9.1.1. melléklet | B23: Önkormányzat kötelező feladatai | C23: =HYPERLINK(SUBSTITUTE(CELL("address",#REF!),"'",""),SUBSTITUTE(MID(CELL("address",#REF!),SEARCH("]",CELL("address",#REF!),1)+1,LEN(CELL("address",#REF!))-SEARCH("]",CELL("address",#REF!),1)),"'","")) -> #REF!
A24: 9.1.2. melléklet | B24: Önkormányzat önként vállalt feladatai | C24: =HYPERLINK(SUBSTITUTE(CELL("address",#REF!),"'",""),SUBSTITUTE(MID(CELL("address",#REF!),SEARCH("]",CELL("address",#REF!),1)+1,LEN(CELL("address",#REF!))-SEARCH("]",CELL("address",#REF!),1)),"'","")) -> #REF!
A25: 9.1.3. melléklet | B25: Önkormányzat államigazgatási feladatai | C25: =HYPERLINK(SUBSTITUTE(CELL("address",#REF!),"'",""),SUBSTITUTE(MID(CELL("address",#REF!),SEARCH("]",CELL("address",#REF!),1)+1,LEN(CELL("address",#REF!))-SEARCH("]",CELL("address",#REF!),1)),"'","")) -> #REF!
A26: 9.2. melléklet | B26: Polgármesteri/Közös hivatal költségvetési táblái (9.2.1., 9.2.2., 9.2.3.) | C26: =HYPERLINK(SUBSTITUTE(CELL("address",KV_9.2.sz.mell!A1),"'",""),SUBSTITUTE(MID(CELL("address",KV_9.2.sz.mell!A1),SEARCH("]",CELL("address",KV_9.2.sz.mell!A1),1)+1,LEN(CELL("address",KV_9.2.sz.mell!A1))-SEARCH("]",CELL("address",KV_9.2.sz.mell!A1),1)),"'","")) -> KV_9.2.sz.mell!$A$1
A27: 9.3. melléklet | B27: =CONCATENATE(ALAPADATOK!B13) -> Szászvári Óvoda Intézményfenntartó Társulás | C27: =HYPERLINK(SUBSTITUTE(CELL("address",KV_9.3.sz.mell!A1),"'",""),SUBSTITUTE(MID(CELL("address",KV_9.3.sz.mell!A1),SEARCH("]",CELL("address",KV_9.3.sz.mell!A1),1)+1,LEN(CELL("address",KV_9.3.sz.mell!A1))-SEARCH("]",CELL("address",KV_9.3.sz.mell!A1),1)),"'","")) -> KV_9.3.sz.mell!$A$1
A28: 9.4. melléklet | B28: =CONCATENATE(ALAPADATOK!B15) -> Szászvári Hársvirág Óvoda | C28: =HYPERLINK(SUBSTITUTE(CELL("address",KV_9.4.sz.mell!A1),"'",""),SUBSTITUTE(MID(CELL("address",KV_9.4.sz.mell!A1),SEARCH("]",CELL("address",KV_9.4.sz.mell!A1),1)+1,LEN(CELL("address",KV_9.4.sz.mell!A1))-SEARCH("]",CELL("address",KV_9.4.sz.mell!A1),1)),"'","")) -> KV_9.4.sz.mell!$A$1
A29: 9.5. melléklet | B29: =CONCATENATE(ALAPADATOK!B17) -> Bóbita Bölcsőde Szászvár | C29: =HYPERLINK(SUBSTITUTE(CELL("address",KV_9.5.sz.mell!A1),"'",""),SUBSTITUTE(MID(CELL("address",KV_9.5.sz.mell!A1),SEARCH("]",CELL("address",KV_9.5.sz.mell!A1),1)+1,LEN(CELL("address",KV_9.5.sz.mell!A1))-SEARCH("]",CELL("address",KV_9.5.sz.mell!A1),1)),"'","")) -> KV_9.5.sz.mell!$A$1
A30: 9.6. melléklet | B30: =CONCATENATE(ALAPADATOK!B19) -> 4 kvi név | C30: =HYPERLINK(SUBSTITUTE(CELL("address",#REF!),"'",""),SUBSTITUTE(MID(CELL("address",#REF!),SEARCH("]",CELL("address",#REF!),1)+1,LEN(CELL("address",#REF!))-SEARCH("]",CELL("address",#REF!),1)),"'","")) -> #REF!
A31: 9.7. melléklet | B31: =CONCATENATE(ALAPADATOK!B21) -> 5 kvi név | C31: =HYPERLINK(SUBSTITUTE(CELL("address",#REF!),"'",""),SUBSTITUTE(MID(CELL("address",#REF!),SEARCH("]",CELL("address",#REF!),1)+1,LEN(CELL("address",#REF!))-SEARCH("]",CELL("address",#REF!),1)),"'","")) -> #REF!
A32: 9.8. melléklet | B32: =CONCATENATE(ALAPADATOK!B23) -> 6 kvi név | C32: =HYPERLINK(SUBSTITUTE(CELL("address",#REF!),"'",""),SUBSTITUTE(MID(CELL("address",#REF!),SEARCH("]",CELL("address",#REF!),1)+1,LEN(CELL("address",#REF!))-SEARCH("]",CELL("address",#REF!),1)),"'","")) -> #REF!
A33: 9.9. melléklet | B33: =CONCATENATE(ALAPADATOK!B25) -> 7 kvi név | C33: =HYPERLINK(SUBSTITUTE(CELL("address",#REF!),"'",""),SUBSTITUTE(MID(CELL("address",#REF!),SEARCH("]",CELL("address",#REF!),1)+1,LEN(CELL("address",#REF!))-SEARCH("]",CELL("address",#REF!),1)),"'","")) -> #REF!
A34: 9.10. melléklet | B34: =CONCATENATE(ALAPADATOK!B27) -> 8 kvi név | C34: =HYPERLINK(SUBSTITUTE(CELL("address",#REF!),"'",""),SUBSTITUTE(MID(CELL("address",#REF!),SEARCH("]",CELL("address",#REF!),1)+1,LEN(CELL("address",#REF!))-SEARCH("]",CELL("address",#REF!),1)),"'","")) -> #REF!
A35: 9.11. melléklet | B35: =CONCATENATE(ALAPADATOK!B29) -> 9 kvi név | C35: =HYPERLINK(SUBSTITUTE(CELL("address",#REF!),"'",""),SUBSTITUTE(MID(CELL("address",#REF!),SEARCH("]",CELL("address",#REF!),1)+1,LEN(CELL("address",#REF!))-SEARCH("]",CELL("address",#REF!),1)),"'","")) -> #REF!
A36: 9.12. melléklet | B36: =CONCATENATE(ALAPADATOK!B31) -> 10 kvi név | C36: =HYPERLINK(SUBSTITUTE(CELL("address",#REF!),"'",""),SUBSTITUTE(MID(CELL("address",#REF!),SEARCH("]",CELL("address",#REF!),1)+1,LEN(CELL("address",#REF!))-SEARCH("]",CELL("address",#REF!),1)),"'","")) -> #REF!
A37: 10. melléklet | B37: Adatszolgáltatás az elismert tartozásállományról | C37: =HYPERLINK(SUBSTITUTE(CELL("address",KV_10.sz.mell!A1),"'",""),SUBSTITUTE(MID(CELL("address",KV_10.sz.mell!A1),SEARCH("]",CELL("address",KV_10.sz.mell!A1),1)+1,LEN(CELL("address",KV_10.sz.mell!A1))-SEARCH("]",CELL("address",KV_10.sz.mell!A1),1)),"'","")) -> KV_10.sz.mell!$A$1
A38: 1. számú tájékoztató tábla | B38: =KV_1.sz.tájékoztató_t.!A3 -> Tájékoztató a 2019. évi tény, 2020. évi várható és 2021. évi terv adatokról | C38: =HYPERLINK(SUBSTITUTE(CELL("address",KV_1.sz.tájékoztató_t.!A1),"'",""),SUBSTITUTE(MID(CELL("address",KV_1.sz.tájékoztató_t.!A1),SEARCH("]",CELL("address",KV_1.sz.tájékoztató_t.!A1),1)+1,LEN(CELL("address",KV_1.sz.tájékoztató_t.!A1))-SEARCH("]",CELL("address",KV_1.sz.tájékoztató_t.!A1),1)),"'","")) -> KV_1.sz.tájékoztató_t.!$A$1
A39: 2. számú tájékoztató tábla | B39: Többéves kihatással járó döntések számszerűsítése évenkénti bontásban és összesítve célok szerint | C39: =HYPERLINK(SUBSTITUTE(CELL("address",KV_2.sz.tájékoztató_t.!A1),"'",""),SUBSTITUTE(MID(CELL("address",KV_2.sz.tájékoztató_t.!A1),SEARCH("]",CELL("address",KV_2.sz.tájékoztató_t.!A1),1)+1,LEN(CELL("address",KV_2.sz.tájékoztató_t.!A1))-SEARCH("]",CELL("address",KV_2.sz.tájékoztató_t.!A1),1)),"'","")) -> KV_2.sz.tájékoztató_t.!$A$1
A40: 3. számú tájékoztató tábla | B40: Az önkormányzat által adott közvetett támogatások (kedvezmények) | C40: =HYPERLINK(SUBSTITUTE(CELL("address",KV_3.sz.tájékoztató_t.!A1),"'",""),SUBSTITUTE(MID(CELL("address",KV_3.sz.tájékoztató_t.!A1),SEARCH("]",CELL("address",KV_3.sz.tájékoztató_t.!A1),1)+1,LEN(CELL("address",KV_3.sz.tájékoztató_t.!A1))-SEARCH("]",CELL("address",KV_3.sz.tájékoztató_t.!A1),1)),"'","")) -> KV_3.sz.tájékoztató_t.!$A$1
A41: 4. számú tájékoztató tábla | B41: =KV_4.sz.tájékoztató_t.!A2 -> Előirányzat-felhasználási terv 2021. évre | C41: =HYPERLINK(SUBSTITUTE(CELL("address",KV_4.sz.tájékoztató_t.!A1),"'",""),SUBSTITUTE(MID(CELL("address",KV_4.sz.tájékoztató_t.!A1),SEARCH("]",CELL("address",KV_4.sz.tájékoztató_t.!A1),1)+1,LEN(CELL("address",KV_4.sz.tájékoztató_t.!A1))-SEARCH("]",CELL("address",KV_4.sz.tájékoztató_t.!A1),1)),"'","")) -> KV_4.sz.tájékoztató_t.!$A$1
A42: 5. számú tájékoztató tábla | B42: =KV_5.sz.tájékoztató_t!B1 -> A 2021. évi általános működés és ágazati feladatok támogatásának alakulása jogcímenként | C42: =HYPERLINK(SUBSTITUTE(CELL("address",KV_5.sz.tájékoztató_t!A1),"'",""),SUBSTITUTE(MID(CELL("address",KV_5.sz.tájékoztató_t!A1),SEARCH("]",CELL("address",KV_5.sz.tájékoztató_t!A1),1)+1,LEN(CELL("address",KV_5.sz.tájékoztató_t!A1))-SEARCH("]",CELL("address",KV_5.sz.tájékoztató_t!A1),1)),"'","")) -> KV_5.sz.tájékoztató_t!$A$1
A43: 6. számú tájékoztató tábla | B43: =KV_6.sz.tájékoztató_t.!A2 -> K I M U T A T Á S a 2021. évben céljelleggel juttatott támogatásokról | C43: =HYPERLINK(SUBSTITUTE(CELL("address",KV_6.sz.tájékoztató_t.!A1),"'",""),SUBSTITUTE(MID(CELL("address",KV_6.sz.tájékoztató_t.!A1),SEARCH("]",CELL("address",KV_6.sz.tájékoztató_t.!A1),1)+1,LEN(CELL("address",KV_6.sz.tájékoztató_t.!A1))-SEARCH("]",CELL("address",KV_6.sz.tájékoztató_t.!A1),1)),"'","")) -> KV_6.sz.tájékoztató_t.!$A$1
A44: 7. számú tájékoztató tábla | B44: =LOWER(KV_7.sz.tájékoztató_t.!A3) -> 2021. évi költségvetési évet követő 3 év tervezett | C44: =HYPERLINK(SUBSTITUTE(CELL("address",KV_7.sz.tájékoztató_t.!A1),"'",""),SUBSTITUTE(MID(CELL("address",KV_7.sz.tájékoztató_t.!A1),SEARCH("]",CELL("address",KV_7.sz.tájékoztató_t.!A1),1)+1,LEN(CELL("address",KV_7.sz.tájékoztató_t.!A1))-SEARCH("]",CELL("address",KV_7.sz.tájékoztató_t.!A1),1)),"'","")) -> KV_7.sz.tájékoztató_t.!$A$1

Sheet ALAPADATOK
A1: ALAPADATOK
A3: Szászvár Nagyközség Önkormányzata
A6: Előterjesztéskor
A7: a | B7: … | C7: / | D7: 2021 | E7: ( | G7: ) | H7: önkormányzati rendelethez
K10: Mellékletben külön?
A11: Szászvári Közös Önkormányzati Hivatal | K11: Igen | M11: 9. | N11: =IF($K$11="Nem","",2) -> 2 | O11: . | P11: =CONCATENATE(M11,N11,O11) -> 9.2.
A13: 1. költségvetési szerv neve | B13: Szászvári Óvoda Intézményfenntartó Társulás | M13: 9. | N13: =IF(K11="Nem",2,3) -> 3 | O13: . | P13: =CONCATENATE(M13,N13,O13) -> 9.3.
A15: 2. költségvetési szerv neve | B15: Szászvári Hársvirág Óvoda | M15: 9. | N15: =N13+1 -> 4 | O15: . | P15: =CONCATENATE(M15,N15,O15) -> 9.4.
A17: 3. költségvetési szerv neve | B17: Bóbita Bölcsőde Szászvár | M17: 9. | N17: =N15+1 -> 5 | O17: . | P17: =CONCATENATE(M17,N17,O17) -> 9.5.
A19: 4. költségvetési szerv neve | B19: 4 kvi név | M19: 9. | N19: =N17+1 -> 6 | O19: . | P19: =CONCATENATE(M19,N19,O19) -> 9.6.
A21: 5. költségvetési szerv neve | B21: 5 kvi név | M21: 9. | N21: =N19+1 -> 7 | O21: . | P21: =CONCATENATE(M21,N21,O21) -> 9.7.
A23: 6. költségvetési szerv neve | B23: 6 kvi név | M23: 9. | N23: =N21+1 -> 8 | O23: . | P23: =CONCATENATE(M23,N23,O23) -> 9.8.
A25: 7. költségvetési szerv neve | B25: 7 kvi név | M25: 9. | N25: =N23+1 -> 9 | O25: . | P25: =CONCATENATE(M25,N25,O25) -> 9.9.
A27: 8. költségvetési szerv neve | B27: 8 kvi név | M27: 9. | N27: =N25+1 -> 10 | O27: . | P27: =CONCATENATE(M27,N27,O27) -> 9.10.
A29: 8. költségvetési szerv neve | B29: 9 kvi név | M29: 9. | N29: =N27+1 -> 11 | O29: . | P29: =CONCATENATE(M29,N29,O29) -> 9.11.
A31: 10. költségvetési szerv neve | B31: 10 kvi név | M31: 9. | N31: =N29+1 -> 12 | O31: . | P31: =CONCATENATE(M31,N31,O31) -> 9.12.

Sheet KV_ÖSSZEFÜGGÉSEK
A2: Költségvetési rendelet űrlapjainak összefüggései:
A5: =CONCATENATE(ALAPADATOK!D7,". évi előirányzat BEVÉTELEK") -> 2021. évi előirányzat BEVÉTELEK
A7: 1.1. sz. melléklet Bevételek táblázat C. oszlop 9 sora = | B7: 2.1. számú melléklet C. oszlop 13. sor + 2.2. számú melléklet C. oszlop 12. sor
A8: 1.1. sz. melléklet Bevételek táblázat C. oszlop 17 sora = | B8: 2.1. számú melléklet C. oszlop 24. sor + 2.2. számú melléklet C. oszlop 25. sor
A9: 1.1. sz. melléklet Bevételek táblázat C. oszlop 18 sora = | B9: 2.1. számú melléklet C. oszlop 25. sor + 2.2. számú melléklet C. oszlop 26. sor
A12: =+CONCATENATE(LEFT(A5,4),". évi előirányzat KIADÁSOK") -> 2021. évi előirányzat KIADÁSOK
A14: 1.1. sz. melléklet Kiadások táblázat C. oszlop 3 sora = | B14: 2.1. számú melléklet E. oszlop 13. sor + 2.2. számú melléklet E. oszlop 12. sor
A15: 1.1. sz. melléklet Kiadások táblázat C. oszlop 10 sora = | B15: 2.1. számú melléklet E. oszlop 24. sor + 2.2. számú melléklet E. oszlop 25. sor
A16: 1.1. sz. melléklet Kiadások táblázat C. oszlop 11 sora = | B16: 2.1. számú melléklet E. oszlop 25. sor + 2.2. számú melléklet E. oszlop 26. sor

Sheet KV_1.1.sz.mell.
B1: =CONCATENATE("1.1. melléklet ",ALAPADATOK!A7," ",ALAPADATOK!B7," ",ALAPADATOK!C7," ",ALAPADATOK!D7," ",ALAPADATOK!E7," ",ALAPADATOK!F7," ",ALAPADATOK!G7," ",ALAPADATOK!H7) -> 1.1. melléklet a … / 2021 ( ) önkormányzati rendelethez
B2: =CONCATENATE(ALAPADATOK!A3) -> Szászvár Nagyközség Önkormányzata
B3: =CONCATENATE(ALAPADATOK!D7,". ÉVI KÖLTSÉGVETÉS") -> 2021. ÉVI KÖLTSÉGVETÉS
B4: ÖSSZEVONT MÉRLEGE
A6: B E V É T E L E K
A7: 1. sz. táblázat | C7: Forintban!
A8: Sor- szám | B8: Bevételi jogcím | C8: =+CONCATENATE(LEFT(KV_ÖSSZEFÜGGÉSEK!A5,4),". évi előirányzat") -> 2021. évi előirányzat
B9: A | C9: B
A10: 1. | B10: Önkormányzat működési támogatásai (1.1.+…+.1.6.) | C10: =+C11+C12+C13+C14+C15+C16 -> 233233406
A11: 1.1. | B11: Helyi önkormányzatok működésének általános támogatása | C11: 84661051
A12: 1.2. | B12: Önkormányzatok egyes köznevelési feladatainak támogatása | C12: 66362700
A13: 1.3. | B13: Önkormányzatok szociális és gyermekjóléti, étkeztetési feladatainak támogatása | C13: 77157895
A14: 1.4. | B14: Önkormányzatok kulturális feladatainak támogatása | C14: 5051760
A15: 1.5. | B15: Működési célú kvi támogatások és kiegészítő támogatások
A16: 1.6. | B16: Elszámolásból származó bevételek
A17: 2. | B17: Működési célú támogatások államháztartáson belülről (2.1.+…+.2.5.) | C17: =+C18+C19+C20+C21+C22 -> 150449472
A18: 2.1. | B18: Elvonások és befizetések bevételei
A19: 2.2. | B19: Működési célú garancia- és kezességvállalásból megtérülések
A20: 2.3. | B20: Működési célú visszatérítendő támogatások, kölcsönök visszatérülése
A21: 2.4. | B21: Működési célú visszatérítendő támogatások, kölcsönök igénybevétele
A22: 2.5. | B22: Egyéb működési célú támogatások bevételei államháztartáson belülről | C22: 150449472
A23: 2.6. | B23: 2.5.-ből EU-s támogatás
A24: 3. | B24: Felhalmozási célú támogatások államháztartáson belülről (3.1.+…+3.5.) | C24: =+C25+C26+C27+C28+C29 -> 0
A25: 3.1. | B25: Felhalmozási célú önkormányzati támogatások
A26: 3.2. | B26: Felhalmozási célú garancia- és kezességvállalásból megtérülések
A27: 3.3. | B27: Felhalmozási célú visszatérítendő támogatások, kölcsönök visszatérülése
A28: 3.4. | B28: Felhalmozási célú visszatérítendő támogatások, kölcsönök igénybevétele
A29: 3.5. | B29: Egyéb felhalmozási célú támogatások bevételei
A30: 3.6. | B30: 3.5.-ből EU-s támogatás
A31: 4. | B31: Közhatalmi bevételek (4.1.+…+4.7.) | C31: =SUM(C32:C38) -> 31023000
A32: 4.1. | B32: Pótlék
A33: 4.2. | B33: Idegenforgalmi adó | C33: 140000
A34: 4.3. | B34: Iparűzési adó | C34: 21000000
A35: 4.4. | B35: Talajterhelési díj
A36: 4.5. | B36: Gépjárműadó
A37: 4.6. | B37: Egyéb bevétel (mezőőri jár.) | C37: 383000
A38: 4.7. | B38: Kommunális adó | C38: 9500000
A39: 5. | B39: Működési bevételek (5.1.+…+ 5.11.) | C39: =SUM(C40:C50) -> 20760000
A40: 5.1. | B40: Készletértékesítés ellenértéke | C40: 5000000 | D40: fa
A41: 5.2. | B41: Szolgáltatások ellenértéke | C41: 2760000
A42: 5.3. | B42: Közvetített szolgáltatások értéke
A43: 5.4. | B43: Tulajdonosi bevételek
A44: 5.5. | B44: Ellátási díjak | C44: 12600000
A45: 5.6. | B45: Kiszámlázott általános forgalmi adó
A46: 5.7. | B46: Általános forgalmi adó visszatérítése
A47: 5.8. | B47: Kamatbevételek és más nyereségjellegű bevételek
A48: 5.9. | B48: Egyéb pénzügyi műveletek bevételei
A49: 5.10. | B49: Biztosító által fizetett kártérítés
A50: 5.11. | B50: Egyéb működési bevételek | C50: 400000 | D50: temető
A51: 6. | B51: Felhalmozási bevételek (6.1.+…+6.5.) | C51: =SUM(C52:C56) -> 7500000
A52: 6.1. | B52: Immateriális javak értékesítése
A53: 6.2. | B53: Ingatlanok értékesítése | C53: 7500000
A54: 6.3. | B54: Egyéb tárgyi eszközök értékesítése
A55: 6.4. | B55: Részesedések értékesítése
A56: 6.5. | B56: Részesedések megszűnéséhez kapcsolódó bevételek
A57: 7. | B57: Működési célú átvett pénzeszközök (7.1. + … + 7.3.) | C57: =SUM(C58:C60) -> 0
A58: 7.1. | B58: Működési célú garancia- és kezességvállalásból megtérülések ÁH-n kívülről
A59: 7.2. | B59: Működési célú visszatérítendő támogatások, kölcsönök visszatér. ÁH-n kívülről
A60: 7.3. | B60: Egyéb működési célú átvett pénzeszköz
A61: 7.4. | B61: 7.3.-ból EU-s támogatás (közvetlen)
A62: 8. | B62: Felhalmozási célú átvett pénzeszközök (8.1.+8.2.+8.3.) | C62: =SUM(C63:C65) -> 0
A63: 8.1. | B63: Felhalm. célú garancia- és kezességvállalásból megtérülések ÁH-n kívülről
A64: 8.2. | B64: Felhalm. célú visszatérítendő támogatások, kölcsönök visszatér. ÁH-n kívülről
A65: 8.3. | B65: Egyéb felhalmozási célú átvett pénzeszköz
A66: 8.4. | B66: 8.3.-ból EU-s támogatás (közvetlen)
A67: 9. | B67: KÖLTSÉGVETÉSI BEVÉTELEK ÖSSZESEN: (1+…+8) | C67: =+C10+C17+C24+C31+C39+C51+C57+C62 -> 442965878
A68: 10. | B68: Hitel-, kölcsönfelvétel államháztartáson kívülről (10.1.+10.3.) | C68: =SUM(C69:C71) -> 100000000
A69: 10.1. | B69: Hosszú lejáratú hitelek, kölcsönök felvétele
A70: 10.2. | B70: Likviditási célú hitelek, kölcsönök felvétele pénzügyi vállalkozástól
A71: 10.3. | B71: Rövid lejáratú hitelek, kölcsönök felvétele pénzügyi vállalkozástól | C71: 100000000
A72: 11. | B72: Belföldi értékpapírok bevételei (11.1. +…+ 11.4.) | C72: =SUM(C73:C76) -> 0
A73: 11.1. | B73: Forgatási célú belföldi értékpapírok beváltása, értékesítése
A74: 11.2. | B74: Éven belüli lejáratú belföldi értékpapírok kibocsátása
A75: 11.3. | B75: Befektetési célú belföldi értékpapírok beváltása, értékesítése
A76: 11.4. | B76: Éven túli lejáratú belföldi értékpapírok kibocsátása
A77: 12. | B77: Maradvány igénybevétele (12.1. + 12.2.) | C77: =SUM(C78:C79) -> 60733238
A78: 12.1. | B78: Előző év költségvetési maradványának igénybevétele | C78: 60733238
A79: 12.2. | B79: Előző év vállalkozási maradványának igénybevétele
A80: 13. | B80: Belföldi finanszírozás bevételei (13.1. + … + 13.3.) | C80: =SUM(C81:C83) -> 0
A81: 13.1. | B81: Államháztartáson belüli megelőlegezések
A82: 13.2. | B82: Államháztartáson belüli megelőlegezések törlesztése
A83: 13.3. | B83: Lekötött betétek megszüntetése
A84: 14. | B84: Külföldi finanszírozás bevételei (14.1.+…14.4.) | C84: =SUM(C85:C88) -> 0
A85: 14.1. | B85: Forgatási célú külföldi értékpapírok beváltása, értékesítése
A86: 14.2. | B86: Befektetési célú külföldi értékpapírok beváltása, értékesítése
A87: 14.3. | B87: Külföldi értékpapírok kibocsátása
A88: 14.4. | B88: Külföldi hitelek, kölcsönök felvétele
A89: 15. | B89: Váltóbevételek
A90: 16. | B90: Adóssághoz nem kapcsolódó származékos ügyletek bevételei
A91: 17. | B91: FINANSZÍROZÁSI BEVÉTELEK ÖSSZESEN: (10. + … +16.) | C91: =+C68+C72+C77+C80+C84+C90+C89 -> 160733238
A92: 18. | B92: KÖLTSÉGVETÉSI ÉS FINANSZÍROZÁSI BEVÉTELEK ÖSSZESEN: (9+17) | C92: =+C67+C91 -> 603699116
A94: K I A D Á S O K
A95: 2. sz. táblázat | C95: =C7 -> Forintban!
A96: Sor- szám | B96: Kiadási jogcímek | C96: =+C8 -> 2021. évi előirányzat
B97: A | C97: B
A98: 1. | B98: Működési költségvetés kiadásai (1.1+…+1.5.+1.18.) | C98: =C99+C100+C101+C102+C103+C116 -> 353130287
A99: 1.1. | B99: Személyi juttatások | C99: 74683140
A100: 1.2. | B100: Munkaadókat terhelő járulékok és szociális hozzájárulási adó | C100: 12045770
A101: 1.3. | B101: Dologi kiadások | C101: 87623430
A102: 1.4. | B102: Ellátottak pénzbeli juttatásai | C102: 7736000
...

Sheet KV_1.2.sz.mell.
B1: =CONCATENATE("1.2. melléklet ",ALAPADATOK!A7," ",ALAPADATOK!B7," ",ALAPADATOK!C7," ",ALAPADATOK!D7," ",ALAPADATOK!E7," ",ALAPADATOK!F7," ",ALAPADATOK!G7," ",ALAPADATOK!H7) -> 1.2. melléklet a … / 2021 ( ) önkormányzati rendelethez
B2: =CONCATENATE(ALAPADATOK!A3) -> Szászvár Nagyközség Önkormányzata
B3: =KV_1.1.sz.mell.!B3 -> 2021. ÉVI KÖLTSÉGVETÉS
B4: KÖTELEZŐ FELADATOK MÉRLEGE
A6: B E V É T E L E K
A7: 1. sz. táblázat | C7: =CONCATENATE(KV_1.1.sz.mell.!C7) -> Forintban!
A8: Sor- szám | B8: Bevételi jogcím | C8: =+CONCATENATE(LEFT(KV_ÖSSZEFÜGGÉSEK!A5,4),". évi előirányzat") -> 2021. évi előirányzat
B9: A | C9: B
A10: 1. | B10: Önkormányzat működési támogatásai (1.1.+…+.1.6.) | C10: =KV_1.1.sz.mell.!C10 -> 233233406
A11: 1.1. | B11: Helyi önkormányzatok működésének általános támogatása | C11: =KV_1.1.sz.mell.!C11 -> 84661051
A12: 1.2. | B12: Önkormányzatok egyes köznevelési feladatainak támogatása | C12: =KV_1.1.sz.mell.!C12 -> 66362700
A13: 1.3. | B13: Önkormányzatok szociális és gyermekjóléti, étkeztetési feladatainak támogatása | C13: =KV_1.1.sz.mell.!C13 -> 77157895
A14: 1.4. | B14: Önkormányzatok kulturális feladatainak támogatása | C14: =KV_1.1.sz.mell.!C14 -> 5051760
A15: 1.5. | B15: Működési célú kvi támogatások és kiegészítő támogatások | C15: =KV_1.1.sz.mell.!C15 -> 0
A16: 1.6. | B16: Elszámolásból származó bevételek | C16: =KV_1.1.sz.mell.!C16 -> 0
A17: 2. | B17: Működési célú támogatások államháztartáson belülről (2.1.+…+.2.5.) | C17: =KV_1.1.sz.mell.!C17 -> 150449472
A18: 2.1. | B18: Elvonások és befizetések bevételei | C18: =KV_1.1.sz.mell.!C18 -> 0
A19: 2.2. | B19: Működési célú garancia- és kezességvállalásból megtérülések | C19: =KV_1.1.sz.mell.!C19 -> 0
A20: 2.3. | B20: Működési célú visszatérítendő támogatások, kölcsönök visszatérülése | C20: =KV_1.1.sz.mell.!C20 -> 0
A21: 2.4. | B21: Működési célú visszatérítendő támogatások, kölcsönök igénybevétele | C21: =KV_1.1.sz.mell.!C21 -> 0
... A31: 4. | B31: Közhatalmi bevételek (4.1.+…+4.7.) | C31: =KV_1.1.sz.mell.!C31 -> 31023000
A32: 4.1. | B32: =KV_1.1.sz.mell.!B32 -> Pótlék | C32: =KV_1.1.sz.mell.!C32 -> 0
A33: 4.2. | B33: =KV_1.1.sz.mell.!B33 -> Idegenforgalmi adó | C33: =KV_1.1.sz.mell.!C33 -> 140000
A34: 4.3. | B34: =KV_1.1.sz.mell.!B34 -> Iparűzési adó | C34: =KV_1.1.sz.mell.!C34 -> 21000000
A35: 4.4. | B35: =KV_1.1.sz.mell.!B35 -> Talajterhelési díj | C35: =KV_1.1.sz.mell.!C35 -> 0
A36: 4.5. | B36: =KV_1.1.sz.mell.!B36 -> Gépjárműadó | C36: =KV_1.1.sz.mell.!C36 -> 0
A37: 4.6. | B37: =KV_1.1.sz.mell.!B37 -> Egyéb bevétel (mezőőri jár.) | C37: =KV_1.1.sz.mell.!C37 -> 383000
A38: 4.7. | B38: =KV_1.1.sz.mell.!B38 -> Kommunális adó | C38: =KV_1.1.sz.mell.!C38 -> 9500000
A39: 5. | B39: Működési bevételek (5.1.+…+ 5.11.) | C39: =KV_1.1.sz.mell.!C39 -> 20760000
A40: 5.1. | B40: Készletértékesítés ellenértéke | C40: =KV_1.1.sz.mell.!C40 -> 5000000
A41: 5.2. | B41: Szolgáltatások ellenértéke | C41: =KV_1.1.sz.mell.!C41 -> 2760000
A42: 5.3. | B42: Közvetített szolgáltatások értéke | C42: =KV_1.1.sz.mell.!C42 -> 0
A43: 5.4. | B43: Tulajdonosi bevételek | C43: =KV_1.1.sz.mell.!C43 -> 0
A44: 5.5. | B44: Ellátási díjak | C44: =KV_1.1.sz.mell.!C44 -> 12600000
A45: 5.6. | B45: Kiszámlázott általános forgalmi adó | C45: =KV_1.1.sz.mell.!C45 -> 0
A46: 5.7. | B46: Általános forgalmi adó visszatérítése | C46: =KV_1.1.sz.mell.!C46 -> 0
A47: 5.8. | B47: Kamatbevételek és más nyereségjellegű bevételek | C47: =KV_1.1.sz.mell.!C47 -> 0
A48: 5.9. | B48: Egyéb pénzügyi műveletek bevételei | C48: =KV_1.1.sz.mell.!C48 -> 0
A49: 5.10. | B49: Biztosító által fizetett kártérítés | C49: =KV_1.1.sz.mell.!C49 -> 0
A50: 5.11. | B50: Egyéb működési bevételek | C50: =KV_1.1.sz.mell.!C50 -> 400000
... A92: 18. | B92: KÖLTSÉGVETÉSI ÉS FINANSZÍROZÁSI BEVÉTELEK ÖSSZESEN: (9+17) | C92: =KV_1.1.sz.mell.!C92 -> 603699116
A94: K I A D Á S O K
A95: 2. sz. táblázat | C95: =C7 -> Forintban!
A96: Sor- szám | B96: Kiadási jogcímek | C96: =+C8 -> 2021. évi előirányzat
B97: A | C97: B
A98: 1. | B98: Működési költségvetés kiadásai (1.1+…+1.5.+1.18.) | C98: =KV_1.1.sz.mell.!C98 -> 353130287
A99: 1.1. | B99: Személyi juttatások | C99: =KV_1.1.sz.mell.!C99 -> 74683140
A100: 1.2. | B100: Munkaadókat terhelő járulékok és szociális hozzájárulási adó | C100: =KV_1.1.sz.mell.!C100 -> 12045770
A101: 1.3. | B101: Dologi kiadások | C101: =KV_1.1.sz.mell.!C101 -> 87623430
A102: 1.4. | B102: Ellátottak pénzbeli juttatásai | C102: =KV_1.1.sz.mell.!C102 -> 7736000
A103: 1.5 | B103: Egyéb működési célú kiadások | C103: =KV_1.1.sz.mell.!C103 -> 171041947
A104: 1.6. | B104: - az 1.5-ből: - Előző évi elszámolásból származó befizetések | C104: =KV_1.1.sz.mell.!C104 -> 0
A105: 1.7. | B105: - Törvényi előíráson alapuló befizetések | C105: =KV_1.1.sz.mell.!C105 -> 0
A106: 1.8. | B106: - Elvonások és befizetések | C106: =KV_1.1.sz.mell.!C106 -> 0
A107: 1.9. | B107: - Garancia- és kezességvállalásból kifizetés ÁH-n belülre | C107: =KV_1.1.sz.mell.!C107 -> 0
A108: 1.10. | B108: -Visszatérítendő támogatások, kölcsönök nyújtása ÁH-n belülre | C108: =KV_1.1.sz.mell.!C108 -> 0
A109: 1.11. | B109: - Visszatérítendő támogatások, kölcsönök törlesztése ÁH-n belülre | C109: =KV_1.1.sz.mell.!C109 -> 0
... A159: 11. | B159: KIADÁSOK ÖSSZESEN: (3.+10.) | C159: =KV_1.1.sz.mell.!C159 -> 603699116
C160: =C92-C159 -> 0
A161: KÖLTSÉGVETÉSI, FINANSZÍROZÁSI BEVÉTELEK ÉS KIADÁSOK EGYENLEGE
A162: 3. sz. táblázat | C162: =C95 -> Forintban!
A163: 1 | B163: Költségvetési hiány, többlet ( költségvetési bevételek 9. sor - költségvetési kiadások 3. sor) (+/-) | C163: =+C67-C133 -> -22840690
A164: 2. | B164: Finanszírozási bevételek, kiadások egyenlege (finanszírozási bevételek 17. sor - finanszírozási kiadások 10. sor) (+/-) | C164: =+C91-C158 -> 22840690

Sheet KV_2.1.sz.mell.
B1: I. Működési célú bevételek és kiadások mérlege (Önkormányzati szinten) | F1: =CONCATENATE("2.1. melléklet ",ALAPADATOK!A7," ",ALAPADATOK!B7," ",ALAPADATOK!C7," ",ALAPADATOK!D7," ",ALAPADATOK!E7," ",ALAPADATOK!F7," ",ALAPADATOK!G7," ",ALAPADATOK!H7) -> 2.1. melléklet a … / 2021 ( ) önkormányzati rendelethez
E2: =CONCATENATE(KV_1.1.sz.mell.!C7) -> Forintban!
A3: Sor- szám | B3: Bevételek | D3: Kiadások
B4: Megnevezés | C4: =+KV_1.1.sz.mell.!C8 -> 2021. évi előirányzat | D4: Megnevezés | E4: =+C4 -> 2021. évi előirányzat
B5: A | C5: B | D5: C | E5: D
A6: 1. | B6: Önkormányzatok működési támogatásai | C6: =KV_1.1.sz.mell.!C10 -> 233233406 | D6: Személyi juttatások | E6: =KV_1.1.sz.mell.!C99 -> 74683140
A7: 2. | B7: Működési célú támogatások államháztartáson belülről | C7: =KV_1.1.sz.mell.!C17 -> 150449472 | D7: Munkaadókat terhelő járulékok és szociális hozzájárulási adó | E7: =KV_1.1.sz.mell.!C100 -> 12045770
A8: 3. | B8: 2.-ból EU-s támogatás | D8: Dologi kiadások | E8: =KV_1.1.sz.mell.!C101 -> 87623430
A9: 4. | B9: Közhatalmi bevételek | C9: =KV_1.1.sz.mell.!C31 -> 31023000 | D9: Ellátottak pénzbeli juttatásai | E9: =KV_1.1.sz.mell.!C102 -> 7736000
A10: 5. | B10: Működési bevételek | C10: =KV_1.1.sz.mell.!C39 -> 20760000 | D10: Egyéb működési célú kiadások | E10: =KV_1.1.sz.mell.!C103 -> 171041947
A11: 6. | B11: Működési célú átvett pénzeszközök | D11: Tartalékok
A12: 7. | B12: 6.-ból EU-s támogatás (közvetlen)
A13: 8.
A14: 9.
A15: 10.
A16: 11.
A17: 12.
A18: 13. | B18: Költségvetési bevételek összesen (1.+2.+4.+5.+6.+8.+…+12.) | C18: =C6+C7+C9+C10+C11+C13+C14+C15+C16+C17 -> 435465878 | D18: Költségvetési kiadások összesen (1.+...+12.) | E18: =SUM(E6:E17) -> 353130287
A19: 14. | B19: Hiány belső finanszírozásának bevételei (15.+…+18. ) | C19: =+C20+C21+C22+C23 -> 60733238 | D19: Értékpapír vásárlása, visszavásárlása
A20: 15. | B20: Költségvetési maradvány igénybevétele | C20: =KV_1.1.sz.mell.!C78 -> 60733238 | D20: Likviditási célú hitelek törlesztése
A21: 16. | B21: Vállalkozási maradvány igénybevétele | D21: Rövid lejáratú hitelek törlesztése
A22: 17. | B22: Betét visszavonásából származó bevétel | D22: Hosszú lejáratú hitelek törlesztése
A23: 18. | B23: Értékpapír értékesítése | D23: Kölcsön törlesztése
A24: 19. | B24: Hiány külső finanszírozásának bevételei (20.+…+21.) | C24: =+C25+C26 -> 0 | D24: Forgatási célú belföldi, külföldi értékpapírok vásárlása
A25: 20. | B25: Likviditási célú hitelek, kölcsönök felvétele | D25: Pénzeszközök lekötött betétként elhelyezése
A26: 21. | B26: Egyéb | D26: Adóssághoz nem kapcsolódó származékos ügyletek
A27: 22. | B27: Váltóbevételek | D27: Váltókiadások
A28: 23. | B28: Adóssághoz nem kapcsolódó származékos ügyletek bevételei | D28: Hivatal finanszírozás | E28: =KV_1.1.sz.mell.!C146 -> 0
A29: 24. | B29: Működési célú finanszírozási bevételek összesen (14.+19.+22.+23.) | C29: =+C19+C24+C27+C28 -> 60733238 | D29: Működési célú finanszírozási kiadások összesen (14.+...+23.) | E29: =SUM(E19:E28) -> 0
A30: 25. | B30: BEVÉTEL ÖSSZESEN (13.+24.) | C30: =+C18+C29 -> 496199116 | D30: KIADÁSOK ÖSSZESEN (13.+24.) | E30: =+E18+E29 -> 353130287
A31: 26. | B31: Költségvetési hiány: | C31: =IF(C18-E18<0,E18-C18,"-") -> - | D31: Költségvetési többlet: | E31: =IF(C18-E18>0,C18-E18,"-") -> 82335591
A32: 27. | B32: Bruttó hiány: | C32: =IF(C30-E30<0,E30-C30,"-") -> - | D32: Bruttó többlet: | E32: =IF(C30-E30>0,C30-E30,"-") -> 143068829
A33: =IF(C32<>"-","Nem lehet bruttó hiány, mert az Mötv. 111. § (4) bekezédse szerint A költségvetési rendeletben működési hiány nem tervezhető.","")

Sheet KV_2.2.sz.mell.
B1: II. Felhalmozási célú bevételek és kiadások mérlege (Önkormányzati szinten) | F1: =CONCATENATE("2.2. melléklet ",ALAPADATOK!A7," ",ALAPADATOK!B7," ",ALAPADATOK!C7," ",ALAPADATOK!D7," ",ALAPADATOK!E7," ",ALAPADATOK!F7," ",ALAPADATOK!G7," ",ALAPADATOK!H7) -> 2.2. melléklet a … / 2021 ( ) önkormányzati rendelethez
E2: =CONCATENATE(KV_1.1.sz.mell.!C7) -> Forintban!
A3: Sor- szám | B3: Bevételek | D3: Kiadások
B4: Megnevezés | C4: =+KV_2.1.sz.mell.!C4 -> 2021. évi előirányzat | D4: Megnevezés | E4: =+KV_2.1.sz.mell.!C4 -> 2021. évi előirányzat
B5: A | C5: B | D5: C | E5: D
A6: 1. | B6: Felhalmozási célú támogatások államháztartáson belülről | C6: =KV_1.2.sz.mell.!C24 -> 0 | D6: Beruházások | E6: =KV_1.1.sz.mell.!C120 -> 112676281
A7: 2. | B7: 1.-ből EU-s támogatás | D7: 1.-ből EU-s forrásból megvalósuló beruházás
A8: 3. | B8: Felhalmozási bevételek | C8: =KV_1.1.sz.mell.!C51 -> 7500000 | D8: Felújítások | E8: =KV_1.1.sz.mell.!C122 -> 0
A9: 4. | B9: Felhalmozási célú átvett pénzeszközök átvétele | C9: =KV_1.1.sz.mell.!C62 -> 0 | D9: 3.-ból EU-s forrásból megvalósuló felújítás
A10: 5. | B10: 4.-ből EU-s támogatás (közvetlen) | D10: Egyéb felhalmozási kiadások
A11: 6. | B11: Egyéb felhalmozási célú bevételek
A12: 7.
A13: 8.
A14: 9.
A15: 10.
A16: 11. | D16: Tartalékok
A17: 12. | B17: Költségvetési bevételek összesen: (1.+3.+4.+6.+…+11.) | C17: =+C6+C8+C9+C11+C12+C13+C14+C15+C16 -> 7500000 | D17: Költségvetési kiadások összesen: (1.+3.+5.+...+11.) | E17: =+E6+E8+E10+E11+E12+E13+E14+E15+E16 -> 112676281
A18: 13. | B18: Hiány belső finanszírozás bevételei ( 14+…+18) | C18: =SUM(C19:C23) -> 0 | D18: Értékpapír vásárlása, visszavásárlása
A19: 14. | B19: Költségvetési maradvány igénybevétele | D19: Hitelek törlesztése
A20: 15. | B20: Vállalkozási maradvány igénybevétele | D20: Rövid lejáratú hitelek törlesztése | E20: =KV_1.1.sz.mell.!C137 -> 100000000
A21: 16. | B21: Betét visszavonásából származó bevétel | D21: Hosszú lejáratú hitelek törlesztése | E21: =KV_1.1.sz.mell.!C135 -> 37892548
A22: 17. | B22: Értékpapír értékesítése | D22: Kölcsön törlesztése
A23: 18. | B23: Egyéb belső finanszírozási bevételek | D23: Befektetési célú belföldi, külföldi értékpapírok vásárlása
A24: 19. | B24: Hiány külső finanszírozásának bevételei (20+…+24 ) | C24: =+C25+C26+C27+C28+C29 -> 100000000 | D24: Betét elhelyezése
A25: 20. | B25: Hosszú lejáratú hitelek, kölcsönök felvétele | D25: Pénzügyi lízing kiadásai
A26: 21. | B26: Likviditási célú hitelek, kölcsönök felvétele
A27: 22. | B27: Rövid lejáratú hitelek, kölcsönök felvétele | C27: =KV_1.1.sz.mell.!C71 -> 100000000
A28: 23. | B28: Értékpapírok kibocsátása
A29: 24. | B29: Egyéb külső finanszírozási bevételek
A30: 25. | B30: Felhalmozási célú finanszírozási bevételek összesen (13.+19.) | C30: =+C18+C24 -> 100000000 | D30: Felhalmozási célú finanszírozási kiadások összesen (13.+...+24.) | E30: =SUM(E18:E29) -> 137892548
A31: 26. | B31: BEVÉTEL ÖSSZESEN (12+25) | C31: =+C17+C30 -> 107500000 | D31: KIADÁSOK ÖSSZESEN (12+25) | E31: =+E17+E30 -> 250568829
A32: 27. | B32: Költségvetési hiány: | C32: =IF(C17-E17<0,E17-C17,"-") -> 105176281 | D32: Költségvetési többlet: | E32: =IF(C17-E17>0,C17-E17,"-") -> -
A33: 28. | B33: Bruttó hiány: | C33: =IF(C31-E31<0,E31-C31,"-") -> 143068829 | D33: Bruttó többlet: | E33: =IF(C31-E31>0,C31-E31,"-") -> -
B36: Összes 1.1 | C36: =KV_1.1.sz.mell.!C92 -> 603699116 | E36: =KV_1.1.sz.mell.!C159 -> 603699116
B37: Összes 2.1+2.2 | C37: =KV_2.1.sz.mell.!C30+KV_2.2.sz.mell.!C31 -> 603699116 | E37: =KV_2.1.sz.mell.!E30+KV_2.2.sz.mell.!E31 -> 603699116
B38: Különbség | C38: =C36-C37 -> 0 | E38: =E36-E37 -> 0

Sheet KV_ELLENŐRZÉS
A1: Költségvetési rendelet űrlapjainak összefüggései: | E1: ELTÉRÉS
A4: =+KV_ÖSSZEFÜGGÉSEK!A5 -> 2021. évi előirányzat BEVÉTELEK
A6: 1.1. sz. melléklet Bevételek táblázat C. oszlop 9 sora = | B6: =+KV_1.1.sz.mell.!C67 -> 442965878 | C6: 2.1. számú melléklet C. oszlop 13. sor + 2.2. számú melléklet C. oszlop 12. sor | D6: =+KV_2.1.sz.mell.!C18+KV_2.2.sz.mell.!C17 -> 442965878 | E6: =+B6-D6 -> 0
A7: 1.1. sz. melléklet Bevételek táblázat C. oszlop 17 sora = | B7: =+KV_1.1.sz.mell.!C91 -> 160733238 | C7: 2.1. számú melléklet C. oszlop 24. sor + 2.2. számú melléklet C. oszlop 25. sor | D7: =+KV_2.1.sz.mell.!C29+KV_2.2.sz.mell.!C30 -> 160733238 | E7: =+B7-D7 -> 0
A8: 1.1. sz. melléklet Bevételek táblázat C. oszlop 18 sora = | B8: =+KV_1.1.sz.mell.!C92 -> 603699116 | C8: 2.1. számú melléklet C. oszlop 25. sor + 2.2. számú melléklet C. oszlop 26. sor | D8: =+KV_2.1.sz.mell.!C30+KV_2.2.sz.mell.!C31 -> 603699116 | E8: =+B8-D8 -> 0
A11: =+KV_ÖSSZEFÜGGÉSEK!A12 -> 2021. évi előirányzat KIADÁSOK
A13: 1.1. sz. melléklet Kiadások táblázat C. oszlop 3 sora = | B13: =+KV_1.1.sz.mell.!C133 -> 465806568 | C13: 2.1. számú melléklet E. oszlop 13. sor + 2.2. számú melléklet E. oszlop 12. sor | D13: =+KV_2.1.sz.mell.!E18+KV_2.2.sz.mell.!E17 -> 465806568 | E13: =+B13-D13 -> 0
A14: 1.1. sz. melléklet Kiadások táblázat C. oszlop 10 sora = | B14: =+KV_1.1.sz.mell.!C158 -> 137892548 | C14: 2.1. számú melléklet E. oszlop 24. sor + 2.2. számú melléklet E. oszlop 25. sor | D14: =+KV_2.1.sz.mell.!E29+KV_2.2.sz.mell.!E30 -> 137892548 | E14: =+B14-D14 -> 0
A15: 1.1. sz. melléklet Kiadások táblázat C. oszlop 11 sora = | B15: =+KV_1.1.sz.mell.!C159 -> 603699116 | C15: 2.1. számú melléklet E. oszlop 25. sor + 2.2. számú melléklet E. oszlop 26. sor | D15: =+KV_2.1.sz.mell.!E30+KV_2.2.sz.mell.!E31 -> 603699116 | E15: =+B15-D15 -> 0

Sheet KV_3.sz.mell.
B2: =CONCATENATE("3. melléklet ",ALAPADATOK!A7," ",ALAPADATOK!B7," ",ALAPADATOK!C7," ",ALAPADATOK!D7," ",ALAPADATOK!E7," ",ALAPADATOK!F7," ",ALAPADATOK!G7," ",ALAPADATOK!H7) -> 3. melléklet a … / 2021 ( ) önkormányzati rendelethez
A4: =CONCATENATE(PROPER(ALAPADATOK!A3)," adósságot keletkeztető ügyletekből és kezességvállalásokból fennálló kötelezettségei") -> Szászvár Nagyközség Önkormányzata adósságot keletkeztető ügyletekből és kezességvállalásokból fennálló kötelezettségei
E5: =KV_2.2.sz.mell.!E2 -> Forintban!
A6: Sor-szám | B6: MEGNEVEZÉS | C6: Évek | F6: Összesen (F=C+D+E)
C7: =+LEFT(KV_ÖSSZEFÜGGÉSEK!A5,4)+1 -> 2022 | D7: =+C7+1 -> 2023 | E7: =+D7+1 -> 2024
B8: A | C8: B | D8: C | E8: D | F8: E
A9: 1. | B9: Orvosi rendelő felújítás | C9: 2140792 | D9: 2250115 | E9: 2337572 | F9: =SUM(C9:E9) -> 6728479
A10: 2. | F10: =SUM(C10:E10) -> 0
A11: 3. | F11: =SUM(C11:E11) -> 0
A12: 4. | F12: =SUM(C12:E12) -> 0
A13: 5. | F13: =SUM(C13:E13) -> 0
A14: 6. | B14: ÖSSZES KÖTELEZETTSÉG | C14: =SUM(C9:C13) -> 2140792 | D14: =SUM(D9:D13) -> 2250115 | E14: =SUM(E9:E13) -> 2337572 | F14: =SUM(F9:F13) -> 6728479

Sheet KV_4.sz.mell.
B2: =CONCATENATE("4. melléklet ",ALAPADATOK!A7," ",ALAPADATOK!B7," ",ALAPADATOK!C7," ",ALAPADATOK!D7," ",ALAPADATOK!E7," ",ALAPADATOK!F7," ",ALAPADATOK!G7," ",ALAPADATOK!H7) -> 4. melléklet a … / 2021 ( ) önkormányzati rendelethez
A4: =CONCATENATE(PROPER(ALAPADATOK!A3)," saját bevételeinek részletezése az adósságot keletkeztető ügyletből származó tárgyévi fizetési kötelezettség megállapításához") -> Szászvár Nagyközség Önkormányzata saját bevételeinek részletezése az adósságot keletkeztető ügyletből származó tárgyévi fizetési kötelezettség megállapításához
C5: =KV_2.2.sz.mell.!E2 -> Forintban!
A6: Sor-szám | B6: Bevételi jogcímek | C6: =+KV_1.1.sz.mell.!C8 -> 2021. évi előirányzat
B7: A | C7: B
A8: 1. | B8: Helyi adóból és a települési adóból származó bevétel | C8: 30640000
A9: 2. | B9: Az önkormányzati vagyon és az önkormányzatot megillető vagyoni értékű jog értékesítéséből és hasznosításából származó bevétel
A10: 3. | B10: Osztalék, koncessziós díj és hozambevétel
A11: 4. | B11: Tárgyi eszköz és az immateriális jószág, részvény, részesedés, vállalat értékesítéséből vagy privatizációból származó bevétel
A12: 5. | B12: Bírság-, pótlék- és díjbevétel | C12: 383000
A13: 6. | B13: Kezesség-, illetve garanciavállalással kapcsolatos megtérülés
A14: SAJÁT BEVÉTELEK ÖSSZESEN* | C14: =SUM(C8:C13) -> 31023000
A15: *Az adósságot keletkeztető ügyletekhez történő hozzájárulás részletes szabályairól szóló 353/2011. (XII.31.) Korm. Rendelet 2.§ (1) bekezdése alapján.

Sheet KV_5.sz.mell.
B2: =CONCATENATE("5. melléklet ",ALAPADATOK!A7," ",ALAPADATOK!B7," ",ALAPADATOK!C7," ",ALAPADATOK!D7," ",ALAPADATOK!E7," ",ALAPADATOK!F7," ",ALAPADATOK!G7," ",ALAPADATOK!H7) -> 5. melléklet a … / 2021 ( ) önkormányzati rendelethez
A4: =CONCATENATE(PROPER(ALAPADATOK!A3)," ",ALAPADATOK!D7,". évi adósságot keletkeztető fejlesztési céljai") -> Szászvár Nagyközség Önkormányzata 2021. évi adósságot keletkeztető fejlesztési céljai
C5: =KV_4.sz.mell.!C5 -> Forintban!
A6: Sor-szám | B6: Fejlesztési cél leírása | C6: Fejlesztés várható kiadása
B7: A | C7: B
A8: 1. | B8: Nem releváns
A9: 2.
A10: 3.
A11: 4. | B11: ADÓSSÁGOT KELETKEZTETŐ ÜGYLETEK VÁRHATÓ EGYÜTTES ÖSSZEGE* | C11: =SUM(C8:C10) -> 0
A12: * Magyarország gazdasági stabilitásáról szóló 2011. évi CXCIV. törvény 8. § (2) bekezdése szerinti adósságot keletkezető ügyletek.

Sheet KV_6.sz.mell.
B2: =CONCATENATE("6. melléklet ",ALAPADATOK!A7," ",ALAPADATOK!B7," ",ALAPADATOK!C7," ",ALAPADATOK!D7," ",ALAPADATOK!E7," ",ALAPADATOK!F7," ",ALAPADATOK!G7," ",ALAPADATOK!H7) -> 6. melléklet a … / 2021 ( ) önkormányzati rendelethez
A4: Beruházási (felhalmozási) kiadások előirányzata beruházásonként
F5: =KV_5.sz.mell.!C5 -> Forintban!
A6: Beruházás megnevezése | B6: Teljes költség | C6: Kivitelezés kezdési és befejezési éve | D6: =+CONCATENATE("Felhasználás ",LEFT(KV_ÖSSZEFÜGGÉSEK!A5,4)-1,". XII. 31-ig") -> Felhasználás 2020. XII. 31-ig | E6: =+KV_1.1.sz.mell.!C8 -> 2021. évi előirányzat | F6: =+CONCATENATE(LEFT(KV_ÖSSZEFÜGGÉSEK!A5,4),". utáni szükséglet") -> 2021. utáni szükséglet
A7: A | B7: B | C7: C | D7: D | E7: E | F7: F=(B-D-E)
A8: Magyar Falu - Járdaépítés | B8: 1904297 | C8: 2021 | D8: 0 | E8: 1904297 | F8: 0
A9: Magyar Falu - Elhagyott ingatlan | B9: 4350645 | C9: 2021 | D9: 0 | E9: 4350645 | F9: 0
A10: Magyar Falu - Orvosi eszközök beszerzése | B10: 2994455 | C10: 2021 | D10: 0 | E10: 2994455 | F10: 0
A11: Magyar Falu - Építési telek kialakítása | B11: 9927568 | C11: 2021 | D11: 0 | E11: 9927568 | F11: 0
A12: TOP-2.1.3-16 - Völgységi patak mederrendezése | B12: 96500000 | C12: 2021 | D12: 3985815 | E12: 92514185 | F12: 0
A13: ÖSSZESEN: | B13: =SUM(B8:B12) -> 115676965 | D13: =SUM(D8:D12) -> 3985815 | E13: =SUM(E8:E12) -> 111691150 | F13: =SUM(F8:F12) -> 0

Sheet KV_7.sz.mell.
B2: =CONCATENATE("7. melléklet ",ALAPADATOK!A7," ",ALAPADATOK!B7," ",ALAPADATOK!C7," ",ALAPADATOK!D7," ",ALAPADATOK!E7," ",ALAPADATOK!F7," ",ALAPADATOK!G7," ",ALAPADATOK!H7) -> 7. melléklet a … / 2021 ( ) önkormányzati rendelethez
A4: Felújítási kiadások előirányzata felújításonként
F5: =KV_6.sz.mell.!F5 -> Forintban!
A6: Felújítás megnevezése | B6: Teljes költség | C6: Kivitelezés kezdési és befejezési éve | D6: =+KV_6.sz.mell.!D6 -> Felhasználás 2020. XII. 31-ig | E6: =+KV_6.sz.mell.!E6 -> 2021. évi előirányzat | F6: =+CONCATENATE(LEFT(KV_ÖSSZEFÜGGÉSEK!A5,4),". utáni szükséglet ",CHAR(10),"") -> 2021. utáni szükséglet
A7: A | B7: B | C7: C | D7: D | E7: E | F7: F=(B-D-E)
A8: Magyar Falu-Program járdafelújítás | B8: 3047776 | C8: 2021 | D8: 0 | E8: 3047776 | F8: =B8-D8-E8 -> 0
F9: =B9-D9-E9 -> 0
F10: =B10-D10-E10 -> 0
F11: =B11-D11-E11 -> 0
F12: =B12-D12-E12 -> 0
F13: =B13-D13-E13 -> 0
F14: =B14-D14-E14 -> 0
F15: =B15-D15-E15 -> 0
F16: =B16-D16-E16 -> 0
F17: =B17-D17-E17 -> 0
F18: =B18-D18-E18 -> 0
F19: =B19-D19-E19 -> 0
F20: =B20-D20-E20 -> 0
... F24: =B24-D24-E24 -> 0
A25: ÖSSZESEN: | B25: =SUM(B8:B24) -> 3047776 | D25: =SUM(D8:D24) -> 0 | E25: =SUM(E8:E24) -> 3047776 | F25: =SUM(F8:F24) -> 0

Sheet KV_8.sz.mell.
F1: =CONCATENATE("8. melléklet ",ALAPADATOK!A7," ",ALAPADATOK!B7," ",ALAPADATOK!C7," ",ALAPADATOK!D7," ",ALAPADATOK!E7," ",ALAPADATOK!F7," ",ALAPADATOK!G7," ",ALAPADATOK!H7) -> 8. melléklet a … / 2021 ( ) önkormányzati rendelethez
A2: Önkormányzaton kívüli EU-s projekthez történő hozzájárulás
E3: =KV_7.sz.mell.!F5 -> Forintban!
A4: Támogatott neve | E4: Előirányzat
A5: Szászvár Nagyközség Önkormányzat
A7: Összesen: | E7: =SUM(E5:E6) -> 0
A9: Európai uniós támogatással megvalósuló projektek
A10: bevételei, kiadásai, hozzájárulások
A11: EU-s projekt neve, azonosítója:* EFOP-3.3.2-16-00173
E12: =$E$3 -> Forintban!
A13: Források | B13: Támogatási szerződés szerinti bevételek, kiadások
B14: Összes tervezett forrás, kiadás | C14: Évenkénti ütemezés
C15: =CONCATENATE(TARTALOMJEGYZÉK!$A$1,". előtti tervezett forrás, kiadás") -> 2021. előtti tervezett forrás, kiadás | D15: =CONCATENATE(TARTALOMJEGYZÉK!$A$1,". évi eredeti előirányzat") -> 2021. évi eredeti előirányzat | E15: =CONCATENATE(TARTALOMJEGYZÉK!$A$1,". év utáni tervezett forrás, kiadás") -> 2021. év utáni tervezett forrás, kiadás
A17: A | B17: B=(C+D+E) | C17: C | D17: D | E17: E
A18: Saját erő
A19: - saját erőből központi támogatás
A20: EU-s forrás | B20: 25000000 | C20: 25000000 | D20: 0 | E20: 0
A21: Társfinanszírozás
A22: Hitel
A23: Egyéb forrás
A24: Források összesen: | B24: =B18+SUM(B20:B23) -> 25000000 | C24: =C18+SUM(C20:C23) -> 25000000 | D24: =D18+SUM(D20:D23) -> 0 | E24: =E18+SUM(E20:E23) -> 0
A25: Személyi jellegű
A26: Beruházások, beszerzések | B26: 1850000 | C26: 23150000 | D26: 1850000
A27: Szolgáltatások igénybe vétele
A28: Adminisztratív költségek
A30: Kiadások összesen: | B30: =SUM(B25:B29) -> 1850000 | C30: =SUM(C25:C29) -> 23150000 | D30: =SUM(D25:D29) -> 1850000 | E30: 0
A31: * Amennyiben több projekt megvalósítása történi egy időben akkor azokat külön-külön, projektenként be kell mutatni!
A33: EU-s projekt neve, azonosítója: TOP-2.1.3-16 Völgységi patak mederrendezése
E34: =$E$3 -> Forintban!
A35: Források | B35: Támogatási szerződés szerinti bevételek, kiadások
B36: Összes tervezett forrás, kiadás | C36: Évenkénti ütemezés
C37: =CONCATENATE(TARTALOMJEGYZÉK!$A$1,". előtti tervezett forrás, kiadás") -> 2021. előtti tervezett forrás, kiadás | D37: =CONCATENATE(TARTALOMJEGYZÉK!$A$1,". évi eredeti előirányzat") -> 2021. évi eredeti előirányzat | E37: =CONCATENATE(TARTALOMJEGYZÉK!$A$1,". év utáni tervezett forrás, kiadás") -> 2021. év utáni tervezett forrás, kiadás
A39: A | B39: B=(C+D+E) | C39: C | D39: D | E39: E
A40: Saját erő
A41: - saját erőből központi támogatás
A42: EU-s forrás | B42: 96500000 | C42: 0 | D42: 96500000 | E42: 0
A43: Társfinanszírozás
A44: Hitel
A45: Egyéb forrás
A46: Források összesen: | B46: =B40+SUM(B42:B45) -> 96500000 | C46: =C40+SUM(C42:C45) -> 0 | D46: =D40+SUM(D42:D45) -> 96500000 | E46: =E40+SUM(E42:E45) -> 0
A47: Személyi jellegű | B47: =C47+D47+E47 -> 0
A48: Beruházások, beszerzések | B48: =C48+D48+E48 -> 89435691 | D48: 89435691
A49: Szolgáltatások igénybe vétele | B49: =C49+D49+E49 -> 7064309 | C49: 3985815 | D49: 3078494
A50: Adminisztratív költségek | B50: =C50+D50+E50 -> 0
B51: =C51+D51+E51 -> 0
A52: Kiadások összesen: | B52: =SUM(B47:B51) -> 96500000 | C52: =SUM(C47:C51) -> 3985815 | D52: =SUM(D47:D51) -> 92514185 | E52: =SUM(E47:E51) -> 0
A54: EU-s projekt neve, azonosítója:
E55: =$E$3 -> Forintban!
A56: Források | B56: Támogatási szerződés szerinti bevételek, kiadások
B57: Összes tervezett forrás, kiadás | C57: Évenkénti ütemezés
C58: =CONCATENATE(TARTALOMJEGYZÉK!$A$1,". előtti tervezett forrás, kiadás") -> 2021. előtti tervezett forrás, kiadás | D58: =CONCATENATE(TARTALOMJEGYZÉK!$A$1,". évi eredeti előirányzat") -> 2021. évi eredeti előirányzat | E58: =CONCATENATE(TARTALOMJEGYZÉK!$A$1,". év utáni tervezett forrás, kiadás") -> 2021. év utáni tervezett forrás, kiadás
A60: A | B60: B=(C+D+E) | C60: C | D60: D | E60: E
A61: Saját erő | B61: =C61+D61+E61 -> 0
A62: - saját erőből központi támogatás | B62: =C62+D62+E62 -> 0
A63: EU-s forrás | B63: =C63+D63+E63 -> 0
A64: Társfinanszírozás | B64: =C64+D64+E64 -> 0
A65: Hitel | B65: =C65+D65+E65 -> 0
A66: Egyéb forrás | B66: =C66+D66+E66 -> 0
A67: Források összesen: | B67: =B61+SUM(B63:B66) -> 0 | C67: =C61+SUM(C63:C66) -> 0 | D67: =D61+SUM(D63:D66) -> 0 | E67: =E61+SUM(E63:E66) -> 0
A68: Személyi jellegű | B68: =C68+D68+E68 -> 0
A69: Beruházások, beszerzések | B69: =C69+D69+E69 -> 0
A70: Szolgáltatások igénybe vétele | B70: =C70+D70+E70 -> 0
A71: Adminisztratív költségek | B71: =C71+D71+E71 -> 0
B72: =C72+D72+E72 -> 0
A73: Kiadások összesen: | B73: =SUM(B68:B72) -> 0 | C73: =SUM(C68:C72) -> 0 | D73: =SUM(D68:D72) -> 0 | E73: =SUM(E68:E72) -> 0
A75: EU-s projekt neve, azonosítója:
E76: =$E$3 -> Forintban!
A77: Források | B77: Támogatási szerződés szerinti bevételek, kiadások
B78: Összes tervezett forrás, kiadás | C78: Évenkénti ütemezés
C79: =CONCATENATE(TARTALOMJEGYZÉK!$A$1,". előtti tervezett forrás, kiadás") -> 2021. előtti tervezett forrás, kiadás | D79: =CONCATENATE(TARTALOMJEGYZÉK!$A$1,". évi eredeti előirányzat") -> 2021. évi eredeti előirányzat | E79: =CONCATENATE(TARTALOMJEGYZÉK!$A$1,". év utáni tervezett forrás, kiadás") -> 2021. év utáni tervezett forrás, kiadás
A81: A | B81: B=(C+D+E) | C81: C | D81: D | E81: E
A82: Saját erő | B82: =C82+D82+E82 -> 0
A83: - saját erőből központi támogatás | B83: =C83+D83+E83 -> 0
A84: EU-s forrás | B84: =C84+D84+E84 -> 0
A85: Társfinanszírozás | B85: =C85+D85+E85 -> 0
A86: Hitel | B86: =C86+D86+E86 -> 0
A87: Egyéb forrás | B87: =C87+D87+E87 -> 0
A88: Források összesen: | B88: =B82+SUM(B84:B87) -> 0 | C88: =C82+SUM(C84:C87) -> 0 | D88: =D82+SUM(D84:D87) -> 0 | E88: =E82+SUM(E84:E87) -> 0
A89: Személyi jellegű | B89: =C89+D89+E89 -> 0
A90: Beruházások, beszerzések | B90: =C90+D90+E90 -> 0
A91: Szolgáltatások igénybe vétele | B91: =C91+D91+E91 -> 0
A92: Adminisztratív költségek | B92: =C92+D92+E92 -> 0
B93: =C93+D93+E93 -> 0
A94: Kiadások összesen: | B94: =SUM(B89:B93) -> 0 | C94: =SUM(C89:C93) -> 0 | D94: =SUM(D89:D93) -> 0 | E94: =SUM(E89:E93) -> 0
A96: EU-s projekt neve, azonosítója:
E97: =$E$3 -> Forintban!
A98: Források | B98: Támogatási szerződés szerinti bevételek, kiadások
B99: Összes tervezett forrás, kiadás | C99: Évenkénti ütemezés
C100: =CONCATENATE(TARTALOMJEGYZÉK!$A$1,". előtti tervezett forrás, kiadás") -> 2021. előtti tervezett forrás, kiadás | D100: =CONCATENATE(TARTALOMJEGYZÉK!$A$1,". évi eredeti előirányzat") -> 2021. évi eredeti előirányzat | E100: =CONCATENATE(TARTALOMJEGYZÉK!$A$1,". év utáni tervezett forrás, kiadás") -> 2021. év utáni tervezett forrás, kiadás
A102: A | B102: B=(C+D+E) | C102: C | D102: D | E102: E
A103: Saját erő | B103: =C103+D103+E103 -> 0
A104: - saját erőből központi támogatás | B104: =C104+D104+E104 -> 0
A105: EU-s forrás | B105: =C105+D105+E105 -> 0
A106: Társfinanszírozás | B106: =C106+D106+E106 -> 0
A107: Hitel | B107: =C107+D107+E107 -> 0
A108: Egyéb forrás | B108: =C108+D108+E108 -> 0
A109: Források összesen: | B109: =B103+SUM(B105:B108) -> 0 | C109: =C103+SUM(C105:C108) -> 0 | D109: =D103+SUM(D105:D108) -> 0 | E109: =E103+SUM(E105:E108) -> 0
A110: Személyi jellegű | B110: =C110+D110+E110 -> 0
A111: Beruházások, beszerzések | B111: =C111+D111+E111 -> 0
A112: Szolgáltatások igénybe vétele | B112: =C112+D112+E112 -> 0
...

Sheet KV_9.1.sz.mell
C1: =CONCATENATE("9.1. melléklet ",ALAPADATOK!A7," ",ALAPADATOK!B7," ",ALAPADATOK!C7," ",ALAPADATOK!D7," ",ALAPADATOK!E7," ",ALAPADATOK!F7," ",ALAPADATOK!G7," ",ALAPADATOK!H7) -> 9.1. melléklet a … / 2021 ( ) önkormányzati rendelethez
A2: Megnevezés | B2: =CONCATENATE(ALAPADATOK!A3) -> Szászvár Nagyközség Önkormányzata | C2: 01
A3: Feladat megnevezése | B3: Összes bevétel, kiadás | C3: 01
C4: =KV_7.sz.mell.!F5 -> Forintban!
A5: Száma | B5: Kiemelt előirányzat, előirányzat megnevezése | C5: Előirányzat
B6: A | C6: B
B7: Bevételek
A8: 1. | B8: Önkormányzat működési támogatásai (1.1.+…+.1.6.) | C8: =KV_1.1.sz.mell.!C10 -> 233233406
A9: 1.1. | B9: Helyi önkormányzatok működésének általános támogatása | C9: =KV_1.1.sz.mell.!C11 -> 84661051
A10: 1.2. | B10: Önkormányzatok egyes köznevelési feladatainak támogatása | C10: =KV_1.1.sz.mell.!C12 -> 66362700
A11: 1.3. | B11: Önkormányzatok szociális és gyermekjóléti, étkeztetési feladatainak támogatása | C11: =KV_1.1.sz.mell.!C13 -> 77157895
A12: 1.4. | B12: Önkormányzatok kulturális feladatainak támogatása | C12: =KV_1.1.sz.mell.!C14 -> 5051760
A13: 1.5. | B13: Működési célú kvi támogatások és kiegészítő támogatások | C13: =KV_1.1.sz.mell.!C15 -> 0
A14: 1.6. | B14: Elszámolásból származó bevételek | C14: =KV_1.1.sz.mell.!C16 -> 0
A15: 2. | B15: Működési célú támogatások államháztartáson belülről (2.1.+…+.2.5.) | C15: =KV_1.1.sz.mell.!C17 -> 150449472
A16: 2.1. | B16: Elvonások és befizetések bevételei | C16: =KV_1.1.sz.mell.!C18 -> 0
A17: 2.2. | B17: Működési célú garancia- és kezességvállalásból megtérülések | C17: =KV_1.1.sz.mell.!C19 -> 0
A18: 2.3. | B18: Működési célú visszatérítendő támogatások, kölcsönök visszatérülése | C18: =KV_1.1.sz.mell.!C20 -> 0
A19: 2.4. | B19: Működési célú visszatérítendő támogatások, kölcsönök igénybevétele | C19: =KV_1.1.sz.mell.!C21 -> 0
... A29: 4. | B29: Közhatalmi bevételek (4.1.+...+4.7.) | C29: =KV_1.1.sz.mell.!C31 -> 31023000
A30: 4.1. | B30: =KV_1.1.sz.mell.!B32 -> Pótlék | C30: =KV_1.1.sz.mell.!C32 -> 0
A31: 4.2. | B31: =KV_1.1.sz.mell.!B33 -> Idegenforgalmi adó | C31: =KV_1.1.sz.mell.!C33 -> 140000
A32: 4.3. | B32: =KV_1.1.sz.mell.!B34 -> Iparűzési adó | C32: =KV_1.1.sz.mell.!C34 -> 21000000
A33: 4.4. | B33: =KV_1.1.sz.mell.!B35 -> Talajterhelési díj | C33: =KV_1.1.sz.mell.!C35 -> 0
A34: 4.5. | B34: =KV_1.1.sz.mell.!B36 -> Gépjárműadó | C34: =KV_1.1.sz.mell.!C36 -> 0
A35: 4.6. | B35: =KV_1.1.sz.mell.!B37 -> Egyéb bevétel (mezőőri jár.) | C35: =KV_1.1.sz.mell.!C37 -> 383000
A36: 4.7. | B36: =KV_1.1.sz.mell.!B38 -> Kommunális adó | C36: =KV_1.1.sz.mell.!C38 -> 9500000
A37: 5. | B37: Működési bevételek (5.1.+…+ 5.11.) | C37: =KV_1.1.sz.mell.!C39 -> 20760000
A38: 5.1. | B38: Készletértékesítés ellenértéke | C38: =KV_1.1.sz.mell.!C40 -> 5000000
A39: 5.2. | B39: Szolgáltatások ellenértéke | C39: =KV_1.1.sz.mell.!C41 -> 2760000
A40: 5.3. | B40: Közvetített szolgáltatások értéke | C40: =KV_1.1.sz.mell.!C42 -> 0
A41: 5.4. | B41: Tulajdonosi bevételek | C41: =KV_1.1.sz.mell.!C43 -> 0
A42: 5.5. | B42: Ellátási díjak | C42: =KV_1.1.sz.mell.!C44 -> 12600000
A43: 5.6. | B43: Kiszámlázott általános forgalmi adó | C43: =KV_1.1.sz.mell.!C45 -> 0
A44: 5.7. | B44: Általános forgalmi adó visszatérítése | C44: =KV_1.1.sz.mell.!C46 -> 0
A45: 5.8. | B45: Kamatbevételek és más nyereségjellegű bevételek | C45: =KV_1.1.sz.mell.!C47 -> 0
A46: 5.9. | B46: Egyéb pénzügyi műveletek bevételei | C46: =KV_1.1.sz.mell.!C48 -> 0
A47: 5.10. | B47: Biztosító által fizetett kártérítés | C47: =KV_1.1.sz.mell.!C49 -> 0
A48: 5.11. | B48: Egyéb működési bevételek | C48: =KV_1.1.sz.mell.!C50 -> 400000
... A90: 18. | B90: BEVÉTELEK ÖSSZESEN: (9+17) | C90: =KV_1.1.sz.mell.!C92 -> 603699116
B92: Kiadások
A93: 1. | B93: Működési költségvetés kiadásai (1.1+…+1.5+1.18.) | C93: =KV_1.1.sz.mell.!C98 -> 353130287
A94: 1.1. | B94: Személyi juttatások | C94: =KV_1.1.sz.mell.!C99 -> 74683140
A95: 1.2. | B95: Munkaadókat terhelő járulékok és szociális hozzájárulási adó | C95: =KV_1.1.sz.mell.!C100 -> 12045770
A96: 1.3. | B96: Dologi kiadások | C96: =KV_1.1.sz.mell.!C101 -> 87623430
A97: 1.4. | B97: Ellátottak pénzbeli juttatásai | C97: =KV_1.1.sz.mell.!C102 -> 7736000
A98: 1.5 | B98: Egyéb működési célú kiadások | C98: =KV_1.1.sz.mell.!C103 -> 171041947
A99: 1.6. | B99: az 1.5-ből: - Előző évi elszámolásból származó befizetések | C99: =KV_1.1.sz.mell.!C104 -> 0
A100: 1.7. | B100: - Törvényi előíráson alapuló befizetések | C100: =KV_1.1.sz.mell.!C105 -> 0
A101: 1.8. | B101: - Elvonások és befizetések | C101: =KV_1.1.sz.mell.!C106 -> 0
A102: 1.9. | B102: - Garancia- és kezességvállalásból kifizetés ÁH-n belülre | C102: =KV_1.1.sz.mell.!C107 -> 0
A103: 1.10. | B103: -Visszatérítendő támogatások, kölcsönök nyújtása ÁH-n belülre | C103: =KV_1.1.sz.mell.!C108 -> 0
A104: 1.11. | B104: - Visszatérítendő támogatások, kölcsönök törlesztése ÁH-n belülre | C104: =KV_1.1.sz.mell.!C109 -> 0
... A144: 6.4. | B144: Pénzeszközök lekötött betétként elhelyezése | C144: =KV_1.1.sz.mell.!C149 -> 0
A145: 6.5. | B145: Pénzügyi lízing kiadásai
A146: 7. | B146: Külföldi finanszírozás kiadásai (7.1. + … + 7.5.) | C146: =KV_1.1.sz.mell.!C150 -> 0
A147: 7.1. | B147: Forgatási célú külföldi értékpapírok vásárlása | C147: =KV_1.1.sz.mell.!C151 -> 0
A148: 7.2. | B148: Befektetési célú külföldi értékpapírok vásárlása | C148: =KV_1.1.sz.mell.!C152 -> 0
A149: 7.3. | B149: Külföldi értékpapírok beváltása | C149: =KV_1.1.sz.mell.!C153 -> 0
A150: 7.4. | B150: Hitelek, kölcsönök törlesztése külföldi kormányoknak nemz. szervezeteknek | C150: =KV_1.1.sz.mell.!C154 -> 0
A151: 7.5. | B151: Hitelek, kölcsönök törlesztése külföldi pénzintézeteknek | C151: =KV_1.1.sz.mell.!C155 -> 0
A152: 8. | B152: Adóssághoz nem kapcsolódó származékos ügyletek | C152: =KV_1.1.sz.mell.!C156 -> 0
A153: 9. | B153: Váltókiadások | C153: =KV_1.1.sz.mell.!C157 -> 0
A154: 10. | B154: FINANSZÍROZÁSI KIADÁSOK ÖSSZESEN: (4.+…+9.) | C154: =KV_1.1.sz.mell.!C158 -> 137892548
A155: 11. | B155: KIADÁSOK ÖSSZESEN: (3.+10.) | C155: =KV_1.1.sz.mell.!C159 -> 603699116
C156: =C90-C155 -> 0
A157: Éves tervezett létszám előirányzat (fő) | C157: 19
A158: Közfoglalkoztatottak létszáma (fő) | C158: 35

Sheet KV_9.2.sz.mell
C1: =CONCATENATE("9.2. melléklet ",ALAPADATOK!A7," ",ALAPADATOK!B7," ",ALAPADATOK!C7," ",ALAPADATOK!D7," ",ALAPADATOK!E7," ",ALAPADATOK!F7," ",ALAPADATOK!G7," ",ALAPADATOK!H7) -> 9.2. melléklet a … / 2021 ( ) önkormányzati rendelethez
A2: Költségvetési szerv megnevezése | B2: =CONCATENATE(ALAPADATOK!A11) -> Szászvári Közös Önkormányzati Hivatal | C2: 02
A3: Feladat megnevezése | B3: Összes bevétel, kiadás | C3: 01
C4: Forintban!
A5: Száma | B5: Kiemelt előirányzat, előirányzat megnevezése | C5: Előirányzat
B6: A | C6: B
B7: Bevételek
A8: 1. | B8: Működési bevételek (1.1.+…+1.11.) | C8: =SUM(C9:C19) -> 0
A9: 1.1. | B9: Készletértékesítés ellenértéke
A10: 1.2. | B10: Szolgáltatások ellenértéke
A11: 1.3. | B11: Közvetített szolgáltatások értéke
A12: 1.4. | B12: Tulajdonosi bevételek
A13: 1.5. | B13: Ellátási díjak
A14: 1.6. | B14: Kiszámlázott általános forgalmi adó
A15: 1.7. | B15: Általános forgalmi adó visszatérülése
A16: 1.8. | B16: Kamatbevételek
A17: 1.9. | B17: Egyéb pénzügyi műveletek bevételei
A18: 1.10. | B18: Biztosító által fizetett kártérítés
A19: 1.11. | B19: Egyéb működési bevételek
A20: 2. | B20: Működési célú támogatások államháztartáson belülről (2.1.+…+2.3.) | C20: =SUM(C21:C23) -> 0
A21: 2.1. | B21: Elvonások és befizetések bevételei
A22: 2.2. | B22: Visszatérítendő támogatások, kölcsönök visszatérülése ÁH-n belülről
A23: 2.3. | B23: Egyéb működési célú támogatások bevételei államháztartáson belülről
A24: 2.4. | B24: 2.3-ból EU támogatás
A25: 3. | B25: Közhatalmi bevételek
A26: 4. | B26: Felhalmozási célú támogatások államháztartáson belülről (4.1.+…+4.3.) | C26: =+C27+C28+C29 -> 0
A27: 4.1. | B27: Felhalmozási célú önkormányzati támogatások
A28: 4.2. | B28: Visszatérítendő támogatások, kölcsönök visszatérülése ÁH-n belülről
A29: 4.3. | B29: Egyéb felhalmozási célú támogatások bevételei államháztartáson belülről
A30: 4.4. | B30: 4.3.-ból EU-s támogatás
A31: 5. | B31: Felhalmozási bevételek (5.1.+…+5.3.) | C31: =+C32+C33+C34 -> 0
A32: 5.1. | B32: Immateriális javak értékesítése
A33: 5.2. | B33: Ingatlanok értékesítése
A34: 5.3. | B34: Egyéb tárgyi eszközök értékesítése
A35: 6. | B35: Működési célú átvett pénzeszközök | C35: 54659223
A36: 7. | B36: Felhalmozási célú átvett pénzeszközök
A37: 8. | B37: Költségvetési bevételek összesen (1.+…+7.) | C37: =+C8+C20+C25+C26+C31+C35+C36 -> 54659223
A38: 9. | B38: Finanszírozási bevételek (9.1.+…+9.3.) | C38: =+C39+C40+C41 -> 3549802
A39: 9.1. | B39: Költségvetési maradvány igénybevétele | C39: 3549802
A40: 9.2. | B40: Vállalkozási maradvány igénybevétele
A41: 9.3. | B41: Irányító szervi (önkormányzati) támogatás (intézményfinanszírozás)
A42: 10. | B42: BEVÉTELEK ÖSSZESEN: (8.+9.) | C42: =+C37+C38 -> 58209025
B45: Kiadások
A46: 1. | B46: Működési költségvetés kiadásai (1.1+…+1.5.) | C46: =SUM(C47:C51) -> 58209025
A47: 1.1. | B47: Személyi juttatások | C47: 42158248
A48: 1.2. | B48: Munkaadókat terhelő járulékok és szociális hozzájárulási adó | C48: 9851081
A49: 1.3. | B49: Dologi kiadások | C49: 6199696
A50: 1.4. | B50: Ellátottak pénzbeli juttatásai
A51: 1.5. | B51: Egyéb működési célú kiadások
A52: 2. | B52: Felhalmozási költségvetés kiadásai (2.1.+…+2.3.) | C52: =SUM(C53:C55) -> 0
A53: 2.1. | B53: Beruházások
A54: 2.2. | B54: Felújítások
A55: 2.3. | B55: Egyéb fejlesztési célú kiadások
A56: 2.4. | B56: 2.3.-ból EU-s támogatásból megvalósuló programok, projektek kiadása
A57: 3. | B57: Finanszírozási kiadások
A58: 4. | B58: KIADÁSOK ÖSSZESEN: (1.+2.+3.) | C58: =+C46+C52+C57 -> 58209025
C59: =C42-C58 -> 0
A60: Éves tervezett létszám előirányzat (fő) | C60: 11
A61: Közfoglalkoztatottak létszáma (fő) | C61: 0

Sheet KV_9.3.sz.mell
C1: =CONCATENATE(ALAPADATOK!P13," melléklet ",ALAPADATOK!A7," ",ALAPADATOK!B7," ",ALAPADATOK!C7," ",ALAPADATOK!D7," ",ALAPADATOK!E7," ",ALAPADATOK!F7," ",ALAPADATOK!G7," ",ALAPADATOK!H7) -> 9.3. melléklet a … / 2021 ( ) önkormányzati rendelethez
A2: Költségvetési szerv megnevezése | B2: =CONCATENATE(ALAPADATOK!B13) -> Szászvári Óvoda Intézményfenntartó Társulás | C2: 03
A3: Feladat megnevezése | B3: Összes bevétel, kiadás | C3: 01
C4: Forintban!
A5: Száma | B5: Kiemelt előirányzat, előirányzat megnevezése | C5: Előirányzat
B6: A | C6: B
B7: Bevételek
A8: 1. | B8: Működési bevételek (1.1.+…+1.11.) | C8: =SUM(C9:C19) -> 0
A9: 1.1. | B9: Készletértékesítés ellenértéke
A10: 1.2. | B10: Szolgáltatások ellenértéke
A11: 1.3. | B11: Közvetített szolgáltatások értéke
A12: 1.4. | B12: Tulajdonosi bevételek
A13: 1.5. | B13: Ellátási díjak
A14: 1.6. | B14: Kiszámlázott általános forgalmi adó
A15: 1.7. | B15: Általános forgalmi adó visszatérülése
A16: 1.8. | B16: Kamatbevételek
A17: 1.9. | B17: Egyéb pénzügyi műveletek bevételei
A18: 1.10. | B18: Biztosító által fizetett kártérítés
A19: 1.11. | B19: Egyéb működési bevételek
A20: 2. | B20: Működési célú támogatások államháztartáson belülről (2.1.+…+2.3.) | C20: =SUM(C21:C23) -> 0
A21: 2.1. | B21: Elvonások és befizetések bevételei
A22: 2.2. | B22: Visszatérítendő támogatások, kölcsönök visszatérülése ÁH-n belülről
A23: 2.3. | B23: Egyéb működési célú támogatások bevételei államháztartáson belülről
A24: 2.4. | B24: 2.3.-ból EU támogatás
A25: 3. | B25: Közhatalmi bevételek
A26: 4. | B26: Felhalmozási célú támogatások államháztartáson belülről (4.1.+4.2.) | C26: =+C27+C28 -> 0
A27: 4.1. | B27: Visszatérítendő támogatások, kölcsönök visszatérülése ÁH-n belülről
A28: 4.2. | B28: Egyéb felhalmozási célú támogatások bevételei államháztartáson belülről
A29: 4.3. | B29: 4.2.-ből EU-s támogatás
A30: 5. | B30: Felhalmozási bevételek (5.1.+…+5.3.) | C30: =+C31+C32+C33 -> 0
A31: 5.1. | B31: Immateriális javak értékesítése
A32: 5.2. | B32: Ingatlanok értékesítése
A33: 5.3. | B33: Egyéb tárgyi eszközök értékesítése
A34: 6. | B34: Működési célú átvett pénzeszközök | C34: 66362700
A35: 7. | B35: Felhalmozási célú átvett pénzeszközök
A36: 8. | B36: KÖLTSÉGVETÉSI BEVÉTELEK ÖSSZESEN (1.+…+7.) | C36: =+C8+C20+C25+C26+C30+C34+C35 -> 66362700
A37: 9. | B37: Finanszírozási bevételek (9.1.+…+9.3.) | C37: =+C38+C39+C40 -> 0
A38: 9.1. | B38: Költségvetési maradvány igénybevétele
A39: 9.2. | B39: Vállalkozási maradvány igénybevétele
A40: 9.3. | B40: Irányító szervi (önkormányzati) támogatás (intézményfinanszírozás)
A41: 10. | B41: BEVÉTELEK ÖSSZESEN: (8.+9.) | C41: =+C36+C37 -> 66362700
B44: Kiadások
A45: 1. | B45: Működési költségvetés kiadásai (1.1+…+1.5.) | C45: =SUM(C46:C50) -> 112700
A46: 1.1. | B46: Személyi juttatások
A47: 1.2. | B47: Munkaadókat terhelő járulékok és szociális hozzájárulási adó
A48: 1.3. | B48: Dologi kiadások | C48: 112700
A49: 1.4. | B49: Ellátottak pénzbeli juttatásai
A50: 1.5. | B50: Egyéb működési célú kiadások
A51: 2. | B51: Felhalmozási költségvetés kiadásai (2.1.+…+2.3.) | C51: =SUM(C52:C54) -> 0
A52: 2.1. | B52: Beruházások
A53: 2.2. | B53: Felújítások
A54: 2.3. | B54: Egyéb fejlesztési célú kiadások
A55: 2.4. | B55: 2.3.-ból EU-s támogatásból megvalósuló programok, projektek kiadása
A56: 3. | B56: Finanszírozási kiadások | C56: 66250000
A57: 4. | B57: KIADÁSOK ÖSSZESEN: (1.+2.+3.) | C57: =+C45+C51+C56 -> 66362700
C58: =C41-C57 -> 0
A59: Éves tervezett létszám előirányzat (fő) | C59: 0
A60: Közfoglalkoztatottak létszáma (fő) | C60: 0

Sheet KV_9.4.sz.mell
C1: =CONCATENATE(ALAPADATOK!P15," melléklet ",ALAPADATOK!A7," ",ALAPADATOK!B7," ",ALAPADATOK!C7," ",ALAPADATOK!D7," ",ALAPADATOK!E7," ",ALAPADATOK!F7," ",ALAPADATOK!G7," ",ALAPADATOK!H7) -> 9.4. melléklet a … / 2021 ( ) önkormányzati rendelethez
A2: Költségvetési szerv megnevezése | B2: =CONCATENATE(ALAPADATOK!B15) -> Szászvári Hársvirág Óvoda | C2: 04
A3: Feladat megnevezése | B3: Összes bevétel, kiadás | C3: 01
C4: Forintban!
A5: Száma | B5: Kiemelt előirányzat, előirányzat megnevezése | C5: Előirányzat
B6: A | C6: B
B7: Bevételek
A8: 1. | B8: Működési bevételek (1.1.+…+1.11.) | C8: =SUM(C9:C19) -> 0
A9: 1.1. | B9: Készletértékesítés ellenértéke
A10: 1.2. | B10: Szolgáltatások ellenértéke
A11: 1.3. | B11: Közvetített szolgáltatások értéke
A12: 1.4. | B12: Tulajdonosi bevételek
A13: 1.5. | B13: Ellátási díjak
A14: 1.6. | B14: Kiszámlázott általános forgalmi adó
A15: 1.7. | B15: Általános forgalmi adó visszatérülése
A16: 1.8. | B16: Kamatbevételek
A17: 1.9. | B17: Egyéb pénzügyi műveletek bevételei
A18: 1.10. | B18: Biztosító által fizetett kártérítés
A19: 1.11. | B19: Egyéb működési bevételek
A20: 2. | B20: Működési célú támogatások államháztartáson belülről (2.1.+…+2.3.) | C20: =SUM(C21:C23) -> 0
A21: 2.1. | B21: Elvonások és befizetések bevételei
A22: 2.2. | B22: Visszatérítendő támogatások, kölcsönök visszatérülése ÁH-n belülről
A23: 2.3. | B23: Egyéb működési célú támogatások bevételei államháztartáson belülről
A24: 2.4. | B24: 2.3.-ból EU támogatás
A25: 3. | B25: Közhatalmi bevételek
A26: 4. | B26: Felhalmozási célú támogatások államháztartáson belülről (4.1.+4.2.) | C26: =+C27+C28 -> 0
A27: 4.1. | B27: Visszatérítendő támogatások, kölcsönök visszatérülése ÁH-n belülről
A28: 4.2. | B28: Egyéb felhalmozási célú támogatások bevételei államháztartáson belülről
A29: 4.3. | B29: 4.2.-ből EU-s támogatás
A30: 5. | B30: Felhalmozási bevételek (5.1.+…+5.3.) | C30: =+C31+C32+C33 -> 0
A31: 5.1. | B31: Immateriális javak értékesítése
A32: 5.2. | B32: Ingatlanok értékesítése
A33: 5.3. | B33: Egyéb tárgyi eszközök értékesítése
A34: 6. | B34: Működési célú átvett pénzeszközök
A35: 7. | B35: Felhalmozási célú átvett pénzeszközök
A36: 8. | B36: KÖLTSÉGVETÉSI BEVÉTELEK ÖSSZESEN (1.+…+7.) | C36: =+C8+C20+C25+C26+C30+C34+C35 -> 0
A37: 9. | B37: Finanszírozási bevételek (9.1.+…+9.3.) | C37: =+C38+C39+C40 -> 69717197
A38: 9.1. | B38: Költségvetési maradvány igénybevétele
A39: 9.2. | B39: Vállalkozási maradvány igénybevétele
A40: 9.3. | B40: Irányító szervi (önkormányzati) támogatás (intézményfinanszírozás) | C40: 69717197
A41: 10. | B41: BEVÉTELEK ÖSSZESEN: (8.+9.) | C41: =+C36+C37 -> 69717197
B44: Kiadások
A45: 1. | B45: Működési költségvetés kiadásai (1.1+…+1.5.) | C45: =SUM(C46:C50) -> 69717197
A46: 1.1. | B46: Személyi juttatások | C46: 53417400
A47: 1.2. | B47: Munkaadókat terhelő járulékok és szociális hozzájárulási adó | C47: 8494446
A48: 1.3. | B48: Dologi kiadások | C48: 7805351
A49: 1.4. | B49: Ellátottak pénzbeli juttatásai
A50: 1.5. | B50: Egyéb működési célú kiadások
A51: 2. | B51: Felhalmozási költségvetés kiadásai (2.1.+…+2.3.) | C51: =SUM(C52:C54) -> 0
A52: 2.1. | B52: Beruházások
A53: 2.2. | B53: Felújítások
A54: 2.3. | B54: Egyéb fejlesztési célú kiadások
A55: 2.4. | B55: 2.3.-ból EU-s támogatásból megvalósuló programok, projektek kiadása
A56: 3. | B56: Finanszírozási kiadások
A57: 4. | B57: KIADÁSOK ÖSSZESEN: (1.+2.+3.) | C57: =+C45+C51+C56 -> 69717197
C58: =C41-C57 -> 0
A59: Éves tervezett létszám előirányzat (fő) | C59: 14
A60: Közfoglalkoztatottak létszáma (fő) | C60: 0

Sheet KV_9.5.sz.mell
C1: =CONCATENATE(ALAPADATOK!P17," melléklet ",ALAPADATOK!A7," ",ALAPADATOK!B7," ",ALAPADATOK!C7," ",ALAPADATOK!D7," ",ALAPADATOK!E7," ",ALAPADATOK!F7," ",ALAPADATOK!G7," ",ALAPADATOK!H7) -> 9.5. melléklet a … / 2021 ( ) önkormányzati rendelethez
A2: Költségvetési szerv megnevezése | B2: =CONCATENATE(ALAPADATOK!B17) -> Bóbita Bölcsőde Szászvár | C2: 05
A3: Feladat megnevezése | B3: Összes bevétel, kiadás | C3: 01
C4: Forintban!
A5: Száma | B5: Kiemelt előirányzat, előirányzat megnevezése | C5: Előirányzat
B6: A | C6: B
B7: Bevételek
A8: 1. | B8: Működési bevételek (1.1.+…+1.11.) | C8: =SUM(C9:C19) -> 0
A9: 1.1. | B9: Készletértékesítés ellenértéke
A10: 1.2. | B10: Szolgáltatások ellenértéke
A11: 1.3. | B11: Közvetített szolgáltatások értéke
A12: 1.4. | B12: Tulajdonosi bevételek
A13: 1.5. | B13: Ellátási díjak
A14: 1.6. | B14: Kiszámlázott általános forgalmi adó
A15: 1.7. | B15: Általános forgalmi adó visszatérülése
A16: 1.8. | B16: Kamatbevételek
A17: 1.9. | B17: Egyéb pénzügyi műveletek bevételei
A18: 1.10. | B18: Biztosító által fizetett kártérítés
A19: 1.11. | B19: Egyéb működési bevételek
A20: 2. | B20: Működési célú támogatások államháztartáson belülről (2.1.+…+2.3.) | C20: =SUM(C21:C23) -> 0
A21: 2.1. | B21: Elvonások és befizetések bevételei
A22: 2.2. | B22: Visszatérítendő támogatások, kölcsönök visszatérülése ÁH-n belülről
A23: 2.3. | B23: Egyéb működési célú támogatások bevételei államháztartáson belülről
A24: 2.4. | B24: 2.3.-ból EU támogatás
A25: 3. | B25: Közhatalmi bevételek
A26: 4. | B26: Felhalmozási célú támogatások államháztartáson belülről (4.1.+4.2.) | C26: =+C27+C28 -> 0
A27: 4.1. | B27: Visszatérítendő támogatások, kölcsönök visszatérülése ÁH-n belülről
A28: 4.2. | B28: Egyéb felhalmozási célú támogatások bevételei államháztartáson belülről
A29: 4.3. | B29: 4.2.-ből EU-s támogatás
A30: 5. | B30: Felhalmozási bevételek (5.1.+…+5.3.) | C30: =+C31+C32+C33 -> 0
A31: 5.1. | B31: Immateriális javak értékesítése
A32: 5.2. | B32: Ingatlanok értékesítése
A33: 5.3. | B33: Egyéb tárgyi eszközök értékesítése
A34: 6. | B34: Működési célú átvett pénzeszközök
A35: 7. | B35: Felhalmozási célú átvett pénzeszközök
A36: 8. | B36: KÖLTSÉGVETÉSI BEVÉTELEK ÖSSZESEN (1.+…+7.) | C36: =+C8+C20+C25+C26+C30+C34+C35 -> 0
A37: 9. | B37: Finanszírozási bevételek (9.1.+…+9.3.) | C37: =+C38+C39+C40 -> 44590156
A38: 9.1. | B38: Költségvetési maradvány igénybevétele
A39: 9.2. | B39: Vállalkozási maradvány igénybevétele
A40: 9.3. | B40: Irányító szervi (önkormányzati) támogatás (intézményfinanszírozás) | C40: 44590156
A41: 10. | B41: BEVÉTELEK ÖSSZESEN: (8.+9.) | C41: =+C36+C37 -> 44590156
B44: Kiadások
A45: 1. | B45: Működési költségvetés kiadásai (1.1+…+1.5.) | C45: =SUM(C46:C50) -> 44590156
A46: 1.1. | B46: Személyi juttatások | C46: 30692256
A47: 1.2. | B47: Munkaadókat terhelő járulékok és szociális hozzájárulási adó | C47: 5787900
A48: 1.3. | B48: Dologi kiadások | C48: 8110000
A49: 1.4. | B49: Ellátottak pénzbeli juttatásai
A50: 1.5. | B50: Egyéb működési célú kiadások
A51: 2. | B51: Felhalmozási költségvetés kiadásai (2.1.+…+2.3.) | C51: =SUM(C52:C54) -> 0
A52: 2.1. | B52: Beruházások
A53: 2.2. | B53: Felújítások
A54: 2.3. | B54: Egyéb fejlesztési célú kiadások
A55: 2.4. | B55: 2.3.-ból EU-s támogatásból megvalósuló programok, projektek kiadása
A56: 3. | B56: Finanszírozási kiadások
A57: 4. | B57: KIADÁSOK ÖSSZESEN: (1.+2.+3.) | C57: =+C45+C51+C56 -> 44590156
C58: =C41-C57 -> 0
A59: Éves tervezett létszám előirányzat (fő) | C59: 8
A60: Közfoglalkoztatottak létszáma (fő) | C60: 0

Sheet KV_10.sz.mell
B2: =CONCATENATE("10. melléklet ",ALAPADATOK!A7," ",ALAPADATOK!B7," ",ALAPADATOK!C7," ",ALAPADATOK!D7," ",ALAPADATOK!E7," ",ALAPADATOK!F7," ",ALAPADATOK!G7," ",ALAPADATOK!H7) -> 10. melléklet a … / 2021 ( ) önkormányzati rendelethez
A4: Adatszolgáltatás az elismert tartozásállományról
A6: Költségvetési szerv neve: | C6: Szászvár Nagyközség Önkorányzata
A8: Költségvetési szerv számlaszáma: | C8: 71800068-11096252
A10: Éves eredeti kiadási előirányzat: | C10: =KV_1.1.sz.mell.!C159 -> 603699116 | E10: Ft
A11: 30 napon túli elismert tartozásállomány összesen: | E11: =D18+E18 -> 7033572 | F11: Ft | G11: Forintban
A12: Sor-szám | B12: Tartozásállomány megnevezése | C12: 30 nap alatti állomány | D12: 30-60 nap közötti állomány | E12: 60 napon túli állomány | F12: Át-ütemezett | G12: Összesen:
A13: 1. | B13: Állammal szembeni tartozások | G13: =SUM(C13:F13) -> 0
A14: 2. | B14: Központi költségvetéssel szemben fennálló tartozás | G14: =SUM(C14:F14) -> 0
A15: 3. | B15: Elkülönített állami pénzalapokkal szembeni tartozás | G15: =SUM(C15:F15) -> 0
A16: 4. | B16: TB alapokkal szembeni tartozás | G16: =SUM(C16:F16) -> 0
A17: 5. | B17: Tartozásállomány önkormányzatok és intézmények felé | G17: =SUM(C17:F17) -> 0
A18: 6. | B18: Egyéb tartozásállomány | C18: 77710 | D18: 1710382 | E18: 5323190 | G18: =SUM(C18:F18) -> 7111282
A19: 7. | B19: Összesen: | C19: =SUM(C13:C18) -> 77710 | D19: =SUM(D13:D18) -> 1710382 | E19: =SUM(E13:E18) -> 5323190 | F19: =SUM(F13:F18) -> 0 | G19: =SUM(C19:F19) -> 7111282
A23: =+CONCATENATE("Szászvár, ",LEFT(KV_ÖSSZEFÜGGÉSEK!A5,4),". február hó 23 nap") -> Szászvár, 2021. február hó 23 nap
D27: költségvetési szerv vezetője

Sheet KV_1.sz.tájékoztató_t.
E1: =CONCATENATE("1. tájékoztató tábla ",ALAPADATOK!A7," ",ALAPADATOK!B7," ",ALAPADATOK!C7," ",ALAPADATOK!D7," ",ALAPADATOK!E7," ",ALAPADATOK!F7," ",ALAPADATOK!G7," ",ALAPADATOK!H7) -> 1. tájékoztató tábla a … / 2021 ( ) önkormányzati rendelethez
A2: =CONCATENATE(ALAPADATOK!A3) -> Szászvár Nagyközség Önkormányzata
A3: =CONCATENATE("Tájékoztató a ",ALAPADATOK!D7-2,". évi tény, ",ALAPADATOK!D7-1,". évi várható és ",ALAPADATOK!D7,". évi terv adatokról") -> Tájékoztató a 2019. évi tény, 2020. évi várható és 2021. évi terv adatokról
A4: B E V É T E L E K
A5: 1. sz. táblázat | E5: =KV_10.sz.mell!G11 -> Forintban
A6: Sor- szám | B6: Bevételi jogcím | C6: =+CONCATENATE(LEFT(KV_ÖSSZEFÜGGÉSEK!A5,4)-2,". évi tény") -> 2019. évi tény | D6: =+CONCATENATE(LEFT(KV_ÖSSZEFÜGGÉSEK!A5,4)-1,". évi várható") -> 2020. évi várható | E6: =+KV_1.1.sz.mell.!C8 -> 2021. évi előirányzat
A7: A | B7: B | C7: C | D7: D | E7: E
A8: 1. | B8: Önkormányzat működési támogatásai (1.1.+…+.1.6.) | C8: =+C9+C10+C11+C12+C13+C14 -> 211097890 | D8: =+D9+D10+D11+D12+D13+D14 -> 252957957 | E8: =KV_1.1.sz.mell.!C10 -> 233233406
A9: 1.1. | B9: Helyi önkormányzatok működésének általános támogatása | C9: 77784727 | D9: 85999269 | E9: =KV_1.1.sz.mell.!C11 -> 84661051
A10: 1.2. | B10: Önkormányzatok egyes köznevelési feladatainak támogatása | C10: 64129200 | D10: 68521725 | E10: =KV_1.1.sz.mell.!C12 -> 66362700
A11: 1.3. | B11: Önkormányzatok szociális és gyermekjóléti feladatainak támogatása | C11: 51890795 | D11: 83041678 | E11: =KV_1.1.sz.mell.!C13 -> 77157895
A12: 1.4. | B12: Önkormányzatok kulturális feladatainak támogatása | C12: 2940710 | D12: 3931859 | E12: =KV_1.1.sz.mell.!C14 -> 5051760
A13: 1.5. | B13: Működési célú kvi támogatások és kiegészítő támogatások | C13: 10922400 | D13: 10799800 | E13: =KV_1.1.sz.mell.!C15 -> 0
A14: 1.6. | B14: Elszámolásból származó bevételek | C14: 3430058 | D14: 663626 | E14: =KV_1.1.sz.mell.!C16 -> 0
A15: 2. | B15: Működési célú támogatások államháztartáson belülről (2.1.+…+.2.5.) | C15: =+C16+C17+C18+C19+C20 -> 143821743 | D15: =+D16+D17+D18+D19+D20 -> 51017575 | E15: =KV_1.1.sz.mell.!C17 -> 150449472
A16: 2.1. | B16: Elvonások és befizetések bevételei | E16: =KV_1.1.sz.mell.!C18 -> 0
A17: 2.2. | B17: Működési célú garancia- és kezességvállalásból megtérülések | E17: =KV_1.1.sz.mell.!C19 -> 0
A18: 2.3. | B18: Működési célú visszatérítendő támogatások, kölcsönök visszatérülése | E18: =KV_1.1.sz.mell.!C20 -> 0
A19: 2.4. | B19: Működési célú visszatérítendő támogatások, kölcsönök igénybevétele | E19: =KV_1.1.sz.mell.!C21 -> 0
A20: 2.5. | B20: Egyéb működési célú támogatások bevételei | C20: 143821743 | D20: 51017575 | E20: =KV_1.1.sz.mell.!C22 -> 150449472
A21: 2.6. | B21: 2.5.-ből EU-s támogatás | E21: =KV_1.1.sz.mell.!C23 -> 0
A22: 3. | B22: Felhalmozási célú támogatások államháztartáson belülről (3.1.+…+3.5.) | C22: =+C23+C24+C25+C26+C27 -> 39311805 | D22: =+D23+D24+D25+D26+D27 -> 55009269 | E22: =KV_1.1.sz.mell.!C24 -> 0
A23: 3.1. | B23: Felhalmozási célú önkormányzati támogatások | C23: 8003943 | E23: =KV_1.1.sz.mell.!C25 -> 0
A24: 3.2. | B24: Felhalmozási célú garancia- és kezességvállalásból megtérülések | E24: =KV_1.1.sz.mell.!C26 -> 0
A25: 3.3. | B25: Felhalmozási célú visszatérítendő támogatások, kölcsönök visszatérülése | E25: =KV_1.1.sz.mell.!C27 -> 0
A26: 3.4. | B26: Felhalmozási célú visszatérítendő támogatások, kölcsönök igénybevétele | E26: =KV_1.1.sz.mell.!C28 -> 0
A27: 3.5. | B27: Egyéb felhalmozási célú támogatások bevételei | C27: 31307862 | D27: 55009269 | E27: =KV_1.1.sz.mell.!C29 -> 0
A28: 3.6. | B28: 3.5.-ből EU-s támogatás | E28: =KV_1.1.sz.mell.!C30 -> 0
A29: 4. | B29: Közhatalmi bevételek (4.1.+4.2.+4.3.+4.4.) | C29: =SUM(C30:C36) -> 44057005 | D29: =SUM(D30:D36) -> 34427235 | E29: =KV_1.1.sz.mell.!C31 -> 31023000
A30: 4.1. | B30: =KV_1.1.sz.mell.!B32 -> Pótlék | C30: 124915 | D30: 127294 | E30: =KV_1.1.sz.mell.!C32 -> 0
A31: 4.2. | B31: =KV_1.1.sz.mell.!B33 -> Idegenforgalmi adó | C31: 125000 | D31: 71600 | E31: =KV_1.1.sz.mell.!C33 -> 140000
A32: 4.3. | B32: =KV_1.1.sz.mell.!B34 -> Iparűzési adó | C32: 26734908 | D32: 23885225 | E32: =KV_1.1.sz.mell.!C34 -> 21000000
A33: 4.4. | B33: =KV_1.1.sz.mell.!B35 -> Talajterhelési díj | E33: =KV_1.1.sz.mell.!C35 -> 0
A34: 4.5. | B34: =KV_1.1.sz.mell.!B36 -> Gépjárműadó | C34: 6711325 | E34: =KV_1.1.sz.mell.!C36 -> 0
A35: 4.6. | B35: =KV_1.1.sz.mell.!B37 -> Egyéb bevétel (mezőőri jár.) | C35: 400000 | D35: 383030 | E35: =KV_1.1.sz.mell.!C37 -> 383000
A36: 4.7. | B36: =KV_1.1.sz.mell.!B38 -> Kommunális adó | C36: 9960857 | D36: 9960086 | E36: =KV_1.1.sz.mell.!C38 -> 9500000
A37: 5. | B37: Működési bevételek (5.1.+…+ 5.11.) | C37: =SUM(C38:C48) -> 37593383 | D37: =SUM(D38:D48) -> 26847000 | E37: =KV_1.1.sz.mell.!C39 -> 20760000
A38: 5.1. | B38: Készletértékesítés ellenértéke | C38: 909195 | D38: 248031 | E38: =KV_1.1.sz.mell.!C40 -> 5000000
A39: 5.2. | B39: Szolgáltatások ellenértéke | C39: 15305529 | D39: 8138378 | E39: =KV_1.1.sz.mell.!C41 -> 2760000
A40: 5.3. | B40: Közvetített szolgáltatások értéke | C40: 5896 | D40: 315528 | E40: =KV_1.1.sz.mell.!C42 -> 0
A41: 5.4. | B41: Tulajdonosi bevételek | C41: 2958000 | D41: 1530656 | E41: =KV_1.1.sz.mell.!C43 -> 0
A42: 5.5. | B42: Ellátási díjak | C42: 12116471 | D42: 10865336 | E42: =KV_1.1.sz.mell.!C44 -> 12600000
A43: 5.6. | B43: Kiszámlázott általános forgalmi adó | C43: 6182300 | D43: 4683747 | E43: =KV_1.1.sz.mell.!C45 -> 0
A44: 5.7. | B44: Általános forgalmi adó visszatérítése | E44: =KV_1.1.sz.mell.!C46 -> 0
A45: 5.8. | B45: Kamatbevételek és más nyereségjellegű bevételek | C45: 1328 | D45: 3840 | E45: =KV_1.1.sz.mell.!C47 -> 0
A46: 5.9. | B46: Egyéb pénzügyi műveletek bevételei | E46: =KV_1.1.sz.mell.!C48 -> 0
A47: 5.10. | B47: Biztosító által fizetett kártérítés | D47: 996257 | E47: =KV_1.1.sz.mell.!C49 -> 0
A48: 5.11. | B48: Egyéb működési bevételek | C48: 114664 | D48: 65227 | E48: =KV_1.1.sz.mell.!C50 -> 400000
A49: 6. | B49: Felhalmozási bevételek (6.1.+…+6.5.) | C49: =SUM(C50:C54) -> 4614625 | D49: =SUM(D50:D54) -> 4500000 | E49: =KV_1.1.sz.mell.!C51 -> 7500000
A50: 6.1. | B50: Immateriális javak értékesítése | E50: =KV_1.1.sz.mell.!C52 -> 0
A51: 6.2. | B51: Ingatlanok értékesítése | C51: 4600000 | D51: 4500000 | E51: =KV_1.1.sz.mell.!C53 -> 7500000
A52: 6.3. | B52: Egyéb tárgyi eszközök értékesítése | C52: 14625 | E52: =KV_1.1.sz.mell.!C54 -> 0
A53: 6.4. | B53: Részesedések értékesítése | E53: =KV_1.1.sz.mell.!C55 -> 0
A54: 6.5. | B54: Részesedések megszűnéséhez kapcsolódó bevételek | E54: =KV_1.1.sz.mell.!C56 -> 0
A55: 7. | B55: Működési célú átvett pénzeszközök (7.1. + … + 7.3.) | C55: =SUM(C56:C58) -> 218500 | D55: =SUM(D56:D58) -> 684603 | E55: =KV_1.1.sz.mell.!C57 -> 0
A56: 7.1. | B56: Működési célú garancia- és kezességvállalásból megtérülések ÁH-n kívülről | E56: =KV_1.1.sz.mell.!C58 -> 0
A57: 7.2. | B57: Működési célú visszatérítendő támogatások, kölcsönök visszatér. ÁH-n kívülről | D57: 436740 | E57: =KV_1.1.sz.mell.!C59 -> 0
A58: 7.3. | B58: Egyéb működési célú átvett pénzeszköz | C58: 218500 | D58: 247863 | E58: =KV_1.1.sz.mell.!C60 -> 0
A59: 7.4. | B59: 7.3.-ból EU-s támogatás (közvetlen) | E59: =KV_1.1.sz.mell.!C61 -> 0
A60: 8. | B60: Felhalmozási célú átvett pénzeszközök (8.1.+8.2.+8.3.) | C60: =SUM(C61:C63) -> 115000 | D60: =SUM(D61:D63) -> 1517131 | E60: =KV_1.1.sz.mell.!C62 -> 0
A61: 8.1. | B61: Felhalm. célú garancia- és kezességvállalásból megtérülések ÁH-n kívülről | E61: =KV_1.1.sz.mell.!C63 -> 0
A62: 8.2. | B62: Felhalm. célú visszatérítendő támogatások, kölcsönök visszatér. ÁH-n kívülről | E62: =KV_1.1.sz.mell.!C64 -> 0
A63: 8.3. | B63: Egyéb felhalmozási célú átvett pénzeszköz | C63: 115000 | D63: 1517131 | E63: =KV_1.1.sz.mell.!C65 -> 0
A64: 8.4. | B64: 8.3.-ból EU-s támogatás (közvetlen) | E64: =KV_1.1.sz.mell.!C66 -> 0
A65: 9. | B65: KÖLTSÉGVETÉSI BEVÉTELEK ÖSSZESEN: (1+…+8) | C65: =+C8+C15+C22+C29+C37+C49+C55+C60 -> 480829951 | D65: =+D8+D15+D22+D29+D37+D49+D55+D60 -> 426960770 | E65: =KV_1.1.sz.mell.!C67 -> 442965878
A66: 10. | B66: Hitel-, kölcsönfelvétel államháztartáson kívülről (10.1.+…+10.3.) | C66: =SUM(C67:C69) -> 244876724 | D66: =SUM(D67:D69) -> 249923095 | E66: =KV_1.1.sz.mell.!C68 -> 100000000
A67: 10.1. | B67: Hosszú lejáratú hitelek, kölcsönök felvétele | C67: 43477548 | E67: =KV_1.1.sz.mell.!C69 -> 0
A68: 10.2. | B68: Likviditási célú hitelek, kölcsönök felvétele pénzügyi vállalkozástól | C68: 201399176 | D68: 249923095 | E68: 100000000
A69: 10.3. | B69: Rövid lejáratú hitelek, kölcsönök felvétele
A70: 11. | B70: Belföldi értékpapírok bevételei (11.1. +…+ 11.4.) | C70: =SUM(C71:C74) -> 0 | D70: =SUM(D71:D74) -> 0 | E70: =KV_1.1.sz.mell.!C72 -> 0
A71: 11.1. | B71: Forgatási célú belföldi értékpapírok beváltása, értékesítése | E71: =KV_1.1.sz.mell.!C73 -> 0
A72: 11.2. | B72: Éven belüli lejáratú belföldi értékpapírok kibocsátása | E72: =KV_1.1.sz.mell.!C74 -> 0
A73: 11.3. | B73: Befektetési célú belföldi értékpapírok beváltása, értékesítése | E73: =KV_1.1.sz.mell.!C75 -> 0
A74: 11.4. | B74: Éven túli lejáratú belföldi értékpapírok kibocsátása | E74: =KV_1.1.sz.mell.!C76 -> 0
A75: 12. | B75: Maradvány igénybevétele (12.1. + 12.2.) | C75: =SUM(C76:C77) -> 181290318 | D75: =SUM(D76:D77) -> 63507524 | E75: =KV_1.1.sz.mell.!C77 -> 60733238
A76: 12.1. | B76: Előző év költségvetési maradványának igénybevétele | C76: 181290318 | D76: 63507524 | E76: =KV_1.1.sz.mell.!C78 -> 60733238
A77: 12.2. | B77: Előző év vállalkozási maradványának igénybevétele | E77: =KV_1.1.sz.mell.!C79 -> 0
A78: 13. | B78: Belföldi finanszírozás bevételei (13.1. + … + 13.3.) | C78: =SUM(C79:C81) -> 9024839 | D78: =SUM(D79:D81) -> 9329336 | E78: =KV_1.1.sz.mell.!C80 -> 0
A79: 13.1. | B79: Államháztartáson belüli megelőlegezések | C79: 9024839 | D79: 9329336 | E79: =KV_1.1.sz.mell.!C81 -> 0
A80: 13.2. | B80: Államháztartáson belüli megelőlegezések törlesztése | E80: =KV_1.1.sz.mell.!C82 -> 0
A81: 13.3. | B81: Lekötött betétek megszüntetése | E81: =KV_1.1.sz.mell.!C83 -> 0
A82: 14. | B82: Külföldi finanszírozás bevételei (14.1.+…14.4.) | C82: =SUM(C83:C86) -> 0 | D82: =SUM(D83:D86) -> 0 | E82: =KV_1.1.sz.mell.!C84 -> 0
A83: 14.1. | B83: Forgatási célú külföldi értékpapírok beváltása, értékesítése | E83: =KV_1.1.sz.mell.!C85 -> 0
A84: 14.2. | B84: Befektetési célú külföldi értékpapírok beváltása, értékesítése | E84: =KV_1.1.sz.mell.!C86 -> 0
A85: 14.3. | B85: Külföldi értékpapírok kibocsátása | E85: =KV_1.1.sz.mell.!C87 -> 0
A86: 14.4. | B86: Külföldi hitelek, kölcsönök felvétele | E86: =KV_1.1.sz.mell.!C88 -> 0
A87: 15. | B87: Váltóbevételek | E87: =KV_1.1.sz.mell.!C89 -> 0
A88: 16. | B88: Adóssághoz nem kapcsolódó származékos ügyletek bevételei | E88: =KV_1.1.sz.mell.!C90 -> 0
A89: 17. | B89: FINANSZÍROZÁSI BEVÉTELEK ÖSSZESEN: (10. + … +16.) | C89: =+C66+C70+C75+C78+C82+C88+C87 -> 435191881 | D89: =+D66+D70+D75+D78+D82+D88+D87 -> 322759955 | E89: =KV_1.1.sz.mell.!C91 -> 160733238
A90: 18. | B90: KÖLTSÉGVETÉSI ÉS FINANSZÍROZÁSI BEVÉTELEK ÖSSZESEN: (9+17) | C90: =+C65+C89 -> 916021832 | D90: =+D65+D89 -> 749720725 | E90: =KV_1.1.sz.mell.!C92 -> 603699116
A92: K I A D Á S O K
A93: 2. sz. táblázat | E93: =E5 -> Forintban
A94: Sor-szám | B94: Kiadási jogcímek | C94: =+C6 -> 2019. évi tény | D94: =+D6 -> 2020. évi várható | E94: =+E6 -> 2021. évi előirányzat
A95: A | B95: B | C95: C | D95: D | E95: E
A96: 1. | B96: Működési költségvetés kiadásai (1.1+…+1.5.+1.18.) | C96: =C97+C98+C99+C100+C101+C114 -> 398057308 | D96: =D97+D98+D99+D100+D101+D114 -> 292727538 | E96: =KV_1.1.sz.mell.!C98 -> 353130287
A97: 1.1. | B97: Személyi juttatások | C97: 130660670 | D97: 79433449 | E97: =KV_1.1.sz.mell.!C99 -> 74683140
A98: 1.2. | B98: Munkaadókat terhelő járulékok és szociális hozzájárulási adó | C98: 18043729 | D98: 10132755 | E98: =KV_1.1.sz.mell.!C100 -> 12045770
A99: 1.3. | B99: Dologi kiadások | C99: 153121767 | D99: 126957681 | E99: =KV_1.1.sz.mell.!C101 -> 87623430
A100: 1.4. | B100: Ellátottak pénzbeli juttatásai | C100: 3091000 | D100: 3610000 | E100: =KV_1.1.sz.mell.!C102 -> 7736000
A101: 1.5 | B101: Egyéb működési célú kiadások | C101: =SUM(C102:C113) -> 93140142 | D101: =SUM(D102:D113) -> 72593653 | E101: =KV_1.1.sz.mell.!C103 -> 171041947
...

Sheet KV_2.sz.tájékoztató_t.
A1: Többéves kihatással járó döntések számszerűsítése évenkénti bontásban és összesítve célok szerint | J1: =CONCATENATE("2. tájékoztató tábla ",ALAPADATOK!A7," ",ALAPADATOK!B7," ",ALAPADATOK!C7," ",ALAPADATOK!D7," ",ALAPADATOK!E7," ",ALAPADATOK!F7," ",ALAPADATOK!G7," ",ALAPADATOK!H7) -> 2. tájékoztató tábla a … / 2021 ( ) önkormányzati rendelethez
I2: =KV_1.sz.tájékoztató_t.!E5 -> Forintban
A3: Sor- szám | B3: Kötelezettség jogcíme | C3: Köt. váll. éve | D3: =+CONCATENATE(LEFT(KV_ÖSSZEFÜGGÉSEK!A5,4)," előtti kifizetés") -> 2021 előtti kifizetés | E3: Kiadás vonzata évenként | I3: Összesen
E4: =+CONCATENATE(LEFT(KV_ÖSSZEFÜGGÉSEK!A5,4),".") -> 2021. | F4: =+CONCATENATE(LEFT(KV_ÖSSZEFÜGGÉSEK!A5,4)+1,".") -> 2022. | G4: =+CONCATENATE(LEFT(KV_ÖSSZEFÜGGÉSEK!A5,4)+2,".") -> 2023. | H4: =+CONCATENATE(LEFT(KV_ÖSSZEFÜGGÉSEK!A5,4)+2,".",CHAR(10)," után") -> 2023. után
A5: A | B5: B | C5: C | D5: D | E5: E | F5: F | G5: G | H5: H | I5: I=(D+E+F+G+H)
A6: 1. | B6: Működési célú finanszírozási kiadások (hiteltörlesztés, értékpapír vásárlás, stb.) | D6: =+D7+D8 -> 0 | E6: =+E7+E8 -> 0 | F6: =+F7+F8 -> 0 | G6: =+G7+G8 -> 0 | H6: =+H7+H8 -> 0 | I6: =SUM(D6:H6) -> 0
A7: 2. | B7: ............................ | I7: =SUM(D7:H7) -> 0
A8: 3. | B8: ............................ | I8: =SUM(D8:H8) -> 0
A9: 4. | B9: Felhalmozási célú finanszírozási kiadások (hiteltörlesztés, értékpapír vásárlás, stb.) | D9: =+D10+D11 -> 17135271 | E9: =+E10+E11 -> 8765027 | F9: =+F10+F11 -> 38602598 | G9: =+G10+G11 -> 2250115 | H9: =+H10+H11 -> 11529640 | I9: =SUM(D9:H9) -> 78282651
A10: 5. | B10: Orvosi rendleő felújítása | C10: 2018 | D10: 5415842 | E10: 2422770 | F10: 2140792 | G10: 2250115 | H10: 11529640 | I10: =SUM(D10:H10) -> 23759159
A11: 6. | B11: Bölcsőde építés | C11: 2019 | D11: 11719429 | E11: 6342257 | F11: 36461806 | G11: 0 | H11: 0 | I11: =SUM(D11:H11) -> 54523492
A12: 7. | B12: Beruházási kiadások beruházásonként | D12: =+D13 -> 0 | E12: =+E13 -> 0 | F12: =+F13 -> 0 | G12: =+G13 -> 0 | H12: =+H13 -> 0 | I12: =SUM(D12:H12) -> 0
A13: 8. | B13: ............................ | I13: =SUM(D13:H13) -> 0
A14: 9. | B14: Felújítási kiadások felújításonként | D14: =+D15 -> 0 | E14: =+E15 -> 0 | F14: =+F15 -> 0 | G14: =+G15 -> 0 | H14: =+H15 -> 0 | I14: =SUM(D14:H14) -> 0
A15: 10. | B15: ............................ | I15: =SUM(D15:H15) -> 0
A16: 11. | B16: Egyéb (Pl.: garancia és kezességvállalás, stb.) | D16: =+D17 -> 0 | E16: =+E17 -> 0 | F16: =+F17 -> 0 | G16: =+G17 -> 0 | H16: =+H17 -> 0 | I16: =SUM(D16:H16) -> 0
A17: 12. | B17: ............................ | I17: =SUM(D17:H17) -> 0
A18: Összesen (1+4+7+9+11) | D18: =+D6+D9+D12+D14+D16 -> 17135271 | E18: =+E6+E9+E12+E14+E16 -> 8765027 | F18: =+F6+F9+F12+F14+F16 -> 38602598 | G18: =+G6+G9+G12+G14+G16 -> 2250115 | H18: =+H6+H9+H12+H14+H16 -> 11529640 | I18: =+I6+I9+I12+I14+I16 -> 78282651

Sheet KV_3.sz.tájékoztató_t.
D1: =CONCATENATE("3. tájékoztató tábla ",ALAPADATOK!A7," ",ALAPADATOK!B7," ",ALAPADATOK!C7," ",ALAPADATOK!D7," ",ALAPADATOK!E7," ",ALAPADATOK!F7," ",ALAPADATOK!G7," ",ALAPADATOK!H7) -> 3. tájékoztató tábla a … / 2021 ( ) önkormányzati rendelethez
B3: Az önkormányzat által adott közvetett támogatások (kedvezmények)
B4: nem releváns | D4: =KV_2.sz.tájékoztató_t.!I2 -> Forintban
A5: Sor-szám | B5: Bevételi jogcím | C5: Kedvezmény nélkül elérhető bevétel | D5: Kedvezmények összege
A6: A | B6: B | C6: C | D6: D
A7: 1. | B7: Ellátottak térítési díjának méltányosságból történő elengedése
A8: 2. | B8: Ellátottak kártérítésének méltányosságból történő elengedése
A9: 3. | B9: Lakosság részére lakásépítéshez nyújtott kölcsön elengedése
A10: 4. | B10: Lakosság részére lakásfelújításhoz nyújtott kölcsön elengedése
A11: 5. | B11: Helyi adóból biztosított kedvezmény, mentesség összesen
A12: 6. | B12: -ebből: Építményadó
A13: 7. | B13: Telekadó
A14: 9. | B14: Magánszemélyek kommunális adója
A15: 10. | B15: Idegenforgalmi adó tartózkodás után
A16: 11. | B16: Idegenforgalmi adó épület után
A17: 12. | B17: Iparűzési adó állandó jelleggel végzett iparűzési tevékenység után
A18: 13. | B18: Gépjárműadóból biztosított kedvezmény, mentesség
... A22: 17. | B22: Egyéb kölcsön elengedése
A23: 18.
A24: 19.
A25: 20.
A26: 21.
A27: 22.
A28: 23.
A29: 24.
A30: 25.
A31: 26.
A32: 27. | B32: Összesen: | C32: =+C7+C8+C9+C10+C11+C18+C19+C20+C21+C22+C23+C24+C25+C26+C27+C28+C29+C30+C31 -> 0 | D32: =+D7+D8+D9+D10+D11+D18+D19+D20+D21+D22+D23+D24+D25+D26+D27+D28+D29+D30+D31 -> 0

Sheet KV_4.sz.tájékoztató_t.
O1: =CONCATENATE("4. tájékoztató tábla ",ALAPADATOK!A7," ",ALAPADATOK!B7," ",ALAPADATOK!C7," ",ALAPADATOK!D7," ",ALAPADATOK!E7," ",ALAPADATOK!F7," ",ALAPADATOK!G7," ",ALAPADATOK!H7) -> 4. tájékoztató tábla a … / 2021 ( ) önkormányzati rendelethez
A2: =+CONCATENATE("Előirányzat-felhasználási terv",CHAR(10),LEFT(KV_ÖSSZEFÜGGÉSEK!A5,4),". évre") -> Előirányzat-felhasználási terv 2021. évre
O3: =KV_3.sz.tájékoztató_t.!D4 -> Forintban
A4: Sor-szám | B4: Megnevezés | C4: Január | D4: Február | E4: Március | F4: Április | G4: Május | H4: Június | I4: Július | J4: Auguszt. | K4: Szept. | L4: Okt. | M4: Nov. | N4: Dec. | O4: Összesen:
A5: 1. | B5: Bevételek
A6: 2. | B6: Önkormányzatok működési támogatásai | C6: =ROUND($O6/12,0) -> 19436117 | D6: =ROUND($O6/12,0) -> 19436117 | E6: =ROUND($O6/12,0) -> 19436117 | F6: =ROUND($O6/12,0) -> 19436117 | G6: =ROUND($O6/12,0) -> 19436117 | H6: =ROUND($O6/12,0) -> 19436117 | I6: =ROUND($O6/12,0) -> 19436117 | J6: =ROUND($O6/12,0) -> 19436117 | ... M6: =ROUND($O6/12,0) -> 19436117 | N6: =-SUM(C6:M6)+O6 -> 19436119 | O6: =KV_1.1.sz.mell.!C10 -> 233233406
A7: 3. | B7: Működési célú támogatások ÁH-on belül | C7: =ROUND($O7/12,0) -> 12537456 | D7: =ROUND($O7/12,0) -> 12537456 | E7: =ROUND($O7/12,0) -> 12537456 | F7: =ROUND($O7/12,0) -> 12537456 | G7: =ROUND($O7/12,0) -> 12537456 | H7: =ROUND($O7/12,0) -> 12537456 | I7: =ROUND($O7/12,0) -> 12537456 | J7: =ROUND($O7/12,0) -> 12537456 | ... M7: =ROUND($O7/12,0) -> 12537456 | N7: =-SUM(C7:M7)+O7 -> 12537456 | O7: =KV_1.1.sz.mell.!C17 -> 150449472
A8: 4. | B8: Felhalmozási célú támogatások ÁH-on belül | C8: =ROUND($O8/12,0) -> 0 | D8: =ROUND($O8/12,0) -> 0 | E8: =ROUND($O8/12,0) -> 0 | F8: =ROUND($O8/12,0) -> 0 | G8: =ROUND($O8/12,0) -> 0 | H8: =ROUND($O8/12,0) -> 0 | I8: =ROUND($O8/12,0) -> 0 | J8: =ROUND($O8/12,0) -> 0 | ... M8: =ROUND($O8/12,0) -> 0 | N8: =-SUM(C8:M8)+O8 -> 0 | O8: =KV_1.1.sz.mell.!C24 -> 0
A9: 5. | B9: Közhatalmi bevételek | C9: =ROUND($O9/12,0) -> 2585250 | D9: =ROUND($O9/12,0) -> 2585250 | E9: =ROUND($O9/12,0) -> 2585250 | F9: =ROUND($O9/12,0) -> 2585250 | G9: =ROUND($O9/12,0) -> 2585250 | H9: =ROUND($O9/12,0) -> 2585250 | I9: =ROUND($O9/12,0) -> 2585250 | J9: =ROUND($O9/12,0) -> 2585250 | ... M9: =ROUND($O9/12,0) -> 2585250 | N9: =-SUM(C9:M9)+O9 -> 2585250 | O9: =KV_1.1.sz.mell.!C31 -> 31023000
A10: 6. | B10: Működési bevételek | C10: =ROUND($O10/12,0) -> 1730000 | D10: =ROUND($O10/12,0) -> 1730000 | E10: =ROUND($O10/12,0) -> 1730000 | F10: =ROUND($O10/12,0) -> 1730000 | G10: =ROUND($O10/12,0) -> 1730000 | H10: =ROUND($O10/12,0) -> 1730000 | I10: =ROUND($O10/12,0) -> 1730000 | J10: =ROUND($O10/12,0) -> 1730000 | ... M10: =ROUND($O10/12,0) -> 1730000 | N10: =-SUM(C10:M10)+O10 -> 1730000 | O10: =KV_1.1.sz.mell.!C39 -> 20760000
A11: 7. | B11: Felhalmozási bevételek | C11: =ROUND($O11/12,0) -> 625000 | D11: =ROUND($O11/12,0) -> 625000 | E11: =ROUND($O11/12,0) -> 625000 | F11: =ROUND($O11/12,0) -> 625000 | G11: =ROUND($O11/12,0) -> 625000 | H11: =ROUND($O11/12,0) -> 625000 | I11: =ROUND($O11/12,0) -> 625000 | J11: =ROUND($O11/12,0) -> 625000 | ... M11: =ROUND($O11/12,0) -> 625000 | N11: =-SUM(C11:M11)+O11 -> 625000 | O11: =KV_1.1.sz.mell.!C51 -> 7500000
A12: 8. | B12: Működési célú átvett pénzeszközök | C12: =ROUND($O12/12,0) -> 0 | D12: =ROUND($O12/12,0) -> 0 | E12: =ROUND($O12/12,0) -> 0 | F12: =ROUND($O12/12,0) -> 0 | G12: =ROUND($O12/12,0) -> 0 | H12: =ROUND($O12/12,0) -> 0 | I12: =ROUND($O12/12,0) -> 0 | J12: =ROUND($O12/12,0) -> 0 | ... M12: =ROUND($O12/12,0) -> 0 | N12: =-SUM(C12:M12)+O12 -> 0 | O12: =KV_1.1.sz.mell.!C62 -> 0
A13: 9. | B13: Felhalmozási célú átvett pénzeszközök | C13: =ROUND($O13/12,0) -> 0 | D13: =ROUND($O13/12,0) -> 0 | E13: =ROUND($O13/12,0) -> 0 | F13: =ROUND($O13/12,0) -> 0 | G13: =ROUND($O13/12,0) -> 0 | H13: =ROUND($O13/12,0) -> 0 | I13: =ROUND($O13/12,0) -> 0 | J13: =ROUND($O13/12,0) -> 0 | ... M13: =ROUND($O13/12,0) -> 0 | N13: =-SUM(C13:M13)+O13 -> 0 | O13: 0
A14: 10. | B14: Finanszírozási bevételek | C14: =ROUND($O14/12,0) -> 13394437 | D14: =ROUND($O14/12,0) -> 13394437 | E14: =ROUND($O14/12,0) -> 13394437 | F14: =ROUND($O14/12,0) -> 13394437 | G14: =ROUND($O14/12,0) -> 13394437 | H14: =ROUND($O14/12,0) -> 13394437 | I14: =ROUND($O14/12,0) -> 13394437 | J14: =ROUND($O14/12,0) -> 13394437 | ... M14: =ROUND($O14/12,0) -> 13394437 | N14: =-SUM(C14:M14)+O14 -> 13394431 | O14: =KV_1.1.sz.mell.!C91 -> 160733238
A15: 11. | B15: Bevételek összesen: | C15: =SUM(C6:C14) -> 50308260 | D15: =SUM(D6:D14) -> 50308260 | E15: =SUM(E6:E14) -> 50308260 | F15: =SUM(F6:F14) -> 50308260 | G15: =SUM(G6:G14) -> 50308260 | H15: =SUM(H6:H14) -> 50308260 | I15: =SUM(I6:I14) -> 50308260 | J15: =SUM(J6:J14) -> 50308260 | ... N15: =SUM(N6:N14) -> 50308256 | O15: =SUM(C15:N15) -> 603699116
A16: 12. | B16: Kiadások
A17: 13. | B17: Személyi juttatások | C17: =ROUND($O17/12,0) -> 6223595 | D17: =ROUND($O17/12,0) -> 6223595 | E17: =ROUND($O17/12,0) -> 6223595 | F17: =ROUND($O17/12,0) -> 6223595 | G17: =ROUND($O17/12,0) -> 6223595 | H17: =ROUND($O17/12,0) -> 6223595 | I17: =ROUND($O17/12,0) -> 6223595 | J17: =ROUND($O17/12,0) -> 6223595 | ... M17: =ROUND($O17/12,0) -> 6223595 | N17: =-SUM(C17:M17)+O17 -> 6223595 | O17: =KV_1.1.sz.mell.!C99 -> 74683140
A18: 14. | B18: Munkaadókat terhelő járulékok és szociális hozzájárulási adó | C18: =ROUND($O18/12,0) -> 1003814 | D18: =ROUND($O18/12,0) -> 1003814 | E18: =ROUND($O18/12,0) -> 1003814 | F18: =ROUND($O18/12,0) -> 1003814 | G18: =ROUND($O18/12,0) -> 1003814 | H18: =ROUND($O18/12,0) -> 1003814 | I18: =ROUND($O18/12,0) -> 1003814 | J18: =ROUND($O18/12,0) -> 1003814 | ... M18: =ROUND($O18/12,0) -> 1003814 | N18: =-SUM(C18:M18)+O18 -> 1003816 | O18: =KV_1.1.sz.mell.!C100 -> 12045770
A19: 15. | B19: Dologi kiadások | C19: =ROUND($O19/12,0) -> 7301953 | D19: =ROUND($O19/12,0) -> 7301953 | E19: =ROUND($O19/12,0) -> 7301953 | F19: =ROUND($O19/12,0) -> 7301953 | G19: =ROUND($O19/12,0) -> 7301953 | H19: =ROUND($O19/12,0) -> 7301953 | I19: =ROUND($O19/12,0) -> 7301953 | J19: =ROUND($O19/12,0) -> 7301953 | ... M19: =ROUND($O19/12,0) -> 7301953 | N19: =-SUM(C19:M19)+O19 -> 7301947 | O19: =KV_1.1.sz.mell.!C101 -> 87623430
A20: 16. | B20: Ellátottak pénzbeli juttatásai | C20: =ROUND($O20/12,0) -> 644667 | D20: =ROUND($O20/12,0) -> 644667 | E20: =ROUND($O20/12,0) -> 644667 | F20: =ROUND($O20/12,0) -> 644667 | G20: =ROUND($O20/12,0) -> 644667 | H20: =ROUND($O20/12,0) -> 644667 | I20: =ROUND($O20/12,0) -> 644667 | J20: =ROUND($O20/12,0) -> 644667 | ... M20: =ROUND($O20/12,0) -> 644667 | N20: =-SUM(C20:M20)+O20 -> 644663 | O20: =KV_1.1.sz.mell.!C102 -> 7736000
A21: 17. | B21: Egyéb működési célú kiadások | C21: =ROUND($O21/12,0) -> 14253496 | D21: =ROUND($O21/12,0) -> 14253496 | E21: =ROUND($O21/12,0) -> 14253496 | F21: =ROUND($O21/12,0) -> 14253496 | G21: =ROUND($O21/12,0) -> 14253496 | H21: =ROUND($O21/12,0) -> 14253496 | I21: =ROUND($O21/12,0) -> 14253496 | J21: =ROUND($O21/12,0) -> 14253496 | ... M21: =ROUND($O21/12,0) -> 14253496 | N21: =-SUM(C21:M21)+O21 -> 14253491 | O21: =KV_1.1.sz.mell.!C103 -> 171041947
A22: 18. | B22: Beruházások | D22: =O22 -> 112676281 | O22: =KV_1.1.sz.mell.!C120 -> 112676281
A23: 19. | B23: Felújítások | G23: =O23 -> 0 | O23: =KV_1.1.sz.mell.!C122 -> 0
A24: 20. | B24: Egyéb felhalmozási kiadások | C24: =ROUND($O24/12,0) -> 0 | D24: =ROUND($O24/12,0) -> 0 | E24: =ROUND($O24/12,0) -> 0 | F24: =ROUND($O24/12,0) -> 0 | G24: =ROUND($O24/12,0) -> 0 | H24: =ROUND($O24/12,0) -> 0 | I24: =ROUND($O24/12,0) -> 0 | J24: =ROUND($O24/12,0) -> 0 | ... M24: =ROUND($O24/12,0) -> 0 | N24: =-SUM(C24:M24)+O24 -> 0
A25: 21. | B25: Finanszírozási kiadások | C25: =ROUND($O25/12,0) -> 11491046 | D25: =ROUND($O25/12,0) -> 11491046 | E25: =ROUND($O25/12,0) -> 11491046 | F25: =ROUND($O25/12,0) -> 11491046 | G25: =ROUND($O25/12,0) -> 11491046 | H25: =ROUND($O25/12,0) -> 11491046 | I25: =ROUND($O25/12,0) -> 11491046 | J25: =ROUND($O25/12,0) -> 11491046 | ... M25: =ROUND($O25/12,0) -> 11491046 | N25: =-SUM(C25:M25)+O25 -> 11491042 | O25: =KV_1.1.sz.mell.!C158 -> 137892548
A26: 22. | B26: Kiadások összesen: | C26: =SUM(C17:C25) -> 40918571 | D26: =SUM(D17:D25) -> 153594852 | E26: =SUM(E17:E25) -> 40918571 | F26: =SUM(F17:F25) -> 40918571 | G26: =SUM(G17:G25) -> 40918571 | H26: =SUM(H17:H25) -> 40918571 | I26: =SUM(I17:I25) -> 40918571 | J26: =SUM(J17:J25) -> 40918571 | ... N26: =SUM(N17:N25) -> 40918554 | O26: =SUM(C26:N26) -> 603699116
A27: 23. | B27: Egyenleg | C27: =C15-C26 -> 9389689 | D27: =D15-D26 -> -103286592 | E27: =E15-E26 -> 9389689 | F27: =F15-F26 -> 9389689 | G27: =G15-G26 -> 9389689 | H27: =H15-H26 -> 9389689 | I27: =I15-I26 -> 9389689 | J27: =J15-J26 -> 9389689 | ... O27: =O15-O26 -> 0

Sheet KV_5.sz.tájékoztató_t
B1: =+CONCATENATE("A ",LEFT(KV_ÖSSZEFÜGGÉSEK!A5,4),". évi általános működés és ágazati feladatok támogatásának alakulása jogcímenként") -> A 2021. évi általános működés és ágazati feladatok támogatásának alakulása jogcímenként | D1: =CONCATENATE("5. tájékoztató tábla ",ALAPADATOK!A7," ",ALAPADATOK!B7," ",ALAPADATOK!C7," ",ALAPADATOK!D7," ",ALAPADATOK!E7," ",ALAPADATOK!F7," ",ALAPADATOK!G7," ",ALAPADATOK!H7) -> 5. tájékoztató tábla a … / 2021 ( ) önkormányzati rendelethez
C2: Forintban
A3: 2019. évi LXXI. törvény 2. melléklete száma* | B3: Jogcím | C3: =+CONCATENATE(LEFT(KV_ÖSSZEFÜGGÉSEK!A5,4),". évi tervezett támogatás összesen") -> 2021. évi tervezett támogatás összesen
A4: A | B4: B | C4: C
B5: Helyi önkormányzatok működési támogatása | C5: =SUM(C7:C17)-C9 -> 84661051
A7: I.1.a. | B7: Önkormányzati hivatal működésének támogatása | C7: 54659223
A9: I.1.b. | B9: Település-üzemeltetéshez kapcsolódó feladatellátás támogatása | C9: =C10+C11+C12+C13 -> 20036519
A10: I.1.ba. | B10: Zöldterület-gazdálkodással kapcsolatos feladat | C10: 6021780
A11: I.1.bb. | B11: Közvilágítás fenntartásának a támogatása | C11: 8235525
A12: I.1.bc. | B12: Köztemető-fenntartással kapcsolatos feladat | C12: 271858
A13: I.1.bd. | B13: Közutak fenntartásának támogatása | C13: 5507356
A14: I.1.c. | B14: Egyéb önkormányzati feladatok támogatása | C14: 9946287
A15: I.1.e. | B15: Üdülőhelyi feladatok támogatása
B16: Lakott külterülettel kapcsolatos feladat | C16: 19022
A17: V.I.1. | B17: Kiegészítés az I.1. jogcímhez kapcsolódóan
B19: Polgármesteri illetmény támogatása
B22: Települési önkormányzatok köznevelési feladatainak támogatása | C22: =SUM(C24:C29) -> 66362700
A24: II.1. | B24: Óvodapedagógusok támogatása | C24: 37919700
B25: Segítők támogatása | C25: 14595000
A26: II.2. | B26: Óvodaműködtetési támogatás | C26: 7792000
A27: II.3. | B27: Bejáró gyermekek utaztatási támogatása havi | C27: 1134000
B28: Nemzetiségi pótlék | C28: 4058000
B29: Min.ped. támogatás | C29: 864000
B32: Települési önkormányzatok szociális és gyermekjóléti és gyermekétkeztetési feladatainak támogatása | C32: =SUM(C34:C41) -> 77157895
A34: III.2. | B34: A települési önkormányzatok szociális feladatainak a támogatása | C34: 16052000
A35: III.3. | B35: Egyes szociális és gyermekjóléti feladatok támogatása | C35: 3318000
A36: III.5.aa | B36: Gyermekétkeztetés bértámogatása | C36: 15847920
A37: III.5.ab | B37: Gyermekétkeztetés üzemeltetési támogatása | C37: 16999615
A38: III.5.b | B38: Rászoruló gyermekek szünidei étkeztetése | C38: 255360
A39: III.6.a (1) | B39: Bölcsőde, felsőfokú végzettségű szakmai dolgozók tám | C39: 2550000
A40: III.6.a (2) | B40: Bölcsőde, középfokú végzettségű szakmai dolgozók tám | C40: 13632000
A41: III.6.b | B41: Bölcsődei üzemeltetési támogatás | C41: 8503000
A43: IV.1.d | B43: Könyvtári közművelődési feladatok támogatása | C43: 5051760
B46: Összesen: | C46: =C5+C22+C32+C43 -> 233233406
A47: * Magyarország 2020. évi központi költségvetéséról szóló törvény

Sheet KV_6.sz.tájékoztató_t.
D1: =CONCATENATE("6. tájékoztató tábla ",ALAPADATOK!A7," ",ALAPADATOK!B7," ",ALAPADATOK!C7," ",ALAPADATOK!D7," ",ALAPADATOK!E7," ",ALAPADATOK!F7," ",ALAPADATOK!G7," ",ALAPADATOK!H7) -> 6. tájékoztató tábla a … / 2021 ( ) önkormányzati rendelethez
A2: =+CONCATENATE("K I M U T A T Á S",CHAR(10),"a ",LEFT(KV_ÖSSZEFÜGGÉSEK!A5,4),". évben céljelleggel juttatott támogatásokról") -> K I M U T A T Á S a 2021. évben céljelleggel juttatott támogatásokról
C4: =KV_4.sz.tájékoztató_t.!O3 -> Forintban
A5: Sor- szám | B5: Támogatott szervezet neve | C5: Támogatás célja | D5: Támogatás összge
A6: 1. | B6: Polgármesteri keret | D6: 2500000
A7: 2. | B7: Éves keret | C7: Bursa Hungarica | D7: 700000
A8: 3. | B8: Civil szervezetek | D8: 500000
A9: 4.
A10: 5.
A11: 6.
A12: 7.
A13: 8.
A14: 9.
A15: 10.
A16: 11.
A17: 12.
A18: 13.
A19: 14.
A20: 15.
... A38: 33.
A39: Összesen: | D39: =SUM(D6:D38) -> 3700000
A40: Nem kötelező!

Sheet KV_7.sz.tájékoztató_t.
E1: =CONCATENATE("7. tájékoztató tábla ",ALAPADATOK!A7," ",ALAPADATOK!B7," ",ALAPADATOK!C7," ",ALAPADATOK!D7," ",ALAPADATOK!E7," ",ALAPADATOK!F7," ",ALAPADATOK!G7," ",ALAPADATOK!H7) -> 7. tájékoztató tábla a … / 2021 ( ) önkormányzati rendelethez
A2: =CONCATENATE(ALAPADATOK!A3) -> Szászvár Nagyközség Önkormányzata
A3: =CONCATENATE(ALAPADATOK!D7,". ÉVI KÖLTSÉGVETÉSI ÉVET KÖVETŐ 3 ÉV TERVEZETT") -> 2021. ÉVI KÖLTSÉGVETÉSI ÉVET KÖVETŐ 3 ÉV TERVEZETT
A4: BEVÉTELEI, KIADÁSAI
A5: 1. sz. táblázat | E5: =KV_4.sz.tájékoztató_t.!O3 -> Forintban
A6: Sor- szám | B6: Bevételi jogcím | C6: =+CONCATENATE(LEFT(KV_ÖSSZEFÜGGÉSEK!A5,4)+1,". évi") -> 2022. évi | D6: =+CONCATENATE(LEFT(KV_ÖSSZEFÜGGÉSEK!A5,4)+2,". évi") -> 2023. évi | E6: =+CONCATENATE(LEFT(KV_ÖSSZEFÜGGÉSEK!A5,4)+3,". évi") -> 2024. évi
A7: A | B7: B | C7: C | D7: D | E7: E
A8: 1. | B8: Önkormányzat működési támogatásai | C8: 240000000 | D8: =ROUND(C8*1.05,0) -> 252000000 | E8: =ROUND(D8*1.05,0) -> 264600000
A9: 2. | B9: Működési célú támogatások államháztartáson belülről | C9: 40000000 | D9: =ROUND(C9*1.05,0) -> 42000000 | E9: =ROUND(D9*1.05,0) -> 44100000
A10: 3. | B10: Felhalmozási célú támogatások államháztartáson belülről
A11: 4. | B11: Közhatalmi bevételek (4.1.+4.2.+4.3.+4.4.) | C11: =SUM(C12:C18) -> 31025000 | D11: =SUM(D12:D18) -> 23551250 | E11: =SUM(E12:E18) -> 33231313
A12: 4.1. | B12: =KV_1.1.sz.mell.!B32 -> Pótlék
A13: 4.2. | B13: =KV_1.1.sz.mell.!B33 -> Idegenforgalmi adó | C13: 140000 | D13: =ROUND(C13*1.05,0) -> 147000 | E13: =ROUND(D13*1.05,0) -> 154350
A14: 4.3. | B14: =KV_1.1.sz.mell.!B34 -> Iparűzési adó | C14: 21000000 | D14: =ROUND(C14*1.05,0) -> 22050000 | E14: =ROUND(D14*1.05,0) -> 23152500
A15: 4.4. | B15: =KV_1.1.sz.mell.!B35 -> Talajterhelési díj | D15: =ROUND(C15*1.05,0) -> 0 | E15: =ROUND(D15*1.05,0) -> 0
A16: 4.5. | B16: =KV_1.1.sz.mell.!B36 -> Gépjárműadó | D16: =ROUND(C16*1.05,0) -> 0 | E16: =ROUND(D16*1.05,0) -> 0
A17: 4.6. | B17: =KV_1.1.sz.mell.!B37 -> Egyéb bevétel (mezőőri jár.) | C17: 385000 | D17: =ROUND(C17*1.05,0) -> 404250 | E17: =ROUND(D17*1.05,0) -> 424463
A18: 4.7. | B18: =KV_1.1.sz.mell.!B38 -> Kommunális adó | C18: 9500000 | D18: 950000 | E18: 9500000
A19: 5. | B19: Működési bevételek | C19: 25000000 | D19: =ROUND(C19*1.05,0) -> 26250000 | E19: =ROUND(D19*1.05,0) -> 27562500
A20: 6. | B20: Felhalmozási bevételek
A21: 7. | B21: Működési célú átvett pénzeszközök
A22: 8. | B22: Felhalmozási célú átvett pénzeszközök
A23: 9. | B23: KÖLTSÉGVETÉSI BEVÉTELEK ÖSSZESEN: (1+…+8) | C23: =+C8+C9+C10+C11+C19+C20+C21+C22 -> 336025000 | D23: =+D8+D9+D10+D11+D19+D20+D21+D22 -> 343801250 | E23: =+E8+E9+E10+E11+E19+E20+E21+E22 -> 369493813
A24: 10. | B24: FINANSZÍROZÁSI BEVÉTELEK ÖSSZESEN: | C24: 100000000 | D24: 100000000 | E24: 100000000
A25: 11. | B25: KÖLTSÉGVETÉSI ÉS FINANSZÍROZÁSI BEVÉTELEK ÖSSZESEN: (9+10) | C25: =+C23+C24 -> 436025000 | D25: =+D23+D24 -> 443801250 | E25: =+E23+E24 -> 469493813
A27: K I A D Á S O K
A28: 2. sz. táblázat | E28: =E5 -> Forintban
A29: Sor-szám | B29: Kiadási jogcímek | C29: =+C6 -> 2022. évi | D29: =+D6 -> 2023. évi | E29: =+E6 -> 2024. évi
A30: A | B30: B | C30: C | D30: D | E30: E
A31: 1. | B31: Működési költségvetés kiadásai | C31: 324025000 | D31: 331801250 | E31: 357493813
A32: 2. | B32: Felhalmozási költségvetés kiadásai (2.1.+2.2.+2.3.) | C32: =+C33+C34+C35 -> 12000000 | D32: =+D33+D34+D35 -> 12000000 | E32: =+E33+E34+E35 -> 12000000
A33: 2.1. | B33: Beruházások | C33: 12000000 | D33: 12000000 | E33: 12000000
A34: 2.2. | B34: Felújítások
A35: 2.3. | B35: Egyéb felhalmozási kiadások
A36: 3. | B36: KÖLTSÉGVETÉSI KIADÁSOK ÖSSZESEN (1+2) | C36: =+C31+C32 -> 336025000 | D36: =+D31+D32 -> 343801250 | E36: =+E31+E32 -> 369493813
A37: 4. | B37: FINANSZÍROZÁSI KIADÁSOK ÖSSZESEN: | C37: 100000000 | D37: 100000000 | E37: 100000000
A38: 5. | B38: KIADÁSOK ÖSSZESEN: (3.+4.) | C38: =+C36+C37 -> 436025000 | D38: =+D36+D37 -> 443801250 | E38: =+E36+E37 -> 469493813
C39: =C25-C38 -> 0 | D39: =D25-D38 -> 0 | E39: =E25-E38 -> 0
