Workbook

Sheet ÖSSZEFÜGGÉSEK
A1: Költségvetési rendelet űrlapjainak összefüggései:
A4: 2014. évi eredeti előirányzat BEVÉTELEK
A6: 1. sz. melléklet Bevételek táblázat C. oszlop 9 sora = | B6: 2.1. számú melléklet C. oszlop 13. sor + 2.2. számú melléklet C. oszlop 12. sor
A7: 1. sz. melléklet Bevételek táblázat C. oszlop 16 sora = | B7: 2.1. számú melléklet C. oszlop 22. sor + 2.2. számú melléklet C. oszlop 25. sor
A8: 1. sz. melléklet Bevételek táblázat C. oszlop 17 sora = | B8: 2.1. számú melléklet C. oszlop 23. sor + 2.2. számú melléklet C. oszlop 26. sor
A10: =+CONCATENATE(LEFT(A4,4),". évi módosított előirányzat BEVÉTELEK") -> 2014. évi módosított előirányzat BEVÉTELEK
A12: 1. sz. melléklet Bevételek táblázat D. oszlop 9 sora = | B12: 2.1. számú melléklet D. oszlop 13. sor + 2.2. számú melléklet D. oszlop 12. sor
A13: 1. sz. melléklet Bevételek táblázat D. oszlop 16 sora = | B13: 2.1. számú melléklet D. oszlop 22. sor + 2.2. számú melléklet D. oszlop 25. sor
A14: 1. sz. melléklet Bevételek táblázat D. oszlop 17 sora = | B14: 2.1. számú melléklet D. oszlop 23. sor + 2.2. számú melléklet D. oszlop 26. sor
A16: =+CONCATENATE(LEFT(A4,4),". évi teljesítés BEVÉTELEK") -> 2014. évi teljesítés BEVÉTELEK
A18: 1. sz. melléklet Bevételek táblázat E. oszlop 9 sora = | B18: 2.1. számú melléklet E. oszlop 13. sor + 2.2. számú melléklet E. oszlop 12. sor
A19: 1. sz. melléklet Bevételek táblázat E. oszlop 16 sora = | B19: 2.1. számú melléklet E. oszlop 22. sor + 2.2. számú melléklet E. oszlop 25. sor
A20: 1. sz. melléklet Bevételek táblázat E. oszlop 17 sora = | B20: 2.1. számú melléklet E. oszlop 23. sor + 2.2. számú melléklet E. oszlop 26. sor
A22: =+CONCATENATE(LEFT(A4,4),". évi eredeti előirányzat KIADÁSOK") -> 2014. évi eredeti előirányzat KIADÁSOK
A24: 1. sz. melléklet Kiadások táblázat C. oszlop 4 sora = | B24: 2.1. számú melléklet G. oszlop 13. sor + 2.2. számú melléklet G. oszlop 12. sor
A25: 1. sz. melléklet Kiadások táblázat C. oszlop 9 sora = | B25: 2.1. számú melléklet G. oszlop 22. sor + 2.2. számú melléklet G. oszlop 25. sor
A26: 1. sz. melléklet Kiadások táblázat C. oszlop 10 sora = | B26: 2.1. számú melléklet G. oszlop 23. sor + 2.2. számú melléklet G. oszlop 26. sor
A28: =+CONCATENATE(LEFT(A4,4),". évi módosított előirányzat KIADÁSOK") -> 2014. évi módosított előirányzat KIADÁSOK
A30: 1. sz. melléklet Kiadások táblázat D. oszlop 4 sora = | B30: 2.1. számú melléklet H. oszlop 13. sor + 2.2. számú melléklet H. oszlop 12. sor
A31: 1. sz. melléklet Kiadások táblázat D. oszlop 9 sora = | B31: 2.1. számú melléklet H. oszlop 22. sor + 2.2. számú melléklet H. oszlop 25. sor
A32: 1. sz. melléklet Kiadások táblázat D. oszlop 10 sora = | B32: 2.1. számú melléklet H. oszlop 23. sor + 2.2. számú melléklet H. oszlop 26. sor
A34: =+CONCATENATE(LEFT(A4,4),". évi teljesítés KIADÁSOK") -> 2014. évi teljesítés KIADÁSOK
A36: 1. sz. melléklet Kiadások táblázat E. oszlop 4 sora = | B36: 2.1. számú melléklet I. oszlop 13. sor + 2.2. számú melléklet I. oszlop 12. sor
A37: 1. sz. melléklet Kiadások táblázat E. oszlop 9 sora = | B37: 2.1. számú melléklet I. oszlop 22. sor + 2.2. számú melléklet I. oszlop 25. sor
A38: 1. sz. melléklet Kiadások táblázat E. oszlop 10 sora = | B38: 2.1. számú melléklet I. oszlop 23. sor + 2.2. számú melléklet I. oszlop 26. sor

Sheet rendelet módosítás 2020.11.30.
A1: B E V É T E L E K
A2: 1. sz. táblázat | D2: Forintban
A3: Sor- szám | B3: Bevételi jogcím | C3: 2020.
C4: Eredeti előirányzat | D4: Módosított előirányzat
A5: A | B5: B | C5: C | D5: D
A6: 1. | B6: Önkormányzat működési támogatásai (1.1.+…+.1.6.) | C6: =SUM(C7:C13) -> 63101557 | D6: =SUM(D7:D13) -> 134775496
A7: 1.1. | B7: Helyi önkormányzatok működésének általános támogatása | C7: =SUM('5.1. sz. mell'!C9) -> 21321071 | D7: =SUM('5.1. sz. mell'!D9) -> 87332982
A8: 1.2. | B8: Települési önkormányzatok egyes köznevelési feladatainak támogatása | C8: =SUM('5.1. sz. mell'!C10) -> 28469300 | D8: =SUM('5.1. sz. mell'!D10) -> 30226113
A9: 1.3. | B9: Települési önkormányzatok szociális és gyermekjóléti feladatainak támogatása | C9: =SUM('5.1. sz. mell'!C11) -> 2614400 | D9: =SUM('5.1. sz. mell'!D11) -> 3271748
A10: 1.4. | B10: Települési önkormányzatok gyermekétkeztetési feladatainak támogatása | C10: =SUM('5.1. sz. mell'!C12) -> 8896786 | D10: =SUM('5.1. sz. mell'!D12) -> 9267295
A11: 1.5. | B11: Települési önkormányzatok kulturális feladatainak támogatása | C11: =SUM('5.1. sz. mell'!C13) -> 1800000 | D11: =SUM('5.1. sz. mell'!D13) -> 2227850
A12: 1.6. | B12: Működési célú költségvetési támogatások és kiegészítő támogatások | C12: =SUM('5.1. sz. mell'!C14) -> 0 | D12: =SUM('5.1. sz. mell'!D14) -> 1143000
A13: 1.7. | B13: Elszámolásból származó bevételek | C13: =SUM('5.1. sz. mell'!C15) -> 0 | D13: =SUM('5.1. sz. mell'!D15) -> 1306508
A14: 2. | B14: Működési célú támogatások államháztartáson belülről (2.1.+…+.2.5.) | C14: =SUM(C15:C19) -> 60116344 | D14: =SUM(D15:D19) -> 9462389
A15: 2.1. | B15: Elvonások és befizetések bevételei | C15: =SUM('5.1. sz. mell'!C17) -> 0 | D15: =SUM('5.1. sz. mell'!D17) -> 0
A16: 2.2. | B16: Működési célú garancia- és kezességvállalásból megtérülések | C16: =SUM('5.1. sz. mell'!C18) -> 0 | D16: =SUM('5.1. sz. mell'!D18) -> 0
A17: 2.3. | B17: Működési célú visszatérítendő támogatások, kölcsönök visszatérülése | C17: =SUM('5.1. sz. mell'!C19) -> 0 | D17: =SUM('5.1. sz. mell'!D19) -> 0
A18: 2.4. | B18: Működési célú visszatérítendő támogatások, kölcsönök igénybevétele | C18: =SUM('5.1. sz. mell'!C20) -> 0 | D18: =SUM('5.1. sz. mell'!D20) -> 0
A19: 2.5. | B19: Egyéb működési célú támogatások bevételei | C19: =SUM('5.1. sz. mell'!C21,'6.1. sz. mell'!C22,'7.1. sz. mell.'!C22) -> 60116344 | D19: =SUM('5.1. sz. mell'!D21,'6.1. sz. mell'!D22,'7.1. sz. mell.'!D22) -> 9462389
A20: 2.6. | B20: 2.5.-ből EU-s támogatás | C20: =SUM('5.1. sz. mell'!C22) -> 0 | D20: =SUM('5.1. sz. mell'!D22) -> 1402199
A21: 3. | B21: Felhalmozási célú támogatások államháztartáson belülről (3.1.+…+3.5.) | C21: =SUM(C22:C26) -> 0 | D21: =SUM(D22:D26) -> 117985051
A22: 3.1. | B22: Felhalmozási célú önkormányzati támogatások
A23: 3.2. | B23: Felhalmozási célú garancia- és kezességvállalásból megtérülések
A24: 3.3. | B24: Felhalmozási célú visszatérítendő támogatások, kölcsönök visszatérülése
A25: 3.4. | B25: Felhalmozási célú visszatérítendő támogatások, kölcsönök igénybevétele
A26: 3.5. | B26: Egyéb felhalmozási célú támogatások bevételei | C26: =SUM('5.1. sz. mell'!C28) -> 0 | D26: =SUM('5.1. sz. mell'!D28) -> 117985051
A27: 3.6. | B27: 3.5.-ből EU-s támogatás | D27: 93711258
A28: 4. | B28: Közhatalmi bevételek (4.1.+4.2.+4.3.+4.4.) | C28: =+C29+C32+C33+C34 -> 132712000 | D28: =+D29+D32+D33+D34 -> 140043202
A29: 4.1. | B29: Helyi adók (4.1.1.+4.1.2.) | C29: =SUM('5.1. sz. mell'!C31) -> 130000000 | D29: =SUM('5.1. sz. mell'!D31) -> 139915202
A30: 4.1.1. | B30: - Vagyoni típusú adók | C30: =SUM('5.1. sz. mell'!C32) -> 10000000 | D30: =SUM('5.1. sz. mell'!D32) -> 10015872
A31: 4.1.2. | B31: - Termékek és szolgáltatások adói | C31: =SUM('5.1. sz. mell'!C33) -> 120000000 | D31: =SUM('5.1. sz. mell'!D33) -> 129899330
A32: 4.2. | B32: Gépjárműadó | C32: =SUM('5.1. sz. mell'!C34) -> 2584000 | D32: =SUM('5.1. sz. mell'!D34) -> 0
A33: 4.3. | B33: Egyéb áruhasználati és szolgáltatási adók | C33: =SUM('5.1. sz. mell'!C35) -> 0 | D33: =SUM('5.1. sz. mell'!D35) -> 0
A34: 4.4. | B34: Egyéb közhatalmi bevételek | C34: =SUM('5.1. sz. mell'!C36) -> 128000 | D34: =SUM('5.1. sz. mell'!D36) -> 128000
A35: 5. | B35: Működési bevételek (5.1.+…+ 5.10.) | C35: =SUM(C36:C45) -> 11076635 | D35: =SUM(D36:D45) -> 11434623
A36: 5.1. | B36: Készletértékesítés ellenértéke | C36: =SUM('5.1. sz. mell'!C38,'6.1. sz. mell'!C9,'7.1. sz. mell.'!C9) -> 0 | D36: =SUM('5.1. sz. mell'!D38,'6.1. sz. mell'!D9,'7.1. sz. mell.'!D9) -> 0
A37: 5.2. | B37: Szolgáltatások ellenértéke | C37: =SUM('5.1. sz. mell'!C39,'6.1. sz. mell'!C10,'7.1. sz. mell.'!C10) -> 1570000 | D37: =SUM('5.1. sz. mell'!D39,'6.1. sz. mell'!D10,'7.1. sz. mell.'!D10) -> 1570000
A38: 5.3. | B38: Közvetített szolgáltatások értéke | C38: =SUM('5.1. sz. mell'!C40,'6.1. sz. mell'!C11,'7.1. sz. mell.'!C11) -> 450000 | D38: =SUM('5.1. sz. mell'!D40,'6.1. sz. mell'!D11,'7.1. sz. mell.'!D11) -> 757594
A39: 5.4. | B39: Tulajdonosi bevételek | C39: =SUM('5.1. sz. mell'!C41,'6.1. sz. mell'!C12,'7.1. sz. mell.'!C12) -> 0 | D39: =SUM('5.1. sz. mell'!D41,'6.1. sz. mell'!D12,'7.1. sz. mell.'!D12) -> 0
A40: 5.5. | B40: Ellátási díjak | C40: =SUM('5.1. sz. mell'!C42,'6.1. sz. mell'!C13,'7.1. sz. mell.'!C13) -> 9005503 | D40: =SUM('5.1. sz. mell'!D42,'6.1. sz. mell'!D13,'7.1. sz. mell.'!D13) -> 9007311
...

Sheet 2.1.sz.mell  
B1: I. Működési célú bevételek és kiadások mérlege (Önkormányzati szinten) | H1: =+CONCATENATE("2.1. melléklet a 10/2020.(XI.30.) önkormányzati rendelethez") -> 2.1. melléklet a 10/2020.(XI.30.) önkormányzati rendelethez
G2: Forintban
A3: Sor- szám | B3: Bevételek | E3: Kiadások
B4: Megnevezés | C4: =+CONCATENATE(LEFT('rendelet módosítás 2020.11.30.'!C3,4),". évi eredeti előirányzat") -> 2020. évi eredeti előirányzat | D4: =+CONCATENATE(LEFT('rendelet módosítás 2020.11.30.'!C3,4),". évi módosított előirányzat") -> 2020. évi módosított előirányzat | E4: Megnevezés | F4: =+C4 -> 2020. évi eredeti előirányzat | G4: =+D4 -> 2020. évi módosított előirányzat
A5: A | B5: B | C5: C | D5: D | E5: F | F5: G | G5: H
A6: 1. | B6: Önkormányzatok működési támogatásai | C6: 63101557 | D6: 134775496 | E6: Személyi juttatások | F6: 125170244 | G6: 131077752
A7: 2. | B7: Működési célú támogatások államháztartáson belülről | C7: 60116344 | D7: 9462389 | E7: Munkaadókat terhelő járulékok és szociális hozzájárulási adó | F7: 22367499 | G7: 22728097
A8: 3. | B8: 2.-ból EU-s támogatás | E8: Dologi kiadások | F8: 68202253 | G8: 73580403
A9: 4. | B9: Közhatalmi bevételek | C9: 132712000 | D9: 140043202 | E9: Ellátottak pénzbeli juttatásai | F9: 2000000 | G9: 2000000
A10: 5. | B10: Működési bevételek | C10: 11076635 | D10: 11434623 | E10: Egyéb működési célú kiadások | F10: 5323355 | G10: 10548349
A11: 6. | B11: Működési célú átvett pénzeszközök | D11: 4458500 | E11: Tartalékok | F11: 4777951 | G11: 221541
A12: 7. | B12: 6.-ből EU-s támogatás | D12: 1402199
A13: 8. | B13: Egyéb működési bevételek
A14: 9.
A15: 10.
A16: 11.
A17: 12.
A18: 13. | B18: Költségvetési bevételek összesen (1.+2.+4.+5.+7.+…+12.) | C18: =+C6+C7+C9+C10+C12+C13+C14+C15+C16+C17 -> 267006536 | D18: =+D6+D7+D9+D10+D11+D13+D14+D15+D16+D17 -> 300174210 | E18: Költségvetési kiadások összesen (1.+...+12.) | F18: =SUM(F6:F17) -> 227841302 | G18: =SUM(G6:G17) -> 240156142
A19: 14. | B19: Hiány belső finanszírozásának bevételei (15.+…+18. ) | C19: =+C20+C21+C22+C23 -> 3832969 | D19: =+D20+D21+D22+D23 -> 3832969 | E19: Értékpapír vásárlása, visszavásárlása
A20: 15. | B20: Költségvetési maradvány igénybevétele | C20: 3832969 | D20: 3832969 | E20: Likviditási célú hitelek törlesztése | G20: 44307513
A21: 16. | B21: Vállalkozási maradvány igénybevétele | E21: Rövid lejáratú hitelek törlesztése
A22: 17. | B22: Betét visszavonásából származó bevétel | E22: Hosszú lejáratú hitelek törlesztése
A23: 18. | B23: Egyéb belső finanszírozási bevételek | E23: Kölcsön törlesztése
A24: 19. | B24: Hiány külső finanszírozásának bevételei (20.+…+21.) | C24: =+C26+C27+C25 -> 0 | D24: =+D26+D27+D25 -> 46424987 | E24: Forgatási célú belföldi, külföldi értékpapírok vásárlása
A25: 20. | B25: Likviditási célú hitelek, kölcsönök felvétele | D25: 44307513 | E25: Betét elhelyezése
A26: 21. | B26: Értékpapírok bevételei | E26: Államháztartáson belüli megelőlegezések visszafizetése | F26: 2524062 | G26: 4641536
A27: 22. | B27: Egyéb külső finanszírozási bevételek | D27: 2117474
A28: 23. | B28: Működési célú finanszírozási bevételek összesen (14.+19.) | C28: =+C19+C24 -> 3832969 | D28: =SUM(D19,D24) -> 50257956 | E28: Működési célú finanszírozási kiadások összesen (14.+...+21.) | F28: =SUM(F19:F27) -> 2524062 | G28: =SUM(G19:G27) -> 48949049
A29: 24. | B29: BEVÉTEL ÖSSZESEN (13.+22.) | C29: =+C18+C28 -> 270839505 | D29: =+D18+D28 -> 350432166 | E29: KIADÁSOK ÖSSZESEN (13.+22.) | F29: =+F18+F28 -> 230365364 | G29: =+G18+G28 -> 289105191
A30: 25. | B30: Költségvetési hiány: | C30: =IF(C18-F18<0,F18-C18,"-") -> - | D30: =IF(D18-G18<0,G18-D18,"-") -> - | E30: Költségvetési többlet: | F30: =IF(C18-F18>0,C18-F18,"-") -> 39165234 | G30: =IF(D18-G18>0,D18-G18,"-") -> 60018068
A31: 26. | B31: Tárgyévi hiány: | C31: =IF(C29-F29<0,F29-C29,"-") -> - | D31: =IF(D29-G29<0,G29-D29,"-") -> - | E31: Tárgyévi többlet: | F31: =IF(C29-F29>0,C29-F29,"-") -> 40474141 | G31: =IF(D29-G29>0,D29-G29,"-") -> 61326975

Sheet 2.2.sz.mell  
B1: II. Felhalmozási célú bevételek és kiadások mérlege (Önkormányzati szinten) | H1: =+CONCATENATE("2.2. melléklet az 10/2020. (XI.30.) önkormányzati rendelethez") -> 2.2. melléklet az 10/2020. (XI.30.) önkormányzati rendelethez
G2: Forintban
A3: Sor- szám | B3: Bevételek | E3: Kiadások
B4: Megnevezés | C4: =+'2.1.sz.mell '!C4 -> 2020. évi eredeti előirányzat | D4: =+'2.1.sz.mell '!D4 -> 2020. évi módosított előirányzat | E4: Megnevezés | F4: =+'2.1.sz.mell '!C4 -> 2020. évi eredeti előirányzat | G4: =+'2.1.sz.mell '!D4 -> 2020. évi módosított előirányzat
A5: A | B5: B | C5: C | D5: D | E5: F | F5: G | G5: H
A6: 1. | B6: Felhalmozási célú támogatások államháztartáson belülről | D6: 117985051 | E6: Beruházások | F6: 21245000 | G6: 117525949
A7: 2. | B7: 1.-ből EU-s támogatás | D7: 93711258 | E7: 1.-ből EU-s forrásból megvalósuló beruházás | G7: 96008908
A8: 3. | B8: Felhalmozási bevételek | E8: Felújítások | F8: 18560000 | G8: 46484020
A9: 4. | B9: Felhalmozási célú átvett pénzeszközök átvétele | E9: 3.-ból EU-s forrásból megvalósuló felújítás
A10: 5. | B10: 4.-ből EU-s támogatás (közvetlen) | E10: Egyéb felhalmozási kiadások | F10: 669141 | G10: 15302057
A11: 6. | B11: Egyéb felhalmozási célú bevételek
A12: 7.
A13: 8.
A14: 9.
A15: 10.
A16: 11. | E16: Tartalékok
A17: 12. | B17: Költségvetési bevételek összesen: (1.+3.+4.+6.+…+11.) | C17: =+C6+C8+C9+C11+C12+C13+C14+C15+C16 -> 0 | D17: =+D6+D8+D9+D11+D12+D13+D14+D15+D16 -> 117985051 | E17: Költségvetési kiadások összesen: (1.+3.+5.+...+11.) | F17: =+F6+F8+F10+F11+F12+F13+F14+F15+F16 -> 40474141 | G17: =+G6+G8+G10+G11+G12+G13+G14+G15+G16 -> 179312026
A18: 13. | B18: Hiány belső finanszírozás bevételei ( 14+…+18) | C18: =+C19+C20+C21+C22+C23 -> 0 | D18: =+D19+D20+D21+D22+D23 -> 0 | E18: Értékpapír vásárlása, visszavásárlása
A19: 14. | B19: Költségvetési maradvány igénybevétele | E19: Hitelek törlesztése
A20: 15. | B20: Vállalkozási maradvány igénybevétele | E20: Rövid lejáratú hitelek törlesztése
A21: 16. | B21: Betét visszavonásából származó bevétel | E21: Hosszú lejáratú hitelek törlesztése
A22: 17. | B22: Értékpapír értékesítése | E22: Kölcsön törlesztése
A23: 18. | B23: Egyéb belső finanszírozási bevételek | E23: Befektetési célú belföldi, külföldi értékpapírok vásárlása
A24: 19. | B24: Hiány külső finanszírozásának bevételei (20+…+24 ) | C24: =+C25+C26+C27+C28+C29 -> 0 | D24: =+D25+D26+D27+D28+D29 -> 0 | E24: Betét elhelyezése
A25: 20. | B25: Hosszú lejáratú hitelek, kölcsönök felvétele | E25: Pénzügyi lízing kiadásai
A26: 21. | B26: Likviditási célú hitelek, kölcsönök felvétele
A27: 22. | B27: Rövid lejáratú hitelek, kölcsönök felvétele
A28: 23. | B28: Értékpapírok kibocsátása
A29: 24. | B29: Egyéb külső finanszírozási bevételek
A30: 25. | B30: Felhalmozási célú finanszírozási bevételek összesen (13.+19.) | C30: =+C18+C24 -> 0 | D30: =+D18+D24 -> 0 | E30: Felhalmozási célú finanszírozási kiadások összesen (13.+...+24.) | F30: =SUM(F18:F29) -> 0 | G30: =SUM(G18:G29) -> 0
A31: 26. | B31: BEVÉTEL ÖSSZESEN (12+25) | C31: =+C17+C30 -> 0 | D31: =+D17+D30 -> 117985051 | E31: KIADÁSOK ÖSSZESEN (12+25) | F31: =+F17+F30 -> 40474141 | G31: =+G17+G30 -> 179312026
A32: 27. | B32: Költségvetési hiány: | C32: =IF(C17-F17<0,F17-C17,"-") -> 40474141 | D32: =IF(D17-G17<0,G17-D17,"-") -> 61326975 | E32: Költségvetési többlet: | F32: =IF(C17-F17>0,C17-F17,"-") -> - | G32: =IF(D17-G17>0,D17-G17,"-") -> -
A33: 28. | B33: Tárgyévi hiány: | C33: =IF(C31-F31<0,F31-C31,"-") -> 40474141 | D33: =IF(D31-G31<0,G31-D31,"-") -> 61326975 | E33: Tárgyévi többlet: | F33: =IF(C31-F31>0,C31-F31,"-") -> - | G33: =IF(D31-G31>0,D31-G31,"-") -> -

Sheet ELLENŐRZÉS-1.sz.2.1.sz.2.2.sz.
A1: Költségvetési rendelet űrlapjainak összefüggései: | E1: ELTÉRÉS
A4: =+ÖSSZEFÜGGÉSEK!A4 -> 2014. évi eredeti előirányzat BEVÉTELEK
A6: 1. sz. melléklet Bevételek táblázat C. oszlop 9 sora = | B6: =+'rendelet módosítás 2020.11.30.'!C62 -> 267006536 | C6: 2.1. számú melléklet C. oszlop 13. sor + 2.2. számú melléklet C. oszlop 12. sor | D6: =+'2.1.sz.mell '!C18+'2.2.sz.mell '!C17 -> 267006536 | E6: =+B6-D6 -> 0
A7: 1. sz. melléklet Bevételek táblázat C. oszlop 16 sora = | B7: =+'rendelet módosítás 2020.11.30.'!C85 -> 3832969 | C7: 2.1. számú melléklet C. oszlop 22. sor + 2.2. számú melléklet C. oszlop 25. sor | D7: =+'2.1.sz.mell '!C28+'2.2.sz.mell '!C30 -> 3832969 | E7: =+B7-D7 -> 0
A8: 1. sz. melléklet Bevételek táblázat C. oszlop 17 sora = | B8: =+'rendelet módosítás 2020.11.30.'!C86 -> 270839505 | C8: 2.1. számú melléklet C. oszlop 23. sor + 2.2. számú melléklet C. oszlop 26. sor | D8: =+'2.1.sz.mell '!C29+'2.2.sz.mell '!C31 -> 270839505 | E8: =+B8-D8 -> 0
A10: =+ÖSSZEFÜGGÉSEK!A10 -> 2014. évi módosított előirányzat BEVÉTELEK
A12: 1. sz. melléklet Bevételek táblázat D. oszlop 9 sora = | B12: =+'rendelet módosítás 2020.11.30.'!D62 -> 418159261 | C12: 2.1. számú melléklet D. oszlop 13. sor + 2.2. számú melléklet D. oszlop 12. sor | D12: =+'2.1.sz.mell '!D18+'2.2.sz.mell '!D17 -> 418159261 | E12: =+B12-D12 -> 0
A13: 1. sz. melléklet Bevételek táblázat D. oszlop 16 sora = | B13: =+'rendelet módosítás 2020.11.30.'!D85 -> 50257956 | C13: 2.1. számú melléklet D. oszlop 22. sor + 2.2. számú melléklet D. oszlop 25. sor | D13: =+'2.1.sz.mell '!D28+'2.2.sz.mell '!D30 -> 50257956 | E13: =+B13-D13 -> 0
A14: 1. sz. melléklet Bevételek táblázat D. oszlop 17 sora = | B14: =+'rendelet módosítás 2020.11.30.'!D86 -> 468417217 | C14: 2.1. számú melléklet D. oszlop 23. sor + 2.2. számú melléklet D. oszlop 26. sor | D14: =+'2.1.sz.mell '!D29+'2.2.sz.mell '!D31 -> 468417217 | E14: =+B14-D14 -> 0
A16: =+ÖSSZEFÜGGÉSEK!A16 -> 2014. évi teljesítés BEVÉTELEK
A18: 1. sz. melléklet Bevételek táblázat E. oszlop 9 sora = | B18: =+'rendelet módosítás 2020.11.30.'!#REF! -> #REF! | C18: 2.1. számú melléklet E. oszlop 13. sor + 2.2. számú melléklet E. oszlop 12. sor | D18: =+'2.1.sz.mell '!#REF!+'2.2.sz.mell '!#REF! -> #REF! | E18: =+B18-D18 -> #REF!
A19: 1. sz. melléklet Bevételek táblázat E. oszlop 16 sora = | B19: =+'rendelet módosítás 2020.11.30.'!#REF! -> #REF! | C19: 2.1. számú melléklet E. oszlop 22. sor + 2.2. számú melléklet E. oszlop 25. sor | D19: =+'2.1.sz.mell '!#REF!+'2.2.sz.mell '!#REF! -> #REF! | E19: =+B19-D19 -> #REF!
A20: 1. sz. melléklet Bevételek táblázat E. oszlop 17 sora = | B20: =+'rendelet módosítás 2020.11.30.'!#REF! -> #REF! | C20: 2.1. számú melléklet E. oszlop 23. sor + 2.2. számú melléklet E. oszlop 26. sor | D20: =+'2.1.sz.mell '!#REF!+'2.2.sz.mell '!#REF! -> #REF! | E20: =+B20-D20 -> #REF!
A22: =+ÖSSZEFÜGGÉSEK!A22 -> 2014. évi eredeti előirányzat KIADÁSOK
A24: 1. sz. melléklet Kiadások táblázat C. oszlop 4 sora = | B24: =+'rendelet módosítás 2020.11.30.'!C126 -> 268315443 | C24: 2.1. számú melléklet G. oszlop 13. sor + 2.2. számú melléklet G. oszlop 12. sor | D24: =+'2.1.sz.mell '!F18+'2.2.sz.mell '!F17 -> 268315443 | E24: =+B24-D24 -> 0
A25: 1. sz. melléklet Kiadások táblázat C. oszlop 9 sora = | B25: =+'rendelet módosítás 2020.11.30.'!C146 -> 2524062 | C25: 2.1. számú melléklet G. oszlop 22. sor + 2.2. számú melléklet G. oszlop 25. sor | D25: =+'2.1.sz.mell '!F28+'2.2.sz.mell '!F30 -> 2524062 | E25: =+B25-D25 -> 0
A26: 1. sz. melléklet Kiadások táblázat C. oszlop 10 sora = | B26: =+'rendelet módosítás 2020.11.30.'!C147 -> 270839505 | C26: 2.1. számú melléklet G. oszlop 23. sor + 2.2. számú melléklet G. oszlop 26. sor | D26: =+'2.1.sz.mell '!F29+'2.2.sz.mell '!F31 -> 270839505 | E26: =+B26-D26 -> 0
A28: =+ÖSSZEFÜGGÉSEK!A28 -> 2014. évi módosított előirányzat KIADÁSOK
A30: 1. sz. melléklet Kiadások táblázat D. oszlop 4 sora = | B30: =+'rendelet módosítás 2020.11.30.'!D126 -> 419468168 | C30: 2.1. számú melléklet H. oszlop 13. sor + 2.2. számú melléklet H. oszlop 12. sor | D30: =+'2.1.sz.mell '!G18+'2.2.sz.mell '!G17 -> 419468168 | E30: =+B30-D30 -> 0
A31: 1. sz. melléklet Kiadások táblázat D. oszlop 9 sora = | B31: =+'rendelet módosítás 2020.11.30.'!D146 -> 48949049 | C31: 2.1. számú melléklet H. oszlop 22. sor + 2.2. számú melléklet H. oszlop 25. sor | D31: =+'2.1.sz.mell '!G28+'2.2.sz.mell '!G30 -> 48949049 | E31: =+B31-D31 -> 0
A32: 1. sz. melléklet Kiadások táblázat D. oszlop 10 sora = | B32: =+'rendelet módosítás 2020.11.30.'!D147 -> 468417217 | C32: 2.1. számú melléklet H. oszlop 23. sor + 2.2. számú melléklet H. oszlop 26. sor | D32: =+'2.1.sz.mell '!G29+'2.2.sz.mell '!G31 -> 468417217 | E32: =+B32-D32 -> 0
A34: =+ÖSSZEFÜGGÉSEK!A34 -> 2014. évi teljesítés KIADÁSOK
A36: 1. sz. melléklet Kiadások táblázat E. oszlop 4 sora = | B36: =+'rendelet módosítás 2020.11.30.'!#REF! -> #REF! | C36: 2.1. számú melléklet I. oszlop 13. sor + 2.2. számú melléklet I. oszlop 12. sor | D36: =+'2.1.sz.mell '!#REF!+'2.2.sz.mell '!#REF! -> #REF! | E36: =+B36-D36 -> #REF!
A37: 1. sz. melléklet Kiadások táblázat E. oszlop 9 sora = | B37: =+'rendelet módosítás 2020.11.30.'!#REF! -> #REF! | C37: 2.1. számú melléklet I. oszlop 22. sor + 2.2. számú melléklet I. oszlop 25. sor | D37: =+'2.1.sz.mell '!#REF!+'2.2.sz.mell '!#REF! -> #REF! | E37: =+B37-D37 -> #REF!
A38: 1. sz. melléklet Kiadások táblázat E. oszlop 10 sora = | B38: =+'rendelet módosítás 2020.11.30.'!#REF! -> #REF! | C38: 2.1. számú melléklet I. oszlop 23. sor + 2.2. számú melléklet I. oszlop 26. sor | D38: =+'2.1.sz.mell '!#REF!+'2.2.sz.mell '!#REF! -> #REF! | E38: =+B38-D38 -> #REF!

Sheet 3.sz.mell.
A1: Beruházási (felhalmozási) kiadások előirányzata beruházásonként
A3: Beruházás megnevezése | B3: 2020. eredeti előidrányzat | C3: 2020. évi módosított előirányzat
A4: A | B4: D | C4: E
A5: Hadifogolytemető fejkövek készítése | B5: 1000000 | C5: 930000
A6: Lovaspályán járda, sátor alap készítés és murvázás | B6: 2000000 | C6: 3944968
A7: Csapadékvíz elvezetés Petőfi u. páros oldal, Tóth Á.u., Rákóczi u. páratlan oldal Dobó u. és Arany J. u. között | B7: 13000000 | C7: 8598982
A8: Óvoda tárolószekrény | B8: 250000 | C8: 49956
A9: Óvoda íróasztal | C9: 50000
A10: Óvoda akkumulátoros fúró, csavarozó | C10: 19990
A11: Kis bolt előtt térkövezés, járda készítés | B11: 3000000
A12: BOSO ABI SYSTEM 100 PWV boka-kar-index mérő | B12: 1495000 | C12: 1495000
A13: Trianoni emlékmű | B13: 500000 | C13: 461745
A14: Játszótérhez vezető járda kialakítása | C14: 1026327
A15: Faluház világítás takaró elkészítése | C15: 111506
A16: TOP-1.4.1-19-VE1-2019-00017 291,295 hrsz. telek összevonás | C16: 117200
A17: TOP-1.4.1-19-VE1-2019-00017 minibölcsőde építés | C17: 92077292
A18: TOP-1.4.1-19-VE1-2019-00017 minibölcsőde eszközbeszerzés | C18: 3814416
A19: Látványtó vízjogi engedélyezési terv elkészítése | C19: 317500
A20: SAMSUNG tablet-T510 rendőrség csóti kirendeltsége | C20: 65000
A21: TP-LINK ARCHER A7WIRELESS DUAL-BAND ROUTER | C21: 22395
A22: Gyógyászati segédeszköz 3 db | C22: 99810
A23: Faluház 5 db szekrény | C23: 205000
A24: VACUM CLEANER 3200 porszívó | C24: 11490
A25: SENCOR SES 1010SS kávéfőző | C25: 34790
... A37: Egészségügyi gépbeszerzés "Orvosi rendelők fejlesztése 2020 pályázat" | C37: 1449996
A39: ÖSSZESEN: | B39: =SUM(B5:B38) -> 21245000 | C39: =SUM(C5:C38) -> 117525949

Sheet 4.sz.mell.
A1: Felújítási kiadások előirányzata felújításonként
A3: Felújítás megnevezése | B3: 2020. évi eredeti előirányzat | C3: =+'3.sz.mell.'!C3 -> 2020. évi módosított előirányzat
A4: A | B4: B | C4: E
A5: Óvoda épületében mosogató és tálalóhelyiségek felújítása (járólapozás, festés) | B5: 500000 | C5: 500000
A6: Óvoda fűtés korszerűsítés, és felújítás | B6: 4500000
A7: VP6-7.2.1-7.4.1.3-17 Konyha felújítás pályázat | B7: 13560000 | C7: 13075101
A8: Konyha felújítás | C8: 479610
A9: Sportöltöző felújítása | C9: 498076
A10: Led világítás kemenceház | C10: 166734
A11: Hőszigetelés konyha | C11: 1265000
A12: Petőfi u. 8-52. hsz. csapadékvíz árok felújítása, átereszek | C12: 9171502
A13: Orvosi rendelő felújítása "Orvosi rendelők fejlesztése 2020 pályázat" | C13: 21327997
A15: ÖSSZESEN: | B15: =SUM(B5:B14) -> 18560000 | C15: =SUM(C5:C14) -> 46484020

Sheet 5.1. sz. mell
B1: =+CONCATENATE("5.1. melléklet a 10/2020. (XI.30.) önkormányzati rendelethez") -> 5.1. melléklet a 10/2020. (XI.30.) önkormányzati rendelethez
A2: Megnevezés | B2: Csót Község Önkormányzat
A3: Feladat megnevezése | B3: Összes bevétel, kiadás
A5: Száma | B5: Előirányzat-csoport, kiemelt előirányzat megnevezése | C5: Eredeti előirányzat | D5: Módosított előirányzat
A6: A | B6: B | C6: C | D6: D
A7: Bevételek
A8: 1. | B8: Önkormányzat működési támogatásai (1.1.+…+.1.6.) | C8: =SUM(C9:C15) -> 63101557 | D8: =SUM(D9:D15) -> 134775496
A9: 1.1. | B9: Helyi önkormányzatok működésének általános támogatása | C9: 21321071 | D9: 87332982
A10: 1.2. | B10: Települési önkormányzatok egyes köznevelési feladatainak támogatása | C10: 28469300 | D10: 30226113
A11: 1.3. | B11: Települési önkormányzatok szociális és gyermekjóléti feladatainak támogatása | C11: 2614400 | D11: 3271748
A12: 1.4. | B12: Települési önkormányzatok gyermekétkeztetési feladatainak támogatása | C12: 8896786 | D12: 9267295
A13: 1.5. | B13: Települési önkormányzatok kulturális feladatainak támogatása | C13: 1800000 | D13: 2227850
A14: 1.6. | B14: Működési célú költségvetési támogatások és kiegészítő támogatások | D14: 1143000
A15: 1.7. | B15: Elszámolásból származó bevételek | D15: 1306508
A16: 2. | B16: Működési célú támogatások államháztartáson belülről (2.1.+…+.2.5.) | C16: =SUM(C17:C21) -> 60116344 | D16: =SUM(D17:D21) -> 9462389
A17: 2.1. | B17: Elvonások és befizetések bevételei
A18: 2.2. | B18: Működési célú garancia- és kezességvállalásból megtérülések
A19: 2.3. | B19: Működési célú visszatérítendő támogatások, kölcsönök visszatérülése
A20: 2.4. | B20: Működési célú visszatérítendő támogatások, kölcsönök igénybevétele
A21: 2.5. | B21: Egyéb működési célú támogatások bevételei | C21: 60116344 | D21: 9462389
A22: 2.6. | B22: 2.5.-ből EU-s támogatás | D22: 1402199
A23: 3. | B23: Felhalmozási célú támogatások államháztartáson belülről (3.1.+…+3.5.) | C23: =SUM(C24:C28) -> 0 | D23: =SUM(D24:D28) -> 117985051
A24: 3.1. | B24: Felhalmozási célú önkormányzati támogatások
A25: 3.2. | B25: Felhalmozási célú garancia- és kezességvállalásból megtérülések
A26: 3.3. | B26: Felhalmozási célú visszatérítendő támogatások, kölcsönök visszatérülése
A27: 3.4. | B27: Felhalmozási célú visszatérítendő támogatások, kölcsönök igénybevétele
A28: 3.5. | B28: Egyéb felhalmozási célú támogatások bevételei | D28: 117985051
A29: 3.6. | B29: 3.5.-ből EU-s támogatás | D29: 93711258
A30: 4. | B30: Közhatalmi bevételek (4.1.+4.2.+4.3.+4.4.) | C30: =+C31+C34+C35+C36 -> 132712000 | D30: =+D31+D34+D35+D36 -> 140043202
A31: 4.1. | B31: Helyi adók (4.1.1.+4.1.2.) | C31: =+C32+C33 -> 130000000 | D31: =+D32+D33 -> 139915202
A32: 4.1.1. | B32: - Vagyoni típusú adók | C32: 10000000 | D32: 10015872
A33: 4.1.2. | B33: - Értékesítési és forgalmi adók | C33: 120000000 | D33: 129899330
A34: 4.2. | B34: Gépjárműadó | C34: 2584000
A35: 4.3. | B35: Egyéb áruhasználati és szolgáltatási adók
A36: 4.4. | B36: Egyéb közhatalmi bevételek | C36: 128000 | D36: 128000
A37: 5. | B37: Működési bevételek (5.1.+…+ 5.10.) | C37: =SUM(C38:C47) -> 10536125 | D37: =SUM(D38:D47) -> 10876387
A38: 5.1. | B38: Készletértékesítés ellenértéke
A39: 5.2. | B39: Szolgáltatások ellenértéke | C39: 1570000 | D39: 1570000
A40: 5.3. | B40: Közvetített szolgáltatások értéke | C40: 150000 | D40: 451950
A41: 5.4. | B41: Tulajdonosi bevételek
...

Sheet 6.1. sz. mell
B1: =+CONCATENATE("6.1. melléklet a 10/2020. (XI.30.) önkormányzati rendelethez") -> 6.1. melléklet a 10/2020. (XI.30.) önkormányzati rendelethez
A2: Költségvetési szerv megnevezése | B2: Csóti Közös Önkormányzati Hivatal
A3: Feladat megnevezése | B3: Összes bevétel, kiadás
A5: Száma | B5: Előirányzat-csoport, kiemelt előirányzat megnevezése | C5: Eredeti előirányzat | D5: Módosított előirányzat
A6: A | B6: B | C6: C | D6: D
A7: Bevételek
A8: 1. | B8: Működési bevételek (1.1.+…+1.10.) | C8: =SUM(C9:C18) -> 0 | D8: =SUM(D9:D18) -> 11657
A9: 1.1. | B9: Készletértékesítés ellenértéke
A10: 1.2. | B10: Szolgáltatások ellenértéke
A11: 1.3. | B11: Közvetített szolgáltatások értéke | D11: 5644
A12: 1.4. | B12: Tulajdonosi bevételek
A13: 1.5. | B13: Ellátási díjak
A14: 1.6. | B14: Kiszámlázott általános forgalmi adó
A15: 1.7. | B15: Általános forgalmi adó visszatérülése
A16: 1.8. | B16: Kamatbevételek | D16: 13
A17: 1.9. | B17: Egyéb pénzügyi műveletek bevételei
A18: 1.10. | B18: Egyéb működési bevételek | D18: 6000
A19: 2. | B19: Működési célú támogatások államháztartáson belülről (2.1.+…+2.3.) | C19: =SUM(C20:C22) -> 0 | D19: =SUM(D20:D22) -> 0
A20: 2.1. | B20: Elvonások és befizetések bevételei
A21: 2.2. | B21: Visszatérítendő támogatások, kölcsönök visszatérülése ÁH-n belülről
A22: 2.3. | B22: Egyéb működési célú támogatások bevételei államháztartáson belülről
A23: 2.4. | B23: - 2.3-ból EU-s támogatás
A24: 3. | B24: Közhatalmi bevételek
A25: 4. | B25: Felhalmozási célú támogatások államháztartáson belülről (4.1.+4.2.) | C25: =SUM(C26:C27) -> 0 | D25: =SUM(D26:D27) -> 0
A26: 4.1. | B26: Visszatérítendő támogatások, kölcsönök visszatérülése ÁH-n belülről
A27: 4.2. | B27: Egyéb felhalmozási célú támogatások bevételei államháztartáson belülről
A28: 4.3. | B28: - 4.2-ből EU-s támogatás
A29: 5. | B29: Felhalmozási bevételek (5.1.+…+5.3.) | C29: =SUM(C30:C32) -> 0 | D29: =SUM(D30:D32) -> 0
A30: 5.1. | B30: Immateriális javak értékesítése
A31: 5.2. | B31: Ingatlanok értékesítése
A32: 5.3. | B32: Egyéb tárgyi eszközök értékesítése
A33: 6. | B33: Működési célú átvett pénzeszközök
A34: 7. | B34: Felhalmozási célú átvett pénzeszközök
A35: 8. | B35: KÖLTSÉGVETÉSI BEVÉTELEK ÖSSZESEN: (1.+…+7.) | C35: =+C8+C19+C24+C25+C29+C33+C34 -> 0 | D35: =+D8+D19+D24+D25+D29+D33+D34 -> 11657
A36: 9. | B36: Finanszírozási bevételek (9.1.+…+9.3.) | C36: =+C37+C38+C39 -> 92117578 | D36: =+D37+D38+D39 -> 94505348
A37: 9.1. | B37: Költségvetési maradvány igénybevétele | C37: 225689 | D37: 225689
A38: 9.2. | B38: Vállalkozási maradvány igénybevétele
A39: 9.3. | B39: Irányító szervi (önkormányzati) támogatás (intézményfinanszírozás) | C39: 91891889 | D39: 94279659
A40: 10. | B40: BEVÉTELEK ÖSSZESEN: (8.+9.) | C40: =+C35+C36 -> 92117578 | D40: =+D35+D36 -> 94517005
A43: Kiadások
...

Sheet 7.1. sz. mell.
B1: =+CONCATENATE("7.1. melléklet a 10/2020. (XI.30.) önkormányzati rendelethez") -> 7.1. melléklet a 10/2020. (XI.30.) önkormányzati rendelethez
A2: Költségvetési szerv megnevezése | B2: Csóti Csodavilág Óvoda
A3: Feladat megnevezése | B3: Összes bevétel, kiadás
A5: Száma | B5: Előirányzat-csoport, kiemelt előirányzat megnevezése | C5: Eredeti előirányzat | D5: Módosított előirányzat
A6: A | B6: B | C6: C | D6: D
A7: Bevételek
A8: 1. | B8: Működési bevételek (1.1.+…+1.10.) | C8: =SUM(C9:C18) -> 540510 | D8: =SUM(D9:D18) -> 546579
A9: 1.1. | B9: Készletértékesítés ellenértéke
A10: 1.2. | B10: Szolgáltatások ellenértéke
A11: 1.3. | B11: Közvetített szolgáltatások értéke | C11: 300000 | D11: 300000
A12: 1.4. | B12: Tulajdonosi bevételek
A13: 1.5. | B13: Ellátási díjak | C13: 189378 | D13: 191186
A14: 1.6. | B14: Kiszámlázott általános forgalmi adó | C14: 51132 | D14: 51624
A15: 1.7. | B15: Általános forgalmi adó visszatérülése
A16: 1.8. | B16: Kamatbevételek | D16: 30
A17: 1.9. | B17: Egyéb pénzügyi műveletek bevételei
A18: 1.10. | B18: Egyéb működési bevételek | D18: 3739
A19: 2. | B19: Működési célú támogatások államháztartáson belülről (2.1.+…+2.3.) | C19: =SUM(C20:C22) -> 0 | D19: =SUM(D20:D22) -> 0
A20: 2.1. | B20: Elvonások és befizetések bevételei
A21: 2.2. | B21: Visszatérítendő támogatások, kölcsönök visszatérülése ÁH-n belülről
A22: 2.3. | B22: Egyéb működési célú támogatások bevételei államháztartáson belülről
A23: 2.4. | B23: - 2.3.-ból EU-s támogatás
A24: 3. | B24: Közhatalmi bevételek
A25: 4. | B25: Felhalmozási célú támogatások államháztartáson belülről (4.1.+4.2.) | C25: =+C26+C27 -> 0 | D25: =+D26+D27 -> 0
A26: 4.1. | B26: Visszatérítendő támogatások, kölcsönök visszatérülése ÁH-n belülről
A27: 4.2. | B27: Egyéb felhalmozási célú támogatások bevételei államháztartáson belülről
A28: 4.3. | B28: - 4.2.-ből EU-s támogatás
A29: 5. | B29: Felhalmozási bevételek (5.1.+…+5.3.) | C29: =+C30+C31+C32 -> 0 | D29: =+D30+D31+D32 -> 0
A30: 5.1. | B30: Immateriális javak értékesítése
A31: 5.2. | B31: Ingatlanok értékesítése
A32: 5.3. | B32: Egyéb tárgyi eszközök értékesítése
A33: 6. | B33: Működési célú átvett pénzeszközök | D33: 100000
A34: 7. | B34: Felhalmozási célú átvett pénzeszközök
A35: 8. | B35: Költségvetési bevételek összesen (1.+…+7.) | C35: =+C8+C19+C24+C25+C29+C33+C34 -> 540510 | D35: =+D8+D19+D24+D25+D29+D33+D34 -> 646579
A36: 9. | B36: Finanszírozási bevételek (9.1.+…+9.3.) | C36: =+C37+C38+C39 -> 39605953 | D36: =+D37+D38+D39 -> 39943092
A37: 9.1. | B37: Költségvetési maradvány igénybevétele | C37: 125756 | D37: 125756
A38: 9.2. | B38: Vállalkozási maradvány igénybevétele
A39: 9.3. | B39: Irányító szervi (önkormányzati) támogatás (intézményfinanszírozás) | C39: 39480197 | D39: 39817336
A40: 10. | B40: BEVÉTELEK ÖSSZESEN: (8.+9.) | C40: =+C35+C36 -> 40146463 | D40: =+D35+D36 -> 40589671
A43: Kiadások
...

Sheet Munka1

Sheet Munkalap19
