Workbook

Sheet ÖSSZEFÜGGÉSEK
A1: Költségvetési rendelet űrlapjainak összefüggései:
A4: 2014. évi eredeti előirányzat BEVÉTELEK
A6: 1. sz. melléklet Bevételek táblázat C. oszlop 9 sora = | B6: 2.1. számú melléklet C. oszlop 13. sor + 2.2. számú melléklet C. oszlop 12. sor
A7: 1. sz. melléklet Bevételek táblázat C. oszlop 16 sora = | B7: 2.1. számú melléklet C. oszlop 22. sor + 2.2. számú melléklet C. oszlop 25. sor
A8: 1. sz. melléklet Bevételek táblázat C. oszlop 17 sora = | B8: 2.1. számú melléklet C. oszlop 23. sor + 2.2. számú melléklet C. oszlop 26. sor
A10: =+CONCATENATE(LEFT(A4,4),". évi módosított előirányzat BEVÉTELEK") -> 2014. évi módosított előirányzat BEVÉTELEK
A12: 1. sz. melléklet Bevételek táblázat D. oszlop 9 sora = | B12: 2.1. számú melléklet D. oszlop 13. sor + 2.2. számú melléklet D. oszlop 12. sor
A13: 1. sz. melléklet Bevételek táblázat D. oszlop 16 sora = | B13: 2.1. számú melléklet D. oszlop 22. sor + 2.2. számú melléklet D. oszlop 25. sor
A14: 1. sz. melléklet Bevételek táblázat D. oszlop 17 sora = | B14: 2.1. számú melléklet D. oszlop 23. sor + 2.2. számú melléklet D. oszlop 26. sor
A16: =+CONCATENATE(LEFT(A4,4),". évi teljesítés BEVÉTELEK") -> 2014. évi teljesítés BEVÉTELEK
A18: 1. sz. melléklet Bevételek táblázat E. oszlop 9 sora = | B18: 2.1. számú melléklet E. oszlop 13. sor + 2.2. számú melléklet E. oszlop 12. sor
A19: 1. sz. melléklet Bevételek táblázat E. oszlop 16 sora = | B19: 2.1. számú melléklet E. oszlop 22. sor + 2.2. számú melléklet E. oszlop 25. sor
A20: 1. sz. melléklet Bevételek táblázat E. oszlop 17 sora = | B20: 2.1. számú melléklet E. oszlop 23. sor + 2.2. számú melléklet E. oszlop 26. sor
A22: =+CONCATENATE(LEFT(A4,4),". évi eredeti előirányzat KIADÁSOK") -> 2014. évi eredeti előirányzat KIADÁSOK
A24: 1. sz. melléklet Kiadások táblázat C. oszlop 4 sora = | B24: 2.1. számú melléklet G. oszlop 13. sor + 2.2. számú melléklet G. oszlop 12. sor
A25: 1. sz. melléklet Kiadások táblázat C. oszlop 9 sora = | B25: 2.1. számú melléklet G. oszlop 22. sor + 2.2. számú melléklet G. oszlop 25. sor
A26: 1. sz. melléklet Kiadások táblázat C. oszlop 10 sora = | B26: 2.1. számú melléklet G. oszlop 23. sor + 2.2. számú melléklet G. oszlop 26. sor
A28: =+CONCATENATE(LEFT(A4,4),". évi módosított előirányzat KIADÁSOK") -> 2014. évi módosított előirányzat KIADÁSOK
A30: 1. sz. melléklet Kiadások táblázat D. oszlop 4 sora = | B30: 2.1. számú melléklet H. oszlop 13. sor + 2.2. számú melléklet H. oszlop 12. sor
A31: 1. sz. melléklet Kiadások táblázat D. oszlop 9 sora = | B31: 2.1. számú melléklet H. oszlop 22. sor + 2.2. számú melléklet H. oszlop 25. sor
A32: 1. sz. melléklet Kiadások táblázat D. oszlop 10 sora = | B32: 2.1. számú melléklet H. oszlop 23. sor + 2.2. számú melléklet H. oszlop 26. sor
A34: =+CONCATENATE(LEFT(A4,4),". évi teljesítés KIADÁSOK") -> 2014. évi teljesítés KIADÁSOK
A36: 1. sz. melléklet Kiadások táblázat E. oszlop 4 sora = | B36: 2.1. számú melléklet I. oszlop 13. sor + 2.2. számú melléklet I. oszlop 12. sor
A37: 1. sz. melléklet Kiadások táblázat E. oszlop 9 sora = | B37: 2.1. számú melléklet I. oszlop 22. sor + 2.2. számú melléklet I. oszlop 25. sor
A38: 1. sz. melléklet Kiadások táblázat E. oszlop 10 sora = | B38: 2.1. számú melléklet I. oszlop 23. sor + 2.2. számú melléklet I. oszlop 26. sor

Sheet rendelet módosítás 2020.11.30.
A1: B E V É T E L E K
A2: 1. sz. táblázat | D2: Forintban
A3: Sor- szám | B3: Bevételi jogcím | C3: 2020.
C4: Eredeti előirányzat | D4: Módosított előirányzat
A5: A | B5: B | C5: C | D5: D
A6: 1. | B6: Önkormányzat működési támogatásai (1.1.+…+.1.6.) | C6: =SUM(C7:C13) -> 63101557 | D6: =SUM(D7:D13) -> 134775496
A7: 1.1. | B7: Helyi önkormányzatok működésének általános támogatása | C7: =SUM('5.1. sz. mell'!C9) -> 21321071 | D7: =SUM('5.1. sz. mell'!D9) -> 87332982
A8: 1.2. | B8: Települési önkormányzatok egyes köznevelési feladatainak támogatása | C8: =SUM('5.1. sz. mell'!C10) -> 28469300 | D8: =SUM('5.1. sz. mell'!D10) -> 30226113
A9: 1.3. | B9: Települési önkormányzatok szociális és gyermekjóléti feladatainak támogatása | C9: =SUM('5.1. sz. mell'!C11) -> 2614400 | D9: =SUM('5.1. sz. mell'!D11) -> 3271748
A10: 1.4. | B10: Települési önkormányzatok gyermekétkeztetési feladatainak támogatása | C10: =SUM('5.1. sz. mell'!C12) -> 8896786 | D10: =SUM('5.1. sz. mell'!D12) -> 9267295
A11: 1.5. | B11: Települési önkormányzatok kulturális feladatainak támogatása | C11: =SUM('5.1. sz. mell'!C13) -> 1800000 | D11: =SUM('5.1. sz. mell'!D13) -> 2227850
A12: 1.6. | B12: Működési célú költségvetési támogatások és kiegészítő támogatások | C12: =SUM('5.1. sz. mell'!C14) -> 0 | D12: =SUM('5.1. sz. mell'!D14) -> 1143000
A13: 1.7. | B13: Elszámolásból származó bevételek | C13: =SUM('5.1. sz. mell'!C15) -> 0 | D13: =SUM('5.1. sz. mell'!D15) -> 1306508
A14: 2. | B14: Működési célú támogatások államháztartáson belülről (2.1.+…+.2.5.) | C14: =SUM(C15:C19) -> 60116344 | D14: =SUM(D15:D19) -> 9462389
A15: 2.1. | B15: Elvonások és befizetések bevételei | C15: =SUM('5.1. sz. mell'!C17) -> 0 | D15: =SUM('5.1. sz. mell'!D17) -> 0
A16: 2.2. | B16: Működési célú garancia- és kezességvállalásból megtérülések | C16: =SUM('5.1. sz. mell'!C18) -> 0 | D16: =SUM('5.1. sz. mell'!D18) -> 0
A17: 2.3. | B17: Működési célú visszatérítendő támogatások, kölcsönök visszatérülése | C17: =SUM('5.1. sz. mell'!C19) -> 0 | D17: =SUM('5.1. sz. mell'!D19) -> 0
A18: 2.4. | B18: Működési célú visszatérítendő támogatások, kölcsönök igénybevétele | C18: =SUM('5.1. sz. mell'!C20) -> 0 | D18: =SUM('5.1. sz. mell'!D20) -> 0
A19: 2.5. | B19: Egyéb működési célú támogatások bevételei | C19: =SUM('5.1. sz. mell'!C21,'6.1. sz. mell'!C22,'7.1. sz. mell.'!C22) -> 60116344 | D19: =SUM('5.1. sz. mell'!D21,'6.1. sz. mell'!D22,'7.1. sz. mell.'!D22) -> 9462389
A20: 2.6. | B20: 2.5.-ből EU-s támogatás | C20: =SUM('5.1. sz. mell'!C22) -> 0 | D20: =SUM('5.1. sz. mell'!D22) -> 1402199
A21: 3. | B21: Felhalmozási célú támogatások államháztartáson belülről (3.1.+…+3.5.) | C21: =SUM(C22:C26) -> 0 | D21: =SUM(D22:D26) -> 117985051
A22: 3.1. | B22: Felhalmozási célú önkormányzati támogatások
A23: 3.2. | B23: Felhalmozási célú garancia- és kezességvállalásból megtérülések
A24: 3.3. | B24: Felhalmozási célú visszatérítendő támogatások, kölcsönök visszatérülése
A25: 3.4. | B25: Felhalmozási célú visszatérítendő támogatások, kölcsönök igénybevétele
A26: 3.5. | B26: Egyéb felhalmozási célú támogatások bevételei | C26: =SUM('5.1. sz. mell'!C28) -> 0 | D26: =SUM('5.1. sz. mell'!D28) -> 117985051
A27: 3.6. | B27: 3.5.-ből EU-s támogatás | D27: 93711258
A28: 4. | B28: Közhatalmi bevételek (4.1.+4.2.+4.3.+4.4.) | C28: =+C29+C32+C33+C34 -> 132712000 | D28: =+D29+D32+D33+D34 -> 140043202
A29: 4.1. | B29: Helyi adók (4.1.1.+4.1.2.) | C29: =SUM('5.1. sz. mell'!C31) -> 130000000 | D29: =SUM('5.1. sz. mell'!D31) -> 139915202
A30: 4.1.1. | B30: - Vagyoni típusú adók | C30: =SUM('5.1. sz. mell'!C32) -> 10000000 | D30: =SUM('5.1. sz. mell'!D32) -> 10015872
A31: 4.1.2. | B31: - Termékek és szolgáltatások adói | C31: =SUM('5.1. sz. mell'!C33) -> 120000000 | D31: =SUM('5.1. sz. mell'!D33) -> 129899330
A32: 4.2. | B32: Gépjárműadó | C32: =SUM('5.1. sz. mell'!C34) -> 2584000 | D32: =SUM('5.1. sz. mell'!D34) -> 0
A33: 4.3. | B33: Egyéb áruhasználati és szolgáltatási adók | C33: =SUM('5.1. sz. mell'!C35) -> 0 | D33: =SUM('5.1. sz. mell'!D35) -> 0
A34: 4.4. | B34: Egyéb közhatalmi bevételek | C34: =SUM('5.1. sz. mell'!C36) -> 128000 | D34: =SUM('5.1. sz. mell'!D36) -> 128000
A35: 5. | B35: Működési bevételek (5.1.+…+ 5.10.) | C35: =SUM(C36:C45) -> 11076635 | D35: =SUM(D36:D45) -> 11434623
A36: 5.1. | B36: Készletértékesítés ellenértéke | C36: =SUM('5.1. sz. mell'!C38,'6.1. sz. mell'!C9,'7.1. sz. mell.'!C9) -> 0 | D36: =SUM('5.1. sz. mell'!D38,'6.1. sz. mell'!D9,'7.1. sz. mell.'!D9) -> 0
A37: 5.2. | B37: Szolgáltatások ellenértéke | C37: =SUM('5.1. sz. mell'!C39,'6.1. sz. mell'!C10,'7.1. sz. mell.'!C10) -> 1570000 | D37: =SUM('5.1. sz. mell'!D39,'6.1. sz. mell'!D10,'7.1. sz. mell.'!D10) -> 1570000
A38: 5.3. | B38: Közvetített szolgáltatások értéke | C38: =SUM('5.1. sz. mell'!C40,'6.1. sz. mell'!C11,'7.1. sz. mell.'!C11) -> 450000 | D38: =SUM('5.1. sz. mell'!D40,'6.1. sz. mell'!D11,'7.1. sz. mell.'!D11) -> 757594
A39: 5.4. | B39: Tulajdonosi bevételek | C39: =SUM('5.1. sz. mell'!C41,'6.1. sz. mell'!C12,'7.1. sz. mell.'!C12) -> 0 | D39: =SUM('5.1. sz. mell'!D41,'6.1. sz. mell'!D12,'7.1. sz. mell.'!D12) -> 0
A40: 5.5. | B40: Ellátási díjak | C40: =SUM('5.1. sz. mell'!C42,'6.1. sz. mell'!C13,'7.1. sz. mell.'!C13) -> 9005503 | D40: =SUM('5.1. sz. mell'!D42,'6.1. sz. mell'!D13,'7.1. sz. mell.'!D13) -> 9007311
A41: 5.6. | B41: Kiszámlázott általános forgalmi adó | C41: =SUM('5.1. sz. mell'!C43,'6.1. sz. mell'!C14,'7.1. sz. mell.'!C14) -> 51132 | D41: =SUM('5.1. sz. mell'!D43,'6.1. sz. mell'!D14,'7.1. sz. mell.'!D14) -> 51624
A42: 5.7. | B42: Általános forgalmi adó visszatérítése | C42: =SUM('5.1. sz. mell'!C44,'6.1. sz. mell'!C15,'7.1. sz. mell.'!C15) -> 0 | D42: =SUM('5.1. sz. mell'!D44,'6.1. sz. mell'!D15,'7.1. sz. mell.'!D15) -> 0
A43: 5.8. | B43: Kamatbevételek | C43: =SUM('5.1. sz. mell'!C45,'6.1. sz. mell'!C16,'7.1. sz. mell.'!C16) -> 0 | D43: =SUM('5.1. sz. mell'!D45,'6.1. sz. mell'!D16,'7.1. sz. mell.'!D16) -> 1850
A44: 5.9. | B44: Egyéb pénzügyi műveletek bevételei | C44: =SUM('5.1. sz. mell'!C46,'6.1. sz. mell'!C17,'7.1. sz. mell.'!C17) -> 0 | D44: =SUM('5.1. sz. mell'!D46,'6.1. sz. mell'!D17,'7.1. sz. mell.'!D17) -> 0
A45: 5.10. | B45: Egyéb működési bevételek | C45: =SUM('5.1. sz. mell'!C47,'6.1. sz. mell'!C18,'7.1. sz. mell.'!C18) -> 0 | D45: =SUM('5.1. sz. mell'!D47,'6.1. sz. mell'!D18,'7.1. sz. mell.'!D18) -> 46244
A46: 6. | B46: Felhalmozási bevételek (6.1.+…+6.5.) | C46: =SUM(C47:C51) -> 0 | D46: =SUM(D47:D51) -> 0
A47: 6.1. | B47: Immateriális javak értékesítése | C47: =SUM('5.1. sz. mell'!C49) -> 0 | D47: =SUM('5.1. sz. mell'!D49) -> 0
A48: 6.2. | B48: Ingatlanok értékesítése | C48: =SUM('5.1. sz. mell'!C50) -> 0 | D48: =SUM('5.1. sz. mell'!D50) -> 0
A49: 6.3. | B49: Egyéb tárgyi eszközök értékesítése | C49: =SUM('5.1. sz. mell'!C51) -> 0 | D49: =SUM('5.1. sz. mell'!D51) -> 0
A50: 6.4. | B50: Részesedések értékesítése | C50: =SUM('5.1. sz. mell'!C52) -> 0 | D50: =SUM('5.1. sz. mell'!D52) -> 0
A51: 6.5. | B51: Részesedések megszűnéséhez kapcsolódó bevételek | C51: =SUM('5.1. sz. mell'!C53) -> 0 | D51: =SUM('5.1. sz. mell'!D53) -> 0
A52: 7. | B52: Működési célú átvett pénzeszközök (7.1. + … + 7.3.) | C52: =SUM(C53:C55) -> 0 | D52: =SUM(D53:D55) -> 4458500
A53: 7.1. | B53: Működési célú garancia- és kezességvállalásból megtérülések ÁH-n kívülről | C53: =SUM('5.1. sz. mell'!C55,) -> 0 | D53: =SUM('5.1. sz. mell'!D55,) -> 0
A54: 7.2. | B54: Működési célú visszatérítendő támogatások, kölcsönök visszatér. ÁH-n kívülről | C54: =SUM('5.1. sz. mell'!C56,) -> 0 | D54: =SUM('5.1. sz. mell'!D56,) -> 4358500
A55: 7.3. | B55: Egyéb működési célú átvett pénzeszköz | C55: =SUM('5.1. sz. mell'!C57,'7.1. sz. mell.'!C33) -> 0 | D55: =SUM('5.1. sz. mell'!D57,'7.1. sz. mell.'!D33) -> 100000
A56: 7.4. | B56: 7.3.-ból EU-s támogatás (közvetlen) | C56: =SUM('5.1. sz. mell'!C58,) -> 0 | D56: =SUM('5.1. sz. mell'!D58,) -> 0
A57: 8. | B57: Felhalmozási célú átvett pénzeszközök (8.1.+8.2.+8.3.) | C57: =SUM(C58:C60) -> 0 | D57: =SUM(D58:D60) -> 0
A58: 8.1. | B58: Felhalm. célú garancia- és kezességvállalásból megtérülések ÁH-n kívülről | C58: =SUM('5.1. sz. mell'!C60) -> 0 | D58: =SUM('5.1. sz. mell'!D60) -> 0
A59: 8.2. | B59: Felhalm. célú visszatérítendő támogatások, kölcsönök visszatér. ÁH-n kívülről | C59: =SUM('5.1. sz. mell'!C61) -> 0 | D59: =SUM('5.1. sz. mell'!D61) -> 0
A60: 8.3. | B60: Egyéb felhalmozási célú átvett pénzeszköz | C60: =SUM('5.1. sz. mell'!C62) -> 0 | D60: =SUM('5.1. sz. mell'!D62) -> 0
A61: 8.4. | B61: 8.3.-ból EU-s támogatás (közvetlen) | C61: =SUM('5.1. sz. mell'!C63) -> 0 | D61: =SUM('5.1. sz. mell'!D63) -> 0
A62: 9. | B62: KÖLTSÉGVETÉSI BEVÉTELEK ÖSSZESEN: (1+…+8) | C62: =+C6+C14+C21+C28+C35+C46+C52+C57 -> 267006536 | D62: =+D6+D14+D21+D28+D35+D46+D52+D57 -> 418159261
A63: 10. | B63: Hitel-, kölcsönfelvétel államháztartáson kívülről (10.1.+10.3.) | C63: =+C64+C65+C66 -> 0 | D63: =+D64+D65+D66 -> 44307513
A64: 10.1. | B64: Hosszú lejáratú hitelek, kölcsönök felvétele
A65: 10.2. | B65: Likviditási célú hitelek, kölcsönök felvétele pénzügyi vállalkozástól | D65: =SUM('5.1. sz. mell'!D67) -> 44307513
A66: 10.3. | B66: Rövid lejáratú hitelek, kölcsönök felvétele
A67: 11. | B67: Belföldi értékpapírok bevételei (11.1. +…+ 11.4.) | C67: =+C68+C69+C70+C71 -> 0 | D67: =+D68+D69+D70+D71 -> 0
A68: 11.1. | B68: Forgatási célú belföldi értékpapírok beváltása, értékesítése | D68: =SUM('5.1. sz. mell'!D70) -> 0
A69: 11.2. | B69: Forgatási célú belföldi értékpapírok kibocsátása
A70: 11.3. | B70: Befektetési célú belföldi értékpapírok beváltása, értékesítése
A71: 11.4. | B71: Befektetési célú belföldi értékpapírok kibocsátása
A72: 12. | B72: Maradvány igénybevétele (12.1. + 12.2.) | C72: =+C73+C74 -> 3832969 | D72: =+D73+D74 -> 3832969
A73: 12.1. | B73: Előző év költségvetési maradványának igénybevétele | C73: =SUM('5.1. sz. mell'!C75,'6.1. sz. mell'!C37,'7.1. sz. mell.'!C37) -> 3832969 | D73: =SUM('5.1. sz. mell'!D75,'6.1. sz. mell'!D37,'7.1. sz. mell.'!D37) -> 3832969
A74: 12.2. | B74: Előző év vállalkozási maradványának igénybevétele | C74: =SUM('5.1. sz. mell'!C76,'6.1. sz. mell'!C38,'7.1. sz. mell.'!C38) -> 0 | D74: =SUM('5.1. sz. mell'!D76,'6.1. sz. mell'!D38,'7.1. sz. mell.'!D38) -> 0
A75: 13. | B75: Belföldi finanszírozás bevételei (13.1. + … + 13.3.) | C75: =+C76+C77+C78 -> 0 | D75: =+D76+D77+D78 -> 2117474
A76: 13.1. | B76: Államháztartáson belüli megelőlegezések | C76: =SUM('5.1. sz. mell'!C78) -> 0 | D76: =SUM('5.1. sz. mell'!D78) -> 2117474
A77: 13.2. | B77: Államháztartáson belüli megelőlegezések törlesztése | C77: =SUM('5.1. sz. mell'!C79) -> 0 | D77: =SUM('5.1. sz. mell'!D79) -> 0
A78: 13.3. | B78: Betétek megszüntetése | C78: =SUM('5.1. sz. mell'!C80) -> 0 | D78: =SUM('5.1. sz. mell'!D80) -> 0
A79: 14. | B79: Külföldi finanszírozás bevételei (14.1.+…14.4.) | C79: =SUM('5.1. sz. mell'!C81) -> 0 | D79: =SUM('5.1. sz. mell'!D81) -> 0
A80: 14.1. | B80: Forgatási célú külföldi értékpapírok beváltása, értékesítése
A81: 14.2. | B81: Befektetési célú külföldi értékpapírok beváltása, értékesítése
A82: 14.3. | B82: Külföldi értékpapírok kibocsátása
A83: 14.4. | B83: Külföldi hitelek, kölcsönök felvétele
A84: 15. | B84: Adóssághoz nem kapcsolódó származékos ügyletek bevételei
A85: 16. | B85: FINANSZÍROZÁSI BEVÉTELEK ÖSSZESEN: (10. + … +15.) | C85: =+C63+C67+C72+C75+C79+C84 -> 3832969 | D85: =+D63+D67+D72+D75+D79+D84 -> 50257956
A86: 17. | B86: KÖLTSÉGVETÉSI ÉS FINANSZÍROZÁSI BEVÉTELEK ÖSSZESEN: (9+16) | C86: =+C62+C85 -> 270839505 | D86: =+D62+D85 -> 468417217
A88: K I A D Á S O K
A90: Sor- szám | B90: Kiadási jogcím | C90: 2020.
C91: Eredeti előirányzat | D91: Módosított előirányzat
A92: A | B92: B | C92: C | D92: D
A93: 1. | B93: Működési költségvetés kiadásai (1.1+…+1.5.) | C93: =SUM(C94:C98) -> 223063351 | D93: =SUM(D94:D98) -> 239934601
A94: 1.1. | B94: Személyi juttatások | C94: =SUM('5.1. sz. mell'!C93,'6.1. sz. mell'!C45,'7.1. sz. mell.'!C45) -> 125170244 | D94: =SUM('5.1. sz. mell'!D93,'6.1. sz. mell'!D45,'7.1. sz. mell.'!D45) -> 131077752
A95: 1.2. | B95: Munkaadókat terhelő járulékok és szociális hozzájárulási adó | C95: =SUM('5.1. sz. mell'!C94,'6.1. sz. mell'!C46,'7.1. sz. mell.'!C46) -> 22367499 | D95: =SUM('5.1. sz. mell'!D94,'6.1. sz. mell'!D46,'7.1. sz. mell.'!D46) -> 22728097
A96: 1.3. | B96: Dologi kiadások | C96: =SUM('5.1. sz. mell'!C95,'6.1. sz. mell'!C47,'7.1. sz. mell.'!C47) -> 68202253 | D96: =SUM('5.1. sz. mell'!D95,'6.1. sz. mell'!D47,'7.1. sz. mell.'!D47) -> 73580403
A97: 1.4. | B97: Ellátottak pénzbeli juttatásai | C97: =SUM('5.1. sz. mell'!C96) -> 2000000 | D97: =SUM('5.1. sz. mell'!D96) -> 2000000
A98: 1.5 | B98: Egyéb működési célú kiadások | C98: =SUM(C99:C108) -> 5323355 | D98: =SUM(D99:D108) -> 10548349
A99: 1.6. | B99: - az 1.5-ből: - Elvonások és befizetések | C99: =SUM('5.1. sz. mell'!C98) -> 0 | D99: =SUM('5.1. sz. mell'!D98) -> 216062
A100: 1.7. | B100: - Garancia- és kezességvállalásból kifizetés ÁH-n belülre | C100: =SUM('5.1. sz. mell'!C99) -> 0 | D100: =SUM('5.1. sz. mell'!D99) -> 0
A101: 1.8. | B101: -Visszatérítendő támogatások, kölcsönök nyújtása ÁH-n belülre | C101: =SUM('5.1. sz. mell'!C100) -> 0 | D101: =SUM('5.1. sz. mell'!D100) -> 0
A102: 1.9. | B102: - Visszatérítendő támogatások, kölcsönök törlesztése ÁH-n belülre | C102: =SUM('5.1. sz. mell'!C101) -> 2000000 | D102: =SUM('5.1. sz. mell'!D101) -> 2000000
...

Sheet 2.1.sz.mell  
B1: I. Működési célú bevételek és kiadások mérlege (Önkormányzati szinten) | H1: =+CONCATENATE("2.1. melléklet a 10/2020.(XI.30.) önkormányzati rendelethez") -> 2.1. melléklet a 10/2020.(XI.30.) önkormányzati rendelethez
G2: Forintban
A3: Sor- szám | B3: Bevételek | E3: Kiadások
B4: Megnevezés | C4: =+CONCATENATE(LEFT('rendelet módosítás 2020.11.30.'!C3,4),". évi eredeti előirányzat") -> 2020. évi eredeti előirányzat | D4: =+CONCATENATE(LEFT('rendelet módosítás 2020.11.30.'!C3,4),". évi módosított előirányzat") -> 2020. évi módosított előirányzat | E4: Megnevezés | F4: =+C4 -> 2020. évi eredeti előirányzat | G4: =+D4 -> 2020. évi módosított előirányzat
A5: A | B5: B | C5: C | D5: D | E5: F | F5: G | G5: H
A6: 1. | B6: Önkormányzatok működési támogatásai | C6: 63101557 | D6: 134775496 | E6: Személyi juttatások | F6: 125170244 | G6: 131077752
A7: 2. | B7: Működési célú támogatások államháztartáson belülről | C7: 60116344 | D7: 9462389 | E7: Munkaadókat terhelő járulékok és szociális hozzájárulási adó | F7: 22367499 | G7: 22728097
A8: 3. | B8: 2.-ból EU-s támogatás | E8: Dologi kiadások | F8: 68202253 | G8: 73580403
A9: 4. | B9: Közhatalmi bevételek | C9: 132712000 | D9: 140043202 | E9: Ellátottak pénzbeli juttatásai | F9: 2000000 | G9: 2000000
A10: 5. | B10: Működési bevételek | C10: 11076635 | D10: 11434623 | E10: Egyéb működési célú kiadások | F10: 5323355 | G10: 10548349
A11: 6. | B11: Működési célú átvett pénzeszközök | D11: 4458500 | E11: Tartalékok | F11: 4777951 | G11: 221541
A12: 7. | B12: 6.-ből EU-s támogatás | D12: 1402199
A13: 8. | B13: Egyéb működési bevételek
A14: 9.
A15: 10.
A16: 11.
A17: 12.
A18: 13. | B18: Költségvetési bevételek összesen (1.+2.+4.+5.+7.+…+12.) | C18: =+C6+C7+C9+C10+C12+C13+C14+C15+C16+C17 -> 267006536 | D18: =+D6+D7+D9+D10+D11+D13+D14+D15+D16+D17 -> 300174210 | E18: Költségvetési kiadások összesen (1.+...+12.) | F18: =SUM(F6:F17) -> 227841302 | G18: =SUM(G6:G17) -> 240156142
A19: 14. | B19: Hiány belső finanszírozásának bevételei (15.+…+18. ) | C19: =+C20+C21+C22+C23 -> 3832969 | D19: =+D20+D21+D22+D23 -> 3832969 | E19: Értékpapír vásárlása, visszavásárlása
A20: 15. | B20: Költségvetési maradvány igénybevétele | C20: 3832969 | D20: 3832969 | E20: Likviditási célú hitelek törlesztése | G20: 44307513
A21: 16. | B21: Vállalkozási maradvány igénybevétele | E21: Rövid lejáratú hitelek törlesztése
A22: 17. | B22: Betét visszavonásából származó bevétel | E22: Hosszú lejáratú hitelek törlesztése
A23: 18. | B23: Egyéb belső finanszírozási bevételek | E23: Kölcsön törlesztése
A24: 19. | B24: Hiány külső finanszírozásának bevételei (20.+…+21.) | C24: =+C26+C27+C25 -> 0 | D24: =+D26+D27+D25 -> 46424987 | E24: Forgatási célú belföldi, külföldi értékpapírok vásárlása
A25: 20. | B25: Likviditási célú hitelek, kölcsönök felvétele | D25: 44307513 | E25: Betét elhelyezése
A26: 21. | B26: Értékpapírok bevételei | E26: Államháztartáson belüli megelőlegezések visszafizetése | F26: 2524062 | G26: 4641536
A27: 22. | B27: Egyéb külső finanszírozási bevételek | D27: 2117474
A28: 23. | B28: Működési célú finanszírozási bevételek összesen (14.+19.) | C28: =+C19+C24 -> 3832969 | D28: =SUM(D19,D24) -> 50257956 | E28: Működési célú finanszírozási kiadások összesen (14.+...+21.) | F28: =SUM(F19:F27) -> 2524062 | G28: =SUM(G19:G27) -> 48949049
A29: 24. | B29: BEVÉTEL ÖSSZESEN (13.+22.) | C29: =+C18+C28 -> 270839505 | D29: =+D18+D28 -> 350432166 | E29: KIADÁSOK ÖSSZESEN (13.+22.) | F29: =+F18+F28 -> 230365364 | G29: =+G18+G28 -> 289105191
A30: 25. | B30: Költségvetési hiány: | C30: =IF(C18-F18<0,F18-C18,"-") -> - | D30: =IF(D18-G18<0,G18-D18,"-") -> - | E30: Költségvetési többlet: | F30: =IF(C18-F18>0,C18-F18,"-") -> 39165234 | G30: =IF(D18-G18>0,D18-G18,"-") -> 60018068
A31: 26. | B31: Tárgyévi hiány: | C31: =IF(C29-F29<0,F29-C29,"-") -> - | D31: =IF(D29-G29<0,G29-D29,"-") -> - | E31: Tárgyévi többlet: | F31: =IF(C29-F29>0,C29-F29,"-") -> 40474141 | G31: =IF(D29-G29>0,D29-G29,"-") -> 61326975

Sheet 2.2.sz.mell  
B1: II. Felhalmozási célú bevételek és kiadások mérlege (Önkormányzati szinten) | H1: =+CONCATENATE("2.2. melléklet az 10/2020. (XI.30.) önkormányzati rendelethez") -> 2.2. melléklet az 10/2020. (XI.30.) önkormányzati rendelethez
G2: Forintban
A3: Sor- szám | B3: Bevételek | E3: Kiadások
B4: Megnevezés | C4: =+'2.1.sz.mell '!C4 -> 2020. évi eredeti előirányzat | D4: =+'2.1.sz.mell '!D4 -> 2020. évi módosított előirányzat | E4: Megnevezés | F4: =+'2.1.sz.mell '!C4 -> 2020. évi eredeti előirányzat | G4: =+'2.1.sz.mell '!D4 -> 2020. évi módosított előirányzat
A5: A | B5: B | C5: C | D5: D | E5: F | F5: G | G5: H
A6: 1. | B6: Felhalmozási célú támogatások államháztartáson belülről | D6: 117985051 | E6: Beruházások | F6: 21245000 | G6: 117525949
A7: 2. | B7: 1.-ből EU-s támogatás | D7: 93711258 | E7: 1.-ből EU-s forrásból megvalósuló beruházás | G7: 96008908
A8: 3. | B8: Felhalmozási bevételek | E8: Felújítások | F8: 18560000 | G8: 46484020
A9: 4. | B9: Felhalmozási célú átvett pénzeszközök átvétele | E9: 3.-ból EU-s forrásból megvalósuló felújítás
A10: 5. | B10: 4.-ből EU-s támogatás (közvetlen) | E10: Egyéb felhalmozási kiadások | F10: 669141 | G10: 15302057
A11: 6. | B11: Egyéb felhalmozási célú bevételek
A12: 7.
A13: 8.
A14: 9.
A15: 10.
A16: 11. | E16: Tartalékok
A17: 12. | B17: Költségvetési bevételek összesen: (1.+3.+4.+6.+…+11.) | C17: =+C6+C8+C9+C11+C12+C13+C14+C15+C16 -> 0 | D17: =+D6+D8+D9+D11+D12+D13+D14+D15+D16 -> 117985051 | E17: Költségvetési kiadások összesen: (1.+3.+5.+...+11.) | F17: =+F6+F8+F10+F11+F12+F13+F14+F15+F16 -> 40474141 | G17: =+G6+G8+G10+G11+G12+G13+G14+G15+G16 -> 179312026
A18: 13. | B18: Hiány belső finanszírozás bevételei ( 14+…+18) | C18: =+C19+C20+C21+C22+C23 -> 0 | D18: =+D19+D20+D21+D22+D23 -> 0 | E18: Értékpapír vásárlása, visszavásárlása
A19: 14. | B19: Költségvetési maradvány igénybevétele | E19: Hitelek törlesztése
A20: 15. | B20: Vállalkozási maradvány igénybevétele | E20: Rövid lejáratú hitelek törlesztése
A21: 16. | B21: Betét visszavonásából származó bevétel | E21: Hosszú lejáratú hitelek törlesztése
A22: 17. | B22: Értékpapír értékesítése | E22: Kölcsön törlesztése
A23: 18. | B23: Egyéb belső finanszírozási bevételek | E23: Befektetési célú belföldi, külföldi értékpapírok vásárlása
A24: 19. | B24: Hiány külső finanszírozásának bevételei (20+…+24 ) | C24: =+C25+C26+C27+C28+C29 -> 0 | D24: =+D25+D26+D27+D28+D29 -> 0 | E24: Betét elhelyezése
A25: 20. | B25: Hosszú lejáratú hitelek, kölcsönök felvétele | E25: Pénzügyi lízing kiadásai
A26: 21. | B26: Likviditási célú hitelek, kölcsönök felvétele
A27: 22. | B27: Rövid lejáratú hitelek, kölcsönök felvétele
A28: 23. | B28: Értékpapírok kibocsátása
A29: 24. | B29: Egyéb külső finanszírozási bevételek
A30: 25. | B30: Felhalmozási célú finanszírozási bevételek összesen (13.+19.) | C30: =+C18+C24 -> 0 | D30: =+D18+D24 -> 0 | E30: Felhalmozási célú finanszírozási kiadások összesen (13.+...+24.) | F30: =SUM(F18:F29) -> 0 | G30: =SUM(G18:G29) -> 0
A31: 26. | B31: BEVÉTEL ÖSSZESEN (12+25) | C31: =+C17+C30 -> 0 | D31: =+D17+D30 -> 117985051 | E31: KIADÁSOK ÖSSZESEN (12+25) | F31: =+F17+F30 -> 40474141 | G31: =+G17+G30 -> 179312026
A32: 27. | B32: Költségvetési hiány: | C32: =IF(C17-F17<0,F17-C17,"-") -> 40474141 | D32: =IF(D17-G17<0,G17-D17,"-") -> 61326975 | E32: Költségvetési többlet: | F32: =IF(C17-F17>0,C17-F17,"-") -> - | G32: =IF(D17-G17>0,D17-G17,"-") -> -
A33: 28. | B33: Tárgyévi hiány: | C33: =IF(C31-F31<0,F31-C31,"-") -> 40474141 | D33: =IF(D31-G31<0,G31-D31,"-") -> 61326975 | E33: Tárgyévi többlet: | F33: =IF(C31-F31>0,C31-F31,"-") -> - | G33: =IF(D31-G31>0,D31-G31,"-") -> -

Sheet ELLENŐRZÉS-1.sz.2.1.sz.2.2.sz.
A1: Költségvetési rendelet űrlapjainak összefüggései: | E1: ELTÉRÉS
A4: =+ÖSSZEFÜGGÉSEK!A4 -> 2014. évi eredeti előirányzat BEVÉTELEK
A6: 1. sz. melléklet Bevételek táblázat C. oszlop 9 sora = | B6: =+'rendelet módosítás 2020.11.30.'!C62 -> 267006536 | C6: 2.1. számú melléklet C. oszlop 13. sor + 2.2. számú melléklet C. oszlop 12. sor | D6: =+'2.1.sz.mell '!C18+'2.2.sz.mell '!C17 -> 267006536 | E6: =+B6-D6 -> 0
A7: 1. sz. melléklet Bevételek táblázat C. oszlop 16 sora = | B7: =+'rendelet módosítás 2020.11.30.'!C85 -> 3832969 | C7: 2.1. számú melléklet C. oszlop 22. sor + 2.2. számú melléklet C. oszlop 25. sor | D7: =+'2.1.sz.mell '!C28+'2.2.sz.mell '!C30 -> 3832969 | E7: =+B7-D7 -> 0
A8: 1. sz. melléklet Bevételek táblázat C. oszlop 17 sora = | B8: =+'rendelet módosítás 2020.11.30.'!C86 -> 270839505 | C8: 2.1. számú melléklet C. oszlop 23. sor + 2.2. számú melléklet C. oszlop 26. sor | D8: =+'2.1.sz.mell '!C29+'2.2.sz.mell '!C31 -> 270839505 | E8: =+B8-D8 -> 0
A10: =+ÖSSZEFÜGGÉSEK!A10 -> 2014. évi módosított előirányzat BEVÉTELEK
A12: 1. sz. melléklet Bevételek táblázat D. oszlop 9 sora = | B12: =+'rendelet módosítás 2020.11.30.'!D62 -> 418159261 | C12: 2.1. számú melléklet D. oszlop 13. sor + 2.2. számú melléklet D. oszlop 12. sor | D12: =+'2.1.sz.mell '!D18+'2.2.sz.mell '!D17 -> 418159261 | E12: =+B12-D12 -> 0
A13: 1. sz. melléklet Bevételek táblázat D. oszlop 16 sora = | B13: =+'rendelet módosítás 2020.11.30.'!D85 -> 50257956 | C13: 2.1. számú melléklet D. oszlop 22. sor + 2.2. számú melléklet D. oszlop 25. sor | D13: =+'2.1.sz.mell '!D28+'2.2.sz.mell '!D30 -> 50257956 | E13: =+B13-D13 -> 0
A14: 1. sz. melléklet Bevételek táblázat D. oszlop 17 sora = | B14: =+'rendelet módosítás 2020.11.30.'!D86 -> 468417217 | C14: 2.1. számú melléklet D. oszlop 23. sor + 2.2. számú melléklet D. oszlop 26. sor | D14: =+'2.1.sz.mell '!D29+'2.2.sz.mell '!D31 -> 468417217 | E14: =+B14-D14 -> 0
A16: =+ÖSSZEFÜGGÉSEK!A16 -> 2014. évi teljesítés BEVÉTELEK
A18: 1. sz. melléklet Bevételek táblázat E. oszlop 9 sora = | B18: =+'rendelet módosítás 2020.11.30.'!#REF! -> #REF! | C18: 2.1. számú melléklet E. oszlop 13. sor + 2.2. számú melléklet E. oszlop 12. sor | D18: =+'2.1.sz.mell '!#REF!+'2.2.sz.mell '!#REF! -> #REF! | E18: =+B18-D18 -> #REF!
A19: 1. sz. melléklet Bevételek táblázat E. oszlop 16 sora = | B19: =+'rendelet módosítás 2020.11.30.'!#REF! -> #REF! | C19: 2.1. számú melléklet E. oszlop 22. sor + 2.2. számú melléklet E. oszlop 25. sor | D19: =+'2.1.sz.mell '!#REF!+'2.2.sz.mell '!#REF! -> #REF! | E19: =+B19-D19 -> #REF!
A20: 1. sz. melléklet Bevételek táblázat E. oszlop 17 sora = | B20: =+'rendelet módosítás 2020.11.30.'!#REF! -> #REF! | C20: 2.1. számú melléklet E. oszlop 23. sor + 2.2. számú melléklet E. oszlop 26. sor | D20: =+'2.1.sz.mell '!#REF!+'2.2.sz.mell '!#REF! -> #REF! | E20: =+B20-D20 -> #REF!
A22: =+ÖSSZEFÜGGÉSEK!A22 -> 2014. évi eredeti előirányzat KIADÁSOK
A24: 1. sz. melléklet Kiadások táblázat C. oszlop 4 sora = | B24: =+'rendelet módosítás 2020.11.30.'!C126 -> 268315443 | C24: 2.1. számú melléklet G. oszlop 13. sor + 2.2. számú melléklet G. oszlop 12. sor | D24: =+'2.1.sz.mell '!F18+'2.2.sz.mell '!F17 -> 268315443 | E24: =+B24-D24 -> 0
A25: 1. sz. melléklet Kiadások táblázat C. oszlop 9 sora = | B25: =+'rendelet módosítás 2020.11.30.'!C146 -> 2524062 | C25: 2.1. számú melléklet G. oszlop 22. sor + 2.2. számú melléklet G. oszlop 25. sor | D25: =+'2.1.sz.mell '!F28+'2.2.sz.mell '!F30 -> 2524062 | E25: =+B25-D25 -> 0
A26: 1. sz. melléklet Kiadások táblázat C. oszlop 10 sora = | B26: =+'rendelet módosítás 2020.11.30.'!C147 -> 270839505 | C26: 2.1. számú melléklet G. oszlop 23. sor + 2.2. számú melléklet G. oszlop 26. sor | D26: =+'2.1.sz.mell '!F29+'2.2.sz.mell '!F31 -> 270839505 | E26: =+B26-D26 -> 0
A28: =+ÖSSZEFÜGGÉSEK!A28 -> 2014. évi módosított előirányzat KIADÁSOK
A30: 1. sz. melléklet Kiadások táblázat D. oszlop 4 sora = | B30: =+'rendelet módosítás 2020.11.30.'!D126 -> 419468168 | C30: 2.1. számú melléklet H. oszlop 13. sor + 2.2. számú melléklet H. oszlop 12. sor | D30: =+'2.1.sz.mell '!G18+'2.2.sz.mell '!G17 -> 419468168 | E30: =+B30-D30 -> 0
A31: 1. sz. melléklet Kiadások táblázat D. oszlop 9 sora = | B31: =+'rendelet módosítás 2020.11.30.'!D146 -> 48949049 | C31: 2.1. számú melléklet H. oszlop 22. sor + 2.2. számú melléklet H. oszlop 25. sor | D31: =+'2.1.sz.mell '!G28+'2.2.sz.mell '!G30 -> 48949049 | E31: =+B31-D31 -> 0
A32: 1. sz. melléklet Kiadások táblázat D. oszlop 10 sora = | B32: =+'rendelet módosítás 2020.11.30.'!D147 -> 468417217 | C32: 2.1. számú melléklet H. oszlop 23. sor + 2.2. számú melléklet H. oszlop 26. sor | D32: =+'2.1.sz.mell '!G29+'2.2.sz.mell '!G31 -> 468417217 | E32: =+B32-D32 -> 0
A34: =+ÖSSZEFÜGGÉSEK!A34 -> 2014. évi teljesítés KIADÁSOK
A36: 1. sz. melléklet Kiadások táblázat E. oszlop 4 sora = | B36: =+'rendelet módosítás 2020.11.30.'!#REF! -> #REF! | C36: 2.1. számú melléklet I. oszlop 13. sor + 2.2. számú melléklet I. oszlop 12. sor | D36: =+'2.1.sz.mell '!#REF!+'2.2.sz.mell '!#REF! -> #REF! | E36: =+B36-D36 -> #REF!
A37: 1. sz. melléklet Kiadások táblázat E. oszlop 9 sora = | B37: =+'rendelet módosítás 2020.11.30.'!#REF! -> #REF! | C37: 2.1. számú melléklet I. oszlop 22. sor + 2.2. számú melléklet I. oszlop 25. sor | D37: =+'2.1.sz.mell '!#REF!+'2.2.sz.mell '!#REF! -> #REF! | E37: =+B37-D37 -> #REF!
A38: 1. sz. melléklet Kiadások táblázat E. oszlop 10 sora = | B38: =+'rendelet módosítás 2020.11.30.'!#REF! -> #REF! | C38: 2.1. számú melléklet I. oszlop 23. sor + 2.2. számú melléklet I. oszlop 26. sor | D38: =+'2.1.sz.mell '!#REF!+'2.2.sz.mell '!#REF! -> #REF! | E38: =+B38-D38 -> #REF!

Sheet 3.sz.mell.
A1: Beruházási (felhalmozási) kiadások előirányzata beruházásonként
A3: Beruházás megnevezése | B3: 2020. eredeti előidrányzat | C3: 2020. évi módosított előirányzat
A4: A | B4: D | C4: E
A5: Hadifogolytemető fejkövek készítése | B5: 1000000 | C5: 930000
A6: Lovaspályán járda, sátor alap készítés és murvázás | B6: 2000000 | C6: 3944968
A7: Csapadékvíz elvezetés Petőfi u. páros oldal, Tóth Á.u., Rákóczi u. páratlan oldal Dobó u. és Arany J. u. között | B7: 13000000 | C7: 8598982
A8: Óvoda tárolószekrény | B8: 250000 | C8: 49956
A9: Óvoda íróasztal | C9: 50000
A10: Óvoda akkumulátoros fúró, csavarozó | C10: 19990
A11: Kis bolt előtt térkövezés, járda készítés | B11: 3000000
A12: BOSO ABI SYSTEM 100 PWV boka-kar-index mérő | B12: 1495000 | C12: 1495000
A13: Trianoni emlékmű | B13: 500000 | C13: 461745
A14: Játszótérhez vezető járda kialakítása | C14: 1026327
A15: Faluház világítás takaró elkészítése | C15: 111506
A16: TOP-1.4.1-19-VE1-2019-00017 291,295 hrsz. telek összevonás | C16: 117200
A17: TOP-1.4.1-19-VE1-2019-00017 minibölcsőde építés | C17: 92077292
A18: TOP-1.4.1-19-VE1-2019-00017 minibölcsőde eszközbeszerzés | C18: 3814416
A19: Látványtó vízjogi engedélyezési terv elkészítése | C19: 317500
A20: SAMSUNG tablet-T510 rendőrség csóti kirendeltsége | C20: 65000
A21: TP-LINK ARCHER A7WIRELESS DUAL-BAND ROUTER | C21: 22395
A22: Gyógyászati segédeszköz 3 db | C22: 99810
A23: Faluház 5 db szekrény | C23: 205000
A24: VACUM CLEANER 3200 porszívó | C24: 11490
A25: SENCOR SES 1010SS kávéfőző | C25: 34790
... A37: Egészségügyi gépbeszerzés "Orvosi rendelők fejlesztése 2020 pályázat" | C37: 1449996
A39: ÖSSZESEN: | B39: =SUM(B5:B38) -> 21245000 | C39: =SUM(C5:C38) -> 117525949

Sheet 4.sz.mell.
A1: Felújítási kiadások előirányzata felújításonként
A3: Felújítás megnevezése | B3: 2020. évi eredeti előirányzat | C3: =+'3.sz.mell.'!C3 -> 2020. évi módosított előirányzat
A4: A | B4: B | C4: E
A5: Óvoda épületében mosogató és tálalóhelyiségek felújítása (járólapozás, festés) | B5: 500000 | C5: 500000
A6: Óvoda fűtés korszerűsítés, és felújítás | B6: 4500000
A7: VP6-7.2.1-7.4.1.3-17 Konyha felújítás pályázat | B7: 13560000 | C7: 13075101
A8: Konyha felújítás | C8: 479610
A9: Sportöltöző felújítása | C9: 498076
A10: Led világítás kemenceház | C10: 166734
A11: Hőszigetelés konyha | C11: 1265000
A12: Petőfi u. 8-52. hsz. csapadékvíz árok felújítása, átereszek | C12: 9171502
A13: Orvosi rendelő felújítása "Orvosi rendelők fejlesztése 2020 pályázat" | C13: 21327997
A15: ÖSSZESEN: | B15: =SUM(B5:B14) -> 18560000 | C15: =SUM(C5:C14) -> 46484020

Sheet 5.1. sz. mell
B1: =+CONCATENATE("5.1. melléklet a 10/2020. (XI.30.) önkormányzati rendelethez") -> 5.1. melléklet a 10/2020. (XI.30.) önkormányzati rendelethez
A2: Megnevezés | B2: Csót Község Önkormányzat
A3: Feladat megnevezése | B3: Összes bevétel, kiadás
A5: Száma | B5: Előirányzat-csoport, kiemelt előirányzat megnevezése | C5: Eredeti előirányzat | D5: Módosított előirányzat
A6: A | B6: B | C6: C | D6: D
A7: Bevételek
A8: 1. | B8: Önkormányzat működési támogatásai (1.1.+…+.1.6.) | C8: =SUM(C9:C15) -> 63101557 | D8: =SUM(D9:D15) -> 134775496
A9: 1.1. | B9: Helyi önkormányzatok működésének általános támogatása | C9: 21321071 | D9: 87332982
A10: 1.2. | B10: Települési önkormányzatok egyes köznevelési feladatainak támogatása | C10: 28469300 | D10: 30226113
A11: 1.3. | B11: Települési önkormányzatok szociális és gyermekjóléti feladatainak támogatása | C11: 2614400 | D11: 3271748
A12: 1.4. | B12: Települési önkormányzatok gyermekétkeztetési feladatainak támogatása | C12: 8896786 | D12: 9267295
A13: 1.5. | B13: Települési önkormányzatok kulturális feladatainak támogatása | C13: 1800000 | D13: 2227850
A14: 1.6. | B14: Működési célú költségvetési támogatások és kiegészítő támogatások | D14: 1143000
A15: 1.7. | B15: Elszámolásból származó bevételek | D15: 1306508
A16: 2. | B16: Működési célú támogatások államháztartáson belülről (2.1.+…+.2.5.) | C16: =SUM(C17:C21) -> 60116344 | D16: =SUM(D17:D21) -> 9462389
A17: 2.1. | B17: Elvonások és befizetések bevételei
A18: 2.2. | B18: Működési célú garancia- és kezességvállalásból megtérülések
A19: 2.3. | B19: Működési célú visszatérítendő támogatások, kölcsönök visszatérülése
A20: 2.4. | B20: Működési célú visszatérítendő támogatások, kölcsönök igénybevétele
A21: 2.5. | B21: Egyéb működési célú támogatások bevételei | C21: 60116344 | D21: 9462389
A22: 2.6. | B22: 2.5.-ből EU-s támogatás | D22: 1402199
A23: 3. | B23: Felhalmozási célú támogatások államháztartáson belülről (3.1.+…+3.5.) | C23: =SUM(C24:C28) -> 0 | D23: =SUM(D24:D28) -> 117985051
A24: 3.1. | B24: Felhalmozási célú önkormányzati támogatások
A25: 3.2. | B25: Felhalmozási célú garancia- és kezességvállalásból megtérülések
A26: 3.3. | B26: Felhalmozási célú visszatérítendő támogatások, kölcsönök visszatérülése
A27: 3.4. | B27: Felhalmozási célú visszatérítendő támogatások, kölcsönök igénybevétele
A28: 3.5. | B28: Egyéb felhalmozási célú támogatások bevételei | D28: 117985051
A29: 3.6. | B29: 3.5.-ből EU-s támogatás | D29: 93711258
A30: 4. | B30: Közhatalmi bevételek (4.1.+4.2.+4.3.+4.4.) | C30: =+C31+C34+C35+C36 -> 132712000 | D30: =+D31+D34+D35+D36 -> 140043202
A31: 4.1. | B31: Helyi adók (4.1.1.+4.1.2.) | C31: =+C32+C33 -> 130000000 | D31: =+D32+D33 -> 139915202
A32: 4.1.1. | B32: - Vagyoni típusú adók | C32: 10000000 | D32: 10015872
A33: 4.1.2. | B33: - Értékesítési és forgalmi adók | C33: 120000000 | D33: 129899330
A34: 4.2. | B34: Gépjárműadó | C34: 2584000
A35: 4.3. | B35: Egyéb áruhasználati és szolgáltatási adók
A36: 4.4. | B36: Egyéb közhatalmi bevételek | C36: 128000 | D36: 128000
A37: 5. | B37: Működési bevételek (5.1.+…+ 5.10.) | C37: =SUM(C38:C47) -> 10536125 | D37: =SUM(D38:D47) -> 10876387
A38: 5.1. | B38: Készletértékesítés ellenértéke
A39: 5.2. | B39: Szolgáltatások ellenértéke | C39: 1570000 | D39: 1570000
A40: 5.3. | B40: Közvetített szolgáltatások értéke | C40: 150000 | D40: 451950
A41: 5.4. | B41: Tulajdonosi bevételek
A42: 5.5. | B42: Ellátási díjak | C42: 8816125 | D42: 8816125
A43: 5.6. | B43: Kiszámlázott általános forgalmi adó
A44: 5.7. | B44: Általános forgalmi adó visszatérítése
A45: 5.8. | B45: Kamatbevételek | D45: 1807
A46: 5.9. | B46: Egyéb pénzügyi műveletek bevételei
A47: 5.10. | B47: Egyéb működési bevételek | D47: 36505
A48: 6. | B48: Felhalmozási bevételek (6.1.+…+6.5.) | C48: =SUM(C49:C53) -> 0 | D48: =SUM(D49:D53) -> 0
A49: 6.1. | B49: Immateriális javak értékesítése
A50: 6.2. | B50: Ingatlanok értékesítése
A51: 6.3. | B51: Egyéb tárgyi eszközök értékesítése
A52: 6.4. | B52: Részesedések értékesítése
A53: 6.5. | B53: Részesedések megszűnéséhez kapcsolódó bevételek
A54: 7. | B54: Működési célú átvett pénzeszközök (7.1. + … + 7.3.) | C54: =SUM(C55:C57) -> 0 | D54: =SUM(D55:D57) -> 4358500
A55: 7.1. | B55: Működési célú garancia- és kezességvállalásból megtérülések ÁH-n kívülről
A56: 7.2. | B56: Működési célú visszatérítendő támogatások, kölcsönök visszatér. ÁH-n kívülről | D56: 4358500
A57: 7.3. | B57: Egyéb működési célú átvett pénzeszköz
A58: 7.4. | B58: 7.3.-ból EU-s támogatás (közvetlen)
A59: 8. | B59: Felhalmozási célú átvett pénzeszközök (8.1.+8.2.+8.3.) | C59: =SUM(C60:C62) -> 0 | D59: =SUM(D60:D62) -> 0
A60: 8.1. | B60: Felhalm. célú garancia- és kezességvállalásból megtérülések ÁH-n kívülről
A61: 8.2. | B61: Felhalm. célú visszatérítendő tám., kölcsönök visszatér. ÁH-n kívülről
A62: 8.3. | B62: Egyéb felhalmozási célú átvett pénzeszköz
A63: 8.4. | B63: 8.3.-ból EU-s támogatás (közvetlen)
A64: 9. | B64: KÖLTSÉGVETÉSI BEVÉTELEK ÖSSZESEN: (1+…+8) | C64: =+C8+C16+C23+C30+C37+C48+C54+C59 -> 266466026 | D64: =+D8+D16+D23+D30+D37+D48+D54+D59 -> 417501025
A65: 10. | B65: Hitel-, kölcsönfelvétel államháztartáson kívülről (10.1.+10.3.) | C65: =SUM(C66:C68) -> 0 | D65: =SUM(D66:D68) -> 44307513
A66: 10.1. | B66: Hosszú lejáratú hitelek, kölcsönök felvétele
A67: 10.2. | B67: Likviditási célú hitelek, kölcsönök felvétele pénzügyi vállalkozástól | D67: 44307513
A68: 10.3. | B68: Rövid lejáratú hitelek, kölcsönök felvétele
A69: 11. | B69: Belföldi értékpapírok bevételei (11.1. +…+ 11.4.) | C69: =SUM(C70:C73) -> 0 | D69: =SUM(D70:D73) -> 0
A70: 11.1. | B70: Forgatási célú belföldi értékpapírok beváltása, értékesítése
A71: 11.2. | B71: Forgatási célú belföldi értékpapírok kibocsátása
A72: 11.3. | B72: Befektetési célú belföldi értékpapírok beváltása, értékesítése
A73: 11.4. | B73: Befektetési célú belföldi értékpapírok kibocsátása
A74: 12. | B74: Maradvány igénybevétele (12.1. + 12.2.) | C74: =SUM(C75:C76) -> 3481524 | D74: =SUM(D75:D76) -> 3481524
A75: 12.1. | B75: Előző év költségvetési maradványának igénybevétele | C75: 3481524 | D75: 3481524
A76: 12.2. | B76: Előző év vállalkozási maradványának igénybevétele
A77: 13. | B77: Belföldi finanszírozás bevételei (13.1. + … + 13.3.) | C77: =SUM(C78:C80) -> 0 | D77: =SUM(D78:D80) -> 2117474
A78: 13.1. | B78: Államháztartáson belüli megelőlegezések | D78: 2117474
A79: 13.2. | B79: Államháztartáson belüli megelőlegezések törlesztése
A80: 13.3. | B80: Betétek megszüntetése
A81: 14. | B81: Külföldi finanszírozás bevételei (14.1.+…14.4.) | C81: =SUM(C82:C85) -> 0 | D81: =SUM(D82:D85) -> 0
A82: 14.1. | B82: Forgatási célú külföldi értékpapírok beváltása, értékesítése
A83: 14.2. | B83: Befektetési célú külföldi értékpapírok beváltása, értékesítése
A84: 14.3. | B84: Külföldi értékpapírok kibocsátása
A85: 14.4. | B85: Külföldi hitelek, kölcsönök felvétele
A86: 15. | B86: Adóssághoz nem kapcsolódó származékos ügyletek bevételei
A87: 16. | B87: FINANSZÍROZÁSI BEVÉTELEK ÖSSZESEN: (10. + … +15.) | C87: =+C65+C69+C74+C77+C81+C86 -> 3481524 | D87: =+D65+D69+D74+D77+D81+D86 -> 49906511
A88: 17. | B88: BEVÉTELEK ÖSSZESEN: (9+16) | C88: =+C64+C87 -> 269947550 | D88: =+D64+D87 -> 467407536
A91: Kiadások
A92: 1. | B92: Működési költségvetés kiadásai (1.1+…+1.5.) | C92: =SUM(C93:C97) -> 91549310 | D92: =SUM(D93:D97) -> 105447871
A93: 1.1. | B93: Személyi juttatások | C93: 28496525 | D93: 30837239
A94: 1.2. | B94: Munkaadókat terhelő járulékok és szociális hozzájárulási adó | C94: 5281780 | D94: 5281780
A95: 1.3. | B95: Dologi kiadások | C95: 50447650 | D95: 56780503
A96: 1.4. | B96: Ellátottak pénzbeli juttatásai | C96: 2000000 | D96: 2000000
A97: 1.5 | B97: Egyéb működési célú kiadások | C97: =SUM(C98:C107) -> 5323355 | D97: =SUM(D98:D107) -> 10548349
A98: 1.6. | B98: - az 1.5-ből: - Elvonások és befizetések | D98: 216062
A99: 1.7. | B99: - Garancia- és kezességvállalásból kifizetés ÁH-n belülre
A100: 1.8. | B100: -Visszatérítendő támogatások, kölcsönök nyújtása ÁH-n belülre
A101: 1.9. | B101: - Visszatérítendő támogatások, kölcsönök törlesztése ÁH-n belülre | C101: 2000000 | D101: 2000000
A102: 1.10. | B102: - Egyéb működési célú támogatások ÁH-n belülre | C102: 1123355 | D102: 1605787
A103: 1.11. | B103: - Garancia és kezességvállalásból kifizetés ÁH-n kívülre
...

Sheet 6.1. sz. mell
B1: =+CONCATENATE("6.1. melléklet a 10/2020. (XI.30.) önkormányzati rendelethez") -> 6.1. melléklet a 10/2020. (XI.30.) önkormányzati rendelethez
A2: Költségvetési szerv megnevezése | B2: Csóti Közös Önkormányzati Hivatal
A3: Feladat megnevezése | B3: Összes bevétel, kiadás
A5: Száma | B5: Előirányzat-csoport, kiemelt előirányzat megnevezése | C5: Eredeti előirányzat | D5: Módosított előirányzat
A6: A | B6: B | C6: C | D6: D
A7: Bevételek
A8: 1. | B8: Működési bevételek (1.1.+…+1.10.) | C8: =SUM(C9:C18) -> 0 | D8: =SUM(D9:D18) -> 11657
A9: 1.1. | B9: Készletértékesítés ellenértéke
A10: 1.2. | B10: Szolgáltatások ellenértéke
A11: 1.3. | B11: Közvetített szolgáltatások értéke | D11: 5644
A12: 1.4. | B12: Tulajdonosi bevételek
A13: 1.5. | B13: Ellátási díjak
A14: 1.6. | B14: Kiszámlázott általános forgalmi adó
A15: 1.7. | B15: Általános forgalmi adó visszatérülése
A16: 1.8. | B16: Kamatbevételek | D16: 13
A17: 1.9. | B17: Egyéb pénzügyi műveletek bevételei
A18: 1.10. | B18: Egyéb működési bevételek | D18: 6000
A19: 2. | B19: Működési célú támogatások államháztartáson belülről (2.1.+…+2.3.) | C19: =SUM(C20:C22) -> 0 | D19: =SUM(D20:D22) -> 0
A20: 2.1. | B20: Elvonások és befizetések bevételei
A21: 2.2. | B21: Visszatérítendő támogatások, kölcsönök visszatérülése ÁH-n belülről
A22: 2.3. | B22: Egyéb működési célú támogatások bevételei államháztartáson belülről
A23: 2.4. | B23: - 2.3-ból EU-s támogatás
A24: 3. | B24: Közhatalmi bevételek
A25: 4. | B25: Felhalmozási célú támogatások államháztartáson belülről (4.1.+4.2.) | C25: =SUM(C26:C27) -> 0 | D25: =SUM(D26:D27) -> 0
A26: 4.1. | B26: Visszatérítendő támogatások, kölcsönök visszatérülése ÁH-n belülről
A27: 4.2. | B27: Egyéb felhalmozási célú támogatások bevételei államháztartáson belülről
A28: 4.3. | B28: - 4.2-ből EU-s támogatás
A29: 5. | B29: Felhalmozási bevételek (5.1.+…+5.3.) | C29: =SUM(C30:C32) -> 0 | D29: =SUM(D30:D32) -> 0
A30: 5.1. | B30: Immateriális javak értékesítése
A31: 5.2. | B31: Ingatlanok értékesítése
A32: 5.3. | B32: Egyéb tárgyi eszközök értékesítése
A33: 6. | B33: Működési célú átvett pénzeszközök
A34: 7. | B34: Felhalmozási célú átvett pénzeszközök
A35: 8. | B35: KÖLTSÉGVETÉSI BEVÉTELEK ÖSSZESEN: (1.+…+7.) | C35: =+C8+C19+C24+C25+C29+C33+C34 -> 0 | D35: =+D8+D19+D24+D25+D29+D33+D34 -> 11657
A36: 9. | B36: Finanszírozási bevételek (9.1.+…+9.3.) | C36: =+C37+C38+C39 -> 92117578 | D36: =+D37+D38+D39 -> 94505348
A37: 9.1. | B37: Költségvetési maradvány igénybevétele | C37: 225689 | D37: 225689
A38: 9.2. | B38: Vállalkozási maradvány igénybevétele
A39: 9.3. | B39: Irányító szervi (önkormányzati) támogatás (intézményfinanszírozás) | C39: 91891889 | D39: 94279659
A40: 10. | B40: BEVÉTELEK ÖSSZESEN: (8.+9.) | C40: =+C35+C36 -> 92117578 | D40: =+D35+D36 -> 94517005
A43: Kiadások
A44: 1. | B44: Működési költségvetés kiadásai (1.1+…+1.5.) | C44: =SUM(C45:C49) -> 92117578 | D44: =SUM(D45:D49) -> 94517005
A45: 1.1. | B45: Személyi juttatások | C45: 71203490 | D45: 74374235
A46: 1.2. | B46: Munkaadókat terhelő járulékok és szociális hozzájárulási adó | C46: 12600175 | D46: 12908141
A47: 1.3. | B47: Dologi kiadások | C47: 8313913 | D47: 7234629
A48: 1.4. | B48: Ellátottak pénzbeli juttatásai
A49: 1.5. | B49: Egyéb működési célú kiadások | C49: =SUM(C50:C51) -> 0
A50: 1.6. | B50: 1.5-ből egyéb működési támogatások államháztartáson belülre
A51: 1.7. | B51: 1.5-ből egyéb működési támogatások államháztartáson kívülre
A52: 2. | B52: Felhalmozási költségvetés kiadásai (2.1.+…+2.3.) | C52: =SUM(C53:C55) -> 0 | D52: =SUM(D53:D55) -> 0
A53: 2.1. | B53: Beruházások
A54: 2.2. | B54: Felújítások
A55: 2.3. | B55: Egyéb fejlesztési célú kiadások
A56: 2.4. | B56: - 2.3-ból EU-s forrásból tám. megvalósuló programok, projektek kiadásai
A57: 3. | B57: KIADÁSOK ÖSSZESEN: (1.+2.) | C57: =+C44+C52 -> 92117578 | D57: =+D44+D52 -> 94517005
A59: Éves engedélyezett létszám előirányzat (fő) | C59: 18 | D59: 18
A60: Közfoglalkoztatottak létszáma (fő) | C60: 0 | D60: 0

Sheet 7.1. sz. mell.
B1: =+CONCATENATE("7.1. melléklet a 10/2020. (XI.30.) önkormányzati rendelethez") -> 7.1. melléklet a 10/2020. (XI.30.) önkormányzati rendelethez
A2: Költségvetési szerv megnevezése | B2: Csóti Csodavilág Óvoda
A3: Feladat megnevezése | B3: Összes bevétel, kiadás
A5: Száma | B5: Előirányzat-csoport, kiemelt előirányzat megnevezése | C5: Eredeti előirányzat | D5: Módosított előirányzat
A6: A | B6: B | C6: C | D6: D
A7: Bevételek
A8: 1. | B8: Működési bevételek (1.1.+…+1.10.) | C8: =SUM(C9:C18) -> 540510 | D8: =SUM(D9:D18) -> 546579
A9: 1.1. | B9: Készletértékesítés ellenértéke
A10: 1.2. | B10: Szolgáltatások ellenértéke
A11: 1.3. | B11: Közvetített szolgáltatások értéke | C11: 300000 | D11: 300000
A12: 1.4. | B12: Tulajdonosi bevételek
A13: 1.5. | B13: Ellátási díjak | C13: 189378 | D13: 191186
A14: 1.6. | B14: Kiszámlázott általános forgalmi adó | C14: 51132 | D14: 51624
A15: 1.7. | B15: Általános forgalmi adó visszatérülése
A16: 1.8. | B16: Kamatbevételek | D16: 30
A17: 1.9. | B17: Egyéb pénzügyi műveletek bevételei
A18: 1.10. | B18: Egyéb működési bevételek | D18: 3739
A19: 2. | B19: Működési célú támogatások államháztartáson belülről (2.1.+…+2.3.) | C19: =SUM(C20:C22) -> 0 | D19: =SUM(D20:D22) -> 0
A20: 2.1. | B20: Elvonások és befizetések bevételei
A21: 2.2. | B21: Visszatérítendő támogatások, kölcsönök visszatérülése ÁH-n belülről
A22: 2.3. | B22: Egyéb működési célú támogatások bevételei államháztartáson belülről
A23: 2.4. | B23: - 2.3.-ból EU-s támogatás
A24: 3. | B24: Közhatalmi bevételek
A25: 4. | B25: Felhalmozási célú támogatások államháztartáson belülről (4.1.+4.2.) | C25: =+C26+C27 -> 0 | D25: =+D26+D27 -> 0
A26: 4.1. | B26: Visszatérítendő támogatások, kölcsönök visszatérülése ÁH-n belülről
A27: 4.2. | B27: Egyéb felhalmozási célú támogatások bevételei államháztartáson belülről
A28: 4.3. | B28: - 4.2.-ből EU-s támogatás
A29: 5. | B29: Felhalmozási bevételek (5.1.+…+5.3.) | C29: =+C30+C31+C32 -> 0 | D29: =+D30+D31+D32 -> 0
A30: 5.1. | B30: Immateriális javak értékesítése
A31: 5.2. | B31: Ingatlanok értékesítése
A32: 5.3. | B32: Egyéb tárgyi eszközök értékesítése
A33: 6. | B33: Működési célú átvett pénzeszközök | D33: 100000
A34: 7. | B34: Felhalmozási célú átvett pénzeszközök
A35: 8. | B35: Költségvetési bevételek összesen (1.+…+7.) | C35: =+C8+C19+C24+C25+C29+C33+C34 -> 540510 | D35: =+D8+D19+D24+D25+D29+D33+D34 -> 646579
A36: 9. | B36: Finanszírozási bevételek (9.1.+…+9.3.) | C36: =+C37+C38+C39 -> 39605953 | D36: =+D37+D38+D39 -> 39943092
A37: 9.1. | B37: Költségvetési maradvány igénybevétele | C37: 125756 | D37: 125756
A38: 9.2. | B38: Vállalkozási maradvány igénybevétele
A39: 9.3. | B39: Irányító szervi (önkormányzati) támogatás (intézményfinanszírozás) | C39: 39480197 | D39: 39817336
A40: 10. | B40: BEVÉTELEK ÖSSZESEN: (8.+9.) | C40: =+C35+C36 -> 40146463 | D40: =+D35+D36 -> 40589671
A43: Kiadások
A44: 1. | B44: Működési költségvetés kiadásai (1.1+…+1.5.) | C44: =SUM(C45:C49) -> 39396463 | D44: =SUM(D45:D49) -> 39969725
A45: 1.1. | B45: Személyi juttatások | C45: 25470229 | D45: 25866278
A46: 1.2. | B46: Munkaadókat terhelő járulékok és szociális hozzájárulási adó | C46: 4485544 | D46: 4538176
A47: 1.3. | B47: Dologi kiadások | C47: 9440690 | D47: 9565271
A48: 1.4. | B48: Ellátottak pénzbeli juttatásai
A49: 1.5. | B49: Egyéb működési célú kiadások
A50: 2. | B50: Felhalmozási költségvetés kiadásai (2.1.+…+2.3.) | C50: =SUM(C51:C53) -> 750000 | D50: =SUM(D51:D53) -> 619946
A51: 2.1. | B51: Beruházások | C51: 250000 | D51: 119946
A52: 2.2. | B52: Felújítások | C52: 500000 | D52: 500000
A53: 2.3. | B53: Egyéb fejlesztési célú kiadások
A54: 2.4. | B54: - 2.3.-ból EU-s forrásból tám. megvalósuló programok, projektek kiadásai
A55: 3. | B55: KIADÁSOK ÖSSZESEN: (1.+2.) | C55: =+C44+C50 -> 40146463 | D55: =+D44+D50 -> 40589671
A57: Éves engedélyezett létszám előirányzat (fő) | C57: 6 | D57: 6
A58: Közfoglalkoztatottak létszáma (fő) | C58: 0 | D58: 0

Sheet Munka1

Sheet Munkalap19
