Workbook

Sheet 1.sz.tábla  (3)
A3: MEGNEVEZÉS | B3: 2015. évi eredeti előirányzat | C3: 2015. évi módosított előirányzat (12.09.) | D3: 2015. évi IV.módosított előirányzat (12.31.) | E3: Eltérés
A4: I. Működési célú támogatások államháztartáson belülről | B4: 32709 | C4: ='2.sz.tábla (2)'!C5 -> 35700 | D4: ='2.sz.tábla (2)'!D5 -> 34451 | E4: =D4-C4 -> -1249
A5: II.Felhalmozási célú támogatások államháztartáson belűlről | B5: 12835 | C5: ='2.sz.tábla (2)'!C18 -> 25866 | D5: ='2.sz.tábla (2)'!D18 -> 26319 | E5: =D5-C5 -> 453
A6: III. Közhatalmi bevételek | B6: 21100 | C6: ='2.sz.tábla (2)'!C24 -> 21100 | D6: ='2.sz.tábla (2)'!D24 -> 22627 | E6: =D6-C6 -> 1527
A7: IV. Működési bevételek | B7: 4750 | C7: ='2.sz.tábla (2)'!C36 -> 7738 | D7: ='2.sz.tábla (2)'!D36 -> 7669 | E7: =D7-C7 -> -69
A8: V. Felhalmozási bevételek | C8: 0 | D8: 0 | E8: =D8-C8 -> 0
A9: VI. Működési célú átvett pénzeszközök | B9: 100 | C9: ='2.sz.tábla (2)'!C56 -> 100 | D9: ='2.sz.tábla (2)'!D56 -> 300 | E9: =D9-C9 -> 200
A10: VII. Felhalmozási célú átvett pénzeszközök | C10: ='2.sz.tábla (2)'!C59 -> 600 | D10: ='2.sz.tábla (2)'!D59 -> 1236 | E10: =D10-C10 -> 636
A11: Költségvetési bevételek összesen: | B11: =SUM(B4:B10) -> 71494 | C11: =SUM(C4:C10) -> 91104 | D11: =SUM(D4:D10) -> 92602 | E11: =D11-C11 -> 1498
A12: VIII. Finanszírozási bevételek | B12: =SUM(B13:B15) -> 31660 | C12: ='2.sz.tábla (2)'!C63 -> 31974 | D12: ='2.sz.tábla (2)'!D63 -> 32763 | E12: =D12-C12 -> 789
A13: 1. Költségvetési hiány belső finaszírozására szolgáló bevételek | B13: 31660 | C13: ='2.sz.tábla (2)'!C65 -> 31397 | D13: ='2.sz.tábla (2)'!D65 -> 31397 | E13: =D13-C13 -> 0
A14: 2. Költségvetési hiány külső finaszírozására szolgáló finanszírozási bevételek | E14: =D14-C14 -> 0
A15: 3. Állami támogatás megelőlegezés | C15: ='2.sz.tábla (2)'!C67 -> 577 | D15: ='2.sz.tábla (2)'!D67 -> 1366 | E15: =D15-C15 -> 789
A16: Bevételek összesen: | B16: =B11+B12 -> 103154 | C16: =C11+C12 -> 123078 | D16: =D11+D12 -> 125365 | E16: =D16-C16 -> 2287
E17: =D17-C17 -> 0
A18: Működési kiadások | B18: =SUM(B19:B20) -> 54284 | C18: ='3.sz.tábla'!C33 -> 65326 | D18: ='3.sz.tábla'!D33 -> 65176 | E18: =D18-C18 -> -150
A19: Önkormányzati feladatok | B19: 54284 | C19: ='3.sz.tábla'!C33 -> 65326 | D19: ='3.sz.tábla'!D33 -> 65176 | E19: =D19-C19 -> -150
E20: =D20-C20 -> 0
A21: Felhalmozási kiadások | B21: =SUM(B22:B24) -> 27636 | C21: ='5. sz. tábla (3)'!C36 -> 37979 | D21: ='5. sz. tábla (3)'!D36 -> 38129 | E21: =D21-C21 -> 150
A22: Beruházások | B22: 3100 | C22: ='5. sz. tábla (3)'!C11 -> 3826 | D22: ='5. sz. tábla (3)'!D11 -> 3826 | E22: =D22-C22 -> 0
A23: Felújítás | B23: 24536 | C23: ='5. sz. tábla (3)'!D31 -> 34153 | D23: ='5. sz. tábla (3)'!D31 -> 34153 | E23: =D23-C23 -> 0
A24: Egyéb felhalmozási kiadások | D24: ='5. sz. tábla (3)'!D35 -> 150 | E24: =D24-C24 -> 150
E25: =D25-C25 -> 0
A26: Tartalékok | B26: =SUM(B27:B28) -> 21234 | C26: 8268 | D26: =125365-114780 -> 10585 | E26: =D26-C26 -> 2317
A27: Általános | B27: 21234 | C27: 8268 | D27: 10585 | E27: =D27-C27 -> 2317 | F27: 5305
A28: Cél | E28: =D28-C28 -> 0
A29: Költségvetési kiadások összesen: | B29: =SUM(B26,B21,B18) -> 103154 | C29: =C18+C21+C26 -> 111573 | D29: =D18+D21+D26 -> 113890 | E29: =D29-C29 -> 2317 | G29: =#REF!-#REF! -> #REF!
A30: Hiteltörlesztés | C30: 10000 | D30: 10000 | E30: =D30-C30 -> 0
A31: Állami támogatás megelőlegezés visszafizetése | C31: 1475 | D31: 1475 | E31: =D31-C31 -> 0
A32: Finanszírozási kiadások összesen: | B32: =SUM(B30) -> 0 | C32: =SUM(C30:C31) -> 11475 | D32: =SUM(D30:D31) -> 11475 | E32: =D32-C32 -> 0
A33: Kiadások összesen: | B33: =SUM(B29,B32) -> 103154 | C33: 123078 | D33: =SUM(D29,D32) -> 125365 | E33: =D33-C33 -> 2287 | F33: =#REF!+F27 -> #REF!

Sheet 2.sz.tábla  (2)
A3: MEGNEVEZÉS
B4: 2015. évi eredeti előirányzat | C4: 2015. évi módosított előirányzat (12.09.) | D4: 2015. évi IV.módosított előirányzat (12.31.) | E4: Eltérés
A5: I. Működési célú támogatások államháztartáson belülről | B5: =SUM(B6,B14,B15,B16) -> 32709 | C5: =SUM(C6,C14,C15,C16) -> 35700 | D5: =SUM(D6,D14,D15,D16) -> 34451 | E5: =D5-C5 -> -1249
A6: 1. Önkormányzat működési támogatása | B6: =SUM(B7:B13) -> 22966 | C6: =SUM(C7:C13) -> 23757 | D6: =SUM(D7:D13) -> 24762 | E6: =D6-C6 -> 1005
A7: 1.1. Helyi önk. működésének ált. támogatása | B7: 15585 | C7: 15604 | D7: 15604 | E7: =D7-C7 -> 0
A8: 1.2.Települési önk. egyes köznev.feladatainak támogatása | B8: 2240 | C8: 0 | D8: 0 | E8: =D8-C8 -> 0
A9: 1.3. Települési önk. szoc. és gyermekjóléti feladatainak tám. | B9: 2500 | C9: 6208 | D9: 7141 | E9: =D9-C9 -> 933
A10: 1.4. Települési önk. kult. feladatainak támogatása. | B10: 1200 | C10: 1200 | D10: 1200 | E10: =D10-C10 -> 0
A11: 1.5. Helyi önk. Működési célú költségvetési támogatásai és kiegészítő támogatásai | C11: =152+462 -> 614 | D11: 686 | E11: =D11-C11 -> 72
A12: 1.6. Elszámolásból származó bevételek | C12: 131 | D12: 131 | E12: =D12-C12 -> 0
A13: 1.7. gyermekétkeztetés | B13: 1441 | C13: 0 | D13: 0 | E13: =D13-C13 -> 0
A14: 2. Elvonások és befizetések bevételei | E14: =D14-C14 -> 0
A15: 3. Működési célú visszatérítendő támogatások, kölcsönök visszatérülési , igénybevétele | E15: =D15-C15 -> 0
A16: 4. Egyéb működési célú támogatások bevételei államháztartáson belűlről | B16: 9743 | C16: 11943 | D16: 9689 | E16: =D16-C16 -> -2254
A17: ebből működési célú támogatás társadalombiztosítási alapból | B17: 4000 | C17: 6200 | D17: 6200 | E17: =D17-C17 -> 0
A18: II. Felhalmozási célú támogatások államháztartáson belűlről | B18: =B19+B22+B23 -> 12835 | C18: =C19+C22+C23 -> 25866 | D18: =D19+D22+D23 -> 26319 | E18: =D18-C18 -> 453
A19: 1. Felhalmozási célú önkormányzati támogatások | B19: =B20+B21 -> 12835 | C19: =C20+C21 -> 15866 | D19: =D20+D21 -> 15776 | E19: =D19-C19 -> -90
A20: 1.1. Felhalmozási célú költségvetési támogatások | C20: 3031 | D20: 3031 | E20: =D20-C20 -> 0
A21: 1.2. VIS MAIOR támogatás | B21: 12835 | C21: 12835 | D21: 12745 | E21: =D21-C21 -> -90
A22: 2. Felhalmozási célú visszatérítendő támogatások, kölcsönök visszatérülése, igénybevétele | E22: =D22-C22 -> 0
A23: 3. Egyéb felhalmozási célú támogatások államháztartáson belűlről | C23: 10000 | D23: 10543 | E23: =D23-C23 -> 543
A24: III. Közhatalmi bevételek | B24: =SUM(B25,B28,B35) -> 21100 | C24: =SUM(C25,C28,C35) -> 21100 | D24: =SUM(D25,D28,D35) -> 22627 | E24: =D24-C24 -> 1527
A25: 1. Vagyoni tipusú adók | B25: 9200 | C25: 9200 | D25: 10409 | E25: =D25-C25 -> 1209
A26: 1.1. Telek adó | B26: 200 | C26: 200 | D26: 234 | E26: =D26-C26 -> 34
A27: 1.2.Kommunális adó | B27: 9000 | C27: 9000 | D27: 10175 | E27: =D27-C27 -> 1175
A28: 2. Termékek és szolgáltatások adói | B28: 11650 | C28: 11650 | D28: 9273 | E28: =D28-C28 -> -2377
A29: 2.1. Értékesítési és forgalmi adók | B29: 10000 | C29: 10000 | D29: 7652 | E29: =D29-C29 -> -2348
A30: 2.1.1. Iparűzési | B30: 10000 | C30: 10000 | D30: 7652 | E30: =D30-C30 -> -2348
A31: 2.2. Gépjárműadó | B31: 1500 | C31: 1500 | D31: 1509 | E31: =D31-C31 -> 9
A32: 2.3. Egyéb áruhasználati és szolgáltatási adók | B32: 150 | C32: 150 | D32: 112 | E32: =D32-C32 -> -38
A33: 2.3.1. Ifa tartozkodás után | B33: 150 | C33: 150 | D33: 112 | E33: =D33-C33 -> -38
A34: 2.3.2. Talajterhelési díj | C34: 0 | E34: =D34-C34 -> 0
A35: 3. Egyéb közhatalmi bevételek (bírság, pótlék) | B35: 250 | C35: 250 | D35: 2945 | E35: =D35-C35 -> 2695
A36: 1V. Működési bevételek | B36: =SUM(B37:B44) -> 4750 | C36: =SUM(C37:C44) -> 7738 | D36: =SUM(D37:D44) -> 7669 | E36: =D36-C36 -> -69
A37: 1.1. Áru- és készletértékesítés bevétele | B37: 2000 | C37: 2000 | D37: 2388 | E37: =D37-C37 -> 388
A38: 1.2. szolgáltatások ellenértéke | B38: 250 | C38: 250 | D38: 366 | E38: =D38-C38 -> 116
A39: 1.3 üzemeltetésből bevétel | E39: =D39-C39 -> 0
A40: 1.4. Közvetített szolgáltatások ellenértéke | B40: 100 | C40: 4088 | D40: 2532 | E40: =D40-C40 -> -1556
A41: 1.5. Ellátási díjak | B41: 800 | C41: 800 | D41: 753 | E41: =D41-C41 -> -47
A42: 1.6. Kamatbevétel | B42: 100 | C42: 100 | D42: 196 | E42: =D42-C42 -> 96
A43: 1.7. Kiszámlázott, visszaigényelhető ÁFA | B43: 500 | C43: 500 | D43: 1366 | E43: =D43-C43 -> 866
A44: 1.8. Egyéb működési bevételek (alkalmazottek térítése, kötbér, stb) | B44: 1000 | D44: 68 | E44: =D44-C44 -> 68
A45: V. Felhalmozási bevételek | B45: =SUM(B46:B52) -> 0 | C45: =SUM(C46:C52) -> 0 | D45: =SUM(D46:D52) -> 0 | E45: =D45-C45 -> 0
A46: 1.Immateriális javak értékesítése | E46: =D46-C46 -> 0
A47: 2. Ingatlanok értékesítése | E47: =D47-C47 -> 0
A48: 3. Egyéb tárgyi eszözök értékesítése | E48: =D48-C48 -> 0
A49: 4. Autó értékesítése értékesítése | E49: =D49-C49 -> 0
A50: 5.részesedések értékesítése | E50: =D50-C50 -> 0
A51: 5. Részesedések megszűnéséhez kapcsolódó bevételek | E51: =D51-C51 -> 0
A52: 6. Üzemeltetésből sz bev. | E52: =D52-C52 -> 0
A54: MEGNEVEZÉS
B55: 2015. évi eredeti előirányzat | C55: 2015. évi módosított előirányzat (12.09.) | E55: Eltérés
A56: VI. Működési célú átvett pénzeszközök | B56: =SUM(B57:B58) -> 100 | C56: =SUM(C57:C58) -> 100 | D56: =SUM(D57:D58) -> 300 | E56: =D56-C56 -> 200
A57: 1. Működési célú visszatérítendő támogatások, kölcsönök visszatréülése államháztartáson kívülről | B57: 100 | C57: 100 | D57: 300 | E57: =D57-C57 -> 200
A58: 2. Egyéb működési célú átvett pénzeszközök | E58: =D58-C58 -> 0
A59: VII: Felhalm. célú átvett pénzeszközök | B59: =SUM(B60:B61) -> 0 | C59: =SUM(C60:C61) -> 600 | D59: =SUM(D60:D61) -> 1236 | E59: =D59-C59 -> 636
A60: 1. Felhalmozási célú visszatérítendő támogatások kölcsönök visszatérülése államháztartáson kívülről | E60: =D60-C60 -> 0
A61: 2. Egyéb felhalmozási célú átvett pénzeszközök | C61: 600 | D61: 1236 | E61: =D61-C61 -> 636
A62: Költségvetési bevételek összesen: | B62: =SUM(B5,B18,B24,B36,B45,B56,B59,) -> 71494 | C62: =SUM(C5,C18,C24,C36,C45,C56,C59,) -> 91104 | D62: =SUM(D5,D18,D24,D36,D45,D56,D59,) -> 92602 | E62: =D62-C62 -> 1498
A63: VIII. Finászírozási bevételek | B63: =B64+B68 -> 31660 | C63: =C64+C68 -> 31974 | D63: =D64+D68 -> 32763 | E63: =D63-C63 -> 789
A64: 1. Költségvetési hiány belső finanszírozására szolgáló bevételek | B64: =SUM(B65:B67) -> 31660 | C64: =SUM(C65:C67) -> 31974 | D64: =SUM(D65:D67) -> 32763 | E64: =D64-C64 -> 789
A65: 1.1.Előző év költégvetési maradványának igénybevétele működési célra | B65: 31660 | C65: 31397 | D65: 31397 | E65: =D65-C65 -> 0
A66: 1.2. Előző év költségvetési maradványának igénybevétele felhalmozási célra | E66: =D66-C66 -> 0
A67: 1.3. Állami támogatás megelőlegezés | C67: 577 | D67: 1366 | E67: =D67-C67 -> 789
A68: 2. Költségvetési hiány külső finanszírozására szolgáló finanszírozási bevételek | B68: =SUM(B69:B70) -> 0 | C68: =SUM(C69:C70) -> 0 | D68: =SUM(D69:D70) -> 0 | E68: =D68-C68 -> 0
A69: 2.1. Hitel, kölcsön felvétele államháztartáson kívülről | E69: =D69-C69 -> 0
A70: 2.2. Belföldi értékpapírok bevételei | E70: =D70-C70 -> 0
A71: Finanszírozási bevételek összesen: | B71: =B68+B65 -> 31660 | C71: =C63 -> 31974 | D71: =D68+D64 -> 32763 | E71: =D71-C71 -> 789
A72: Összes bevétel: | B72: =B62+B71 -> 103154 | C72: =C62+C71 -> 123078 | D72: =D62+D71 -> 125365 | E72: =D72-C72 -> 2287
A73: Létszámadatok | E73: =D73-C73 -> 0
A74: technikai állomány (fő) | B74: 1 | C74: 1 | D74: 1 | E74: =D74-C74 -> 0
A75: szakmai állomány (fő) | B75: 3 | C75: 3 | D75: 3 | E75: =D75-C75 -> 0
A76: közfoglalkoztatott (fő) | B76: 3 | C76: 3 | D76: 2 | E76: =D76-C76 -> -1
A77: Összesen (fő): | B77: =SUM(B74:B76) -> 7 | C77: =SUM(C74:C76) -> 7 | D77: =SUM(D74:D76) -> 6 | E77: =D77-C77 -> -1

Sheet 2a.sz.tábla
A1: MEGNEVEZÉS | B1: LÉTSZÁM | C1: MUTATÓ | D1: FAJLAGOS | E1: MÓDOSÍTÁS | F1: MÓDOSÍTÁS | G1: MÓDOSÍTOTT EI. III.
A3: HELYI ÖNKORMÁNYZATOK MŰKÖDÉSÉNEK ÁLT.TÁMOGATÁSA | E3: =E4+E5+E10+E11+E13+E12+E14 -> 15604152 | G3: =G4+G5+G10+G11+G12+G13+G14 -> 15604152
A4: Önkormányzati hivatal működtetésének támogatás | E4: 0 | G4: 0
A5: Település üzemeltetéséhez kapcsolódó feladatellát.támog. | E5: =SUM(E6:E9) -> 12029939 | G5: 12029939
A6: Zöldterület-gazdálk-al kapcsolatos feladatok ellátásának támog. | E6: 1600979 | G6: 1600979
A7: Közvilágítás fenntartásának támogatás | E7: 9312000 | G7: 9312000
A8: Köztemető fenntartással kapcsolatos feladatok támog. | E8: 100000 | G8: 100000
A9: Közutak fenntartásának támogatás | E9: 1016960 | G9: 1016960
A10: Beszámítási összeg | E10: -1145364 | G10: -1145364
A11: Egyéb önkormányzati feladatok támogatása | E11: 4000000 | G11: 4000000
A12: Lakott külterülettel kapcs. Támogatás | E12: 94350 | G12: 94350
A13: Üdülőhleyi feladatok támogatása | E13: 606050 | G13: 606050
A14: 2014. évről áthúzodó bérkompenzáció | E14: 19177 | G14: 19177
A16: SZOCIÁLIS ÉS GYERMEKJÓLÉTI ALAPSZOLG. FELADATAI | E16: =E18+E17+E35 -> 6181667 | F16: 933 | G16: =F16+6181667 -> 6182600
A17: Pénzbeli szociális juttatások | E17: 2240480 | G17: 2240480
A18: Egyes szoc.és gyermekjóléti felad.támog. | E18: 2500000 | G18: 2500000
A19: családsegítés
A20: családsegítés társulási kiegészítés
A21: gyermekjóléti szolgálat
A22: gyermekjóléti szolgálat társulási kiegészítés
A23: szociális étkeztetés
A24: házi segítségnyújtás
A25: falugondnoki szolgáltatás | C25: 12 | D25: 2500000 | E25: 2500000 | G25: 2500000
A26: időskorúak nappali intézényi ellátása
A27: Fogyatékos és demens személyek nappali intézményi ellátása
A28: fogyatékos személyek nappali intézményi ellátása
A29: foglalkoztatási támog-ban részesülő fogyatékos nappali intézményben ellátottak
A30: Gyermekek napközbeni ellátása
A31: bölcsödei ellátás
A32: Gyermekétkeztetés támogatása | E32: 1441187 | G32: 1441187
A33: Szociális ágazati pótlék | E33: 26289 | F33: 933 | G33: =F33+26289 -> 27222
A34: Kistelepülések szociális feladatainak támoatása | G34: 0
A35: Köznevelési és gyermekétkeztetési feladatok | E35: =SUM(E36:E42) -> 1441187 | G35: 1441187
A36: Óvodapedagógusok elismert létszáma (8 hó) | E36: 913920 | G36: 913920
A37: Óvodapedagógusok munkáját kvetlenül segítők (8 hó)
A38: Óvodapedagógusok elismert létszáma (4 hó)
A39: Óvodapedagógusok munkáját kvetlenül segítők (4 hó)
A40: Gyermeklétszám (8 hó)
A41: Gyermeklétszám (8 hó)
A42: Gyermekétkeztetés támogatása | E42: 527267 | G42: 527267
A43: Bölcsödében elhelyezett gyermekek étkeztetése
A44: Óvodai, iskolai étkeztetés támogatása
A45: Kulturális feladatok támogatása | E45: =E46 -> 1200000 | G45: 1200000
A46: Nyilvános könyvtári és közművelődési feladatok támogatása | E46: 1200000 | G46: 1200000
A48: Működési célú ktsg.vetési- és kiegészítő támogatások | E48: =E49+E50 -> 614410 | G48: 614410
A49: 2015.évi bérkompenzáció | E49: 152130 | G49: 152130
A50: 2015. évi szociális tüzelővásárlás támogatása | E50: 462280 | G50: 462280
A51: Elszámolásból származó bevérelek | E51: 130560 | G51: 130560
A52: Helyi önkormányzatok felhalmozási célú költségvetési támogatásai | E52: =E53+E54 -> 15866372 | G52: 15866372
A53: VIS MAIOR támogatás előleg nélkül | E53: 12835000 | G53: 12835000
A54: Orvosi rendelő felújítása | E54: 3031372 | G54: 3031372
A56: Összesen | E56: =+E51+E49+E45+E47+E35+E18+E16+E3+E52+E33+E50 -> 43564637 | F56: =+F51+F49+F45+F47+F3+F16+F52 -> 933 | G56: =G3+G16+G45+G47+G49+G51+G52+G33+G50 -> 39625316
F137: =#REF!+#REF! -> #REF!

Sheet 3.sz.tábla
A2: MEGNEVEZÉS | B2: 2015. évi eredeti előirányzat | C2: 2015. évi módosított előirányzat (12.09.) | D2: 2015. évi IV.módosított előirányzat (12.31.) | E2: Eltérés
A3: I. Önkormányzat költségvetése
A4: 1. Személyi juttatás | B4: 14207 | C4: =14595-97 -> 14498 | D4: 14498 | E4: =D4-C4 -> 0
A5: ebből Közhasznú foglalkoztatás | B5: 2844 | C5: 2844 | D5: 2844 | E5: =D5-C5 -> 0
A6: Cafetéria juttatás | B6: 375 | C6: 375 | D6: 375 | E6: =D6-C6 -> 0
A7: 2. Munkaadót terhelő járulékok | B7: 3770 | C7: 3906 | D7: 3906 | E7: =D7-C7 -> 0
A8: 3. Dologi kiadások | B8: =SUM(B10:B17) -> 24060 | C8: =SUM(C10:C17) -> 35171 | D8: =SUM(D10:D17) -> 35171 | E8: =D8-C8 -> 0
A9: Ebből: | E9: =D9-C9 -> 0
A10: Készlet beszerzés | B10: 2370 | C10: 3000 | D10: 3000 | E10: =D10-C10 -> 0
A11: Kommunikációs szolgáltatások | B11: 1600 | C11: 1750 | D11: 1750 | E11: =D11-C11 -> 0
A12: Szolgáltatások | B12: 12750 | C12: =22550+73 -> 22623 | D12: 22606 | E12: =D12-C12 -> -17
A13: ÁFA | B13: 3865 | C13: =6041+27 -> 6068 | D13: 6085 | E13: =D13-C13 -> 17
A14: Kiküldetés, repr. Kiadás | B14: 500 | C14: 550 | D14: 550 | E14: =D14-C14 -> 0
A15: Adók, díjak egyéb bef. | B15: 475 | C15: 200 | D15: 200 | E15: =D15-C15 -> 0
A16: Kamatkiadások | C16: 0 | D16: 0 | E16: =D16-C16 -> 0
A17: Egyéb dologi kiadások | B17: 2500 | C17: =1000-20 -> 980 | D17: 980 | E17: =D17-C17 -> 0
E18: =D18-C18 -> 0
A19: 4. Ellátottak pénzbeli juttatásai: | B19: =SUM(B21:B28) -> 1600 | C19: =SUM(C20:C28) -> 2065 | D19: 2065 | E19: =D19-C19 -> 0
A20: Rendkiv gyermekvédelmi támogatás | B20: 0 | E20: =D20-C20 -> 0
A21: Átmeneti segély | B21: 1120 | C21: 1090 | D21: 1090 | E21: =D21-C21 -> 0
A22: Aktív korúak ellátása | B22: 0 | E22: =D22-C22 -> 0
A23: Rendsszres szoc seg | E23: =D23-C23 -> 0
A24: Lakásfenntartási támogatás | E24: =D24-C24 -> 0
A25: Ápolási díj | B25: 380 | C25: 380 | D25: 380 | E25: =D25-C25 -> 0
A26: Közgyógyellátás | E26: =D26-C26 -> 0
A27: Temetési segély | B27: 100 | C27: 100 | D27: 100 | E27: =D27-C27 -> 0
A28: Egyéb önkormányzati támogatás | B28: 0 | C28: 495 | D28: 495 | E28: =D28-C28 -> 0
A29: 5. Egyéb működési célú kiadások | B29: =SUM(B30:B32) -> 10647 | C29: =SUM(C30:C32) -> 9686 | D29: =SUM(D30:D32) -> 9536 | E29: =D29-C29 -> -150
A30: 1. Működési célú támogatás államháztartáson kívülre | B30: 300 | C30: ='4.sz.tábla'!C14 -> 555 | D30: 555 | E30: =D30-C30 -> 0
A31: 2. Működési célú támogatás államháztartáson belülre | B31: 10347 | C31: ='4.sz.tábla'!C3 -> 9131 | D31: 8981 | E31: =D31-C31 -> -150
A32: 3. Működési célú visszatérítendő támogatás, kölcsön nyújtása | E32: =D32-C32 -> 0
A33: Önkormányzati feladatok összesen: | B33: =B29+B19+B8+B7+B4 -> 54284 | C33: =C29+C19+C8+C7+C4 -> 65326 | D33: =D29+D19+D8+D7+D4 -> 65176 | E33: =D33-C33 -> -150

Sheet 4.sz.tábla
A2: Megnevezés | B2: 2015. évi eredeti előirányzat | C2: 2015. évi módosított előirányzat (12.09.) | D2: 2015. évi IV.módosított előirányzat (12.31.) | E2: Eltérés
A3: Működési célú támogatás államháztartáson belülre | B3: 10347 | C3: =SUM(C4:C13) -> 9131 | D3: =SUM(D4:D13) -> 8981 | E3: =D3-C3 -> -150
A4: Általános Iskola és Óvoda | E4: =D4-C4 -> 0
A5: Körjegyzőség 2012 évi elsz. | E5: =D5-C5 -> 0
A6: Közoktatási Intézményfenntartó Társulás (Óvoda) | B6: 3968 | C6: 3968 | D6: 3818 | E6: =D6-C6 -> -150
A7: Balatonfüredi Közös Önkormányzati Hivatal (Hivatal) | B7: 4745 | C7: =4335+200 -> 4535 | D7: 4535 | E7: =D7-C7 -> 0
A8: Közoös Hivatal (rendszeres gyermekvédelmi) | E8: =D8-C8 -> 0
A9: Balatonfüred Város Önkormányzata (hátralék Óvoda) | E9: =D9-C9 -> 0
A10: Gyermekjóléti szolgálat | B10: 500 | E10: =D10-C10 -> 0
A11: Rendelőintézet (Ügyeleti díj) | B11: 560 | E11: =D11-C11 -> 0
A12: Balatonfüredi Többcélú Társulás (Jelzőrendszeres házi segítségnyújtás, Házi segítségnyújtás) | B12: 438 | C12: 501 | D12: 501 | E12: =D12-C12 -> 0
A13: Balatonfüredi Többcélú Társulás (Belső ellenőrzés) | B13: 136 | C13: 127 | D13: 127 | E13: =D13-C13 -> 0
A14: Működési célú támogatás államháztartáson kívülre | B14: 300 | C14: =C15+C25+C19 -> 555 | D14: =D15+D25+D19 -> 555 | E14: =D14-C14 -> 0
A15: Egyesületek alapítványok támogatása | B15: =SUM(B16:B18) -> 300 | C15: =SUM(C16:C18) -> 200 | D15: 200 | E15: =D15-C15 -> 0
A16: Pécselyi Református Egyházközség | B16: 100 | C16: 200 | D16: 200 | E16: =D16-C16 -> 0
A17: Pécselyi Katolikus Egyház | B17: 100 | C17: 0 | D17: 0 | E17: =D17-C17 -> 0
A18: Pécselyi Ált.Isk. és Óvoda Gyermekeiért Alapítvány | B18: 100 | C18: 0 | D18: 0 | E18: =D18-C18 -> 0
A19: Tihany Iskoláért alapítvány (104/2015.(10.19.) hat.) | C19: 20 | D19: 20 | E19: =D19-C19 -> 0
A20: Pécselyi Sportegyesület | E20: =D20-C20 -> 0
A21: Balaton-felvidéki Turisztikai Közhasznú Egyesület | E21: =D21-C21 -> 0
A22: Balatonfüredi Református Iskola | E22: =D22-C22 -> 0
A23: Bakonykarszt pályázati támogatás (lakossági víz és szennyv.sz.) | E23: =D23-C23 -> 0
E24: =D24-C24 -> 0
A25: Balatonfüredi Önkéntes Tűzoltóság | C25: 335 | D25: 335 | E25: =D25-C25 -> 0
E26: =D26-C26 -> 0
A27: Összesen: | B27: =B14+B3 -> 10647 | C27: =C14+C3 -> 9686 | D27: =D14+D3 -> 9536 | E27: =D27-C27 -> -150
A30: Önként vállalt feladatok

Sheet 5. sz. tábla (3)
A1: Megnevezés | B1: 2015. évi eredeti előirányzat | C1: 2015. évi módosított előirányzat (12.09.) | D1: 2015. évi IV.módosított előirányzat (12.31.) | E1: Eltérés
A2: I. Beruházások
A3: Gép beszerzés | B3: 1300 | C3: 504 | D3: 504 | E3: =D3-C3 -> 0
A4: Fűnyíró traktor beszerzése | C4: 370 | D4: 370 | E4: =D4-C4 -> 0
A5: Stihl motoros kasza beszerzése | C5: 190 | D5: 190 | E5: =D5-C5 -> 0
A6: Informatikai fejlesztése | C6: 236 | D6: 236 | E6: =D6-C6 -> 0
A7: Buszmegállók | B7: 800 | C7: 800 | D7: 800 | E7: =D7-C7 -> 0
A8: Ravatalozó | B8: 1000 | C8: 1000 | D8: 1000 | E8: =D8-C8 -> 0
A9: Vadkerítés létesítés tervezési díja | C9: 50 | D9: 50 | E9: =D9-C9 -> 0
A10: Szék vásárlás a kultúrházba | C10: 676 | D10: 676 | E10: =D10-C10 -> 0
A11: I. Beruházások összesen: | B11: =SUM(B2:B10) -> 3100 | C11: =SUM(C3:C10) -> 3826 | D11: =SUM(D3:D10) -> 3826 | E11: =D11-C11 -> 0
A12: II. Felújítások
A13: Külterületi utak javtása (vis major) | B13: 18336 | C13: 18593 | D13: 18593 | E13: =D13-C13 -> 0
A14: Árkok tisztítása - Hőbe László | C14: 678 | D14: 678 | E14: =D14-C14 -> 0
A15: Ingatlanok felújítása (kuktúrház felújítása) | B15: 6200 | C15: 356 | D15: 356 | E15: =D15-C15 -> 0
A16: tető felújítása - Slemmer József (81/2015.(08.03.)hat.) | C16: 3019 | D16: 3019 | E16: =D16-C16 -> 0
A17: belső munkák - Vászolyi-Ács Kft. (82/2015.(08.03.)hat.) | C17: 1275 | D17: 1275 | E17: =D17-C17 -> 0
A18: ablakcsere - Nagy Ablak Kft (83/2015.(08.03.)hat.) | C18: 390 | D18: 390 | E18: =D18-C18 -> 0
A19: ajtócsere - Nagy Ablak Kft (83/2015.(08.03.)hat.) | C19: 484 | D19: 484 | E19: =D19-C19 -> 0
A20: Átcsoportosítás szék vásárlásra a kultúrba (beruházás) | C20: -676 | D20: -676 | E20: =D20-C20 -> 0
A21: tető felújítása szerz.mód. - Slemmer József (100/2015.(10.19.)hat.) | C21: 175 | D21: 175 | E21: =D21-C21 -> 0
A22: járólap felújítás - Vászoly-Ács Kft. | C22: 293 | D22: 293 | E22: =D22-C22 -> 0
A23: Óvoda felújítás előkészítő terv | C23: 234 | D23: 234 | E23: =D23-C23 -> 0
A24: Rendezési terv | C24: 50 | D24: 50 | E24: =D24-C24 -> 0
A25: Külterületi infrastruktúra javítása | C25: =600-246 -> 354 | D25: 354 | E25: =D25-C25 -> 0
A26: 039-es út felújítása - Zirci Építő Kft (90/2015.(09.24.)határozat) | C26: 246 | D26: 246 | E26: =D26-C26 -> 0
A27: Orvosi rendelő felújítása | C27: 3191 | D27: 3191 | E27: =D27-C27 -> 0
A28: Külterületi utak felújítása | C28: 1000 | D28: 1000 | E28: =D28-C28 -> 0
A29: Orvosi szolgálati lakás felújítása | C29: 1045 | D29: 1045 | E29: =D29-C29 -> 0
A30: Rendezési terv módosítása | C30: 2800 | D30: 2800 | E30: =D30-C30 -> 0
A31: II. Felújítások összesen: | B31: =SUM(B13:B15) -> 24536 | C31: 34153 | D31: 34153 | E31: =D31-C31 -> 0
A32: III. Egyéb felhalmozási kiadások: | E32: =D32-C32 -> 0
A33: Befektetett pénzügyi eszközök | E33: =D33-C33 -> 0
A34: Közoktatási Intézményfenntartó Társulás (Óvoda) | D34: 150 | E34: =D34-C34 -> 150
A35: III. Egyéb felhalmozási kiadások összesen: | B35: =SUM(B33) -> 0 | C35: =SUM(C33) -> 0 | D35: =SUM(D33:D34) -> 150 | E35: =D35-C35 -> 150
A36: Felhalmozási kiadások összesen: | B36: =B35+B31+B11 -> 27636 | C36: =C35+C31+C11 -> 37979 | D36: =D35+D31+D11 -> 38129 | E36: =D36-C36 -> 150

Sheet 6. sz. tábla (3)
A4: Az Önkormányzat működési bevételei és kiadásai 2015. év
A6: 1. Működési bevételek | B6: 2015. évi eredeti ei. | C6: 2015. évi módosított előirányzat (12.09.) | D6: 2015. évi IV.módosított előirányzat (12.31.) | E6: 2. Működési kiadások | F6: 2015. évi eredeti ei. | G6: 2015. évi módosított előirányzat (12.09.) | H6: 2015. évi IV.módosított előirányzat (12.31.)
A7: 1. Működési támogatások államháztartáson belülről | B7: 32709 | C7: ='1.sz.tábla (3)'!C4 -> 35700 | D7: ='1.sz.tábla (3)'!D4 -> 34451 | E7: 1. Személyi jellegű kiadások | F7: 14207 | G7: ='3.sz.tábla'!C4 -> 14498 | H7: ='3.sz.tábla'!D4 -> 14498
A8: 2. Közhatalmi bevételek | B8: 21100 | C8: ='1.sz.tábla (3)'!C6 -> 21100 | D8: ='1.sz.tábla (3)'!D6 -> 22627 | E8: 2. Munkaadót terhelő járulékok | F8: 3770 | G8: ='3.sz.tábla'!C7 -> 3906 | H8: ='3.sz.tábla'!D7 -> 3906
E9: 3. Dologi kiadások | F9: 24060 | G9: ='3.sz.tábla'!C8 -> 35171 | H9: ='3.sz.tábla'!D8 -> 35171
E10: 4. Ellátottak pénzbeli juttatásai | F10: 1600 | G10: ='3.sz.tábla'!C19 -> 2065 | H10: ='3.sz.tábla'!D19 -> 2065
E11: 5. Egyéb működési célú kiadások | F11: =SUM(F12:F16) -> 31881 | G11: =SUM(G12:G16) -> 17954 | H11: =SUM(H12:H16) -> 20121
A12: 3. Működési bevételek | B12: 4750 | C12: ='1.sz.tábla (3)'!C7 -> 7738 | D12: ='1.sz.tábla (3)'!D7 -> 7669 | E12: 5.1. Egyéb működési célú támogatások áh-n kívülre | F12: 300 | G12: ='4.sz.tábla'!C14 -> 555 | H12: ='3.sz.tábla'!D30 -> 555
A13: 4. Működési célú átvett pénzeszközök | B13: 100 | C13: ='1.sz.tábla (3)'!C9 -> 100 | D13: ='1.sz.tábla (3)'!D9 -> 300 | E13: 5.2.Egyéb működési célú támogatások áh-n kívülre | F13: 10347 | G13: ='4.sz.tábla'!C3 -> 9131 | H13: ='3.sz.tábla'!D31 -> 8981
A14: 4. 1. működési célú pénzeszköz átvét.államháztartáson kivülről | B14: 100 | C14: =C13 -> 100 | D14: ='1.sz.tábla (3)'!D9 -> 300 | E14: 5.3. Működési célú visszatérítendő támogatások, kölcsönök nyújtása, törlesztése
A15: 4.2. Támogatás, kölcsön visszatérülése
E16: 5.5. Pénzforgalom nélküli kiadások (tartalék) | F16: =SUM(F17:F18) -> 21234 | G16: ='1.sz.tábla (3)'!C26 -> 8268 | H16: ='1.sz.tábla (3)'!D27 -> 10585
E17: Általános | F17: 21234 | G17: ='1.sz.tábla (3)'!C26 -> 8268 | H17: ='1.sz.tábla (3)'!D27 -> 10585
E18: Céltartalék
A19: Összes költségvetési működési bevétel: | B19: =SUM(B7:B13) -> 58659 | C19: =SUM(C7:C13) -> 64638 | D19: =SUM(D7:D13) -> 65047 | E19: Összes költségvetési működési kiadás: | F19: =SUM(F7:F11) -> 75518 | G19: =SUM(G7:G11) -> 73594 | H19: =SUM(H7:H11) -> 75761
A20: Működési többlet: | E20: Működési hiány: | F20: =B19-F19 -> -16859 | G20: =C19-G19 -> -8956 | H20: =D19-H19 -> -10714
A21: Költségvetési hiány belső finanszírozása működési célú | B21: =SUM(B22) -> 31660 | C21: =SUM(C22:C23) -> 31974 | D21: =SUM(D22:D23) -> 32763 | E21: Finanszírozási célú műveletek kiadásai működési célú | F21: =SUM(F22:F24) -> 0 | G21: =SUM(G22:G24) -> 11475 | H21: =SUM(H22:H24) -> 11475
A22: 5. Költségvetési maradvány igénybevétele | B22: 31660 | C22: 31397 | D22: ='2.sz.tábla (2)'!D65 -> 31397 | E22: 2.11.. Hitel, kölcsön törlesztése áh-n kívülre | G22: ='1.sz.tábla (3)'!C30 -> 10000 | H22: ='1.sz.tábla (3)'!D30 -> 10000
A23: Állami támogatás előleg | C23: 577 | D23: ='1.sz.tábla (3)'!D15 -> 1366 | E23: 2.12. Állami támogatás megelőlegezés visszafizetése | G23: ='1.sz.tábla (3)'!C31 -> 1475 | H23: ='1.sz.tábla (3)'!D31 -> 1475
A24: Költségvetési hiány külső finanszírozása működési célú | E24: 2.13. Belföldi értékpapír kiadásai
A25: 6. Hitel, kölcsön felvétele államháztartáson kívülről
A26: 7. Belföldi értékpapírok bevételei
A27: Összes működési bevétel: | B27: =B19+B21+B24 -> 90319 | C27: =C19+C21+C24 -> 96612 | D27: =D19+D21+D24 -> 97810 | E27: Összes működési kiadás | F27: =F19+F21 -> 75518 | G27: =G19+G21 -> 85069 | H27: =H19+H21 -> 87236
A36: Az Önkormányzat felhalmozási bevételei és kiadásai 2015. év
A38: 1. Felhalmozási bevételek | B38: 2015. évi eredeti ei. | C38: 2015. évi módosított előirányzat (12.09.) | D38: 2015. évi IV.módosított előirányzat (12.31.) | E38: 2. Felhalmozási kiadások | F38: 2015. évi eredeti ei. | G38: 2015. évi módosított előirányzat (12.09.) | H38: 2015. évi IV.módosított előirányzat (12.31.)
A39: 1. Fejlesztési támogatások államháztartáson belülről | B39: 12835 | C39: ='1.sz.tábla (3)'!C5 -> 25866 | D39: ='1.sz.tábla (3)'!D5 -> 26319 | E39: 1.1. Beruházások | F39: 3100 | G39: ='1.sz.tábla (3)'!C22 -> 3826 | H39: ='1.sz.tábla (3)'!D22 -> 3826
A40: 2. Felhalmozási bevételek
A41: 3. Felhalmozási célú átvett pénzeszközök | C41: ='1.sz.tábla (3)'!C10 -> 600 | D41: ='1.sz.tábla (3)'!D10 -> 1236 | E41: 2. Felújítások | F41: 24536 | G41: 34183 | H41: ='1.sz.tábla (3)'!D23 -> 34153
A42: 3.1. Felhalm. célra átvett pénzeszk. Áh-n kívülről | C42: =C41 -> 600 | D42: ='1.sz.tábla (3)'!D10 -> 1236 | E42: 3. Egyéb felhalmozási kiadások | H42: ='1.sz.tábla (3)'!D24 -> 150
A43: 3.2. Támogatás, kölcsön visszatérülése
E44: 4. Pénzforgalom nélküli kiadások (tartalékok)
E45: Általános
E46: Céltartalék
A49: Összes költségvetési felhalmozási bevétel: | B49: =SUM(B39:B41) -> 12835 | C49: =SUM(C39:C41) -> 26466 | D49: =SUM(D39:D41) -> 27555 | E49: Összes költségvetési felhalmozási kiadás: | F49: =SUM(F39:F44) -> 27636 | G49: =SUM(G39:G44) -> 38009 | H49: =SUM(H39:H44) -> 38129
A50: Felhalmozási többlet: | B50: =B49-F49 -> -14801 | C50: =C49-G49 -> -11543 | D50: =D49-H49 -> -10574 | E50: Felhalmozási hiány:
A51: Költségvetési hiány belső finanszírozása felhalmozási célú | B51: =SUM(B52) -> 0 | C51: =SUM(C52) -> 0 | D51: =SUM(D52) -> 0 | E51: Finanszírozási célú műveletek kiadásai felhalmozási célú | F51: =SUM(F52:F53) -> 0 | G51: =SUM(G52:G53) -> 0 | H51: =SUM(H52:H53) -> 0
A52: 2.6. költségvetési maradvány igénybevétele | E52: 2.11 Hitel, kölcsön törlesztése áh-n kívülre
A53: Költségvetési hiány külső finanszírozása felhalmozási célú | B53: =SUM(B54:B55) -> 0 | C53: =SUM(C54:C55) -> 0 | D53: =SUM(D54:D55) -> 0 | E53: 2.12 Belföldi értékpapír kiadásai
A54: 2.7. Hitel, kölcsön felvétele államháztartáson kívülről
A55: 2.8. Belföldi értékpapírok bevételei
A56: Összes felhalmozási bevétel: | B56: =B49+B51+B53 -> 12835 | C56: =C49+C51+C53 -> 26466 | D56: =D49+D51+D53 -> 27555 | E56: Összes felhalmozási kiadás | F56: =F49+F51 -> 27636 | G56: =G49+G51 -> 38009 | H56: =H49+H51 -> 38129
A71: Bevétele és kiadások mérlege 2015. év
A73: BEVÉTELEK | B73: 2015. évi eredeti ei. | C73: 2015. évi módosított előirányzat (12.09.) | D73: 2015. évi IV.módosított előirányzat (12.31.) | E73: KIADÁSOK | F73: 2015. évi eredeti ei. | G73: 2015. évi módosított előirányzat (12.09.) | H73: 2015. évi IV.módosított előirányzat (12.31.)
A74: Költségvetési működési bevételek | B74: =B19 -> 58659 | C74: =C19 -> 64638 | D74: =D19 -> 65047 | E74: Költségvetési működési kiadások | F74: =F19 -> 75518 | G74: =G19 -> 73594 | H74: =H19 -> 75761
A75: Költségvetési felhalmozási bevételek | B75: =B49 -> 12835 | C75: =C49 -> 26466 | D75: =D49 -> 27555 | E75: Költségvetési felhalmozási kiadások | F75: =F49 -> 27636 | G75: =G49 -> 38009 | H75: =H49 -> 38129
A76: Költségvetési bevételek összesen: | B76: =SUM(B74:B75) -> 71494 | C76: =SUM(C74:C75) -> 91104 | D76: =SUM(D74:D75) -> 92602 | E76: Költségvetési kiadások összesen: | F76: =SUM(F74:F75) -> 103154 | G76: =SUM(G74:G75) -> 111603 | H76: =SUM(H74:H75) -> 113890
A77: Költségvetési többlet: | E77: Költségvetési hiány: | F77: =B76-F76 -> -31660 | G77: =C76-G76 -> -20499 | H77: =D76-H76 -> -21288
A78: Költségvetési hiány belső finanszírozása: | B78: =SUM(B79:B80) -> 31660 | C78: =SUM(C79:C80) -> 31974 | D78: =SUM(D79:D80) -> 32763 | E78: Finanszírozási célú műveletek kiadásai összesen: | F78: =SUM(F79:F80) -> 0 | G78: =SUM(G79:G80) -> 11475 | H78: =SUM(H79:H80) -> 11475
A79: Költségvetési hiány belső finanszírozása működési célú | B79: =B21 -> 31660 | C79: =C21 -> 31974 | D79: =D21 -> 32763 | E79: Finanszírozási célú műveletek működési kiadásai | F79: =F21 -> 0 | G79: =G21 -> 11475 | H79: =H21 -> 11475
A80: Költségvetési hiány belső finanszírozása felhalmozási célú | B80: =B51 -> 0 | C80: =C51 -> 0 | D80: =D51 -> 0 | E80: Finanszírozási célú műveletek felhalmozási kiadásai | F80: =F51 -> 0 | G80: =G51 -> 0 | H80: =H51 -> 0
A81: Költségvetési hiány külső finanszírozása: | B81: =SUM(B82:B83) -> 0 | C81: =SUM(C82:C83) -> 0 | D81: =SUM(D82:D83) -> 0
A82: Költségvetési hiány külső finanszírozása működési célú | B82: =B24 -> 0 | C82: =C24 -> 0 | D82: =D24 -> 0
A83: Költségvetési hiány külső finanszírozása felhalmozási célú | B83: =B53 -> 0 | C83: =C53 -> 0 | D83: =D53 -> 0
A84: Összes bevétel: | B84: =B76+B78+B81 -> 103154 | C84: =C76+C78+C81 -> 123078 | D84: =D76+D78+D81 -> 125365 | E84: Összes kiadás: | F84: =F76+F78 -> 103154 | G84: =G76+G78 -> 123078 | H84: =H76+H78 -> 125365
A85: TÖBBLET | B85: =B84-F84 -> 0

Sheet 7. sz. tábla (2)
A1: Az Önkormányzat kötelező feladatok bevételei és kiadásai 2015. év
A3: 1. Működési bevételek | B3: 2015. évi eredeti ei. | C3: 2015. évi módosított előirányzat (12.09.) | D3: 2015. évi IV.módosított előirányzat (12.31.) | E3: 2. Működési kiadások | F3: 2015. évi eredeti ei. | G3: 2015. évi módosított előirányzat (12.09.) | H3: 2015. évi IV.módosított előirányzat (12.31.)
A4: Működési bevételek | E4: Működési kiadások
A5: 1. Működési támogatások államháztartáson belülről | B5: 32709 | C5: ='1.sz.tábla (3)'!C4 -> 35700 | D5: ='1.sz.tábla (3)'!D4 -> 34451 | E5: 1. Személyi jellegű kiadások | F5: 14207 | G5: ='3.sz.tábla'!C4 -> 14498 | H5: ='3.sz.tábla'!D4 -> 14498
A6: 2. Közhatalmi bevételek | B6: 21100 | C6: ='1.sz.tábla (3)'!C6 -> 21100 | D6: ='1.sz.tábla (3)'!D6 -> 22627 | E6: 2. Munkaadót terhelő járulékok | F6: 3770 | G6: ='3.sz.tábla'!C7 -> 3906 | H6: ='3.sz.tábla'!D7 -> 3906
A7: 3. Működési bevételek | B7: 4750 | C7: ='1.sz.tábla (3)'!C7 -> 7738 | D7: ='1.sz.tábla (3)'!D7 -> 7669 | E7: 3. Dologi kiadások | F7: 24060 | G7: ='3.sz.tábla'!C8 -> 35171 | H7: ='3.sz.tábla'!D8 -> 35171
A8: 4. Működési célú átvett pénzeszközökáh-n kívülről | B8: 100 | C8: ='1.sz.tábla (3)'!C9 -> 100 | D8: ='1.sz.tábla (3)'!D9 -> 300 | E8: 4. Ellátottak pénzbeli juttatásai | F8: 1600 | G8: ='3.sz.tábla'!C19 -> 2065 | H8: ='3.sz.tábla'!D19 -> 2065
A9: 5. Költségvetési maradvány igénybevétele | B9: 31660 | C9: ='1.sz.tábla (3)'!C12 -> 31974 | D9: ='1.sz.tábla (3)'!D12 -> 32763 | E9: 5. Egyéb működési célú kiadások | F9: =SUM(F10:F13) -> 31581 | G9: =SUM(G10:G13) -> 17734 | H9: =SUM(H10:H13) -> 19901
A10: Állami támogatás előleg | E10: 5.1. Egyéb működési célú kiadások áh-n belülre | G10: ='4.sz.tábla'!C25 -> 335 | H10: ='4.sz.tábla'!D25 -> 335
E11: 5.2. Működési célú pénzeszköz átadás áh-n kívülre | F11: 10347 | G11: ='4.sz.tábla'!C3 -> 9131 | H11: ='4.sz.tábla'!D3 -> 8981
E12: 5.3. Működési célú visszatérítendő támogatások, kölcsönök nyújtása áh-n kívülre
E13: 5.4. Pénzforgalom nélküli kiadások (tartalék) | F13: 21234 | G13: ='1.sz.tábla (3)'!C26 -> 8268 | H13: ='1.sz.tábla (3)'!D26 -> 10585
E14: Általános | F14: 21234 | G14: ='1.sz.tábla (3)'!C26 -> 8268 | H14: ='1.sz.tábla (3)'!D26 -> 10585
E15: Céltartalék
A17: Működési bevételek kiemelt előirányzatonként kötelező feladatok szerinti bontásban | B17: =SUM(B5:B9) -> 90319 | C17: =SUM(C5:C9) -> 96612 | D17: =SUM(D5:D9) -> 97810 | E17: Működési kiadások kiemelt előirányzatonként kötelező feladatok szerinti bontásban | F17: =SUM(F5:F9) -> 75218 | G17: =SUM(G5:G9) -> 73374 | H17: =SUM(H5:H9) -> 75541
A18: Felhalmozási bevételek | E18: Felhalmozási kiadások
A19: 1. Fejlesztési támogatások államháztartáson belülről | B19: 12835 | C19: ='1.sz.tábla (3)'!C5 -> 25866 | D19: ='1.sz.tábla (3)'!D5 -> 26319 | E19: 1.1. Beruházások | F19: 3100 | G19: ='1.sz.tábla (3)'!C22 -> 3826 | H19: ='1.sz.tábla (3)'!D22 -> 3826
A20: 2. Felhalmozási.bevételek
A21: 3. Felhalmozási célú átvett pénzeszközök áh-n kívülről | C21: ='1.sz.tábla (3)'!C10 -> 600 | D21: ='1.sz.tábla (3)'!D10 -> 1236 | E21: 2. Felújítások | F21: 24536 | G21: ='1.sz.tábla (3)'!C23 -> 34153 | H21: ='1.sz.tábla (3)'!D23 -> 34153
A22: 4. Költségvetési maradvány igénybevétele | E22: 3. Egyéb felhalmozási célú kiadások | H22: ='1.sz.tábla (3)'!D24 -> 150
A23: Hitel felvétele áh-n kívül | E23: Hitel törlesztése áh-n kívülre
A24: Költségvetési felhalmozási bevételek kötelező feladatok szerinti bontásban | B24: =SUM(B19:B23) -> 12835 | C24: =SUM(C19:C23) -> 26466 | D24: =SUM(D19:D23) -> 27555 | E24: Költségvetési felhalmozási kiadások kötelező feladatok szerinti bontásban | F24: =SUM(F19:F23) -> 27636 | G24: =SUM(G19:G23) -> 37979 | H24: =SUM(H19:H23) -> 38129
A25: Finanszírozási bevételek | E25: Finanszírozási kiadások | F25: =SUM(F26:F27) -> 0 | G25: =SUM(G26:G27) -> 11475 | H25: =SUM(H26:H27) -> 11475
E26: Hitel törlesztése áh-n kívülre | G26: ='1.sz.tábla (3)'!C30 -> 10000 | H26: ='1.sz.tábla (3)'!D30 -> 10000
E27: Állami támogatás megelőlegezés visszafizetése | G27: ='1.sz.tábla (3)'!C31 -> 1475 | H27: ='1.sz.tábla (3)'!D31 -> 1475
A28: Kötelező feladatok bevételei összesen | B28: =B17+B24+B25 -> 103154 | C28: =C17+C24+C25 -> 123078 | D28: =D17+D24+D25 -> 125365 | E28: Kötelező feladatok kiadásai összesen | F28: =F17+F24+F25 -> 102854 | G28: =G17+G24+G25 -> 122828 | H28: =H17+H24+H25 -> 125145
A30: Az Önkormányzat önként vállalt feladatok bevételei és kiadásai 2015. év
A32: 1. Működési bevételek | B32: 2015. évi eredeti ei. | C32: 2015. évi módosított előirányzat (12.09.) | D32: 2015. évi IV.módosított előirányzat (12.31.) | E32: 2. Működési kiadások | F32: 2015. évi eredeti ei. | G32: 2015. évi módosított előirányzat (12.09.) | H32: 2015. évi IV.módosított előirányzat (12.31.)
A33: Működési bevételek | E33: Működési kiadások
A34: 1. Működési támogatások államháztartáson belülről | E34: 1. Személyi jellegű kiadások
A35: 2. Közhatalmi bevételek | E35: 2. Munkaadót terhelő járulékok
A36: 3. Működési bevételek | E36: 3. Dologi kiadások
A37: 4. Működési célú átvett pénzeszközökáh-n kívülről | E37: 4. Ellátottak pénzbeli juttatásai
A38: 5. Költségvetési maradvány igénybevétele | E38: 5. Egyéb működési célú kiadások | F38: =SUM(F39:F42) -> 300 | G38: ='4.sz.tábla'!C15+'4.sz.tábla'!C19 -> 220 | H38: ='4.sz.tábla'!D15+'4.sz.tábla'!D19 -> 220
E39: 5.1. Egyéb működési célú kiadások áh-n belűlre
E40: 5.2. Működési célú pénzeszköz átadás áh-n kívülre | F40: 300 | G40: ='4.sz.tábla'!C15+'4.sz.tábla'!C19 -> 220 | H40: ='4.sz.tábla'!D15+'4.sz.tábla'!D19 -> 220 | J40: 4 táblából
E41: 5.3. Működési célú visszatérítendő támogatások, kölcsönök nyújtása áh-n kívülre
E42: 5.5. Pénzforgalom nélküli kiadások (tartalék)
E43: Általános
E44: Céltartalék
A45: Működési bevételek kiemelt előirányzatonként önként vállalt feladatok szerinti bontásban | B45: =SUM(B34:B42) -> 0 | C45: =SUM(C34:C42) -> 0 | D45: =SUM(D34:D42) -> 0 | E45: Működési kiadások kiemelt előirányzatonként önként vállalt feladatok szerinti bontásban | F45: =SUM(F34:F38) -> 300 | G45: =SUM(G34:G38) -> 220 | H45: =SUM(H34:H38) -> 220
A46: Felhalmozási bevételek | E46: Felhalmozási kiadások
A47: 1. Fejlesztési támogatások államháztartáson belülről | E47: 1.1. Beruházások
A48: 2. Felhalmozási.bevételek
A49: 3. Felhalmozási célú átvett pénzeszközök áh-n kívülről | E49: 2. Felújítások
A50: 4. Költségvetési maradvány igénybevétele | E50: 3. Egyéb felhalmozási célú kiadások
A53: Költségvetési felhalmozási bevételek önként vállalt feladatok szerinti bontásban | B53: =SUM(B47:B52) -> 0 | C53: =SUM(C47:C52) -> 0 | D53: =SUM(D47:D52) -> 0 | E53: Költségvetési felhalmozási kiadások önként vállalt feladatok szerinti bontásban | F53: =SUM(F47:F52) -> 0 | G53: =SUM(G47:G52) -> 0 | H53: =SUM(H47:H52) -> 0
A54: Finanszírozási bevételek | E54: Finanszírozási kiadások
A56: Önként vállalt feladatok bevételei összesen: | B56: =B53+B54+B45 -> 0 | C56: =C53+C54+C45 -> 0 | D56: =D53+D54+D45 -> 0 | E56: Önként vállalt feladatok kiadásai összesen: | F56: =F45+F53+F54 -> 300 | G56: =G45+G53+G54 -> 220 | H56: =H45+H53+H54 -> 220
A58: Az Önkormányzat állami (államigazgatási) feladatok bevételei és kiadásai 2015. év
A60: 1. Működési bevételek | B60: 2015. évi eredeti ei. | C60: 2015. évi módosított előirányzat (12.09.) | D60: 2015. évi IV.módosított előirányzat (12.31.) | E60: 2. Működési kiadások | F60: 2015. évi eredeti ei. | G60: 2015. évi módosított előirányzat (12.09.) | H60: 2015. évi IV.módosított előirányzat (12.31.)
A61: Működési bevételek | E61: Működési kiadások
A62: 1. Működési támogatások államháztartáson belülről | E62: 1. Személyi jellegű kiadások
A63: 2. Közhatalmi bevételek | E63: 2. Munkaadót terhelő járulékok
A64: 3. Működési bevételek | E64: 3. Dologi kiadások
A65: 4. Működési célú átvett pénzeszközökáh-n kívülről | E65: 4. Ellátottak pénzbeli juttatásai
A66: 5. Költségvetési maradvány igénybevétele | E66: 5. Egyéb működési célú kiadások
E67: 5.1. Egyéb működésicélú kiadások áh-n belűlre
E68: 5.2. Működési célú pénzeszköz átadás áh-n kívülre
E69: 5.3. Működési célú visszatérítendő támogatások, kölcsönök nyújtása áh-n kívülre
E71: 5.5. Pénzforgalom nélküli kiadások (tartalék)
E72: Általános
E73: Céltartalék
A74: Működési bevételek kiemelt előirányzatonként állami (államigazgatási) feladatok szerinti bontásban | B74: =SUM(B62:B71) -> 0 | C74: =SUM(C62:C71) -> 0 | D74: =SUM(D62:D71) -> 0 | E74: Működési kiadások kiemelt előirányzatonként állami (államigazgatási) feladatok szerinti bontásban | F74: =SUM(F62:F73) -> 0 | G74: =SUM(G62:G73) -> 0 | H74: =SUM(H62:H73) -> 0
A75: Felhalmozási bevételek | E75: Felhalmozási kiadások
A76: 1. Fejlesztési támogatások államháztartáson belülről | E76: 1.1. Beruházások
A77: 2. Felhalmozási.bevételek
A78: 3. Felhalmozási célú átvett pénzeszközök áh-n kívülről | E78: 2. Felújítások
A79: 4. Költségvetési maradvány igénybevétele | E79: 3. Egyéb felhalmozási célú kiadások
A82: Felhalmozási bevételek kiemelt előirányzatonként állami (államigazgatási) feladatok szerinti bontásban | B82: =SUM(B76:B81) -> 0 | C82: =SUM(C76:C81) -> 0 | D82: =SUM(D76:D81) -> 0 | E82: Felhalmozási kiadások kiemelt előirányzatonként állami (államigazgatási) feladatok szerinti bontásban | F82: =SUM(F76:F81) -> 0 | G82: =SUM(G76:G81) -> 0 | H82: =SUM(H76:H81) -> 0
A83: Állami (államigazgatási) feladatok költségvetési bevételei összesen: | E83: Állami (államigazgatási) feladatok költségvetési kiadásai összesen:
B84: =B56+B28 -> 103154 | C84: =C56+C28 -> 123078 | D84: =D56+D28 -> 125365 | F84: =F56+F28 -> 103154 | G84: 123078 | H84: =H56+H28 -> 125365

Sheet 8. sz. tábla (2)
A3: BEVÉTELEK ÉS KIADÁSOK ELŐIRÁNYZATÁNAK HAVI ÜTEMEZÉSE 2015.
A5: Megnevezés | B5: Január | C5: Február | D5: Március | E5: Április | F5: Május | G5: Június | H5: Július | I5: Augusztus | J5: Szeptem-ber | K5: Október | L5: November | M5: December | N5: Összesen
A6: Nyitó pénzkészlet | B6: 31397 | C6: =B41 -> 29017.333 | D6: =C41 -> 30219.667 | E6: =D41 -> 34602 | F6: =E41 -> 34004.333 | G6: =F41 -> 31959.667 | H6: =G41 -> 36194 | I6: =H41 -> 26032.333 | J6: =I41 -> 29766.667 | ... M6: =L41 -> 14412.667 | N6: 31397
A7: Önkormányzat
A8: Önkormányzatok költségvetési támogatása | B8: 2018 | C8: 2880 | D8: 1937 | E8: 2046 | F8: 1888 | G8: 1883 | H8: 2064 | I8: 1980 | J8: 1899 | K8: 2388 | L8: 1896 | M8: 1883 | N8: =SUM(B8:M8) -> 24762 | O8: ='2.sz.tábla (2)'!D6 -> 24762 | R8: =O8-N8 -> 0
A9: Előző évi költségvetési kiegészítések, visszat. | N9: =SUM(B9:M9) -> 0 | O9: 0
A10: Működési célú támogatások áh-n belülről | B10: 465 | C10: 560 | D10: 536 | E10: 410 | F10: 532 | G10: 456 | H10: 2653 | I10: 636 | J10: 569 | K10: 861 | L10: 559 | M10: 1452 | N10: =SUM(B10:M10) -> 9689 | O10: ='2.sz.tábla (2)'!D16 -> 9689
A11: Közhatalmi bevételek | B11: 43 | C11: 128 | D11: 6148 | E11: 1155 | F11: 342 | G11: 656 | H11: 111 | I11: 1695 | J11: 9220 | K11: 204 | L11: 484 | M11: 2441 | N11: =SUM(B11:M11) -> 22627 | O11: ='2.sz.tábla (2)'!D24 -> 22627
A12: Működési bevételek | B12: 334 | C12: 127 | D12: 374 | E12: 191 | F12: 514 | G12: 514 | H12: =1500+514-69 -> 1945 | I12: =650+514 -> 1164 | J12: =450+514 -> 964 | K12: 514 | L12: 514 | M12: 514 | N12: =SUM(B12:M12) -> 7669 | O12: ='2.sz.tábla (2)'!D36 -> 7669
A13: Működési célú pénzeszköz átvétel (áh-n kívül) | B13: 300 | N13: =SUM(B13:M13) -> 300 | O13: ='2.sz.tábla (2)'!D56 -> 300
A14: Egyéb működési célú átvett pénzeszköz | N14: =SUM(B14:M14) -> 0 | O14: 0
A15: Támogatás, kölcsön visszatérülés működési | N15: =SUM(B15:M15) -> 0 | O15: 0
A16: Működési bevételek összesen: | B16: =SUM(B8:B15) -> 3160 | C16: =SUM(C8:C15) -> 3695 | D16: =SUM(D8:D15) -> 8995 | E16: =SUM(E8:E15) -> 3802 | F16: =SUM(F8:F15) -> 3276 | G16: =SUM(G8:G15) -> 3509 | H16: =SUM(H8:H15) -> 6773 | I16: =SUM(I8:I15) -> 5475 | ... O16: =SUM(O8:O15) -> 65047
A17: Önkormányzatok költségvetési támogatása | O17: 0
A18: Felhalmozási célú támogatások áh-n belülről | C18: 10000 | J18: 12745 | K18: 3031 | M18: 543 | N18: =SUM(B18:M18) -> 26319 | O18: ='2.sz.tábla (2)'!D18 -> 26319
A19: Felhalmozási bevételek | N19: =SUM(B19:M19) -> 0 | O19: 0
A20: Felhalmozási célú pénzeszköz átvétel (áh-n kívül) | C20: 600 | D20: 636 | N20: =SUM(B20:M20) -> 1236 | O20: 600
A21: Támogatás, kölcsön visszatérülés felhalm. | N21: =SUM(B21:M21) -> 0 | O21: 0
A22: Felhalmozási bevételek összesen | C22: 600 | D22: 10000 | G22: 6418 | H22: 6417 | I22: 3031 | N22: =SUM(N17:N21) -> 27555
A23: Költségvetési bevételek összesen: | B23: =B16+B22 -> 3160 | C23: =C16+C22 -> 4295 | D23: =D16+D22 -> 18995 | E23: =E16+E22 -> 3802 | F23: =F16+F22 -> 3276 | G23: =G16+G22 -> 9927 | H23: =H16+H22 -> 13190 | I23: =I16+I22 -> 8506 | ... N23: =N16+N22 -> 92602 | O23: =O18+O16+O20 -> 91966
A24: Finanszírozási bevételek (hitel, kötvény, értékpapír,állami támogatás előleg) | H24: 197 | I24: 76 | J24: 76 | K24: 76 | L24: 76 | M24: 76 | N24: =SUM(B24:M24) -> 577
A25: Pénzforgalom nélküli bevételek | B25: 31397 | N25: =SUM(B25:M25) -> 31397
A26: Bevételek összesen: | B26: =SUM(B23:B25) -> 34557 | C26: =SUM(C23:C25) -> 4295 | D26: =SUM(D23:D25) -> 18995 | E26: =SUM(E23:E25) -> 3802 | F26: =SUM(F23:F25) -> 3276 | G26: =SUM(G23:G25) -> 9927 | H26: =SUM(H23:H25) -> 13387 | I26: =SUM(I23:I25) -> 8582 | ... N26: =SUM(N23:N25) -> 124576 | O26: =SUM(B26:M26) -> 123487
A27: Önkormányzat feladatai (személyi, jár, dologi) | B27: 3695 | C27: 2176 | D27: 3559 | E27: 3429 | F27: 3822 | G27: 3822 | H27: 3822 | I27: 3822 | J27: =2538+3822 -> 6360 | K27: 6361 | L27: 6343 | M27: =2539+3825 -> 6364 | N27: =SUM(B27:M27) -> 53575 | O27: ='3.sz.tábla'!D4+'3.sz.tábla'!D7+'3.sz.tábla'!D8 -> 53575
A28: Ellátottak pénzbeli juttatásai | B28: 152 | C28: 122 | D28: 25 | E28: 147 | F28: 144 | G28: 142 | H28: 160 | I28: 155 | J28: 135 | K28: 144 | L28: 144 | M28: 595 | N28: =SUM(B28:M28) -> 2065 | O28: ='3.sz.tábla'!D19 -> 2065
A29: Egyéb működési célú kiadások | B29: =9536/12 -> 794.66667 | C29: =9536/12 -> 794.66667 | D29: =9536/12 -> 794.66667 | E29: =9536/12 -> 794.66667 | F29: =9536/12 -> 794.66667 | G29: =9536/12 -> 794.66667 | H29: =9536/12 -> 794.66667 | I29: =9536/12 -> 794.66667 | ... M29: =9536/12 -> 794.66667 | N29: =SUM(B29:M29) -> 9536 | O29: ='3.sz.tábla'!D29 -> 9536
A30: Tartalék működési célú: | M30: 10585 | N30: =SUM(B30:M30) -> 10585 | O30: ='1.sz.tábla (3)'!D27 -> 10585
A31: Működési kiadások összesen: | B31: =SUM(B27:B30) -> 4641.6667 | C31: =SUM(C27:C30) -> 3092.6667 | D31: =SUM(D27:D30) -> 4378.6667 | E31: =SUM(E27:E30) -> 4370.6667 | F31: =SUM(F27:F30) -> 4760.6667 | G31: =SUM(G27:G30) -> 4758.6667 | H31: =SUM(H27:H30) -> 4776.6667 | I31: =SUM(I27:I30) -> 4771.6667 | ... O31: =SUM(O27:O30) -> 75761
A32: Beruházások | E32: 11 | F32: 560 | G32: 284 | J32: 495 | L32: 1800 | M32: 676 | N32: =SUM(B32:M32) -> 3826 | O32: 3826
A33: Felújítások | D33: 234 | E33: 18 | G33: 650 | H33: 18575 | J33: 6200 | K33: 1869 | L33: 3191 | M33: 3416 | N33: =SUM(B33:M33) -> 34153 | O33: ='5. sz. tábla (3)'!D31 -> 34153
A34: Egyéb felhalmozási célú kiadások | M34: 150 | N34: =SUM(B34:M34) -> 150 | O34: 150
A35: Tartalék | N35: =SUM(B35:M35) -> 0
A36: Felhalmozási célú kiadások összesen | B36: =SUM(B32:B35) -> 0 | C36: =SUM(C32:C35) -> 0 | D36: =SUM(D32:D35) -> 234 | E36: =SUM(E32:E35) -> 29 | F36: =SUM(F32:F35) -> 560 | G36: =SUM(G32:G35) -> 934 | H36: =SUM(H32:H35) -> 18575 | I36: =SUM(I32:I35) -> 0 | ... N36: =SUM(N32:N35) -> 38129
A37: Költségvetési kiadások összesen: | B37: =B31+B36 -> 4641.6667 | C37: =C31+C36 -> 3092.6667 | D37: =D31+D36 -> 4612.6667 | E37: =E31+E36 -> 4399.6667 | F37: =F31+F36 -> 5320.6667 | G37: =G31+G36 -> 5692.6667 | H37: =H31+H36 -> 23351.667 | I37: =I31+I36 -> 4771.6667 | ... N37: =N31+N36 -> 113890 | O37: =SUM(B37:M37) -> 113890
A38: Finanszírozási kiadások (hitel törlesztés, értékpapír visszavásárlás,állami támogatás előleg visszafizetése) | B38: 898 | D38: 10000 | H38: 197 | I38: 76 | J38: 76 | K38: 76 | L38: 76 | M38: 76 | N38: =SUM(B38:M38) -> 11475
A39: Kiadások összesen: | N39: =SUM(N37:N38) -> 125365 | O39: =SUM(B39:M39) -> 0
A40: Korrekció (előző évi kifizetés miatt) | N40: =SUM(B40:M40) -> 0
A41: Záró pénzkészlet | B41: =B6+B23+B24-B37-B38+B40 -> 29017.333 | C41: =C6+C23+C24-C37-C38+C40 -> 30219.667 | D41: =D6+D23+D24-D37-D38+D40 -> 34602 | E41: =E6+E23+E24-E37-E38+E40 -> 34004.333 | F41: =F6+F23+F24-F37-F38+F40 -> 31959.667 | G41: =G6+G23+G24-G37-G38+G40 -> 36194 | H41: =H6+H23+H24-H37-H38+H40 -> 26032.333 | I41: =I6+I23+I24-I37-I38+I40 -> 29766.667 | ... N41: =N6+N23+N24-N37-N38+N40 -> -789
