Workbook
Name _pr10: '8. melléklet'!#REF!
Name _pr12: '8. melléklet'!#REF!
Name _pr21: '7. melléklet'!$A$57
Name _pr232: '10. melléklet'!$A$13
Name _pr233: '10. melléklet'!$A$18
Name _pr234: '10. melléklet'!$A$26
Name _pr235: '10. melléklet'!$A$31
Name _pr236: '10. melléklet'!$A$36
Name _pr24: '7. melléklet'!$A$59
Name _pr25: '7. melléklet'!$A$60
Name _pr26: '7. melléklet'!$A$61
Name _pr27: '7. melléklet'!$A$62
Name _pr28: '7. melléklet'!$A$63
Name _pr312: '10. melléklet'!#REF!
Name _pr313: '10. melléklet'!#REF!
Name _pr314: '10. melléklet'!$A$5
Name _pr315: '10. melléklet'!#REF!
Name _pr7: '8. melléklet'!#REF!
Name _pr8: '8. melléklet'!#REF!
Name _pr9: '8. melléklet'!#REF!
Name foot_4_place: '8. melléklet'!$A$20
Name foot_5_place: '8. melléklet'!#REF!
Name foot_53_place: '8. melléklet'!#REF!
Name léé: '8. melléklet'!#REF!
Name mmm: '7. melléklet'!#REF!

Sheet 1. melléklet
A1: 1. melléklet 1/2020. (I.31.) önkormányzati rendelethez
A3: Nemeskolta Önkormányzat 2020. évi költségvetése
A4: Az egységes rovatrend szerint a kiemelt kiadási és bevételi jogcímek
A7: K1. Személyi juttatások
A8: K2. Munkaadókat terhelő járulékok és szociális hozzájárulási adó
A9: K3. Dologi kiadások
A10: K4. Ellátottak pénzbeli juttatásai
A11: K5. Egyéb működési célú kiadások
A12: K6. Beruházási kiadások
A13: K7. Felújítások
A14: K8. Egyéb felhalmozási célú kiadások
A15: K1-8. Költségvetési kiadások
... A27: BEVÉTELEK ÖSSZESEN (B1-8)

Sheet 2. melléklet
C1: 2. melléklet 1/2020. (I.31.) önkormányzati rendelethez
A3: Nemeskolta Önkormányzat 2020. évi költségvetése
A4: Kiadások (Ft)
A6: Nemeskolta ÖNKORMÁNYZATI ELŐIRÁNYZATOK | C6: EREDETI ELŐIRÁNYZAT
A7: Rovat megnevezése | B7: Rovat-szám | C7: kötelező feladatok | D7: önként vállalt feladatok | E7: államigazgatási feladatok | F7: ÖSSZESEN
A8: Törvény szerinti illetmények, munkabérek | B8: K1101 | C8: 6991000 | D8: 0 | E8: 0 | F8: =SUM(C8:E8) -> 6991000
A9: Normatív jutalmak | B9: K1102 | C9: 100000 | D9: 0 | E9: 0 | F9: =SUM(C9:E9) -> 100000
A10: Céljuttatás, projektprémium | B10: K1103 | C10: 0 | D10: 0 | E10: 0 | F10: =SUM(C10:E10) -> 0
A11: Készenléti, ügyeleti, helyettesítési díj, túlóra, túlszolgálat | B11: K1104 | C11: 0 | D11: 0 | E11: 0 | F11: =SUM(C11:E11) -> 0
A12: Végkielégítés | B12: K1105 | C12: 0 | D12: 0 | E12: 0 | F12: =SUM(C12:E12) -> 0
A13: Jubileumi jutalom | B13: K1106 | C13: 0 | D13: 0 | E13: 0 | F13: =SUM(C13:E13) -> 0
A14: Béren kívüli juttatások | B14: K1107 | C14: 0 | D14: 0 | E14: 0 | F14: =SUM(C14:E14) -> 0
A15: Ruházati költségtérítés | B15: K1108 | C15: 0 | D15: 0 | E15: 0 | F15: =SUM(C15:E15) -> 0
A16: Közlekedési költségtérítés | B16: K1109 | C16: 0 | D16: 0 | E16: 0 | F16: =SUM(C16:E16) -> 0
A17: Egyéb költségtérítések | B17: K1110 | C17: 0 | D17: 0 | E17: 0 | F17: =SUM(C17:E17) -> 0
A18: Lakhatási támogatások | B18: K1111 | C18: 0 | D18: 0 | E18: 0 | F18: =SUM(C18:E18) -> 0
A19: Szociális támogatások | B19: K1112 | C19: 0 | D19: 0 | E19: 0 | F19: =SUM(C19:E19) -> 0
A20: Foglalkoztatottak egyéb személyi juttatásai | B20: K1113 | C20: 90000 | D20: 0 | E20: 0 | F20: =SUM(C20:E20) -> 90000
A21: Foglalkoztatottak személyi juttatásai | B21: K11 | C21: =SUM(C8:C20) -> 7181000 | D21: =SUM(D8:D20) -> 0 | E21: =SUM(E8:E20) -> 0 | F21: =SUM(C21:E21) -> 7181000
A22: Választott tisztségviselők juttatásai | B22: K121 | C22: 2065000 | D22: 0 | E22: 0 | F22: =SUM(C22:E22) -> 2065000
A23: Munkavégzésre irányuló egyéb jogviszonyban nem saját foglalkoztatottnak fizetett juttatások | B23: K122 | C23: 360000 | D23: 0 | E23: 0 | F23: =SUM(C23:E23) -> 360000
A24: Egyéb külső személyi juttatások | B24: K123 | C24: 500000 | D24: 0 | E24: 0 | F24: =SUM(C24:E24) -> 500000
A25: Külső személyi juttatások | B25: K12 | C25: =SUM(C22:C24) -> 2925000 | D25: =SUM(D22:D24) -> 0 | E25: =SUM(E22:E24) -> 0 | F25: =SUM(C25:E25) -> 2925000
A26: Személyi juttatások | B26: K1 | C26: =C21+C25 -> 10106000 | D26: =D21+D25 -> 0 | E26: =E21+E25 -> 0 | F26: =SUM(C26:E26) -> 10106000
A27: Munkaadókat terhelő járulékok és szociális hozzájárulási adó | B27: K2 | C27: 1873000 | D27: 0 | E27: 0 | F27: =SUM(C27:E27) -> 1873000
A28: Szakmai anyagok beszerzése | B28: K311 | C28: 40000 | D28: 0 | E28: 0 | F28: =SUM(C28:E28) -> 40000
A29: Üzemeltetési anyagok beszerzése | B29: K312 | C29: 2940000 | D29: 0 | E29: 9000 | F29: =SUM(C29:E29) -> 2949000
A30: Árubeszerzés | B30: K313 | C30: 0 | D30: 0 | E30: 0 | F30: =SUM(C30:E30) -> 0
A31: Készletbeszerzés | B31: K31 | C31: =SUM(C28:C30) -> 2980000 | D31: =SUM(D28:D30) -> 0 | E31: =SUM(E28:E30) -> 9000 | F31: =SUM(C31:E31) -> 2989000
A32: Informatikai szolgáltatások igénybevétele | B32: K321 | C32: 65000 | D32: 0 | E32: 0 | F32: =SUM(C32:E32) -> 65000
A33: Egyéb kommunikációs szolgáltatások | B33: K322 | C33: 205000 | D33: 0 | E33: 0 | F33: =SUM(C33:E33) -> 205000
A34: Kommunikációs szolgáltatások | B34: K32 | C34: =SUM(C32:C33) -> 270000 | D34: =SUM(D32:D33) -> 0 | E34: =SUM(E32:E33) -> 0 | F34: =SUM(C34:E34) -> 270000
A35: Közüzemi díjak | B35: K331 | C35: 1850000 | D35: 0 | E35: 0 | F35: =SUM(C35:E35) -> 1850000
A36: Vásárolt élelmezés | B36: K332 | C36: 0 | D36: 0 | E36: 0 | F36: =SUM(C36:E36) -> 0
A37: Bérleti és lízing díjak | B37: K333 | C37: 0 | D37: 0 | E37: 0 | F37: =SUM(C37:E37) -> 0
A38: Karbantartási, kisjavítási szolgáltatások | B38: K334 | C38: 550000 | D38: 0 | E38: 0 | F38: =SUM(C38:E38) -> 550000
A39: Közvetített szolgáltatások | B39: K335 | C39: 0 | D39: 0 | E39: 0 | F39: =SUM(C39:E39) -> 0
A40: Szakmai tevékenységet segítő szolgáltatások | B40: K336 | C40: 200000 | D40: 0 | E40: 0 | F40: =SUM(C40:E40) -> 200000
A41: Egyéb szolgáltatások | B41: K337 | C41: 1955000 | D41: 0 | E41: 0 | F41: =SUM(C41:E41) -> 1955000
A42: Szolgáltatási kiadások | B42: K33 | C42: =SUM(C35:C41) -> 4555000 | D42: =SUM(D35:D41) -> 0 | E42: =SUM(E35:E41) -> 0 | F42: =SUM(C42:E42) -> 4555000
...

Sheet 3. melléklet
B1: 3. melléklet 1/2020. (I.31.) önkormányzati rendelethez
A3: Nemeskolta Önkormányzat 2020. évi költségvetése
A4: Bevételek (Ft)
A6: Nemeskolta ÖNKORMÁNYZATI ELŐIRÁNYZATOK | C6: EREDETI ELŐIRÁNYZAT
A7: Rovat megnevezése | B7: Rovat- szám | C7: kötelező feladatok | D7: önként vállalt feladatok | E7: államigazgatási feladatok | F7: ÖSSZESEN
A8: Helyi önkormányzatok működésének általános támogatása | B8: B111 | C8: 13232915 | D8: 0 | E8: 0 | F8: =SUM(C8:E8) -> 13232915
A9: Települési önkormányzatok egyes köznevelési feladatainak támogatása | B9: B112 | C9: 0 | D9: 0 | E9: 0 | F9: =SUM(C9:E9) -> 0
A10: Települési önkormányzatok szociális és gyermekjóléti feladatainak támogatása | B10: B113 | C10: 7624000 | D10: 0 | E10: 0 | F10: =SUM(C10:E10) -> 7624000
A11: Települési önkormányzatok kulturális feladatainak támogatása | B11: B114 | C11: 1800000 | D11: 0 | E11: 0 | F11: =SUM(C11:E11) -> 1800000
A12: Működési célú központosított előirányzatok | B12: B115 | C12: 0 | D12: 0 | E12: 0 | F12: =SUM(C12:E12) -> 0
A13: Elszámolásból származó bevételek | B13: B116 | C13: 0 | D13: 0 | E13: 0 | F13: =SUM(C13:E13) -> 0
A14: Önkormányzatok működési támogatásai | B14: B11 | C14: =SUM(C8:C13) -> 22656915 | D14: =SUM(D8:D13) -> 0 | E14: =SUM(E8:E13) -> 0 | F14: =SUM(C14:E14) -> 22656915
A15: Elvonások és befizetések bevételei | B15: B12 | C15: 0 | D15: 0 | E15: 0 | F15: =SUM(C15:E15) -> 0
A16: Működési célú garancia- és kezességvállalásból származó megtérülések államháztartáson belülről | B16: B13 | C16: 0 | D16: 0 | E16: 0 | F16: =SUM(C16:E16) -> 0
A17: Működési célú visszatérítendő támogatások, kölcsönök visszatérülése államháztartáson belülről | B17: B14 | C17: 0 | D17: 0 | E17: 0 | F17: =SUM(C17:E17) -> 0
A18: Működési célú visszatérítendő támogatások, kölcsönök igénybevétele államháztartáson belülről | B18: B15 | C18: 0 | D18: 0 | E18: 0 | F18: =SUM(C18:E18) -> 0
A19: Egyéb működési célú támogatások bevételei államháztartáson belülről | B19: B16 | C19: 532000 | D19: 0 | E19: 0 | F19: =SUM(C19:E19) -> 532000
A20: Működési célú támogatások államháztartáson belülről | B20: B1 | C20: =SUM(C14:C19) -> 23188915 | D20: =SUM(D14:D19) -> 0 | E20: =SUM(E14:E19) -> 0 | F20: =SUM(C20:E20) -> 23188915
A21: Magánszemélyek jövedelemadói | B21: B311 | C21: 0 | D21: 0 | E21: 0 | F21: =SUM(C21:E21) -> 0
A22: Társaságok jövedelemadói | B22: B312 | C22: 0 | D22: 0 | E22: 0 | F22: =SUM(C22:E22) -> 0
A23: Jövedelemadók | B23: B31 | C23: =SUM(C21:C22) -> 0 | D23: =SUM(D21:D22) -> 0 | E23: =SUM(E21:E22) -> 0 | F23: =SUM(C23:E23) -> 0
A24: Szociális hozzájárulási adó és járulékok | B24: B32 | C24: 0 | D24: 0 | E24: 0 | F24: =SUM(C24:E24) -> 0
A25: Bérhez és foglalkoztatáshoz kapcsolódó adók | B25: B33 | C25: 0 | D25: 0 | E25: 0 | F25: =SUM(C25:E25) -> 0
A26: Vagyoni tipusú adók | B26: B34 | C26: 350000 | D26: 0 | E26: 0 | F26: =SUM(C26:E26) -> 350000
A27: Értékesítési és forgalmi adók | B27: B351 | C27: 4000000 | D27: 0 | E27: 0 | F27: =SUM(C27:E27) -> 4000000
A28: Fogyasztási adók | B28: B352 | C28: 0 | D28: 0 | E28: 0 | F28: =SUM(C28:E28) -> 0
A29: Pénzügyi monopóliumok nyereségét terhelő adók | B29: B353 | C29: 0 | D29: 0 | E29: 0 | F29: =SUM(C29:E29) -> 0
A30: Gépjárműadók | B30: B354 | C30: 1000000 | D30: 0 | E30: 0 | F30: =SUM(C30:E30) -> 1000000
A31: Egyéb áruhasználati és szolgáltatási adók | B31: B355 | C31: 0 | D31: 0 | E31: 0 | F31: =SUM(C31:E31) -> 0
A32: Termékek és szolgáltatások adói | B32: B35 | C32: =SUM(C27:C31) -> 5000000 | D32: =SUM(D27:D31) -> 0 | E32: =SUM(E27:E31) -> 0 | F32: =SUM(C32:E32) -> 5000000
A33: Egyéb közhatalmi bevételek | B33: B36 | C33: 70000 | D33: 0 | E33: 5000 | F33: =SUM(C33:E33) -> 75000
A34: Közhatalmi bevételek | B34: B3 | C34: =C23+C24+C25+C26+C32+C33 -> 5420000 | D34: =D23+D24+D25+D26+D32+D33 -> 0 | E34: =E23+E24+E25+E26+E32+E33 -> 5000 | F34: =SUM(C34:E34) -> 5425000
A35: Áru- és készletértékesítés ellenértéke | B35: B401 | C35: 0 | D35: 0 | E35: 0 | F35: =SUM(C35:E35) -> 0
A36: Szolgáltatások ellenértéke | B36: B402 | C36: 0 | D36: 0 | E36: 0 | F36: =SUM(C36:E36) -> 0
A37: Közvetített szolgáltatások értéke | B37: B403 | C37: 0 | D37: 0 | E37: 0 | F37: =SUM(C37:E37) -> 0
A38: Tulajdonosi bevételek | B38: B404 | C38: 450000 | D38: 100000 | E38: 0 | F38: =SUM(C38:E38) -> 550000
A39: Ellátási díjak | B39: B405 | C39: 0 | D39: 0 | E39: 0 | F39: =SUM(C39:E39) -> 0
A40: Kiszámlázott általános forgalmi adó | B40: B406 | C40: 0 | D40: 0 | E40: 0 | F40: =SUM(C40:E40) -> 0
A41: Általános forgalmi adó visszatérítése | B41: B407 | C41: 0 | D41: 0 | E41: 0 | F41: =SUM(C41:E41) -> 0
A42: Kamatbevételek | B42: B408 | C42: 0 | D42: 0 | E42: 0 | F42: =SUM(C42:E42) -> 0
...

Sheet 4. melléklet
A1: 4. melléklet 1/2020. (I.31.) önkormányzati rendelethez
A3: Nemeskolta Önkormányzat 2020. évi költségvetése
A4: Beruházások és felújítások (Ft)
A6: Rovat megnevezése | B6: Rovat-szám | C6: ÖNKORMÁNYZATI ELŐIRÁNYZATOK | D6: MINDÖSSZESEN
A9: Immateriális javak beszerzése, létesítése | B9: K61 | C9: 0 | D9: =C9 -> 0
A12: Ingatlanok beszerzése, létesítése | B12: K62 | C12: 0 | D12: =C12 -> 0
A15: Informatikai eszközök beszerzése, létesítése | B15: K63 | C15: 0 | D15: =C15 -> 0
A18: Egyéb tárgyi eszközök beszerzése, létesítése | B18: K64 | C18: 200000 | D18: =C18 -> 200000
A19: (Közművelődés eszközbeszerzés)
A21: Részesedések beszerzése | B21: K65 | C21: 0 | D21: =C21 -> 0
A24: Meglévő részesedések növeléséhez kapcsolódó kiadások | B24: K66 | C24: 0 | D24: =C24 -> 0
A25: Beruházási célú előzetesen felszámított általános forgalmi adó | B25: K67 | C25: 110000 | D25: =C25 -> 110000
A26: Beruházások | B26: K6 | C26: =SUM(C9+C12+C15+C18+C21+C24+C25) -> 310000 | D26: =C26 -> 310000
A29: Ingatlanok felújítása | B29: K71 | C29: 28000000 | D29: =C29 -> 28000000
A30: Árok, hidak felújítás, karbantartás | C30: 1000000 | D30: =SUM(C30) -> 1000000
A31: TOP sportcsarnok | C31: 27000000 | D31: =SUM(C31) -> 27000000
A34: Informatikai eszközök felújítása | B34: K72 | C34: 0 | D34: =C34 -> 0
A36: Egyéb tárgyi eszközök felújítása | B36: K73 | C36: 0 | D36: =C36 -> 0
A37: Felújítási célú előzetesen felszámított általános forgalmi adó | B37: K74 | C37: 7559999 | D37: =C37 -> 7559999
A38: Felújítások | B38: K7 | C38: =C29+C34+C36+C37 -> 35559999 | D38: =C38 -> 35559999
A41: Megnevezés | B41: Rovat | C41: nettó | D41: áfa | E41: bruttó
A43: Immateriális javak beszerzése, létesítése | B43: K61 | C43: 0 | D43: 0 | E43: =SUM(C43:D43) -> 0
A45: Ingatlanok beszerzése, létesítése | B45: K62 | C45: 0 | D45: 0 | E45: =SUM(C45:D45) -> 0
A48: Informatikai eszközök beszerzése, létesítése | B48: K63 | C48: 0 | D48: 0 | E48: =SUM(C48:D48) -> 0
A51: Egyéb tárgyi eszközök beszerzése, létesítése | B51: K64 | C51: 200000 | D51: 110000 | E51: =SUM(C51:D51) -> 310000
A52: Beruházások | B52: K6 | C52: =C43+C45+C48+C51 -> 200000 | D52: =D43+D45+D48+D51 -> 110000 | E52: =SUM(C52:D52) -> 310000
A55: Ingatlanok felújítása | B55: K71 | C55: 28000000 | D55: 7559999 | E55: =SUM(C55:D55) -> 35559999
A56: Árok, hidak felújítása, karbantartása | C56: 1000000 | D56: 270000 | E56: =SUM(C56:D56) -> 1270000
A57: TOP sportcsarnok | C57: 27000000 | D57: 7289999 | E57: =SUM(C57:D57) -> 34289999
A59: Informatikai eszközök felújítása | B59: K72 | C59: 0 | D59: 0 | E59: =SUM(C59:D59) -> 0
A62: Egyéb tárgyi eszközök felújítása | B62: K73 | C62: 0 | D62: 0 | E62: =SUM(C62:D62) -> 0
A63: Felújítások | B63: K7 | C63: =C55+C59+C62 -> 28000000 | D63: =D55+D59+D62 -> 7559999 | E63: =SUM(C63:D63) -> 35559999

Sheet 5. melléklet
B2: 5. melléklet 1/2020 (I.31.) önkormányzati rendelethez
A3: Nemeskolta Önkormányzat 2020. évi költségvetése
A4: Foglalkoztatottak létszáma (fő)
A7: MEGNEVEZÉS | B7: Költségvetési engedélyezett létszámkeret (álláshely) (fő) ÖNKORMÁNYZAT | C7: MINDÖSSZESEN
A8: főjegyző, jegyző, aljegyző, címzetes főjegyző, körjegyző | B8: 0 | C8: =SUM(B8:B8) -> 0
A9: I. besorolási osztály összesen | B9: 0 | C9: =SUM(B9:B9) -> 0
A10: II. besorolási osztály összesen | B10: 0 | C10: =SUM(B10:B10) -> 0
A11: III. besorolási osztály összesen | B11: 0 | C11: =SUM(B11:B11) -> 0
A12: KÖZTISZTVISELŐK, KORMÁNYTISZTVISELŐK ÖSSZESEN | B12: =SUM(B8:B11) -> 0 | C12: =SUM(B12:B12) -> 0
A13: igazgató (főigazgató), igazgatóhelyettes (főigazgató-helyettes) | B13: 0 | C13: =SUM(B13:B13) -> 0
A14: főosztályvezető, főosztályvezető-helyettes, osztályvezető, ügykezelő osztályvezető, további vezető | B14: 0 | C14: =SUM(B14:B14) -> 0
A15: főtanácsos, főmunkatárs, tanácsos, munkatárs | B15: 0 | C15: =SUM(B15:B15) -> 0
A16: "A", "B" fizetési osztály összesen | B16: 1 | C16: =SUM(B16:B16) -> 1
A17: "C", "D" fizetési osztály összesen | B17: 1 | C17: =SUM(B17:B17) -> 1
A18: "E"-"J" fizetési osztály összesen | B18: 0 | C18: =SUM(B18:B18) -> 0
A19: kutató, felsőoktatásban oktató | B19: 0 | C19: =SUM(B19:B19) -> 0
A20: KÖZALKALMAZOTTAK ÖSSZESEN | B20: =SUM(B13:B19) -> 2 | C20: =SUM(B20:B20) -> 2
A21: fizikai alkalmazott, a költségvetési szerveknél foglalkoztatott egyéb munkavállaló (fizikai alkalmazott) | B21: 0 | C21: =SUM(B21:B21) -> 0
A22: ösztöndíjas foglalkoztatott | B22: 0 | C22: =SUM(B22:B22) -> 0
A23: közfoglalkoztatott | B23: 2 | C23: =SUM(B23:B23) -> 2
A24: EGYÉB BÉRRENDSZER ÖSSZESEN | B24: =SUM(B21:B23) -> 2 | C24: =SUM(B24:B24) -> 2
A25: polgármester, főpolgármester | B25: 1 | C25: =SUM(B25:B25) -> 1
A26: helyi önkormányzati képviselő-testület tagja, megyei közgyűlés tagja | B26: 3 | C26: =SUM(B26:B26) -> 3
A27: alpolgármester, főpolgármester-helyettes, megyei közgyűlés elnöke, alelnöke | B27: 1 | C27: =SUM(B27:B27) -> 1
A28: VÁLASZTOTT TISZTSÉGVISELŐK ÖSSZESEN | B28: =SUM(B25:B27) -> 5 | C28: =SUM(B28:B28) -> 5
A29: KÖLTSÉGVETÉSI ENGEDÉLYEZETT LÉTSZÁMKERETBE TARTOZÓ FOGLALKOZTATOTTAK LÉTSZÁMA MINDÖSSZESEN | B29: =SUM(B28,B24,B20,B12) -> 9 | C29: =SUM(B29:B29) -> 9
A30: prémiumévek programról és a különleges foglalkoztatási állományról szóló 2004. évi CXXII. törvény alapján foglalkoztatott prémiumévesek | B30: 0 | C30: =SUM(B30:B30) -> 0
A31: prémiumévek programról és a különleges foglalkoztatási állományról szóló 2004. évi CXXII. törvény alapján foglalkoztatott különleges foglalkoztatási állományba helyezettek létszáma | B31: 0 | C31: =SUM(B31:B31) -> 0
A32: ösztöndíjas foglalkoztatottak (Pftv, illetve Magyar Közigazgatási Ösztöndíjról szóló 228/2011. (X. 28.) Korm. rendelet) | B32: 0 | C32: =SUM(B32:B32) -> 0
A33: munkaerőpiactól tartósan távol lévő személyek | B33: 0 | C33: =SUM(B33:B33) -> 0
A34: KÖLTSÉGVETÉSI ENGEDÉLYEZETT LÉTSZÁMKERETBE NEM TARTOZÓ FOGLALKOZTATOTTAK LÉTSZÁMA AZ IDŐSZAK VÉGÉN ÖSSZESEN | B34: =SUM(B30:B33) -> 0 | C34: =SUM(B34:B34) -> 0

Sheet 6. melléklet
A1: 6. melléklet 1/2020. (I.31.) önkormányzati rendelethez
A3: Nemeskolta Önkormányzat 2020. évi költségvetése
A4: Az európai uniós forrásból finanszírozott támogatással megvalósuló programok, projektek kiadásai, bevételei, valamint a helyi önkormányzat ilyen projektekhez történő hozzájárulásai (Ft)
A6: ÖNKORMÁNYZATI ELŐIRÁNYZATOK
A7: TOP Sportcsarnok felújítása | B7: Eredeti ei.
A8: K1. Személyi juttatások
A9: K2. Munkaadókat terhelő járulékok és szociális hozzájárulási adó
A10: K3. Dologi kiadások
A11: K4. Ellátottak pénzbeli juttatásai
A12: K5. Egyéb működési célú kiadások
A13: K6. Beruházási kiadások
A14: K7. Felújítások | B14: 34289999
A15: K8. Egyéb felhalmozási célú kiadások
A16: K1-K8. Költségvetési kiadások ÖSSZESEN | B16: 34289999
A17: B16 Működési célú támogatások fejezeti kezelésű előirányzatok EU-s programokra és azok hazai társfinanszírozásától
A18: B25 Felhalmozási célú támogatásokfejezeti kezelésű előirányzatok EU-s programokra és azok hazai társfinanszírozásától | B18: 34289999
A19: B63 Működési célú átvett pénzeszközök Európai Uniótól
A20: B73 Felhalmozási célú átvett pénzeszközök Európai Uniótól
A21: B1-7 A helyi önkormányzat projekthez történő hozzájárulása
A22: B1-B7 Költségvetési bevételek
A23: B8 Finanszírozási bevételek- önkormányzat projekthez történő hozzájárulása
A24: BEVÉTELEK ÖSSZESEN | B24: 34289999
A27: Projekt megnevezése | B27: Eredeti ei.
A28: K1. Személyi juttatások
A29: K2. Munkaadókat terhelő járulékok és szociális hozzájárulási adó
A30: K3. Dologi kiadások
A31: K4. Ellátottak pénzbeli juttatásai
A32: K5. Egyéb működési célú kiadások
A33: K6. Beruházási kiadások
A34: K7. Felújítások
A35: K8. Egyéb felhalmozási célú kiadások
A36: K1-K8. Költségvetési kiadások ÖSSZESEN | B36: =SUM(B28:B35) -> 0
A37: B16 Működési célú támogatások fejezeti kezelésű előirányzatok EU-s programokra és azok hazai társfinanszírozásától
A38: B25 Felhalmozási célú támogatásokfejezeti kezelésű előirányzatok EU-s programokra és azok hazai társfinanszírozásától
A39: B63 Működési célú átvett pénzeszközök Európai Uniótól
A40: B73 Felhalmozási célú átvett pénzeszközök Európai Uniótól
A41: B1-7 A helyi önkormányzat projekthez történő hozzájárulása
A42: B1-B7 Költségvetési bevételek
A43: B8 Finanszírozási bevételek- önkormányzat projekthez történő hozzájárulása
A44: BEVÉTELEK ÖSSZESEN | B44: =SUM(B42,B43,) -> 0

Sheet 7. melléklet
H1: 7. melléklet 1/2020. (I.31.) önkormányzati rendelethez
A2: Nemeskolta Önkormányzat 2020. évi költségvetése
A3: A költségvetési év azon fejlesztési céljai, amelyek megvalósításához a Gst. 3. § (1) bekezdése szerinti adósságot keletkeztető ügylet megkötése válik vagy válhat szükségessé (E Ft)
A5: ÖNKORMÁNYZATI ELŐIRÁNYZATOK
A6: Rovat megnevezése | B6: Rovat-szám | C6: kiadási eredeti előirányzat | D6: ebből kiadási előirányzat fedezete-saját forrás | E6: ebből kiadási előirányzat fedezete-adósságot keletkeztető ügylet | F6: adósságot keletkeztető ügylet fajtája | G6: adósságot keletkeztető ügylet rovatszáma (B8) | H6: adósságot keletkeztető ügylet kezdő időpontja | I6: adósságot keletkeztető ügylet lejárati időpontja | J6: adósságot keletkeztető ügylet- várható visszatérítendő összege (kamattal) leáratig mindösszesen
F7: hitel/lízing/kölcsön/értékpapír
A11: Immateriális javak beszerzése, létesítése | B11: K61 | C11: 0
A16: Ingatlanok beszerzése, létesítése | B16: K62 | C16: 0
A21: Informatikai eszközök beszerzése, létesítése | B21: K63 | C21: 0
A24: Egyéb tárgyi eszközök beszerzése, létesítése | B24: K64 | C24: 0
A27: Részesedések beszerzése | B27: K65
A30: Meglévő részesedések növeléséhez kapcsolódó kiadások | B30: K66 | C30: 0
A31: Beruházási célú előzetesen felszámított általános forgalmi adó | B31: K67 | C31: 0
A32: Beruházások | B32: K6 | C32: =SUM(C11,C16,C21,C24,C27,C30,C31,) -> 0 | D32: =SUM(D11,D16,D21,D24,D27,D30,D31,) -> 0 | E32: =SUM(E11,E16,E21,E24,E27,E30,E31,) -> 0 | F32: =SUM(F11,F16,F21,F24,F27,F30,F31,) -> 0 | G32: =SUM(G11,G16,G21,G24,G27,G30,G31,) -> 0 | H32: =SUM(H11,H16,H21,H24,H27,H30,H31,) -> 0 | I32: =SUM(I11,I16,I21,I24,I27,I30,I31,) -> 0 | J32: =SUM(J11,J16,J21,J24,J27,J30,J31,) -> 0
A37: Ingatlanok felújítása | B37: K71 | C37: 0
A42: Informatikai eszközök felújítása | B42: K72 | C42: 0
A47: Egyéb tárgyi eszközök felújítása | B47: K73 | C47: 0
A48: Felújítási célú előzetesen felszámított általános forgalmi adó | B48: K74 | C48: 0
A49: Felújítások | B49: K7 | C49: =SUM(C37,C42,C47,C48,) -> 0 | D49: =SUM(D37,D42,D47,D48,) -> 0 | E49: =SUM(E37,E42,E47,E48,) -> 0 | F49: =SUM(F37,F42,F47,F48,) -> 0 | G49: =SUM(G37,G42,G47,G48,) -> 0 | H49: =SUM(H37,H42,H47,H48,) -> 0 | I49: =SUM(I37,I42,I47,I48,) -> 0 | J49: =SUM(J37,J42,J47,J48,) -> 0
A50: Az önkormányzati garanciákból és önkormányzati kezességekből fennálló kötelezettségek az adósságot keletkeztető ügyletek futamidejének végéig, illetve a garancia, kezesség érvényesíthetőségéig
A51: ebből:
A52: ebből:
A53: ebből:
A56: Adósságot keletkeztető ügylet és annak értéke:
A58: a) hitel, kölcsön felvétele, átvállalása a folyósítás, átvállalás napjától a végtörlesztés napjáig, és annak aktuális tőketartozása,
A59: b) a számvitelről szóló törvény (a továbbiakban: Szt.) szerinti hitelviszonyt megtestesítő értékpapír forgalomba hozatala a forgalomba hozatal napjától a beváltás napjáig, kamatozó értékpapír esetén annak névértéke, egyéb értékpapír esetén annak vételára,
A60: c) váltó kibocsátása a kibocsátás napjától a beváltás napjáig, és annak a váltóval kiváltott kötelezettséggel megegyező, kamatot nem tartalmazó értéke,
A61: d) az Szt. szerint pénzügyi lízing lízingbevevői félként történő megkötése a lízing futamideje alatt, és a lízingszerződésben kikötött tőkerész hátralévő összege,
A62: e) a visszavásárlási kötelezettség kikötésével megkötött adásvételi szerződés eladói félként történő megkötése - ideértve az Szt. szerinti valódi penziós és óvadéki repóügyleteket is - a visszavásárlásig, és a kikötött visszavásárlási ár,
A63: f) a szerződésben kapott, legalább háromszázhatvanöt nap időtartamú halasztott fizetés, részletfizetés, és a még ki nem fizetett ellenérték,
A64: g) hitelintézetek által, származékos műveletek különbözeteként az Államadósság Kezelő Központ Zrt.-nél (a továbbiakban: ÁKK Zrt.) elhelyezett fedezeti betétek, és azok összege.
A65: (2) Az (1) bekezdés szerinti adósságot keletkeztető ügyletként nem kell figyelembe venni a költségvetési év első hat hónapjában lejáró adósság előző költségvetési évben történő előfinanszírozását, amelynek összege nem haladja meg a költségvetési év első hat hónapja során várható törlesztések összegét.

Sheet 8. melléklet
E1: 8. melléklet 1/2020. (I.31.) önkormányzati rendelethez
A3: Nemeskolta Önkormányzat 2020. évi költségvetése
A4: A Gst. 3. § (1) bekezdése szerinti adósságot keletkeztető ügyletekből és kezességvállalásokból fennálló kötelezettségek az adósságot keletkeztető ügyletek futamidejének végéig, illetve a kezesség érvényesíthetőségéig, és a Gst. 45. § (1) bekezdés a) pontja felhatalmazása alapján kiadott jogszabályban meghatározottak szerinti saját bevételek (Ft)
A6: ÖNKORMÁNYZATI ELŐIRÁNYZATOK | F6: SAJÁT BEVÉTELEK
A7: Rovat megnevezése | B7: Rovat-szám | C7: adósságot keletkeztető ügylet kezdő időpontja | D7: adósságot keletkeztető ügylet lejárati időpontja | E7: adósságot keletkeztető ügyletekből és kezességvállalásokból fennálló kötelezettségek | F7: 2018 | G7: 2019 | H7: 2020 | I7: 2021
A8: Hosszú lejáratú hitelek, kölcsönök felvétele | B8: B8111
A9: ebből: pénzügyi vállalkozás | B9: B8111
A10: Likviditási célú hitelek, kölcsönök felvétele pénzügyi vállalkozástól | B10: B8112
A11: Rövid lejáratú hitelek, kölcsönök felvétele | B11: B8113
A12: ebből: pénzügyi vállalkozás | B12: B8113
A13: Hitel-, kölcsönfelvétel államháztartáson kívülről | B13: B811
A14: Forgatási célú belföldi értékpapírok beváltása, értékesítése | B14: B8121
A15: ebből: befektetési jegyek | B15: B8121
A16: Forgatási célú belföldi értékpapírok kibocsátása | B16: B8122
A17: Befektetési célú belföldi értékpapírok beváltása, értékesítése | B17: B8123
A18: ebből: kárpótlási jegyek | B18: B8123
A19: Befektetési célú belföldi értékpapírok kibocsátása | B19: B8124
... A28: Külföldi finanszírozás bevételei | B28: B82
A30: Rovat megnevezése | B30: Rovat-szám | C30: saját bevételek 2019 | D30: saját bevételek 2020 | E30: saját bevételek 2021 | F30: saját bevételek 2022
A31: 353/2011. (XII. 30.) Korm. Rendelet értelmében az önkormányzat saját bevételének minősül
A32: 1.a helyi adóból és a települési adóból származó bevétel, | C32: 4398948 | D32: 5050000 | E32: 5000000 | F32: 5000000
A33: 2. az önkormányzati vagyon és az önkormányzatot megillető vagyoni értékű jog értékesítéséből és hasznosításából származó bevétel,
A34: 3. az osztalék, a koncessziós díj és a hozambevétel,
A35: 4. a tárgyi eszköz és az immateriális jószág, részvény, részesedés, vállalat értékesítéséből vagy privatizációból származó bevétel,
A36: 5. bírság-, pótlék- és díjbevétel, | C36: 64830 | D36: 20000 | E36: 20000 | F36: 20000
A37: 6. a kezesség-, illetve garanciavállalással kapcsolatos megtérülés.
A38: ÖSSZESEN: | C38: =SUM(C32:C37) -> 4463778 | D38: =SUM(D32:D37) -> 5070000 | E38: =SUM(E32:E37) -> 5020000 | F38: =SUM(F32:F37) -> 5020000
A41: Az önkormányzat adósságot keletkeztető ügyletből származó tárgyévi összes fizetési kötelezettsége az adósságot keletkeztető ügylet futamidejének végéig egyik évben sem haladhatja meg az önkormányzat adott évi saját bevételeinek 50%-át.

Sheet 9. melléklet
D2: 9. melléklet 1/2020. (I.31.) önkormányzati rendelethez
A3: Nemeskolta Önkormányzat 2020. évi költségvetése
A4: Általános- és céltartalékok (Ft)
A7: Rovat megnevezése | B7: Rovat-szám | C7: ÖNKORMÁNYZATI ELŐIRÁNYZATOK | D7: KÖLTSÉGVETÉSI SZERV | E7: MINDÖSSZESEN
A9: Általános tartalékok | B9: K513 | C9: 6180207 | E9: =SUM(C9:D9) -> 6180207

Sheet 10. melléklet
C2: 10. melléklet 1/2020. (I.31.) önkormányzati rendelethez
A4: Nemeskolta Önkormányzat 2020. évi költségvetése
A5: A közvetett támogatások (Ft)
A7: ÖNKORMÁNYZATI ELŐIRÁNYZATOK
A8: Rovat megnevezése | B8: Rovat-szám | C8: tervezett elvárt bevétel | D8: közvetett támogatás | E8: várható bevétel
A13: az ellátottak térítési díjának, kártérítésének méltányossági alapon történő elengedésének összege | B13: B405 | C13: =SUM(C9:C12) -> 0 | D13: =SUM(D9:D12) -> 0 | E13: =SUM(E9:E12) -> 0
A18: a lakosság részére lakásépítéshez, lakásfelújításhoz nyújtott kölcsönök elengedésének összege | B18: B72
A19: építményadó | B19: B34
A20: épület után fizetett idegenforgalmi adó | B20: B34
A21: magánszemélyek kommunális adója | B21: B34
A22: telekadó | B22: B34
A23: Gépjárműadók | B23: B354
A24: Értékesítési és forgalmi adók | B24: B351
A26: a helyi adónál, gépjárműadónál biztosított kedvezmény, mentesség összege adónemenként | B26: B3, B7 | C26: =SUM(C18:C24) -> 0 | D26: =SUM(D18:D24) -> 0 | E26: =SUM(E18:E24) -> 0
B27: B402
B28: B5
A31: a helyiségek, eszközök hasznosításából származó bevételből nyújtott kedvezmény, mentesség összege | B31: B4, B5 | C31: =SUM(C27:C28) -> 0 | D31: =SUM(D27:D28) -> 0 | E31: =SUM(E27:E28) -> 0
A36: az egyéb nyújtott kedvezmény vagy kölcsön elengedésének összege

Sheet 11. melléklet
A1: 11. melléklet 1/2020. (I.31.) önkormányzati rendelethez
A3: Nemeskolta Önkormányzat 2020. évi költségvetése
A4: Támogatások, kölcsönök nyújtása és törlesztése (Ft)
A6: ÖNKORMÁNYZATI ELŐIRÁNYZATOK
A7: Megnevezés | B7: Rovat-szám | C7: eredeti ei.
A8: központi költségvetési szervek részére | B8: K504
A9: központi kezelésű előirányzatok részére | B9: K504
A10: fejezeti kezelésű előirányzatok EU-s programokra és azok hazai társfinanszírozása részére | B10: K504
A11: egyéb fejezeti kezelésű előirányzatok részére | B11: K504
A12: társadalombiztosítás pénzügyi alapjai részére | B12: K504
A13: elkülönített állami pénzalapok részére | B13: K504
A14: helyi önkormányzatok és költségvetési szerveik részére | B14: K504
A15: társulások és költségvetési szerveik részére | B15: K504
A16: nemzetiségi önkormányzatok és költségvetési szerveik részére | B16: K504
A17: térségi fejlesztési tanácsok és költségvetési szerveik részére | B17: K504
A18: Működési célú visszatérítendő támogatások, kölcsönök nyújtása államháztartáson belülre | B18: K504
A19: központi költségvetési szervek részére | B19: K505
... A35: elkülönített állami pénzalapok részére | B35: K506
A36: helyi önkormányzatok és költségvetési szerveik részére | B36: K506 | C36: 788613
A37: társulások és költségvetési szerveik részére | B37: K506 | C37: 1762050
A38: nemzetiségi önkormányzatok és költségvetési szerveik részére | B38: K506
A39: térségi fejlesztési tanácsok és költségvetési szerveik részére | B39: K506
A40: Egyéb működési célú támogatások államháztartáson belülre | B40: K506 | C40: =SUM(C30:C39) -> 2550663
A41: egyházi jogi személyek részére | B41: K508
A42: egyéb civil szervezetek részére | B42: K508
A43: háztartások részére | B43: K508
A44: pénzügyi vállalkozások részére | B44: K508
A45: állami többségi tulajdonú nem pénzügyi vállalkozások részére | B45: K508
A46: önkormányzati többségi tulajdonú nem pénzügyi vállalkozások részére | B46: K508
A47: egyéb vállalkozások részére | B47: K508
A48: Európai Unió részére | B48: K508
A49: kormányok és nemzetközi szervezetek részére | B49: K508
A50: egyéb külföldiek részére | B50: K508
A51: Működési célú visszatérítendő támogatások, kölcsönök nyújtása államháztartáson kívülre | B51: K508
A52: egyházi jogi személyek részére | B52: K512
A53: egyéb civil szervezetek részére | B53: K512 | C53: 350000
A54: háztartások részére | B54: K512 | C54: 670000
A55: pénzügyi vállalkozások részére | B55: K512
A56: állami többségi tulajdonú nem pénzügyi vállalkozások részére | B56: K512
A57: önkormányzati többségi tulajdonú nem pénzügyi vállalkozások részére | B57: K512
...

Sheet 12. melléklet
A1: 12. melléklet 1/2020. (I.31.) önkormányzati rendelethez
A3: Nemeskolta Önkormányzat 2020. évi költségvetése
A4: Támogatások, kölcsönök bevételei (Ft)
A6: ÖNKORMÁNYZATI ELŐIRÁNYZATOK
A7: Megnevezés | B7: Rovat-szám | C7: eredeti ei.
A8: központi költségvetési szervektől | B8: B14
A9: központi kezelésű előirányzatoktól | B9: B14
A10: fejezeti kezelésű előirányzatok EU-s programokra és azok hazai társfinanszírozásától | B10: B14
A11: egyéb fejezeti kezelésű előirányzatoktól | B11: B14
A12: társadalombiztosítás pénzügyi alapjaitól | B12: B14
A13: elkülönített állami pénzalapoktól | B13: B14
A14: helyi önkormányzatok és költségvetési szerveiktől | B14: B14
A15: társulások és költségvetési szerveiktől | B15: B14
A16: nemzetiségi önkormányzatok és költségvetési szerveiktől | B16: B14
A17: térségi fejlesztési tanácsok és költségvetési szerveiktől | B17: B14
A18: Működési célú visszatérítendő támogatások, kölcsönök visszatérülése államháztartáson belülről | B18: B14
A19: központi költségvetési szervektől | B19: B15
... A34: társadalombiztosítás pénzügyi alapjaitól | B34: B16
A35: elkülönített állami pénzalapoktól | B35: B16 | C35: 532000
A36: helyi önkormányzatok és költségvetési szerveiktől | B36: B16
A37: társulások és költségvetési szerveiktől | B37: B16
A38: nemzetiségi önkormányzatok és költségvetési szerveiktől | B38: B16
A39: térségi fejlesztési tanácsok és költségvetési szerveiktől | B39: B16
A40: Egyéb működési célú támogatások bevételei államháztartáson belülről | B40: B16 | C40: =SUM(C30:C39) -> 532000
A41: központi költségvetési szervektől | B41: B23
A42: központi kezelésű előirányzatoktól | B42: B23
A43: fejezeti kezelésű előirányzatok EU-s programokra és azok hazai társfinanszírozásától | B43: B23
A44: egyéb fejezeti kezelésű előirányzatoktól | B44: B23
A45: társadalombiztosítás pénzügyi alapjaitól | B45: B23
A46: elkülönített állami pénzalapoktól | B46: B23
A47: helyi önkormányzatok és költségvetési szerveiktől | B47: B23
A48: társulások és költségvetési szerveiktől | B48: B23
A49: nemzetiségi önkormányzatok és költségvetési szerveiktől | B49: B23
A50: térségi fejlesztési tanácsok és költségvetési szerveiktől | B50: B23
A51: Felhalmozási célú visszatérítendő támogatások, kölcsönök visszatérülése államháztartáson belülről | B51: B23
A52: központi költségvetési szervektől | B52: B24
... A64: központi kezelésű előirányzatoktól | B64: B25
A65: fejezeti kezelésű előirányzatok EU-s programokra és azok hazai társfinanszírozásától | B65: B25 | C65: 4220993
A66: egyéb fejezeti kezelésű előirányzatoktól | B66: B25
A67: társadalombiztosítás pénzügyi alapjaitól | B67: B25
...

Sheet 13. melléklet
A1: 13. melléklet 1/2020. (I.31.) önkormányzati rendelethez
A3: Nemeskolta Önkormányzat 2020. évi költségvetése
A4: Lakosságnak juttatott támogatások, szociális, rászorultsági jellegű ellátások (Ft)
A6: ÖNKORMÁNYZATI ELŐIRÁNYZATOK
A7: Megnevezés | B7: Rovat-szám | C7: eredeti ei.
A8: mozgáskorlátozottak közlekedési támogatása | B8: K44
A9: mozgáskorlátozottak szerzési és átalakítási támogatása | B9: K44
A10: megváltozott munkaképességűek illetve egészségkárosodottak keresetkiegészítése | B10: K44
A11: cukorbetegek támogatása | B11: K44
A12: helyi megállapítású ápolási díj [Szoctv. 43/B. §] | B12: K44
A13: helyi megállapítású közgyógyellátás [Szoctv.50.§ (3) bek.] | B13: K44
A14: Betegséggel kapcsolatos (nem társadalombiztosítási) ellátások | B14: K44
A15: foglalkoztatást helyettesítő támogatás [Szoctv. 35. § (1) bek.] | B15: K45
A16: Foglalkoztatással, munkanélküliséggel kapcsolatos ellátások | B16: K45
A17: hozzájárulás a lakossági energiaköltségekhez | B17: K46
A18: lakbértámogatás | B18: K46
A19: lakásfenntartási támogatás [Szoctv. 38. § (1) bek. a) és b) pontok] | B19: K46
... A32: természetben nyújtott rendszeres szociális segély [Szoctv. 47.§ (1) bek. a) pont] | B32: K48
A33: települési támogatás | B33: K48 | C33: 2600000
A34: temetési segély [Szoctv. 47.§ (1) bek. d) pont} | B34: K48
A35: köztemetés [Szoctv. 48.§] | B35: K48
A36: rászorultságtól függõ normatív kedvezmények [Gyvt. 151. § (5) bek.] | B36: K48
A37: önkormányzat által saját hatáskörben (nem szociális és gyermekvédelmi előírások alapján) adott pénzügyi ellátás | B37: K48
A38: önkormányzat által saját hatáskörben (nem szociális és gyermekvédelmi előírások alapján) adott természetbeni ellátás | B38: K48
A39: Egyéb nem intézményi ellátások | B39: K48 | C39: =SUM(C27:C38) -> 2600000
A40: Ellátottak pénzbeli juttatásai | B40: K4 | C40: =C14+C16+C23+C26+C39 -> 2600000

Sheet 14. melléklet
A1: 14. melléklet 1/2020. (I.31.) önkormányzati rendelethez
A3: Nemeskolta Önkormányzat 2020. évi költségvetése
A4: Helyi adó és egyéb közhatalmi bevételek (Ft)
A6: Megnevezés | B6: Rovat-szám | C6: eredeti ei.
A7: építményadó | B7: B34 | C7: 0
A8: épület után fizetett idegenforgalmi adó | B8: B34 | C8: 0
A9: magánszemélyek kommunális adója | B9: B34 | C9: 350000
A10: telekadó | B10: B34 | C10: 0
A11: Vagyoni tipusú adók | B11: B34 | C11: =SUM(C7:C10) -> 350000
A12: Értékesítési és forgalmi adók | B12: B351 | C12: 4000000
A13: ebből: állandó jeleggel végzett iparűzési tevékenység után fizetett helyi iparűzési adó | B13: B351 | C13: 4000000
A14: ebből: ideiglenes jeleggel végzett tevékenység után fizetett helyi iparűzési adó | B14: B351 | C14: 0
A15: Gépjárműadók | B15: B354 | C15: 1000000
A16: ebből: belföldi gépjárművek adójának a központi költségvetést megillető része | B16: B354 | C16: 0
A17: ebből: belföldi gépjárművek adójának a helyi önkormányzatot megillető része | B17: B354 | C17: 1000000
A18: ebből: külföldi gépjárművek adója | B18: B354 | C18: 0
A19: ebből: gépjármű túlsúlydíj | B19: B354 | C19: 0
A20: Egyéb áruhasználati és szolgáltatási adók | B20: B355 | C20: 0
A21: ebből: tartózkodás után fizetett idegenforgalmi adó | B21: B355 | C21: 0
A22: ebből: talajterhelési díj | B22: B355 | C22: 0
A23: Termékek és szolgáltatások adói | B23: B35 | C23: =C12+C15+C20 -> 5000000
A24: eljárási illetékek | B24: B36 | C24: 5000
A25: igazgatási szolgáltatási díjak | B25: B36 | C25: 0
A26: felügyeleti díjak | B26: B36 | C26: 0
A27: ebrendészeti hozzájárulás | B27: B36 | C27: 0
A28: környezetvédelmi bírság | B28: B36 | C28: 0
A29: természetvédelmi bírság | B29: B36 | C29: 0
A30: műemlékvédelmi bírság | B30: B36 | C30: 0
A31: építésügyi bírság | B31: B36 | C31: 0
A32: szabálysértési pénz- és helyszíni mbírság és a közlekedési szabályszegések után kiszabott közigazgatási bírság helyi önkormányzatot megillető része | B32: B36 | C32: 0
A33: késedelmi pótlék, talajterhelési díj | B33: B36 | C33: 70000
A34: Egyéb közhatalmi bevételek | B34: B36 | C34: =SUM(C24:C33) -> 75000

Sheet 15. melléklet
B1: 15. melléklet 1/2020. (I.31.) önkormányzati rendelethez
A3: Nemeskolta Önkormányzat 2020. évi költségvetése
A4: A költségvetési hiány külső finanszírozására vagy a költségvetési többlet felhasználására szolgáló finanszírozási bevételek és kiadások működési és felhalmozási cél szerinti tagolásban (Ft)
A6: ÖNKORMÁNYZATI ELŐIRÁNYZATOK
A7: Megnevezés | B7: Rovat-szám | C7: eredeti ei. Működési célú | D7: eredeti ei. Felhalmozási célú
A8: Hosszú lejáratú hitelek, kölcsönök törlesztése | B8: K9111 | C8: 0 | D8: 0
A9: ebből: pénzügyi vállalkozás | B9: K9111 | C9: 0 | D9: 0
A10: ebből: fedezeti ügyletek nettó kiadásai | B10: K9111 | C10: 0 | D10: 0
A11: Likviditási célú hitelek, kölcsönök törlesztése pénzügyi vállalkozásnak | B11: K9112 | C11: 0 | D11: 0
A12: Rövid lejáratú hitelek, kölcsönök törlesztése | B12: K9113 | C12: 0 | D12: 0
A13: ebből: pénzügyi vállalkozás | B13: K9113 | C13: 0 | D13: 0
A14: ebből: fedezeti ügyletek nettó kiadásai | B14: K9113 | C14: 0 | D14: 0
A15: Hitel-, kölcsöntörlesztés államháztartáson kívülre | B15: K911 | C15: 0 | D15: 0
A16: Forgatási célú belföldi értékpapírok vásárlása | B16: K9121 | C16: 0 | D16: 0
A17: ebből: befektetési jegyek | B17: K9121 | C17: 0 | D17: 0
A18: ebből: kárpótlási jegyek | B18: K9121 | C18: 0 | D18: 0
A19: Forgatási célú belföldi értékpapírok beváltása | B19: K9122 | C19: 0 | D19: 0
... A30: Központi költségvetés sajátos finanszírozási kiadásai | B30: K918 | C30: 0 | D30: 0
A31: Belföldi finanszírozás kiadásai | B31: K91 | C31: =C15+C25+C26+C27+C28+C29+C30 -> 906277 | D31: 0
A32: Forgatási célú külföldi értékpapírok vásárlása | B32: K921 | C32: 0 | D32: 0
A33: Befektetési célú külföldi értékpapírok vásárlása | B33: K922 | C33: 0 | D33: 0
A34: Külföldi értékpapírok beváltása | B34: K923 | C34: 0 | D34: 0
A35: ebből: fedezeti ügyletek nettó kiadásai | B35: K923 | C35: 0 | D35: 0
A36: Külföldi hitelek, kölcsönök törlesztése | B36: K924 | C36: 0 | D36: 0
A37: ebből: nemzetközi fejlesztési szervezetek | B37: K924 | C37: 0 | D37: 0
A38: ebből: más kormányok | B38: K924 | C38: 0 | D38: 0
A39: ebből: külföldi pénzintézetek | B39: K924 | C39: 0 | D39: 0
A40: ebből: fedezeti ügyletek nettó kiadásai | B40: K924 | C40: 0 | D40: 0
A41: Külföldi finanszírozás kiadásai | B41: K92 | C41: 0 | D41: 0
A44: Megnevezés | B44: Rovat-szám | C44: eredeti ei. Működési célú | D44: eredeti ei. Felhalmozási célú
A45: Hosszú lejáratú hitelek, kölcsönök felvétele | B45: B8111 | C45: 0 | D45: 0
A46: ebből: pénzügyi vállalkozás | B46: B8111 | C46: 0 | D46: 0
A47: Likviditási célú hitelek, kölcsönök felvétele pénzügyi vállalkozástól | B47: B8112 | C47: 0 | D47: 0
A48: Rövid lejáratú hitelek, kölcsönök felvétele | B48: B8113 | C48: 0 | D48: 0
A49: ebből: pénzügyi vállalkozás | B49: B8113 | C49: 0 | D49: 0
A50: Hitel-, kölcsönfelvétel államháztartáson kívülről | B50: B811 | C50: 0 | D50: 0
A51: Forgatási célú belföldi értékpapírok beváltása, értékesítése | B51: B8121 | C51: 0 | D51: 0
A52: ebből: befektetési jegyek | B52: B8121 | C52: 0 | D52: 0
A53: Forgatási célú belföldi értékpapírok kibocsátása | B53: B8122 | C53: 0 | D53: 0
A54: Befektetési célú belföldi értékpapírok beváltása, értékesítése | B54: B8123 | C54: 0 | D54: 0
...
