Workbook

Sheet össz 2
B1: Összesítés | C1: 2018 terv | F1: 2019 terv
C2: Önkormányzat összesen | D2: Intézmények (PH+Int.) összesen | E2: Mindösszesen | F2: Önkormányzat összesen | G2: Intézmények (PH+Int.) összesen | H2: Mindösszesen
A3: I. | B3: KÖLTSÉGVETÉSI BEVÉTELEK | C3: =C6+C7+C8+C15+C16+C17+C18 -> 6000909 | D3: =D6+D7+D8+D15+D16+D17+D18 -> 1395664 | E3: =E6+E7+E8+E15+E16+E17+E18 -> 7396573 | F3: =F6+F7+F8+F15+F16+F17+F18 -> 7725356 | G3: =G6+G7+G8+G15+G16+G17+G18 -> 1516993 | H3: =H6+H7+H8+H15+H16+H17+H18 -> 9242349
A4: B11 | B4: Önkormányzatok működési támogatásai | C4: ='Önk 2a'!C4 -> 1424039 | D4: ='PH 2b'!C4+'SZEI 2c'!C4+'HBPMK 2d'!C4+'FMC 2e'!C4+'Óvoda 2f'!C4+'Bölcsőde 2g'!C4+'Gondozási 2h'!C4 -> 0 | E4: =C4+D4 -> 1424039 | F4: ='Önk 2a'!M4 -> 1579238 | G4: ='PH 2b'!I4+'SZEI 2c'!J4+'HBPMK 2d'!J4+'FMC 2e'!J4+'Óvoda 2f'!J4+'Bölcsőde 2g'!J4+'Gondozási 2h'!J4+'SZERI 2i'!H4 -> 0 | H4: =F4+G4 -> 1579238
A5: B16 | B5: Egyéb működési célú támogatások ÁHT-n belülről (benne OEP finanszírozás) | C5: ='Önk 2a'!C5 -> 14033 | D5: ='PH 2b'!C5+'SZEI 2c'!C5+'HBPMK 2d'!C5+'FMC 2e'!C5+'Óvoda 2f'!C5+'Bölcsőde 2g'!C5+'Gondozási 2h'!C5 -> 774925 | E5: =C5+D5 -> 788958 | F5: ='Önk 2a'!M5 -> 3500 | G5: ='PH 2b'!I5+'SZEI 2c'!J5+'HBPMK 2d'!J5+'FMC 2e'!J5+'Óvoda 2f'!J5+'Bölcsőde 2g'!J5+'Gondozási 2h'!J5+'SZERI 2i'!H5 -> 867535 | H5: =F5+G5 -> 871035
A6: B1 | B6: Működési célú támogatások államháztartáson belülről | C6: =SUM(C4:C5) -> 1438072 | D6: =SUM(D4:D5) -> 774925 | E6: =SUM(E4:E5) -> 2212997 | F6: =SUM(F4:F5) -> 1582738 | G6: ='PH 2b'!I6+'SZEI 2c'!J6+'HBPMK 2d'!J6+'FMC 2e'!J6+'Óvoda 2f'!J6+'Bölcsőde 2g'!J6+'Gondozási 2h'!J6+'SZERI 2i'!H6 -> 867535 | H6: =SUM(H4:H5) -> 2450273
A7: B2 | B7: Felhalmozási célú támogatások államháztartáson belülről | C7: ='Önk 2a'!C7 -> 94998 | D7: ='PH 2b'!C7+'SZEI 2c'!C7+'HBPMK 2d'!C7+'FMC 2e'!C7+'Óvoda 2f'!C7+'Bölcsőde 2g'!C7+'Gondozási 2h'!C7 -> 3000 | E7: =C7+D7 -> 97998 | F7: ='Önk 2a'!M7 -> 290639 | G7: ='PH 2b'!I7+'SZEI 2c'!J7+'HBPMK 2d'!J7+'FMC 2e'!J7+'Óvoda 2f'!J7+'Bölcsőde 2g'!J7+'Gondozási 2h'!J7+'SZERI 2i'!H7 -> 4000 | H7: =F7+G7 -> 294639
A8: B3 | B8: Közhatalmi bevételek | C8: =SUM(C9,C10,C14) -> 2611600 | D8: ='PH 2b'!C8+'SZEI 2c'!C8+'HBPMK 2d'!C8+'FMC 2e'!C8+'Óvoda 2f'!C8+'Bölcsőde 2g'!C8+'Gondozási 2h'!C8 -> 0 | E8: =SUM(E9,E10,E14) -> 2611600 | F8: =SUM(F9,F10,F14) -> 2994942 | G8: ='PH 2b'!I8+'SZEI 2c'!J8+'HBPMK 2d'!J8+'FMC 2e'!J8+'Óvoda 2f'!J8+'Bölcsőde 2g'!J8+'Gondozási 2h'!J8+'SZERI 2i'!H8 -> 0 | H8: =SUM(H9,H10,H14) -> 2994942
A9: B34 | B9: Vagyoni tipusú adók (építményadó, ép.utáni IFA, magánsz.komm.adója, telekadó) | C9: ='Önk 2a'!C9 -> 683000 | E9: =C9+D9 -> 683000 | F9: ='Önk 2a'!M9 -> 598000 | H9: =F9+G9 -> 598000
A10: B35 | B10: Termékek és szolgáltatások adói | C10: =SUM(C11:C13) -> 1882000 | E10: =SUM(E11:E13) -> 1882000 | F10: =SUM(F11:F13) -> 2271942 | H10: =SUM(H11:H13) -> 2271942
A11: B351 | B11: Értékesítési és forgalmi adók (IPA) | C11: ='Önk 2a'!C11 -> 1750000 | E11: =C11+D11 -> 1750000 | F11: ='Önk 2a'!M11 -> 2131180 | H11: =F11+G11 -> 2131180
A12: B354 | B12: Gépjármű adók | C12: ='Önk 2a'!C12 -> 115000 | E12: =C12+D12 -> 115000 | F12: ='Önk 2a'!M12 -> 121262 | H12: =F12+G12 -> 121262
A13: B355 | B13: Egyéb áruhasználati és szolgáltatási adók (tart.utáni IFA, talajterhelési díj) | C13: ='Önk 2a'!C13 -> 17000 | E13: =C13+D13 -> 17000 | F13: ='Önk 2a'!M13 -> 19500 | H13: =F13+G13 -> 19500
A14: B36 | B14: Egyéb közhatalmi bevételek (illeték, bírság) | C14: ='Önk 2a'!C14 -> 46600 | E14: =C14+D14 -> 46600 | F14: ='Önk 2a'!M14 -> 125000 | H14: =F14+G14 -> 125000
A15: B4 | B15: Működési bevételek | C15: 725138 | D15: ='PH 2b'!C9+'SZEI 2c'!C9+'HBPMK 2d'!C9+'FMC 2e'!C9+'Óvoda 2f'!C9+'Bölcsőde 2g'!C9+'Gondozási 2h'!C9 -> 617739 | E15: =C15+D15 -> 1342877 | F15: ='Önk 2a'!M15 -> 863981 | G15: ='PH 2b'!I9+'SZEI 2c'!J9+'HBPMK 2d'!J9+'FMC 2e'!J9+'Óvoda 2f'!J9+'Bölcsőde 2g'!J9+'Gondozási 2h'!J9+'SZERI 2i'!H9 -> 645458 | H15: =F15+G15 -> 1509439
A16: B5 | B16: Felhalmozási bevételek | C16: 929090 | D16: 0 | E16: 929090 | F16: ='Önk 2a'!M16 -> 915821 | G16: 0 | H16: 915821
A17: B6 | B17: Működési célú átvett pénzeszköz | C17: ='Önk 2a'!C17 -> 202011 | D17: ='PH 2b'!C11+'SZEI 2c'!C11+'HBPMK 2d'!C11+'FMC 2e'!C11+'Óvoda 2f'!C11+'Bölcsőde 2g'!C11+'Gondozási 2h'!C11 -> 0 | E17: =C17+D17 -> 202011 | F17: ='Önk 2a'!M17 -> 1069665 | G17: ='PH 2b'!I11+'SZEI 2c'!J11+'HBPMK 2d'!J11+'FMC 2e'!J11+'Óvoda 2f'!J11+'Bölcsőde 2g'!J11+'Gondozási 2h'!J11+'SZERI 2i'!H11 -> 0 | H17: =F17+G17 -> 1069665
A18: B7 | B18: Felhalmozási célú átvett pénzeszköz | C18: ='Önk 2a'!C18 -> 0 | D18: ='PH 2b'!C12+'SZEI 2c'!C12+'HBPMK 2d'!C12+'FMC 2e'!C12+'Óvoda 2f'!C12+'Bölcsőde 2g'!C12+'Gondozási 2h'!C12 -> 0 | E18: =C18+D18 -> 0 | F18: ='Önk 2a'!M18 -> 7570 | G18: ='PH 2b'!I12+'SZEI 2c'!J12+'HBPMK 2d'!J12+'FMC 2e'!J12+'Óvoda 2f'!J12+'Bölcsőde 2g'!J12+'Gondozási 2h'!J12+'SZERI 2i'!H12 -> 0 | H18: =F18+G18 -> 7570
A19: II. | B19: KÖLTSÉGVETÉSI KIADÁSOK | C19: =C20+C23+C24+C30+C31+C36+C37+C38 -> 4405234 | D19: =D20+D23+D24+D30+D31+D36+D37+D38 -> 3749638 | E19: =E20+E23+E24+E30+E31+E36+E37+E38 -> 8154872 | F19: =F20+F23+F24+F30+F31+F36+F37+F38 -> 6674034 | G19: =G20+G23+G24+G30+G31+G36+G37+G38 -> 4400103 | H19: =H20+H23+H24+H30+H31+H36+H37+H38 -> 11074137
A20: K1 | B20: Személyi juttatások | C20: 93628 | D20: ='PH 2b'!C14+'SZEI 2c'!C14+'HBPMK 2d'!C14+'FMC 2e'!C14+'Óvoda 2f'!C14+'Bölcsőde 2g'!C14+'Gondozási 2h'!C14 -> 1994354 | E20: =C20+D20 -> 2087982 | F20: ='Önk 2a'!M20 -> 87429 | G20: ='PH 2b'!I14+'SZEI 2c'!J14+'HBPMK 2d'!J14+'FMC 2e'!J14+'Óvoda 2f'!J14+'Bölcsőde 2g'!J14+'Gondozási 2h'!J14+'SZERI 2i'!H14 -> 2365339 | H20: =F20+G20 -> 2452768
A21: K11 | B21: Foglalkoztatottak személyi juttatásai | C21: ='Önk 2a'!#REF! -> #REF! | E21: =C21+D21 -> #REF! | F21: ='Önk 2a'!#REF! -> #REF! | H21: =F21+G21 -> #REF!
A22: K12 | B22: Külső személyi juttatások | C22: ='Önk 2a'!#REF! -> #REF! | E22: =C22+D22 -> #REF! | F22: ='Önk 2a'!#REF! -> #REF! | H22: =F22+G22 -> #REF!
A23: K2 | B23: Munkaadókat terhelő járulékok és szociális hozzájárulási adó | C23: ='Önk 2a'!C21 -> 14157 | D23: ='PH 2b'!C15+'SZEI 2c'!C15+'HBPMK 2d'!C15+'FMC 2e'!C15+'Óvoda 2f'!C15+'Bölcsőde 2g'!C15+'Gondozási 2h'!C15 -> 417498 | E23: =C23+D23 -> 431655 | F23: ='Önk 2a'!M21 -> 21597 | G23: ='PH 2b'!I15+'SZEI 2c'!J15+'HBPMK 2d'!J15+'FMC 2e'!J15+'Óvoda 2f'!J15+'Bölcsőde 2g'!J15+'Gondozási 2h'!J15+'SZERI 2i'!H15 -> 471306 | H23: =F23+G23 -> 492903
A24: K3 | B24: Dologi kiadások | C24: 1064483 | D24: ='PH 2b'!C16+'SZEI 2c'!C16+'HBPMK 2d'!C16+'FMC 2e'!C16+'Óvoda 2f'!C16+'Bölcsőde 2g'!C16+'Gondozási 2h'!C16 -> 1226972 | E24: =C24+D24 -> 2291455 | F24: ='Önk 2a'!M22 -> 1076972 | G24: ='PH 2b'!I16+'SZEI 2c'!J16+'HBPMK 2d'!J16+'FMC 2e'!J16+'Óvoda 2f'!J16+'Bölcsőde 2g'!J16+'Gondozási 2h'!J16+'SZERI 2i'!H16 -> 1377092 | H24: =F24+G24 -> 2454064
A25: K31 | B25: Készletbeszerzés | C25: ='Önk 2a'!#REF! -> #REF! | E25: =C25+D25 -> #REF! | F25: ='Önk 2a'!#REF! -> #REF! | H25: =F25+G25 -> #REF!
A26: K32 | B26: Kommunikációs szolgáltatások | C26: ='Önk 2a'!#REF! -> #REF! | E26: =C26+D26 -> #REF! | F26: ='Önk 2a'!#REF! -> #REF! | H26: =F26+G26 -> #REF!
A27: K33 | B27: Szolgáltatási kiadások | C27: ='Önk 2a'!#REF! -> #REF! | E27: =C27+D27 -> #REF! | F27: ='Önk 2a'!#REF! -> #REF! | H27: =F27+G27 -> #REF!
A28: K34 | B28: Kiküldetések, reklám- és propaganda kiadások | C28: ='Önk 2a'!#REF! -> #REF! | E28: =C28+D28 -> #REF! | F28: ='Önk 2a'!#REF! -> #REF! | H28: =F28+G28 -> #REF!
A29: K35 | B29: Különféle befizetések és egyéb dologi kiadások | C29: ='Önk 2a'!#REF! -> #REF! | E29: =C29+D29 -> #REF! | F29: ='Önk 2a'!#REF! -> #REF! | H29: =F29+G29 -> #REF!
A30: K4 | B30: Ellátottak pénzbeli juttatásai (6.sz.melléklet) | C30: ='Önk 2a'!C23 -> 27020 | D30: ='PH 2b'!C17+'SZEI 2c'!C17+'HBPMK 2d'!C17+'FMC 2e'!C17+'Óvoda 2f'!C17+'Bölcsőde 2g'!C17+'Gondozási 2h'!C17 -> 0 | E30: =C30+D30 -> 27020 | F30: ='Önk 2a'!M23 -> 25100 | G30: ='PH 2b'!I17+'SZEI 2c'!J17+'HBPMK 2d'!J17+'FMC 2e'!J17+'Óvoda 2f'!J17+'Bölcsőde 2g'!J17+'Gondozási 2h'!J17+'SZERI 2i'!H17 -> 13044 | H30: =F30+G30 -> 38144
A31: K5 | B31: Egyéb működési célú kiadások (4. és 8-sz.melléklet) | C31: =SUM(C32,C33) -> 1376946 | D31: ='PH 2b'!C18+'SZEI 2c'!C18+'HBPMK 2d'!C18+'FMC 2e'!C18+'Óvoda 2f'!C18+'Bölcsőde 2g'!C18+'Gondozási 2h'!C18 -> 0 | E31: =C31+D31 -> 1376946 | F31: =SUM(F32,F33) -> 3305782 | G31: ='PH 2b'!I18+'SZEI 2c'!J18+'HBPMK 2d'!J18+'FMC 2e'!J18+'Óvoda 2f'!J18+'Bölcsőde 2g'!J18+'Gondozási 2h'!J18+'SZERI 2i'!H18 -> 15100 | H31: =F31+G31 -> 3320882
A32: K50,K512 | B32: Ebből: egyéb működési célú támogatások (8.sz.melléklet) | C32: 1317481 | E32: =C32+D32 -> 1317481 | F32: ='Önk 2a'!M25 -> 2726814 | H32: =F32+G32 -> 2726814
A33: K513 | B33: Ebből: tartalék (4.sz.melléklet) | C33: =SUM(C34:C35) -> 59465 | D33: =SUM(D34:D35) -> 0 | E33: =SUM(E34:E35) -> 59465 | F33: =SUM(F34:F35) -> 578968 | G33: =SUM(G34:G35) -> 0 | H33: =SUM(H34:H35) -> 578968
B34: Működési tartalék | C34: ='Önk 2a'!C27 -> 59465 | E34: =C34+D34 -> 59465 | F34: ='Önk 2a'!M27 -> 578968 | H34: =F34+G34 -> 578968
B35: Felhalmozási tartalék | C35: ='Önk 2a'!C28 -> 0 | E35: =C35+D35 -> 0 | F35: ='Önk 2a'!M28 -> 0 | H35: =F35+G35 -> 0
A36: K6 | B36: Beruházások (3/a sz.melléklet) | C36: 940103 | D36: ='PH 2b'!C19+'SZEI 2c'!C19+'HBPMK 2d'!C19+'FMC 2e'!C19+'Óvoda 2f'!C19+'Bölcsőde 2g'!C19+'Gondozási 2h'!C19 -> 110814 | E36: =C36+D36 -> 1050917 | F36: ='Önk 2a'!M29 -> 1006385 | G36: ='PH 2b'!I19+'SZEI 2c'!J19+'HBPMK 2d'!J19+'FMC 2e'!J19+'Óvoda 2f'!J19+'Bölcsőde 2g'!J19+'Gondozási 2h'!J19+'SZERI 2i'!H19 -> 155862 | H36: =F36+G36 -> 1162247
A37: K7 | B37: Felújítások (3/c sz. melléklet) | C37: 805757 | D37: ='PH 2b'!C20+'SZEI 2c'!C20+'HBPMK 2d'!C20+'FMC 2e'!C20+'Óvoda 2f'!C20+'Bölcsőde 2g'!C20+'Gondozási 2h'!C20 -> 0 | E37: =C37+D37 -> 805757 | F37: ='Önk 2a'!M37 -> 1045769 | G37: ='PH 2b'!I20+'SZEI 2c'!J20+'HBPMK 2d'!J20+'FMC 2e'!J20+'Óvoda 2f'!J20+'Bölcsőde 2g'!J20+'Gondozási 2h'!J20+'SZERI 2i'!H20 -> 1000 | H37: =F37+G37 -> 1046769
A38: K8 | B38: Egyéb felhalmozási célú kiadások (6.sz.melléklet) | C38: 83140 | D38: ='PH 2b'!C21+'SZEI 2c'!C21+'HBPMK 2d'!C21+'FMC 2e'!C21+'Óvoda 2f'!C21+'Bölcsőde 2g'!C21+'Gondozási 2h'!C21 -> 0 | E38: =C38+D38 -> 83140 | F38: ='Önk 2a'!M42 -> 105000 | G38: ='PH 2b'!I21+'SZEI 2c'!J21+'HBPMK 2d'!J21+'FMC 2e'!J21+'Óvoda 2f'!J21+'Bölcsőde 2g'!J21+'Gondozási 2h'!J21+'SZERI 2i'!H21 -> 1360 | H38: =F38+G38 -> 106360
B39: EGYENLEG (I.-II.) | C39: =C3-C19 -> 1595675 | D39: =D3-D19 -> -2353974 | E39: =E3-E19 -> -758299 | F39: =F3-F19 -> 1051322 | G39: =G3-G19 -> -2883110 | H39: =H3-H19 -> -1831788
B40: Működési | C40: =C6+C8+C15+C17-C20-C23-C24-C30-C31 -> 2400587 | D40: =D6+D8+D15+D17-D20-D23-D24-D30-D31 -> -2246160 | E40: =E6+E8+E15+E17-E20-E23-E24-E30-E31 -> 154427 | F40: =F6+F8+F15+F17-F20-F23-F24-F30-F31 -> 1994446 | G40: =G6+G8+G15+G17-G20-G23-G24-G30-G31 -> -2728888 | H40: =H6+H8+H15+H17-H20-H23-H24-H30-H31 -> -734442
...

Sheet Önk 2a
B1: Szentendre Város Önkormányzata | C1: 2018 terv | F1: 2019 terv
C2: Kötelező feladatok | D2: Nem kötelező feladatok | E2: Összesen | F2: Kötelező feladatok | G2: Nem kötelező feladatok | H2: 1. módosítás 2019.06.13. | M2: Összesen
A3: I. | B3: KÖLTSÉGVETÉSI BEVÉTELEK | C3: 6000909 | D3: =D6+D7+D8+D15+D16+D17+D18 -> 0 | E3: =E6+E7+E8+E15+E16+E17+E18 -> 6000909 | F3: =F6+F7+F8+F15+F16+F17+F18 -> 6635375 | G3: =G6+G7+G8+G15+G16+G17+G18 -> 0 | H3: =H6+H7+H8+H15+H16+H17+H18 -> 1089981 | I3: =I6+I7+I8+I15+I16+I17+I18 -> 0 | J3: =J6+J7+J8+J15+J16+J17+J18 -> 0 | K3: =K6+K7+K8+K15+K16+K17+K18 -> 0 | ... M3: =M6+M7+M8+M15+M16+M17+M18 -> 7725356
A4: B11,B12 | B4: Önkormányzatok működési támogatásai | C4: 1424039 | E4: =SUM(C4:D4) -> 1424039 | F4: 1546887 | H4: 32351 | M4: =SUM(F4:L4) -> 1579238
A5: B16 | B5: Egyéb működési célú támogatások ÁHT-n belülről (benne OEP finanszírozás) | C5: 14033 | E5: =SUM(C5:D5) -> 14033 | F5: 3500 | M5: =SUM(F5:L5) -> 3500
A6: B1 | B6: Működési célú támogatások államháztartáson belülről | C6: 1438072 | D6: =D4+D5 -> 0 | E6: =E4+E5 -> 1438072 | F6: =F4+F5 -> 1550387 | G6: =G4+G5 -> 0 | H6: =H4+H5 -> 32351 | I6: =I4+I5 -> 0 | J6: =J4+J5 -> 0 | K6: =K4+K5 -> 0 | ... M6: =M4+M5 -> 1582738
A7: B2 | B7: Felhalmozási célú támogatások államháztartáson belülről | C7: 94998 | E7: =SUM(C7:D7) -> 94998 | F7: 190656 | H7: 99983 | M7: =SUM(F7:L7) -> 290639
A8: B3 | B8: Közhatalmi bevételek | C8: 2611600 | D8: =SUM(D9,D10,D14) -> 0 | E8: =SUM(E9,E10,E14) -> 2611600 | F8: =SUM(F9,F10,F14) -> 2994942 | G8: =SUM(G9,G10,G14) -> 0 | H8: =SUM(H9,H10,H14) -> 0 | I8: =SUM(I9,I10,I14) -> 0 | J8: =SUM(J9,J10,J14) -> 0 | K8: =SUM(K9,K10,K14) -> 0 | ... M8: =SUM(M9,M10,M14) -> 2994942
A9: B34 | B9: Vagyoni tipusú adók (építményadó, ép.utáni IFA, magánsz.komm.adója, telekadó) | C9: 683000 | E9: =SUM(C9:D9) -> 683000 | F9: 598000 | M9: =SUM(F9:L9) -> 598000
A10: B35 | B10: Termékek és szolgáltatások adói | C10: 1882000 | D10: =SUM(D11:D13) -> 0 | E10: =SUM(E11:E13) -> 1882000 | F10: =SUM(F11:F13) -> 2271942 | G10: =SUM(G11:G13) -> 0 | H10: =SUM(H11:H13) -> 0 | I10: =SUM(I11:I13) -> 0 | J10: =SUM(J11:J13) -> 0 | K10: =SUM(K11:K13) -> 0 | ... M10: =SUM(M11:M13) -> 2271942
A11: B351 | B11: ebből Értékesítési és forgalmi adók (IPA) | C11: 1750000 | E11: =SUM(C11:D11) -> 1750000 | F11: 2131180 | M11: =SUM(F11:L11) -> 2131180
A12: B354 | B12: ebből Gépjármű adók | C12: 115000 | E12: =SUM(C12:D12) -> 115000 | F12: 121262 | M12: =SUM(F12:L12) -> 121262
A13: B355 | B13: ebből Egyéb áruhasználati és szolgáltatási adók (tart.utáni IFA, talajterhelési díj) | C13: 17000 | E13: =SUM(C13:D13) -> 17000 | F13: 19500 | M13: =SUM(F13:L13) -> 19500
A14: B36 | B14: Egyéb közhatalmi bevételek (illeték, bírság) | C14: 46600 | E14: =SUM(C14:D14) -> 46600 | F14: 125000 | M14: =SUM(F14:L14) -> 125000
A15: B4 | B15: Működési bevételek | C15: 725138 | D15: 0 | E15: =SUM(C15:D15) -> 725138 | F15: 774825 | H15: 89156 | M15: =SUM(F15:L15) -> 863981
A16: B5 | B16: Felhalmozási bevételek | C16: 929090 | D16: 0 | E16: 929090 | F16: 915821 | M16: =SUM(F16:L16) -> 915821
A17: B6 | B17: Működési célú átvett pénzeszköz | C17: 202011 | D17: 0 | E17: =SUM(C17:D17) -> 202011 | F17: 208744 | H17: 860921 | M17: =SUM(F17:L17) -> 1069665
A18: B7 | B18: Felhalmozási célú átvett pénzeszköz | C18: 0 | D18: 0 | E18: =SUM(C18:D18) -> 0 | F18: 0 | G18: 0 | H18: 7570 | I18: 0 | J18: 0 | K18: 0 | L18: 0 | M18: =SUM(F18:L18) -> 7570
A19: II. | B19: KÖLTSÉGVETÉSI KIADÁSOK | C19: 4405234 | D19: =D20+D21+D22+D23+D24+D29+D37+D42 -> 1303724 | E19: =E20+E21+E22+E23+E24+E29+E37+E42 -> 4405234 | F19: =F20+F21+F22+F23+F24+F29+F37+F42 -> 3218750 | G19: =G20+G21+G22+G23+G24+G29+G37+G42 -> 1821676 | H19: =H20+H21+H22+H23+H24+H29+H37+H42 -> 1633608 | I19: =I20+I21+I22+I23+I24+I29+I37+I42 -> 0 | J19: =J20+J21+J22+J23+J24+J29+J37+J42 -> 0 | K19: =K20+K21+K22+K23+K24+K29+K37+K42 -> 0 | ... M19: =M20+M21+M22+M23+M24+M29+M37+M42 -> 6674034
A20: K1 | B20: Személyi juttatások | C20: 93628 | D20: 0 | E20: 93628 | F20: 87429 | M20: =SUM(F20:L20) -> 87429
A21: K2 | B21: Munkaadókat terhelő járulékok és szociális hozzájárulási adó | C21: 14157 | D21: 0 | E21: =SUM(C21:D21) -> 14157 | F21: 21597 | M21: =SUM(F21:L21) -> 21597
A22: K3 | B22: Dologi kiadások | C22: 1064483 | D22: 0 | E22: 1064483 | F22: 1073460 | H22: 3512 | M22: =SUM(F22:L22) -> 1076972
A23: K4 | B23: Ellátottak pénzbeli juttatásai (6.sz.melléklet) | C23: 27020 | D23: 0 | E23: 27020 | F23: 25100 | M23: =SUM(F23:L23) -> 25100 | N23: ok
A24: K5 | B24: Egyéb működési célú kiadások (4. és 8-sz.melléklet) | C24: 1188222 | D24: =SUM(D25,D26) -> 188724 | E24: =SUM(E25,E26) -> 1376946 | F24: =SUM(F25,F26) -> 1611164 | G24: =SUM(G25,G26) -> 192224 | H24: =SUM(H25,H26) -> 1502394 | I24: =SUM(I25,I26) -> 0 | J24: =SUM(J25,J26) -> 0 | K24: =SUM(K25,K26) -> 0 | ... M24: =SUM(M25,M26) -> 3305782
A25: K5 | B25: Ebből: egyéb működési célú támogatások (8.sz.melléklet) | C25: 1128757 | D25: 188724 | E25: =SUM(C25:D25) -> 1317481 | F25: 1561164 | G25: 192224 | H25: 973426 | M25: =SUM(F25:L25) -> 2726814 | N25: 5347 | O25: 2721467 | P25: =N25+O25 -> 2726814 | Q25: ok
A26: K513 | B26: Ebből: tartalék (4.sz.melléklet) | C26: 59465 | E26: =SUM(C26:D26) -> 59465 | F26: =SUM(F27:F28) -> 50000 | G26: =SUM(G27:G28) -> 0 | H26: =SUM(H27:H28) -> 528968 | I26: =SUM(I27:I28) -> 0 | J26: =SUM(J27:J28) -> 0 | K26: =SUM(K27:K28) -> 0 | L26: =SUM(L27:L28) -> 0 | M26: =SUM(M27:M28) -> 578968
B27: Működési tartalék | C27: 59465 | E27: =SUM(C27:D27) -> 59465 | F27: 50000 | H27: 528968 | M27: =SUM(F27:L27) -> 578968 | N27: ok
B28: Felhalmozási tartalék | C28: 0 | E28: =SUM(C28:D28) -> 0 | F28: 0 | M28: =SUM(F28:L28) -> 0
A29: K6 | B29: Beruházások (3/a sz.melléklet) | C29: 414000 | D29: 526103 | E29: =SUM(C29:D29) -> 940103 | F29: 220000 | G29: 661832 | H29: 124553 | M29: =SUM(F29:L29) -> 1006385 | N29: ok
B30: Immateriális javak beszerzése, létesítése (K61) | C30: 0 | E30: =SUM(C30:D30) -> 0 | F30: 3624 | G30: 3624 | M30: =SUM(F30:L30) -> 7248
B31: Ingatlanok beszerzése, létesítése (K62) | C31: 675800 | E31: =SUM(C31:D31) -> 675800 | F31: 1474409 | G31: 1474409 | M31: =SUM(F31:L31) -> 2948818
B32: Informatikai eszközök beszerzése, létesítése (K63) | C32: 28031.496 | E32: =SUM(C32:D32) -> 28031.496 | F32: 17575 | G32: 17575 | M32: =SUM(F32:L32) -> 35150
B33: Egyéb tárgyi eszközök beszerzése, létesítése (K64) | C33: 36383.464 | E33: =SUM(C33:D33) -> 36383.464 | F33: 0 | G33: 0 | M33: =SUM(F33:L33) -> 0
B34: Részesedések beszerzése (K65) | C34: 30 | E34: =SUM(C34:D34) -> 30 | F34: 0 | G34: 0 | M34: =SUM(F34:L34) -> 0
B35: Meglévő részesedések növeléséhez kapcsolódó kiadások (K66) | C35: 0 | E35: =SUM(C35:D35) -> 0 | F35: 0 | G35: 0 | M35: =SUM(F35:L35) -> 0
B36: Beruházási célú előzetesen felszámított általános forgalmi adó (K67) | C36: 199858.04 | E36: =SUM(C36:D36) -> 199858.04 | F36: 403814 | G36: 403814 | M36: =SUM(F36:L36) -> 807628
A37: K7 | B37: Felújítások (3/c sz. melléklet) | C37: 300000 | D37: 505757 | E37: =SUM(C37:D37) -> 805757 | F37: 180000 | G37: 862620 | H37: 3149 | M37: =SUM(F37:L37) -> 1045769 | N37: ok
B38: Ingatlanok felújítása (K71) | C38: 634454.33 | E38: =SUM(C38:D38) -> 634454.33 | F38: 27559 | G38: 27559 | M38: =SUM(F38:L38) -> 55118
B39: Informatikai eszközök felújítása (K72) | C39: 0 | E39: =SUM(C39:D39) -> 0 | F39: 0 | G39: 0 | M39: =SUM(F39:L39) -> 0
B40: Egyéb tárgyi eszközök felújítása (K73) | C40: 0 | E40: =SUM(C40:D40) -> 0 | F40: 0 | G40: 0 | M40: =SUM(F40:L40) -> 0
...

Sheet PH 2b
B1: Polgármesteri Hivatal | C1: 2018 terv | D1: 2019 terv | I1: 2019 terv
C2: Kötelező feladatok | D2: Kötelező feladatok | E2: 1. módosítás 2019.06.13. | I2: Összesen
A3: I. | B3: KÖLTSÉGVETÉSI BEVÉTELEK | C3: 15418 | D3: =D6+D7+D8+D9+D10+D11+D12 -> 8530 | E3: =E6+E7+E8+E9+E10+E11+E12 -> 5794 | F3: =F6+F7+F8+F9+F10+F11+F12 -> 0 | G3: =G6+G7+G8+G9+G10+G11+G12 -> 0 | H3: =H6+H7+H8+H9+H10+H11+H12 -> 0 | I3: =I6+I7+I8+I9+I10+I11+I12 -> 14324
A4: B11 | B4: Önkormányzatok működési támogatásai | C4: 0 | D4: 0 | I4: =SUM(D4:H4) -> 0
A5: B16 | B5: Egyéb működési célú támogatások ÁHT-n belülről (benne OEP finanszírozás) | C5: 6859 | D5: 0 | E5: 5794 | I5: =SUM(D5:H5) -> 5794
A6: B1 | B6: Működési célú támogatások államháztartáson belülről | C6: 6859 | D6: =D4+D5 -> 0 | E6: =E4+E5 -> 5794 | F6: =F4+F5 -> 0 | G6: =G4+G5 -> 0 | H6: =H4+H5 -> 0 | I6: =SUM(D6:H6) -> 5794
A7: B2 | B7: Felhalmozási célú támogatások államháztartáson belülről | C7: 0 | D7: 0 | I7: =SUM(D7:H7) -> 0
A8: B3 | B8: Közhatalmi bevételek | C8: 0 | D8: 0 | I8: =SUM(D8:H8) -> 0
A9: B4 | B9: Működési bevételek | C9: 8559 | D9: 8530 | I9: =SUM(D9:H9) -> 8530
A10: B5 | B10: Felhalmozási bevételek | C10: 0 | D10: 0 | I10: =SUM(D10:H10) -> 0
A11: B6 | B11: Működési célú átvett pénzeszköz | C11: 0 | D11: 0 | I11: =SUM(D11:H11) -> 0
A12: B7 | B12: Felhalmozási célú átvett pénzeszköz | C12: 0 | D12: 0 | I12: =SUM(D12:H12) -> 0
A13: II. | B13: KÖLTSÉGVETÉSI KIADÁSOK | C13: 806422 | D13: =D14+D15+D16+D17+D18+D19+D20+D21 -> 852929 | E13: =E14+E15+E16+E17+E18+E19+E20+E21 -> 16432 | F13: =F14+F15+F16+F17+F18+F19+F20+F21 -> 0 | G13: =G14+G15+G16+G17+G18+G19+G20+G21 -> 0 | H13: =H14+H15+H16+H17+H18+H19+H20+H21 -> 0 | I13: =I14+I15+I16+I17+I18+I19+I20+I21 -> 869361
A14: K1 | B14: Személyi juttatások | C14: 558475 | D14: 626378 | E14: 4307 | I14: =SUM(D14:H14) -> 630685
A15: K2 | B15: Munkaadókat terhelő járulékok és szociális hozzájárulási adó | C15: 109658 | D15: 110154 | E15: 882 | I15: =SUM(D15:H15) -> 111036
A16: K3 | B16: Dologi kiadások | C16: 123489 | D16: 96597 | E16: 11243 | I16: =SUM(D16:H16) -> 107840
A17: K4 | B17: Ellátottak pénzbeli juttatásai (6.sz.melléklet) | C17: 0 | D17: 0 | I17: =SUM(D17:H17) -> 0
A18: K5 | B18: Egyéb működési célú kiadások (4. és 8-sz.melléklet) | C18: 0 | D18: 0 | I18: =SUM(D18:H18) -> 0
A19: K6 | B19: Beruházások (3/a sz.melléklet) | C19: 14800 | D19: 19800 | I19: =SUM(D19:H19) -> 19800
A20: K7 | B20: Felújítások (3/c sz. melléklet) | C20: 0 | D20: 0 | I20: =SUM(D20:H20) -> 0
A21: K8 | B21: Egyéb felhalmozási célú kiadások (8.sz.melléklet) | C21: 0 | D21: 0 | I21: =SUM(D21:H21) -> 0
B22: EGYENLEG (I.-II.) | C22: -791004 | D22: =D3-D13 -> -844399 | E22: =E3-E13 -> -10638 | F22: =F3-F13 -> 0 | G22: =G3-G13 -> 0 | H22: =H3-H13 -> 0 | I22: =I3-I13 -> -855037
B23: Működési | C23: -776204 | D23: =D6+D8+D9+D11-D14-D15-D16-D17-D18 -> -824599 | E23: =E6+E8+E9+E11-E14-E15-E16-E17-E18 -> -10638 | F23: =F6+F8+F9+F11-F14-F15-F16-F17-F18 -> 0 | G23: =G6+G8+G9+G11-G14-G15-G16-G17-G18 -> 0 | H23: =H6+H8+H9+H11-H14-H15-H16-H17-H18 -> 0 | I23: =I6+I8+I9+I11-I14-I15-I16-I17-I18 -> -835237
B24: Felhalmozási | C24: -14800 | D24: =D7+D12+D10-D19-D20-D21 -> -19800 | E24: =E7+E12+E10-E19-E20-E21 -> 0 | F24: =F7+F12+F10-F19-F20-F21 -> 0 | G24: =G7+G12+G10-G19-G20-G21 -> 0 | H24: =H7+H12+H10-H19-H20-H21 -> 0 | I24: =I7+I10+I12-I19-I20-I21 -> -19800
A25: III.B8 | B25: FINANSZÍROZÁSI BEVÉTELEK | C25: 791004 | D25: =D26 -> 844399 | E25: =E26 -> 10638 | F25: =F26 -> 0 | G25: =G26 -> 0 | H25: =H26 -> 0 | I25: =I26 -> 855037
A26: B81 | B26: Belföldi finanszírozás bevételei | C26: 791004 | D26: =D27+D28 -> 844399 | E26: =E27+E28 -> 10638 | F26: =F27+F28 -> 0 | G26: =G27+G28 -> 0 | H26: =H27+H28 -> 0 | I26: =I27+I28 -> 855037
A27: B816 | B27: Központi, önkormányzattól kapott támogatás | C27: 791004 | D27: 844399 | E27: 137 | I27: =SUM(D27:H27) -> 844536
A28: B813 | B28: Maradvány | D28: 0 | E28: 10501 | I28: =SUM(D28:H28) -> 10501
A29: IV.K9 | B29: FINANSZÍROZÁSI KIADÁSOK | C29: 0 | D29: =D30 -> 0 | E29: =E30 -> 0 | F29: =F30 -> 0 | G29: =G30 -> 0 | H29: =H30 -> 0 | I29: =I30 -> 0
A30: K91 | B30: Belföldi finanszírozás kiadásai | C30: 0 | D30: =D31 -> 0 | E30: =E31 -> 0 | F30: =F31 -> 0 | G30: =G31 -> 0 | H30: =H31 -> 0 | I30: =I31 -> 0
A31: K915 | B31: Központi, irányító szervi támogatások folyósítása | C31: 0 | D31: 0 | E31: 0 | F31: 0 | G31: 0 | H31: 0 | I31: 0
B32: FINANSZÍROZÁSI EGYENLEG (III.-IV.) | C32: 791004 | D32: =D25-D29 -> 844399 | E32: =E25-E29 -> 10638 | F32: =F25-F29 -> 0 | G32: =G25-G29 -> 0 | H32: =H25-H29 -> 0 | I32: =I25-I29 -> 855037
B33: BEVÉTELEK MINDÖSSZESEN (I.+III.) | C33: 806422 | D33: =D3+D25 -> 852929 | E33: =E3+E25 -> 16432 | F33: =F3+F25 -> 0 | G33: =G3+G25 -> 0 | H33: =H3+H25 -> 0 | I33: =I3+I25 -> 869361
B34: Ebből: Működési | C34: 15418 | D34: =D6+D8+D9+D11 -> 8530 | E34: =E6+E8+E9+E11 -> 5794 | F34: =F6+F8+F9+F11 -> 0 | G34: =G6+G8+G9+G11 -> 0 | H34: =H6+H8+H9+H11 -> 0 | I34: =I6+I8+I9+I11 -> 14324
B35: Ebből: Felhalmozási | C35: 0 | D35: =D7+D10+D12 -> 0 | E35: =E7+E10+E12 -> 0 | F35: =F7+F10+F12 -> 0 | G35: =G7+G10+G12 -> 0 | H35: =H7+H10+H12 -> 0 | I35: =I7+I10+I12 -> 0
B36: Ebből: Finanszírozási | C36: 791004 | D36: =D25 -> 844399 | E36: =E25 -> 10638 | F36: =F25 -> 0 | G36: =G25 -> 0 | H36: =H25 -> 0 | I36: =I25 -> 855037
B37: KIADÁSOK MINDÖSSZESEN (II.+IV.) | C37: 806422 | D37: =D13+D29 -> 852929 | E37: =E13+E29 -> 16432 | F37: =F13+F29 -> 0 | G37: =G13+G29 -> 0 | H37: =H13+H29 -> 0 | I37: =I13+I29 -> 869361
B38: Ebből: Működési | C38: 791622 | D38: =D14+D15+D16+D17+D18 -> 833129 | E38: =E14+E15+E16+E17+E18 -> 16432 | F38: =F14+F15+F16+F17+F18 -> 0 | G38: =G14+G15+G16+G17+G18 -> 0 | H38: =H14+H15+H16+H17+H18 -> 0 | I38: =I14+I15+I16+I17+I18 -> 849561
B39: Ebből: Felhalmozási | C39: 14800 | D39: =D19+D20+D21 -> 19800 | E39: =E19+E20+E21 -> 0 | F39: =F19+F20+F21 -> 0 | G39: =G19+G20+G21 -> 0 | H39: =H19+H20+H21 -> 0 | I39: =I19+I20+I21 -> 19800
B40: Ebből: Finanszírozási | C40: 0 | D40: =D29 -> 0 | E40: =E29 -> 0 | F40: =F29 -> 0 | G40: =G29 -> 0 | H40: =H29 -> 0 | I40: =I29 -> 0
...

Sheet SZEI 2c
B1: Szentendre Egészségügyi Intézményei | C1: 2018 terv | D1: 2019 terv
C2: Nem kötelező feladatok | D2: Nem kötelező feladatok | E2: 1. módosítás 2019.06.13. | J2: Összesen
A3: I. | B3: KÖLTSÉGVETÉSI BEVÉTELEK | C3: =C6+C7+C8+C9+C10+C11+C12 -> 697776 | D3: =D6+D7+D8+D9+D10+D11+D12 -> 788330 | E3: =E6+E7+E8+E9+E10+E11+E12 -> 0 | F3: =F6+F7+F8+F9+F10+F11+F12 -> 0 | G3: =G6+G7+G8+G9+G10+G11+G12 -> 0 | H3: =H6+H7+H8+H9+H10+H11+H12 -> 0 | I3: =I6+I7+I8+I9+I10+I11+I12 -> 0 | J3: =J6+J7+J8+J9+J10+J11+J12 -> 788330
A4: B11 | B4: Önkormányzatok működési támogatásai | D4: 0 | J4: =SUM(D4:I4) -> 0
A5: B16 | B5: Egyéb működési célú támogatások ÁHT-n belülről (benne OEP finanszírozás) | C5: 667616 | D5: 754830 | J5: =SUM(D5:I5) -> 754830
A6: B1 | B6: Működési célú támogatások államháztartáson belülről | C6: =SUM(C4:C5) -> 667616 | D6: =D4+D5 -> 754830 | J6: =SUM(J4:J5) -> 754830
A7: B2 | B7: Felhalmozási célú támogatások államháztartáson belülről | D7: 4000 | J7: =SUM(D7:I7) -> 4000
A8: B3 | B8: Közhatalmi bevételek | D8: 0 | J8: =SUM(D8:I8) -> 0
A9: B4 | B9: Működési bevételek | C9: 30160 | D9: 29500 | J9: =SUM(D9:I9) -> 29500
A10: B5 | B10: Felhalmozási bevételek | D10: 0 | J10: =SUM(D10:I10) -> 0
A11: B6 | B11: Működési célú átvett pénzeszköz | D11: 0 | J11: =SUM(D11:I11) -> 0
A12: B7 | B12: Felhalmozási célú átvett pénzeszköz | D12: 0 | J12: =SUM(D12:I12) -> 0
A13: II. | B13: KÖLTSÉGVETÉSI KIADÁSOK | C13: =C14+C15+C16+C17+C18+C19+C20+C21 -> 718474 | D13: =D14+D15+D16+D17+D18+D19+D20+D21 -> 814280 | E13: =E14+E15+E16+E17+E18+E19+E20+E21 -> 40750 | F13: =F14+F15+F16+F17+F18+F19+F20+F21 -> 0 | G13: =G14+G15+G16+G17+G18+G19+G20+G21 -> 0 | H13: =H14+H15+H16+H17+H18+H19+H20+H21 -> 0 | I13: =I14+I15+I16+I17+I18+I19+I20+I21 -> 0 | J13: =J14+J15+J16+J17+J18+J19+J20+J21 -> 855030
A14: K1 | B14: Személyi juttatások | C14: 312924 | D14: 359854 | E14: 1640 | J14: =SUM(D14:I14) -> 361494
A15: K2 | B15: Munkaadókat terhelő járulékok és szociális hozzájárulási adó | C15: 61854 | D15: 72416 | E15: 844 | J15: =SUM(D15:I15) -> 73260
A16: K3 | B16: Dologi kiadások | C16: 343696 | D16: 378010 | E16: 36766 | J16: =SUM(D16:I16) -> 414776
A17: K4 | B17: Ellátottak pénzbeli juttatásai | C17: 0 | D17: 0 | J17: =SUM(D17:I17) -> 0
A18: K5 | B18: Egyéb működési célú kiadások | D18: 0 | J18: =SUM(D18:I18) -> 0
A19: K6 | B19: Beruházások | D19: 4000 | E19: 1500 | J19: =SUM(D19:I19) -> 5500
A20: K7 | B20: Felújítások | D20: 0 | J20: =SUM(D20:I20) -> 0
A21: K8 | B21: Egyéb felhalmozási célú kiadások | D21: 0 | J21: =SUM(D21:I21) -> 0
B22: EGYENLEG (I.-II.) | C22: =C3-C13 -> -20698 | D22: =D3-D13 -> -25950 | E22: =E3-E13 -> -40750 | F22: =F3-F13 -> 0 | G22: =G3-G13 -> 0 | H22: =H3-H13 -> 0 | I22: =I3-I13 -> 0 | J22: =J3-J13 -> -66700
B23: Működési | C23: =C6+C8+C9+C11-C14-C15-C16-C17-C18 -> -20698 | D23: =D6+D8+D9+D11-D14-D15-D16-D17-D18 -> -25950 | E23: =E6+E8+E9+E11-E14-E15-E16-E17-E18 -> -39250 | F23: =F6+F8+F9+F11-F14-F15-F16-F17-F18 -> 0 | G23: =G6+G8+G9+G11-G14-G15-G16-G17-G18 -> 0 | H23: =H6+H8+H9+H11-H14-H15-H16-H17-H18 -> 0 | I23: =I6+I8+I9+I11-I14-I15-I16-I17-I18 -> 0 | J23: =J6+J8+J9+J11-J14-J15-J16-J17-J18 -> -65200
B24: Felhalmozási | C24: =C7+C10+C12-C19-C20-C21 -> 0 | D24: =D7+D10+D12-D19-D20-D21 -> 0 | E24: =E7+E10+E12-E19-E20-E21 -> -1500 | F24: =F7+F10+F12-F19-F20-F21 -> 0 | G24: =G7+G10+G12-G19-G20-G21 -> 0 | H24: =H7+H10+H12-H19-H20-H21 -> 0 | I24: =I7+I10+I12-I19-I20-I21 -> 0 | J24: =J7+J10+J12-J19-J20-J21 -> -1500
A25: III.B8 | B25: FINANSZÍROZÁSI BEVÉTELEK | C25: =C26 -> 20698 | D25: =D26 -> 25950 | E25: =E26 -> 40750 | F25: =F26 -> 0 | G25: =G26 -> 0 | H25: =H26 -> 0 | I25: =I26 -> 0 | J25: =J26 -> 66700
A26: B81 | B26: Belföldi finanszírozás bevételei | C26: =C27 -> 20698 | D26: =D27+D28 -> 25950 | E26: =E27+E28 -> 40750 | F26: =F27+F28 -> 0 | G26: =G27+G28 -> 0 | H26: =H27+H28 -> 0 | I26: =I27+I28 -> 0 | J26: =SUM(D26:I26) -> 66700
A27: B816 | B27: Központi, önkormányzattól kapott támogatás | C27: 20698 | D27: 25950 | E27: 885 | J27: =SUM(D27:I27) -> 26835
A28: B813 | B28: Maradvány | D28: 0 | E28: 39865 | J28: =SUM(D28:I28) -> 39865
A29: IV.K9 | B29: FINANSZÍROZÁSI KIADÁSOK | C29: =C30 -> 0 | D29: =D30 -> 0 | E29: =E30 -> 0 | F29: =F30 -> 0 | G29: =G30 -> 0 | H29: =H30 -> 0 | I29: =I30 -> 0 | J29: =J30 -> 0
A30: K91 | B30: Belföldi finanszírozás kiadásai | C30: =C31 -> 0 | D30: =D31 -> 0 | E30: =E31 -> 0 | F30: =F31 -> 0 | G30: =G31 -> 0 | H30: =H31 -> 0 | I30: =I31 -> 0 | J30: =J31 -> 0
A31: K915 | B31: Központi, irányító szervi támogatások folyósítása | D31: 0 | E31: 0 | J31: =SUM(D31:I31) -> 0
B32: FINANSZÍROZÁSI EGYENLEG (III.-IV.) | C32: =C25-C29 -> 20698 | D32: =D25-D29 -> 25950 | E32: =E25-E29 -> 40750 | F32: =F25-F29 -> 0 | G32: =G25-G29 -> 0 | H32: =H25-H29 -> 0 | I32: =I25-I29 -> 0 | J32: =J25-J29 -> 66700
B33: BEVÉTELEK MINDÖSSZESEN (I.+III.) | C33: =C3+C25 -> 718474 | D33: =D3+D25 -> 814280 | E33: =E3+E25 -> 40750 | F33: =F3+F25 -> 0 | G33: =G3+G25 -> 0 | H33: =H3+H25 -> 0 | I33: =I3+I25 -> 0 | J33: =J3+J25 -> 855030
B34: Ebből: Működési | C34: =C6+C8+C9+C11 -> 697776 | D34: =D6+D8+D9+D11 -> 784330 | E34: =E6+E8+E9+E11 -> 0 | F34: =F6+F8+F9+F11 -> 0 | G34: =G6+G8+G9+G11 -> 0 | H34: =H6+H8+H9+H11 -> 0 | I34: =I6+I8+I9+I11 -> 0 | J34: =J6+J8+J9+J11 -> 784330
B35: Ebből: Felhalmozási | C35: =C7+C10+C12 -> 0 | D35: =D7+D10+D12 -> 4000 | E35: =E7+E10+E12 -> 0 | F35: =F7+F10+F12 -> 0 | G35: =G7+G10+G12 -> 0 | H35: =H7+H10+H12 -> 0 | I35: =I7+I10+I12 -> 0 | J35: =J7+J10+J12 -> 4000
B36: Ebből: Finanszírozási | C36: =C25 -> 20698 | D36: =D25 -> 25950 | E36: =E25 -> 40750 | F36: =F25 -> 0 | G36: =G25 -> 0 | H36: =H25 -> 0 | I36: =I25 -> 0 | J36: =J25 -> 66700
B37: KIADÁSOK MINDÖSSZESEN (II.+IV.) | C37: =C13+C29 -> 718474 | D37: =D13+D29 -> 814280 | E37: =E13+E29 -> 40750 | F37: =F13+F29 -> 0 | G37: =G13+G29 -> 0 | H37: =H13+H29 -> 0 | I37: =I13+I29 -> 0 | J37: =J13+J29 -> 855030
B38: Ebből: Működési | C38: =C14+C15+C16+C17+C18 -> 718474 | D38: =D14+D15+D16+D17+D18 -> 810280 | E38: =E14+E15+E16+E17+E18 -> 39250 | F38: =F14+F15+F16+F17+F18 -> 0 | G38: =G14+G15+G16+G17+G18 -> 0 | H38: =H14+H15+H16+H17+H18 -> 0 | I38: =I14+I15+I16+I17+I18 -> 0 | J38: =J14+J15+J16+J17+J18 -> 849530
B39: Ebből: Felhalmozási | C39: =C19+C20+C21 -> 0 | D39: =D19+D20+D21 -> 4000 | E39: =E19+E20+E21 -> 1500 | F39: =F19+F20+F21 -> 0 | G39: =G19+G20+G21 -> 0 | H39: =H19+H20+H21 -> 0 | I39: =I19+I20+I21 -> 0 | J39: =J19+J20+J21 -> 5500
B40: Ebből: Finanszírozási | C40: =C29 -> 0 | D40: =D29 -> 0 | E40: =E29 -> 0 | F40: =F29 -> 0 | G40: =G29 -> 0 | H40: =H29 -> 0 | I40: =I29 -> 0 | J40: =J29 -> 0
...

Sheet HBPMK 2d
B1: Hamvas Béla Pest Megyei Könyvtár | C1: 2018 terv | D1: 2019 terv
C2: Kötelező feladatok | D2: Kötelező feladatok | E2: 1. módosítás 2019.06.13. | J2: Kötelező feladatok
A3: I. | B3: KÖLTSÉGVETÉSI BEVÉTELEK | C3: =C6+C7+C8+C9+C10+C11+C12 -> 10106 | D3: =D6+D7+D8+D9+D10+D11+D12 -> 9211 | E3: =E6+E7+E8+E9+E10+E11+E12 -> 4391 | F3: =F6+F7+F8+F9+F10+F11+F12 -> 0 | G3: =G6+G7+G8+G9+G10+G11+G12 -> 0 | H3: =H6+H7+H8+H9+H10+H11+H12 -> 0 | I3: =I6+I7+I8+I9+I10+I11+I12 -> 0 | J3: =J6+J7+J8+J9+J10+J11+J12 -> 13602
A4: B11 | B4: Önkormányzatok működési támogatásai | D4: 0 | J4: =SUM(D4:I4) -> 0
A5: B16 | B5: Egyéb működési célú támogatások ÁHT-n belülről (benne OEP finanszírozás) | D5: 0 | E5: 3500 | J5: =SUM(D5:I5) -> 3500
A6: B1 | B6: Működési célú támogatások államháztartáson belülről | C6: =SUM(C4:C5) -> 0 | D6: =D4+D5 -> 0 | E6: =E4+E5 -> 3500 | F6: =F4+F5 -> 0 | G6: =G4+G5 -> 0 | H6: =H4+H5 -> 0 | I6: =I4+I5 -> 0 | J6: =J4+J5 -> 3500
A7: B2 | B7: Felhalmozási célú támogatások államháztartáson belülről | D7: 0 | J7: =SUM(D7:I7) -> 0
A8: B3 | B8: Közhatalmi bevételek | D8: 0 | J8: =SUM(D8:I8) -> 0
A9: B4 | B9: Működési bevételek | C9: 10106 | D9: 9211 | E9: 891 | J9: =SUM(D9:I9) -> 10102
A10: B5 | B10: Felhalmozási bevételek | D10: 0 | J10: =SUM(D10:I10) -> 0
A11: B6 | B11: Működési célú átvett pénzeszköz | D11: 0 | J11: =SUM(D11:I11) -> 0
A12: B7 | B12: Felhalmozási célú átvett pénzeszköz | D12: 0 | J12: =SUM(D12:I12) -> 0
A13: II. | B13: KÖLTSÉGVETÉSI KIADÁSOK | C13: =C14+C15+C16+C17+C18+C19+C20+C21 -> 263377 | D13: =D14+D15+D16+D17+D18+D19+D20+D21 -> 290435 | E13: =E14+E15+E16+E17+E18+E19+E20+E21 -> 13712 | F13: =F14+F15+F16+F17+F18+F19+F20+F21 -> 0 | G13: =G14+G15+G16+G17+G18+G19+G20+G21 -> 0 | H13: =H14+H15+H16+H17+H18+H19+H20+H21 -> 0 | I13: =I14+I15+I16+I17+I18+I19+I20+I21 -> 0 | J13: =J14+J15+J16+J17+J18+J19+J20+J21 -> 304147
A14: K1 | B14: Személyi juttatások | C14: 106046 | D14: 124446 | E14: 3508 | J14: =SUM(D14:I14) -> 127954
A15: K2 | B15: Munkaadókat terhelő járulékok és szociális hozzájárulási adó | C15: 22993 | D15: 25455 | E15: 684 | J15: =SUM(D15:I15) -> 26139
A16: K3 | B16: Dologi kiadások | C16: 66314 | D16: 66082 | E16: 4237 | J16: =SUM(D16:I16) -> 70319
A17: K4 | B17: Ellátottak pénzbeli juttatásai | C17: 0 | D17: 0 | J17: =SUM(D17:I17) -> 0
A18: K5 | B18: Egyéb működési célú kiadások | D18: 0 | J18: =SUM(D18:I18) -> 0
A19: K6 | B19: Beruházások | C19: 68024 | D19: 74452 | E19: 3923 | J19: =SUM(D19:I19) -> 78375
A20: K7 | B20: Felújítások | D20: 0 | J20: =SUM(D20:I20) -> 0
A21: K8 | B21: Egyéb felhalmozási célú kiadások | D21: 0 | E21: 1360 | J21: =SUM(D21:I21) -> 1360
B22: EGYENLEG (I.-II.) | C22: =C3-C13 -> -253271 | D22: =D3-D13 -> -281224 | E22: =E3-E13 -> -9321 | F22: =F3-F13 -> 0 | G22: =G3-G13 -> 0 | H22: =H3-H13 -> 0 | I22: =I3-I13 -> 0 | J22: =J3-J13 -> -290545
B23: Működési | C23: =C6+C8+C9+C11-C14-C15-C16-C17-C18-C19-C20 -> -253271 | D23: =D6+D8+D9+D11-D14-D15-D16-D17-D18 -> -206772 | E23: =E6+E8+E9+E11-E14-E15-E16-E17-E18 -> -4038 | F23: =F6+F8+F9+F11-F14-F15-F16-F17-F18 -> 0 | G23: =G6+G8+G9+G11-G14-G15-G16-G17-G18 -> 0 | H23: =H6+H8+H9+H11-H14-H15-H16-H17-H18 -> 0 | I23: =I6+I8+I9+I11-I14-I15-I16-I17-I18 -> 0 | J23: =J6+J8+J9+J11-J14-J15-J16-J17-J18 -> -210810
B24: Felhalmozási | C24: =C7+C10+C12-C21 -> 0 | D24: =D7+D10+D12-D19-D20-D21 -> -74452 | E24: =E7+E10+E12-E19-E20-E21 -> -5283 | F24: =F7+F10+F12-F19-F20-F21 -> 0 | G24: =G7+G10+G12-G19-G20-G21 -> 0 | H24: =H7+H10+H12-H19-H20-H21 -> 0 | I24: =I7+I10+I12-I19-I20-I21 -> 0 | J24: =J7+J10+J12-J19-J20-J21 -> -79735
A25: III.B8 | B25: FINANSZÍROZÁSI BEVÉTELEK | C25: =C26 -> 253271 | D25: =D26 -> 281224 | E25: =E26 -> 9321 | F25: =F26 -> 0 | G25: =G26 -> 0 | H25: =H26 -> 0 | I25: =I26 -> 0 | J25: =J26 -> 290545
A26: B81 | B26: Belföldi finanszírozás bevételei | C26: =C27 -> 253271 | D26: =D27+D28 -> 281224 | E26: =E27+E28 -> 9321 | F26: =F27+F28 -> 0 | G26: =G27+G28 -> 0 | H26: =H27+H28 -> 0 | I26: =I27+I28 -> 0 | J26: =J27+J28 -> 290545
A27: B816 | B27: Központi, önkormányzattól kapott támogatás | C27: 253271 | D27: 281224 | E27: 4192 | J27: =SUM(D27:I27) -> 285416
A28: B813 | B28: Maradvány | D28: 0 | E28: 5129 | J28: =SUM(D28:I28) -> 5129
A29: IV.K9 | B29: FINANSZÍROZÁSI KIADÁSOK | C29: =C30 -> 0 | D29: =D30 -> 0 | E29: =E30 -> 0 | F29: =F30 -> 0 | G29: =G30 -> 0 | H29: =H30 -> 0 | I29: =I30 -> 0 | J29: =J30 -> 0
A30: K91 | B30: Belföldi finanszírozás kiadásai | C30: =C31 -> 0 | D30: =D31 -> 0 | E30: =E31 -> 0 | F30: =F31 -> 0 | G30: =G31 -> 0 | H30: =H31 -> 0 | I30: =I31 -> 0 | J30: =J31 -> 0
A31: K915 | B31: Központi, irányító szervi támogatások folyósítása | D31: 0 | J31: =SUM(D31:I31) -> 0
B32: FINANSZÍROZÁSI EGYENLEG (III.-IV.) | C32: =C25-C29 -> 253271 | D32: =D25-D29 -> 281224 | E32: =E25-E29 -> 9321 | F32: =F25-F29 -> 0 | G32: =G25-G29 -> 0 | H32: =H25-H29 -> 0 | I32: =I25-I29 -> 0 | J32: =J25-J29 -> 290545
B33: BEVÉTELEK MINDÖSSZESEN (I.+III.) | C33: =C3+C25 -> 263377 | D33: =D3+D25 -> 290435 | E33: =E3+E25 -> 13712 | F33: =F3+F25 -> 0 | G33: =G3+G25 -> 0 | H33: =H3+H25 -> 0 | I33: =I3+I25 -> 0 | J33: =J3+J25 -> 304147
B34: Ebből: Működési | C34: =C6+C8+C9+C11 -> 10106 | D34: =D6+D8+D9 -> 9211 | E34: =E6+E8+E9 -> 4391 | F34: =F6+F8+F9 -> 0 | G34: =G6+G8+G9 -> 0 | H34: =H6+H8+H9 -> 0 | I34: =I6+I8+I9 -> 0 | J34: =J6+J8+J9 -> 13602
B35: Ebből: Felhalmozási | C35: =C7+C10+C12 -> 0 | D35: =D7+D10+D12 -> 0 | E35: =E7+E10+E12 -> 0 | F35: =F7+F10+F12 -> 0 | G35: =G7+G10+G12 -> 0 | H35: =H7+H10+H12 -> 0 | I35: =I7+I10+I12 -> 0 | J35: =J7+J10+J12 -> 0
B36: Ebből: Finanszírozási | C36: =C25 -> 253271 | D36: =D25 -> 281224 | E36: =E25 -> 9321 | F36: =F25 -> 0 | G36: =G25 -> 0 | H36: =H25 -> 0 | I36: =I25 -> 0 | J36: =J25 -> 290545
B37: KIADÁSOK MINDÖSSZESEN (II.+IV.) | C37: =C13+C29 -> 263377 | D37: =D13+D29 -> 290435 | E37: =E13+E29 -> 13712 | F37: =F13+F29 -> 0 | G37: =G13+G29 -> 0 | H37: =H13+H29 -> 0 | I37: =I13+I29 -> 0 | J37: =J13+J29 -> 304147
B38: Ebből: Működési | C38: =C14+C15+C16+C17+C18 -> 195353 | D38: =D14+D15+D16+D17+D18 -> 215983 | E38: =E14+E15+E16+E17+E18 -> 8429 | F38: =F14+F15+F16+F17+F18 -> 0 | G38: =G14+G15+G16+G17+G18 -> 0 | H38: =H14+H15+H16+H17+H18 -> 0 | I38: =I14+I15+I16+I17+I18 -> 0 | J38: =J14+J15+J16+J17+J18 -> 224412
B39: Ebből: Felhalmozási | C39: =C19+C20+C21 -> 68024 | D39: =D19+D20+D21 -> 74452 | E39: =E19+E20+E21 -> 5283 | F39: =F19+F20+F21 -> 0 | G39: =G19+G20+G21 -> 0 | H39: =H19+H20+H21 -> 0 | I39: =I19+I20+I21 -> 0 | J39: =J19+J20+J21 -> 79735
B40: Ebből: Finanszírozási | C40: =C29 -> 0 | D40: =D29 -> 0 | E40: =E29 -> 0 | F40: =F29 -> 0 | G40: =G29 -> 0 | H40: =H29 -> 0 | I40: =I29 -> 0 | J40: =J29 -> 0
...

Sheet FMC 2e
B1: Ferenczy Múzeumi Centrum | C1: 2018 terv | D1: 2019 terv
C2: Kötelező feladatok | D2: Kötelező feladatok | E2: 1. módosítás 2019.06.13. | J2: Kötelező feladatok
A3: I. | B3: KÖLTSÉGVETÉSI BEVÉTELEK | C3: =C6+C7+C8+C9+C10+C11+C12 -> 503020 | D3: =D6+D7+D8+D9+D10+D11+D12 -> 526533 | E3: =E6+E7+E8+E9+E10+E11+E12 -> 4000 | F3: =F6+F7+F8+F9+F10+F11+F12 -> 0 | G3: =G6+G7+G8+G9+G10+G11+G12 -> 0 | H3: =H6+H7+H8+H9+H10+H11+H12 -> 0 | I3: =I6+I7+I8+I9+I10+I11+I12 -> 0 | J3: =J6+J7+J8+J9+J10+J11+J12 -> 530533
A4: B11 | B4: Önkormányzatok működési támogatásai | D4: 0
A5: B15/B16 | B5: Egyéb működési célú támogatások ÁHT-n belülről (benne OEP finanszírozás) | C5: 12000 | D5: 15000 | E5: 4000 | J5: =SUM(D5:I5) -> 19000
A6: B1 | B6: Működési célú támogatások államháztartáson belülről | C6: =SUM(C4:C5) -> 12000 | D6: =SUM(D4:D5) -> 15000 | E6: =SUM(E4:E5) -> 4000 | F6: =SUM(F4:F5) -> 0 | G6: =SUM(G4:G5) -> 0 | H6: =SUM(H4:H5) -> 0 | I6: =SUM(I4:I5) -> 0 | J6: =SUM(J4:J5) -> 19000
A7: B2 | B7: Felhalmozási célú támogatások államháztartáson belülről | C7: 3000 | D7: 0 | J7: =SUM(D7:I7) -> 0
A8: B3 | B8: Közhatalmi bevételek | D8: 0
A9: B4 | B9: Működési bevételek | C9: 488020 | D9: 511533 | J9: 511533
A10: B5 | B10: Felhalmozási bevételek | D10: 0 | J10: =SUM(D10:I10) -> 0
A11: B6 | B11: Működési célú átvett pénzeszköz | D11: 0 | J11: =SUM(D11:I11) -> 0
A12: B7 | B12: Felhalmozási célú átvett pénzeszköz | D12: 0 | J12: =SUM(D12:I12) -> 0
A13: II. | B13: KÖLTSÉGVETÉSI KIADÁSOK | C13: =C14+C15+C16+C17+C18+C19+C20+C21 -> 891812 | D13: =D14+D15+D16+D17+D18+D19+D20+D21 -> 935820 | E13: =E14+E15+E16+E17+E18+E19+E20+E21 -> 92297 | F13: =F14+F15+F16+F17+F18+F19+F20+F21 -> 0 | G13: =G14+G15+G16+G17+G18+G19+G20+G21 -> 0 | H13: =H14+H15+H16+H17+H18+H19+H20+H21 -> 0 | I13: =I14+I15+I16+I17+I18+I19+I20+I21 -> 0 | J13: =J14+J15+J16+J17+J18+J19+J20+J21 -> 1028117
A14: K1 | B14: Személyi juttatások | C14: 368079 | D14: 398214 | E14: 9270 | J14: =SUM(D14:I14) -> 407484
A15: K2 | B15: Munkaadókat terhelő járulékok és szociális hozzájárulási adó | C15: 78619 | D15: 84570 | E15: 1808 | J15: =SUM(D15:I15) -> 86378
A16: K3 | B16: Dologi kiadások | C16: 427154 | D16: 418014 | E16: 53075 | J16: =SUM(D16:I16) -> 471089
A17: K4 | B17: Ellátottak pénzbeli juttatásai | C17: 0 | D17: 0 | E17: 13044 | J17: =SUM(D17:I17) -> 13044
A18: K5 | B18: Egyéb működési célú kiadások | D18: 0 | E18: 15100 | J18: =SUM(D18:I18) -> 15100
A19: K6 | B19: Beruházások | C19: =37960-20000 -> 17960 | D19: 35022 | J19: =SUM(D19:I19) -> 35022
A20: K7 | B20: Felújítások | D20: 0 | J20: =SUM(D20:I20) -> 0
A21: K8 | B21: Egyéb felhalmozási célú kiadások | D21: 0 | J21: =SUM(D21:I21) -> 0
B22: EGYENLEG (I.-II.) | C22: =C3-C13 -> -388792 | D22: =D3-D13 -> -409287 | E22: =E3-E13 -> -88297 | F22: =F3-F13 -> 0 | G22: =G3-G13 -> 0 | H22: =H3-H13 -> 0 | I22: =I3-I13 -> 0 | J22: =J3-J13 -> -497584
B23: Működési | C23: =C6+C8+C9+C11-C14-C15-C16-C17-C18-C19-C20 -> -391792 | D23: =D6+D8+D9+D11-D14-D15-D16-D17-D18 -> -374265 | E23: =E6+E8+E9+E11-E14-E15-E16-E17-E18 -> -88297 | F23: =F6+F8+F9+F11-F14-F15-F16-F17-F18 -> 0 | G23: =G6+G8+G9+G11-G14-G15-G16-G17-G18 -> 0 | H23: =H6+H8+H9+H11-H14-H15-H16-H17-H18 -> 0 | I23: =I6+I8+I9+I11-I14-I15-I16-I17-I18 -> 0 | J23: =J6+J8+J9+J11-J14-J15-J16-J17-J18 -> -462562
B24: Felhalmozási | C24: =C7+C10+C12-C21 -> 3000 | D24: =D7+D10+D12-D19-D20-D21 -> -35022 | E24: =E7+E10+E12-E19-E20-E21 -> 0 | F24: =F7+F10+F12-F19-F20-F21 -> 0 | G24: =G7+G10+G12-G19-G20-G21 -> 0 | H24: =H7+H10+H12-H19-H20-H21 -> 0 | I24: =I7+I10+I12-I19-I20-I21 -> 0 | J24: =J7+J10+J12-J19-J20-J21 -> -35022
A25: III.B8 | B25: FINANSZÍROZÁSI BEVÉTELEK | C25: =C26 -> 388792 | D25: =D26 -> 409287 | E25: =E26 -> 88297 | F25: =F26 -> 0 | G25: =G26 -> 0 | H25: =H26 -> 0 | I25: =I26 -> 0 | J25: =J26 -> 423179
A26: B81 | B26: Belföldi finanszírozás bevételei | C26: =C27 -> 388792 | D26: =D27+D28 -> 409287 | E26: =E27+E28 -> 88297 | F26: =F27+F28 -> 0 | G26: =G27+G28 -> 0 | H26: =H27+H28 -> 0 | I26: =I27+I28 -> 0 | J26: =J27 -> 423179
A27: B816 | B27: Központi, önkormányzattól kapott támogatás | C27: =426431+2046-34605-5080 -> 388792 | D27: 409287 | E27: 13892 | J27: =SUM(D27:I27) -> 423179
A28: B813 | B28: Maradvány | D28: 0 | E28: 74405 | J28: =SUM(D28:I28) -> 74405
A29: IV.K9 | B29: FINANSZÍROZÁSI KIADÁSOK | C29: =C30 -> 0 | D29: =D30 -> 0 | E29: =E30 -> 0 | F29: =F30 -> 0 | G29: =G30 -> 0 | H29: =H30 -> 0 | I29: =I30 -> 0 | J29: =J30 -> 0
A30: K91 | B30: Belföldi finanszírozás kiadásai | C30: =C31 -> 0 | D30: =D31 -> 0 | E30: =E31 -> 0 | F30: =F31 -> 0 | G30: =G31 -> 0 | H30: =H31 -> 0 | I30: =I31 -> 0 | J30: =J31 -> 0
A31: K915 | B31: Központi, irányító szervi támogatások folyósítása | D31: 0 | J31: =SUM(D31:I31) -> 0
B32: FINANSZÍROZÁSI EGYENLEG (III.-IV.) | C32: =C25-C29 -> 388792 | D32: =D25-D29 -> 409287 | E32: =E25-E29 -> 88297 | F32: =F25-F29 -> 0 | G32: =G25-G29 -> 0 | H32: =H25-H29 -> 0 | I32: =I25-I29 -> 0 | J32: =SUM(D32:I32) -> 497584
B33: BEVÉTELEK MINDÖSSZESEN (I.+III.) | C33: =C3+C25 -> 891812 | D33: =D3+D25 -> 935820 | E33: =E3+E25 -> 92297 | F33: =F3+F25 -> 0 | G33: =G3+G25 -> 0 | H33: =H3+H25 -> 0 | I33: =I3+I25 -> 0 | J33: =SUM(D33:I33) -> 1028117
B34: Ebből: Működési | C34: =C6+C8+C9+C11 -> 500020 | D34: =D6+D8+D9+D11 -> 526533 | E34: =E6+E8+E9+E11 -> 4000 | F34: =F6+F8+F9+F11 -> 0 | G34: =G6+G8+G9+G11 -> 0 | H34: =H6+H8+H9+H11 -> 0 | I34: =I6+I8+I9+I11 -> 0 | J34: =SUM(D34:I34) -> 530533
B35: Ebből: Felhalmozási | C35: =C7+C10+C12 -> 3000 | D35: =D7+D10+D12 -> 0 | E35: =E7+E10+E12 -> 0 | F35: =F7+F10+F12 -> 0 | G35: =G7+G10+G12 -> 0 | H35: =H7+H10+H12 -> 0 | I35: =I7+I10+I12 -> 0 | J35: =SUM(D35:I35) -> 0
B36: Ebből: Finanszírozási | C36: =C25 -> 388792 | D36: =D25 -> 409287 | E36: =E25 -> 88297 | F36: =F25 -> 0 | G36: =G25 -> 0 | H36: =H25 -> 0 | I36: =I25 -> 0 | J36: =SUM(D36:I36) -> 497584
B37: KIADÁSOK MINDÖSSZESEN (II.+IV.) | C37: =C13+C29 -> 891812 | D37: =D13+D29 -> 935820 | E37: =E13+E29 -> 92297 | F37: =F13+F29 -> 0 | G37: =G13+G29 -> 0 | H37: =H13+H29 -> 0 | I37: =I13+I29 -> 0 | J37: =SUM(D37:I37) -> 1028117
B38: Ebből: Működési | C38: =C14+C15+C16+C17+C18 -> 873852 | D38: =D14+D15+D16+D17+D18 -> 900798 | E38: =E14+E15+E16+E17+E18 -> 92297 | F38: =F14+F15+F16+F17+F18 -> 0 | G38: =G14+G15+G16+G17+G18 -> 0 | H38: =H14+H15+H16+H17+H18 -> 0 | I38: =I14+I15+I16+I17+I18 -> 0 | J38: =SUM(D38:I38) -> 993095
B39: Ebből: Felhalmozási | C39: =C19+C20+C21 -> 17960 | D39: =D19+D20+D21 -> 35022 | E39: =E19+E20+E21 -> 0 | F39: =F19+F20+F21 -> 0 | G39: =G19+G20+G21 -> 0 | H39: =H19+H20+H21 -> 0 | I39: =I19+I20+I21 -> 0 | J39: =SUM(D39:I39) -> 35022
B40: Ebből: Finanszírozási | C40: =C29 -> 0 | D40: =D29 -> 0 | E40: =E29 -> 0 | F40: =F29 -> 0 | G40: =G29 -> 0 | H40: =H29 -> 0 | I40: =I29 -> 0 | J40: =SUM(D40:I40) -> 0
...

Sheet Óvoda 2f
B1: Szentendre Városi Óvodák | C1: 2018 terv | D1: 2019 terv
C2: Kötelező feladatok | D2: Kötelező feladatok | E2: 1. módosítás 2019.06.13. | J2: Összesen
A3: I. | B3: KÖLTSÉGVETÉSI BEVÉTELEK | C3: =C6+C7+C8+C9+C10+C11+C12 -> 31565 | D3: =D6+D7+D8+D9+D10+D11+D12 -> 26710 | E3: =E6+E7+E8+E9+E10+E11+E12 -> 0 | F3: =F6+F7+F8+F9+F10+F11+F12 -> 0 | G3: =G6+G7+G8+G9+G10+G11+G12 -> 0 | H3: =H6+H7+H8+H9+H10+H11+H12 -> 0 | I3: =I6+I7+I8+I9+I10+I11+I12 -> 0 | J3: =J6+J7+J8+J9+J10+J11+J12 -> 26710
A4: B11 | B4: Önkormányzatok működési támogatásai | D4: 0 | J4: =SUM(D4:I4) -> 0
A5: B16 | B5: Egyéb működési célú támogatások ÁHT-n belülről (benne OEP finanszírozás) | D5: 0 | J5: =SUM(D5:I5) -> 0
A6: B1 | B6: Működési célú támogatások államháztartáson belülről | C6: =SUM(C4:C5) -> 0 | D6: =SUM(D4:D5) -> 0 | E6: =SUM(E4:E5) -> 0 | F6: =SUM(F4:F5) -> 0 | G6: =SUM(G4:G5) -> 0 | H6: =SUM(H4:H5) -> 0 | I6: =SUM(I4:I5) -> 0 | J6: =SUM(J4:J5) -> 0
A7: B2 | B7: Felhalmozási célú támogatások államháztartáson belülről | D7: 0 | J7: =SUM(D7:I7) -> 0
A8: B3 | B8: Közhatalmi bevételek | D8: 0 | J8: =SUM(D8:I8) -> 0
A9: B4 | B9: Működési bevételek | C9: 31565 | D9: 26710 | J9: =SUM(D9:I9) -> 26710
A10: B5 | B10: Felhalmozási bevételek | D10: 0 | J10: =SUM(D10:I10) -> 0
A11: B6 | B11: Működési célú átvett pénzeszköz | D11: 0 | J11: =SUM(D11:I11) -> 0
A12: B7 | B12: Felhalmozási célú átvett pénzeszköz | D12: 0 | J12: =SUM(D12:I12) -> 0
A13: II. | B13: KÖLTSÉGVETÉSI KIADÁSOK | C13: =C14+C15+C16+C17+C18+C19+C20+C21 -> 673176 | D13: =D14+D15+D16+D17+D18+D19+D20+D21 -> 681843 | E13: =E14+E15+E16+E17+E18+E19+E20+E21 -> 1241 | F13: =F14+F15+F16+F17+F18+F19+F20+F21 -> 0 | G13: =G14+G15+G16+G17+G18+G19+G20+G21 -> 0 | H13: =H14+H15+H16+H17+H18+H19+H20+H21 -> 0 | I13: =I14+I15+I16+I17+I18+I19+I20+I21 -> 0 | J13: =J14+J15+J16+J17+J18+J19+J20+J21 -> 683084
A14: K1 | B14: Személyi juttatások | C14: 423022 | D14: 439761 | J14: =SUM(D14:I14) -> 439761
A15: K2 | B15: Munkaadókat terhelő járulékok és szociális hozzájárulási adó | C15: 93480 | D15: 90700 | J15: =SUM(D15:I15) -> 90700
A16: K3 | B16: Dologi kiadások | C16: 151674 | D16: 146382 | E16: 1241 | J16: =SUM(D16:I16) -> 147623
A17: K4 | B17: Ellátottak pénzbeli juttatásai | C17: 0 | J17: =SUM(D17:I17) -> 0
A18: K5 | B18: Egyéb működési célú kiadások | C18: 0 | J18: =SUM(D18:I18) -> 0
A19: K6 | B19: Beruházások | C19: 5000 | D19: 5000 | J19: =SUM(D19:I19) -> 5000
A20: K7 | B20: Felújítások | J20: =SUM(D20:I20) -> 0
A21: K8 | B21: Egyéb felhalmozási célú kiadások | J21: =SUM(D21:I21) -> 0
B22: EGYENLEG (I.-II.) | C22: =C3-C13 -> -641611 | D22: =D3-D13 -> -655133 | E22: =E3-E13 -> -1241 | F22: =F3-F13 -> 0 | G22: =G3-G13 -> 0 | H22: =H3-H13 -> 0 | I22: =I3-I13 -> 0 | J22: =J3-J13 -> -656374
B23: Működési | C23: =C6+C8+C9+C11-C14-C15-C16-C17-C18-C19-C20 -> -641611 | D23: =D6+D8+D9+D11-D14-D15-D16-D17-D18 -> -650133 | E23: =E6+E8+E9+E11-E14-E15-E16-E17-E18 -> -1241 | F23: =F6+F8+F9+F11-F14-F15-F16-F17-F18 -> 0 | G23: =G6+G8+G9+G11-G14-G15-G16-G17-G18 -> 0 | H23: =H6+H8+H9+H11-H14-H15-H16-H17-H18 -> 0 | I23: =I6+I8+I9+I11-I14-I15-I16-I17-I18 -> 0 | J23: =J6+J8+J9+J11-J14-J15-J16-J17-J18 -> -651374
B24: Felhalmozási | C24: =C7+C10+C12-C21 -> 0 | D24: =D7+D10+D12-D19-D20-D21 -> -5000 | E24: =E7+E10+E12-E19-E20-E21 -> 0 | F24: =F7+F10+F12-F19-F20-F21 -> 0 | G24: =G7+G10+G12-G19-G20-G21 -> 0 | H24: =H7+H10+H12-H19-H20-H21 -> 0 | I24: =I7+I10+I12-I19-I20-I21 -> 0 | J24: =J7+J10+J12-J19-J20-J21 -> -5000
A25: III.B8 | B25: FINANSZÍROZÁSI BEVÉTELEK | C25: =C26 -> 641611 | D25: =D26 -> 655133 | E25: =E26 -> 1241 | F25: =F26 -> 0 | G25: =G26 -> 0 | H25: =H26 -> 0 | I25: =I26 -> 0 | J25: =J26 -> 656374
A26: B81 | B26: Belföldi finanszírozás bevételei | C26: =C27 -> 641611 | D26: =D27+D28 -> 655133 | E26: =E27+E28 -> 1241 | F26: =F27+F28 -> 0 | G26: =G27+G28 -> 0 | H26: =H27+H28 -> 0 | I26: =I27+I28 -> 0 | J26: =J27+J28 -> 656374
A27: B816 | B27: Központi, önkormányzattól kapott támogatás | C27: 641611 | D27: 655133 | E27: -1943 | J27: =SUM(D27:I27) -> 653190
A28: B813 | B28: Maradvány | D28: 0 | E28: 3184 | J28: =SUM(D28:I28) -> 3184
A29: IV.K9 | B29: FINANSZÍROZÁSI KIADÁSOK | C29: =C30 -> 0 | D29: =D30 -> 0 | E29: =E30 -> 0 | F29: =F30 -> 0 | G29: =G30 -> 0 | H29: =H30 -> 0 | I29: =I30 -> 0 | J29: =J30 -> 0
A30: K91 | B30: Belföldi finanszírozás kiadásai | C30: =C31 -> 0 | D30: =D31 -> 0 | E30: =E31 -> 0 | F30: =F31 -> 0 | G30: =G31 -> 0 | H30: =H31 -> 0 | I30: =I31 -> 0 | J30: =J31 -> 0
A31: K915 | B31: Központi, irányító szervi támogatások folyósítása | D31: 0 | J31: =SUM(D31:I31) -> 0
B32: FINANSZÍROZÁSI EGYENLEG (III.-IV.) | C32: =C25-C29 -> 641611 | D32: =D25-D29 -> 655133 | E32: =E25-E29 -> 1241 | F32: =F25-F29 -> 0 | G32: =G25-G29 -> 0 | H32: =H25-H29 -> 0 | I32: =I25-I29 -> 0 | J32: =J25-J29 -> 656374
B33: BEVÉTELEK MINDÖSSZESEN (I.+III.) | C33: =C3+C25 -> 673176 | D33: =D3+D25 -> 681843 | E33: =E3+E25 -> 1241 | F33: =F3+F25 -> 0 | G33: =G3+G25 -> 0 | H33: =H3+H25 -> 0 | I33: =I3+I25 -> 0 | J33: =J3+J25 -> 683084
B34: Ebből: Működési | C34: =C6+C8+C9+C11 -> 31565 | D34: =D6+D8+D9+D11 -> 26710 | E34: =E6+E8+E9+E11 -> 0 | F34: =F6+F8+F9+F11 -> 0 | G34: =G6+G8+G9+G11 -> 0 | H34: =H6+H8+H9+H11 -> 0 | I34: =I6+I8+I9+I11 -> 0 | J34: =J6+J8+J9+J11 -> 26710
B35: Ebből: Felhalmozási | C35: =C7+C10+C12 -> 0 | D35: =D7+D10+D12 -> 0 | E35: =E7+E10+E12 -> 0 | F35: =F7+F10+F12 -> 0 | G35: =G7+G10+G12 -> 0 | H35: =H7+H10+H12 -> 0 | I35: =I7+I10+I12 -> 0 | J35: =J7+J10+J12 -> 0
B36: Ebből: Finanszírozási | C36: =C25 -> 641611 | D36: =D25 -> 655133 | E36: =E25 -> 1241 | F36: =F25 -> 0 | G36: =G25 -> 0 | H36: =H25 -> 0 | I36: =I25 -> 0 | J36: =J25 -> 656374
B37: KIADÁSOK MINDÖSSZESEN (II.+IV.) | C37: =C13+C29 -> 673176 | D37: =D13+D29 -> 681843 | E37: =E13+E29 -> 1241 | F37: =F13+F29 -> 0 | G37: =G13+G29 -> 0 | H37: =H13+H29 -> 0 | I37: =I13+I29 -> 0 | J37: =J13+J29 -> 683084
B38: Ebből: Működési | C38: =C14+C15+C16+C17+C18 -> 668176 | D38: =D14+D15+D16+D17+D18 -> 676843 | E38: =E14+E15+E16+E17+E18 -> 1241 | F38: =F14+F15+F16+F17+F18 -> 0 | G38: =G14+G15+G16+G17+G18 -> 0 | H38: =H14+H15+H16+H17+H18 -> 0 | I38: =I14+I15+I16+I17+I18 -> 0 | J38: =J14+J15+J16+J17+J18 -> 678084
B39: Ebből: Felhalmozási | C39: =C19+C20+C21 -> 5000 | D39: =D19+D20+D21 -> 5000 | E39: =E19+E20+E21 -> 0 | F39: =F19+F20+F21 -> 0 | G39: =G19+G20+G21 -> 0 | H39: =H19+H20+H21 -> 0 | I39: =I19+I20+I21 -> 0 | J39: =J19+J20+J21 -> 5000
B40: Ebből: Finanszírozási | C40: =C29 -> 0 | D40: =D29 -> 0 | E40: =E29 -> 0 | F40: =F29 -> 0 | G40: =G29 -> 0 | H40: =H29 -> 0 | I40: =I29 -> 0 | J40: =J29 -> 0
...

Sheet Bölcsőde 2g
B1: Püspökmajor-lakótelepi Bölcsőde | C1: 2018 terv | D1: 2019 terv
C2: Kötelező feladatok | D2: Kötelező feladatok | E2: 1. módosítás 2019.06.13. | J2: Kötelező feladatok
A3: I. | B3: KÖLTSÉGVETÉSI BEVÉTELEK | C3: =C6+C7+C8+C9+C10+C11+C12 -> 14610 | D3: =D6+D7+D8+D9+D10+D11+D12 -> 15915 | E3: =E6+E7+E8+E9+E10+E11+E12 -> 0 | F3: =F6+F7+F8+F9+F10+F11+F12 -> 0 | G3: =G6+G7+G8+G9+G10+G11+G12 -> 0 | H3: =H6+H7+H8+H9+H10+H11+H12 -> 0 | I3: =I6+I7+I8+I9+I10+I11+I12 -> 0 | J3: =J6+J7+J8+J9+J10+J11+J12 -> 15915
A4: B11 | B4: Önkormányzatok működési támogatásai | D4: 0 | J4: =SUM(D4:I4) -> 0
A5: B16 | B5: Egyéb működési célú támogatások ÁHT-n belülről (benne OEP finanszírozás) | D5: 0 | J5: =SUM(D5:I5) -> 0
A6: B1 | B6: Működési célú támogatások államháztartáson belülről | C6: =SUM(C4:C5) -> 0 | D6: =SUM(D4:D5) -> 0 | E6: =SUM(E4:E5) -> 0 | F6: =SUM(F4:F5) -> 0 | G6: =SUM(G4:G5) -> 0 | H6: =SUM(H4:H5) -> 0 | I6: =SUM(I4:I5) -> 0 | J6: =SUM(J4:J5) -> 0
A7: B2 | B7: Felhalmozási célú támogatások államháztartáson belülről | D7: 0 | J7: =SUM(D7:I7) -> 0
A8: B3 | B8: Közhatalmi bevételek | D8: 0 | J8: =SUM(D8:I8) -> 0
A9: B4 | B9: Működési bevételek | C9: 14610 | D9: 15915 | J9: =SUM(D9:I9) -> 15915
A10: B5 | B10: Felhalmozási bevételek | D10: 0 | J10: =SUM(D10:I10) -> 0
A11: B6 | B11: Működési célú átvett pénzeszköz | D11: 0 | J11: =SUM(D11:I11) -> 0
A12: B7 | B12: Felhalmozási célú átvett pénzeszköz | D12: 0 | J12: =SUM(D12:I12) -> 0
A13: II. | B13: KÖLTSÉGVETÉSI KIADÁSOK | C13: =C14+C15+C16+C17+C18+C19+C20+C21 -> 151699 | D13: =D14+D15+D16+D17+D18+D19+D20+D21 -> 187075 | E13: =E14+E15+E16+E17+E18+E19+E20+E21 -> 1467 | F13: =F14+F15+F16+F17+F18+F19+F20+F21 -> 0 | G13: =G14+G15+G16+G17+G18+G19+G20+G21 -> 0 | H13: =H14+H15+H16+H17+H18+H19+H20+H21 -> 0 | I13: =I14+I15+I16+I17+I18+I19+I20+I21 -> 0 | J13: =J14+J15+J16+J17+J18+J19+J20+J21 -> 188542
A14: K1 | B14: Személyi juttatások | C14: 90947 | D14: 117948 | E14: 1037 | J14: =SUM(D14:I14) -> 118985
A15: K2 | B15: Munkaadókat terhelő járulékok és szociális hozzájárulási adó | C15: 20735 | D15: 26820 | E15: 202 | J15: =SUM(D15:I15) -> 27022
A16: K3 | B16: Dologi kiadások | C16: 37517 | D16: 39307 | E16: 228 | J16: =SUM(D16:I16) -> 39535
A17: K4 | B17: Ellátottak pénzbeli juttatásai | C17: 0 | D17: 0 | J17: =SUM(D17:I17) -> 0
A18: K5 | B18: Egyéb működési célú kiadások | C18: 0 | D18: 0 | J18: =SUM(D18:I18) -> 0
A19: K6 | B19: Beruházások | C19: 2500 | D19: 3000 | J19: =SUM(D19:I19) -> 3000
A20: K7 | B20: Felújítások | D20: 0 | J20: =SUM(D20:I20) -> 0
A21: K8 | B21: Egyéb felhalmozási célú kiadások | D21: 0 | J21: =SUM(D21:I21) -> 0
B22: EGYENLEG (I.-II.) | C22: =C3-C13 -> -137089 | D22: =D3-D13 -> -171160 | E22: =E3-E13 -> -1467 | F22: =F3-F13 -> 0 | G22: =G3-G13 -> 0 | H22: =H3-H13 -> 0 | I22: =I3-I13 -> 0 | J22: =J3-J13 -> -172627
B23: Működési | C23: =C6+C8+C9+C11-C14-C15-C16-C17-C18-C19-C20 -> -137089 | D23: =D6+D8+D9+D11-D14-D15-D16-D17-D18 -> -168160 | E23: =E6+E8+E9+E11-E14-E15-E16-E17-E18 -> -1467 | F23: =F6+F8+F9+F11-F14-F15-F16-F17-F18 -> 0 | G23: =G6+G8+G9+G11-G14-G15-G16-G17-G18 -> 0 | H23: =H6+H8+H9+H11-H14-H15-H16-H17-H18 -> 0 | I23: =I6+I8+I9+I11-I14-I15-I16-I17-I18 -> 0 | J23: =J6+J8+J9+J11-J14-J15-J16-J17-J18 -> -169627
B24: Felhalmozási | C24: =C7+C10+C12-C21 -> 0 | D24: =D7+D10+D12-D19-D20-D21 -> -3000 | E24: =E7+E10+E12-E19-E20-E21 -> 0 | F24: =F7+F10+F12-F19-F20-F21 -> 0 | G24: =G7+G10+G12-G19-G20-G21 -> 0 | H24: =H7+H10+H12-H19-H20-H21 -> 0 | I24: =I7+I10+I12-I19-I20-I21 -> 0 | J24: =J7+J10+J12-J19-J20-J21 -> -3000
A25: III.B8 | B25: FINANSZÍROZÁSI BEVÉTELEK | C25: =C26 -> 137089 | D25: =D26 -> 171160 | E25: =E26 -> 1467 | F25: =F26 -> 0 | G25: =G26 -> 0 | H25: =H26 -> 0 | I25: =I26 -> 0 | J25: =J26 -> 172627
A26: B81 | B26: Belföldi finanszírozás bevételei | C26: =C27 -> 137089 | D26: =D27 -> 171160 | E26: =E27+E28 -> 1467 | F26: =F27 -> 0 | G26: =G27 -> 0 | H26: =H27 -> 0 | I26: =I27 -> 0 | J26: =J27+J28 -> 172627
A27: B816 | B27: Központi, önkormányzattól kapott támogatás | C27: 137089 | D27: 171160 | E27: 34 | J27: =SUM(D27:I27) -> 171194
A28: B813 | B28: Maradvány | E28: 1433 | J28: =D28+E28 -> 1433
A29: IV.K9 | B29: FINANSZÍROZÁSI KIADÁSOK | C29: =C30 -> 0 | D29: =D30 -> 0 | E29: =E30 -> 0 | F29: =F30 -> 0 | G29: =G30 -> 0 | H29: =H30 -> 0 | I29: =I30 -> 0 | J29: =J30 -> 0
A30: K91 | B30: Belföldi finanszírozás kiadásai | C30: =C31 -> 0 | D30: =D31 -> 0 | E30: =E31 -> 0 | F30: =F31 -> 0 | G30: =G31 -> 0 | H30: =H31 -> 0 | I30: =I31 -> 0 | J30: =J31 -> 0
A31: K915 | B31: Központi, irányító szervi támogatások folyósítása | D31: 0 | J31: =SUM(D31:I31) -> 0
B32: FINANSZÍROZÁSI EGYENLEG (III.-IV.) | C32: =C25-C29 -> 137089 | D32: =D25-D29 -> 171160 | E32: =E25-E29 -> 1467 | F32: =F25-F29 -> 0 | G32: =G25-G29 -> 0 | H32: =H25-H29 -> 0 | I32: =I25-I29 -> 0 | J32: =J25-J29 -> 172627
B33: BEVÉTELEK MINDÖSSZESEN (I.+III.) | C33: =C3+C25 -> 151699 | D33: =D3+D25 -> 187075 | E33: =E3+E25 -> 1467 | F33: =F3+F25 -> 0 | G33: =G3+G25 -> 0 | H33: =H3+H25 -> 0 | I33: =I3+I25 -> 0 | J33: =J3+J25 -> 188542
B34: Ebből: Működési | C34: =C6+C8+C9+C11 -> 14610 | D34: =D6+D8+D9+D11 -> 15915 | E34: =E6+E8+E9+E11 -> 0 | F34: =F6+F8+F9+F11 -> 0 | G34: =G6+G8+G9+G11 -> 0 | H34: =H6+H8+H9+H11 -> 0 | I34: =I6+I8+I9+I11 -> 0 | J34: =J6+J8+J9+J11 -> 15915
B35: Ebből: Felhalmozási | C35: =C7+C10+C12 -> 0 | D35: =D7+D10+D12 -> 0 | E35: =E7+E10+E12 -> 0 | F35: =F7+F10+F12 -> 0 | G35: =G7+G10+G12 -> 0 | H35: =H7+H10+H12 -> 0 | I35: =I7+I10+I12 -> 0 | J35: =J7+J10+J12 -> 0
B36: Ebből: Finanszírozási | C36: =C25 -> 137089 | D36: =D25 -> 171160 | E36: =E25 -> 1467 | F36: =F25 -> 0 | G36: =G25 -> 0 | H36: =H25 -> 0 | I36: =I25 -> 0 | J36: =J25 -> 172627
B37: KIADÁSOK MINDÖSSZESEN (II.+IV.) | C37: =C13+C29 -> 151699 | D37: =D13+D29 -> 187075 | E37: =E13+E29 -> 1467 | F37: =F13+F29 -> 0 | G37: =G13+G29 -> 0 | H37: =H13+H29 -> 0 | I37: =I13+I29 -> 0 | J37: =J13+J29 -> 188542
B38: Ebből: Működési | C38: =C14+C15+C16+C17+C18 -> 149199 | D38: =D14+D15+D16+D17+D18 -> 184075 | E38: =E14+E15+E16+E17+E18 -> 1467 | F38: =F14+F15+F16+F17+F18 -> 0 | G38: =G14+G15+G16+G17+G18 -> 0 | H38: =H14+H15+H16+H17+H18 -> 0 | I38: =I14+I15+I16+I17+I18 -> 0 | J38: =J14+J15+J16+J17+J18 -> 185542
B39: Ebből: Felhalmozási | C39: =C19+C20+C21 -> 2500 | D39: =D19+D20+D21 -> 3000 | E39: =E19+E20+E21 -> 0 | F39: =F19+F20+F21 -> 0 | G39: =G19+G20+G21 -> 0 | H39: =H19+H20+H21 -> 0 | I39: =I19+I20+I21 -> 0 | J39: =J19+J20+J21 -> 3000
B40: Ebből: Finanszírozási | C40: =C29 -> 0 | D40: =D29 -> 0 | E40: =E29 -> 0 | F40: =F29 -> 0 | G40: =G29 -> 0 | H40: =H29 -> 0 | I40: =I29 -> 0 | J40: =J29 -> 0
...

Sheet Gondozási 2h
B1: Gondozási Központ Szentendre | C1: 2018 terv | D1: 2019 terv
C2: Kötelező feladatok | D2: Kötelező feladatok | E2: 1. módosítás 2019.06.13. | J2: Kötelező feladatok
A3: I. | B3: KÖLTSÉGVETÉSI BEVÉTELEK | C3: =C6+C7+C8+C9+C10+C11+C12 -> 123169 | D3: =D6+D7+D8+D9+D10+D11+D12 -> 127579 | E3: =E6+E7+E8+E9+E10+E11+E12 -> 0 | F3: =F6+F7+F8+F9+F10+F11+F12 -> 0 | G3: =G6+G7+G8+G9+G10+G11+G12 -> 0 | H3: =H6+H7+H8+H9+H10+H11+H12 -> 0 | I3: =I6+I7+I8+I9+I10+I11+I12 -> 0 | J3: =J6+J7+J8+J9+J10+J11+J12 -> 127579
A4: B11 | B4: Önkormányzatok működési támogatásai | D4: 0 | J4: =SUM(D4:I4) -> 0
A5: B16 | B5: Egyéb működési célú támogatások ÁHT-n belülről (benne OEP finanszírozás) | C5: 88450 | D5: 84411 | J5: =SUM(D5:I5) -> 84411
A6: B1 | B6: Működési célú támogatások államháztartáson belülről | C6: =SUM(C4:C5) -> 88450 | D6: =SUM(D4:D5) -> 84411 | E6: =SUM(E4:E5) -> 0 | F6: =SUM(F4:F5) -> 0 | G6: =SUM(G4:G5) -> 0 | H6: =SUM(H4:H5) -> 0 | I6: =SUM(I4:I5) -> 0 | J6: =SUM(J4:J5) -> 84411
A7: B2 | B7: Felhalmozási célú támogatások államháztartáson belülről | D7: 0 | J7: =SUM(D7:I7) -> 0
A8: B3 | B8: Közhatalmi bevételek | D8: 0 | J8: =SUM(D8:I8) -> 0
A9: B4 | B9: Működési bevételek | C9: 34719 | D9: 43168 | J9: =SUM(D9:I9) -> 43168
A10: B5 | B10: Felhalmozási bevételek | D10: 0 | J10: =SUM(D10:I10) -> 0
A11: B6 | B11: Működési célú átvett pénzeszköz | D11: 0 | J11: =SUM(D11:I11) -> 0
A12: B7 | B12: Felhalmozási célú átvett pénzeszköz | D12: 0 | J12: =SUM(D12:I12) -> 0
A13: II. | B13: KÖLTSÉGVETÉSI KIADÁSOK | C13: =C14+C15+C16+C17+C18+C19+C20+C21 -> 244678 | D13: =D14+D15+D16+D17+D18+D19+D20+D21 -> 282462 | E13: =E14+E15+E16+E17+E18+E19+E20+E21 -> 19043 | F13: =F14+F15+F16+F17+F18+F19+F20+F21 -> 0 | G13: =G14+G15+G16+G17+G18+G19+G20+G21 -> 0 | H13: =H14+H15+H16+H17+H18+H19+H20+H21 -> 0 | I13: =I14+I15+I16+I17+I18+I19+I20+I21 -> 0 | J13: =J14+J15+J16+J17+J18+J19+J20+J21 -> 301505
A14: K1 | B14: Személyi juttatások | C14: 134861 | D14: 164881 | E14: 14325 | J14: =SUM(D14:I14) -> 179206
A15: K2 | B15: Munkaadókat terhelő járulékok és szociális hozzájárulási adó | C15: 30159 | D15: 33523 | E15: 2793 | J15: =SUM(D15:I15) -> 36316
