Workbook

Sheet össz 2
B1: Összesítés | C1: 2018 terv | F1: 2019 terv
C2: Önkormányzat összesen | D2: Intézmények (PH+Int.) összesen | E2: Mindösszesen | F2: Önkormányzat összesen | G2: Intézmények (PH+Int.) összesen | H2: Mindösszesen
A3: I. | B3: KÖLTSÉGVETÉSI BEVÉTELEK | C3: =C6+C7+C8+C15+C16+C17+C18 -> 6000909 | D3: =D6+D7+D8+D15+D16+D17+D18 -> 1395664 | E3: =E6+E7+E8+E15+E16+E17+E18 -> 7396573 | F3: =F6+F7+F8+F15+F16+F17+F18 -> 7725356 | G3: =G6+G7+G8+G15+G16+G17+G18 -> 1516993 | H3: =H6+H7+H8+H15+H16+H17+H18 -> 9242349
A4: B11 | B4: Önkormányzatok működési támogatásai | C4: ='Önk 2a'!C4 -> 1424039 | D4: ='PH 2b'!C4+'SZEI 2c'!C4+'HBPMK 2d'!C4+'FMC 2e'!C4+'Óvoda 2f'!C4+'Bölcsőde 2g'!C4+'Gondozási 2h'!C4 -> 0 | E4: =C4+D4 -> 1424039 | F4: ='Önk 2a'!M4 -> 1579238 | G4: ='PH 2b'!I4+'SZEI 2c'!J4+'HBPMK 2d'!J4+'FMC 2e'!J4+'Óvoda 2f'!J4+'Bölcsőde 2g'!J4+'Gondozási 2h'!J4+'SZERI 2i'!H4 -> 0 | H4: =F4+G4 -> 1579238
A5: B16 | B5: Egyéb működési célú támogatások ÁHT-n belülről (benne OEP finanszírozás) | C5: ='Önk 2a'!C5 -> 14033 | D5: ='PH 2b'!C5+'SZEI 2c'!C5+'HBPMK 2d'!C5+'FMC 2e'!C5+'Óvoda 2f'!C5+'Bölcsőde 2g'!C5+'Gondozási 2h'!C5 -> 774925 | E5: =C5+D5 -> 788958 | F5: ='Önk 2a'!M5 -> 3500 | G5: ='PH 2b'!I5+'SZEI 2c'!J5+'HBPMK 2d'!J5+'FMC 2e'!J5+'Óvoda 2f'!J5+'Bölcsőde 2g'!J5+'Gondozási 2h'!J5+'SZERI 2i'!H5 -> 867535 | H5: =F5+G5 -> 871035
A6: B1 | B6: Működési célú támogatások államháztartáson belülről | C6: =SUM(C4:C5) -> 1438072 | D6: =SUM(D4:D5) -> 774925 | E6: =SUM(E4:E5) -> 2212997 | F6: =SUM(F4:F5) -> 1582738 | G6: ='PH 2b'!I6+'SZEI 2c'!J6+'HBPMK 2d'!J6+'FMC 2e'!J6+'Óvoda 2f'!J6+'Bölcsőde 2g'!J6+'Gondozási 2h'!J6+'SZERI 2i'!H6 -> 867535 | H6: =SUM(H4:H5) -> 2450273
A7: B2 | B7: Felhalmozási célú támogatások államháztartáson belülről | C7: ='Önk 2a'!C7 -> 94998 | D7: ='PH 2b'!C7+'SZEI 2c'!C7+'HBPMK 2d'!C7+'FMC 2e'!C7+'Óvoda 2f'!C7+'Bölcsőde 2g'!C7+'Gondozási 2h'!C7 -> 3000 | E7: =C7+D7 -> 97998 | F7: ='Önk 2a'!M7 -> 290639 | G7: ='PH 2b'!I7+'SZEI 2c'!J7+'HBPMK 2d'!J7+'FMC 2e'!J7+'Óvoda 2f'!J7+'Bölcsőde 2g'!J7+'Gondozási 2h'!J7+'SZERI 2i'!H7 -> 4000 | H7: =F7+G7 -> 294639
A8: B3 | B8: Közhatalmi bevételek | C8: =SUM(C9,C10,C14) -> 2611600 | D8: ='PH 2b'!C8+'SZEI 2c'!C8+'HBPMK 2d'!C8+'FMC 2e'!C8+'Óvoda 2f'!C8+'Bölcsőde 2g'!C8+'Gondozási 2h'!C8 -> 0 | E8: =SUM(E9,E10,E14) -> 2611600 | F8: =SUM(F9,F10,F14) -> 2994942 | G8: ='PH 2b'!I8+'SZEI 2c'!J8+'HBPMK 2d'!J8+'FMC 2e'!J8+'Óvoda 2f'!J8+'Bölcsőde 2g'!J8+'Gondozási 2h'!J8+'SZERI 2i'!H8 -> 0 | H8: =SUM(H9,H10,H14) -> 2994942
A9: B34 | B9: Vagyoni tipusú adók (építményadó, ép.utáni IFA, magánsz.komm.adója, telekadó) | C9: ='Önk 2a'!C9 -> 683000 | E9: =C9+D9 -> 683000 | F9: ='Önk 2a'!M9 -> 598000 | H9: =F9+G9 -> 598000
A10: B35 | B10: Termékek és szolgáltatások adói | C10: =SUM(C11:C13) -> 1882000 | E10: =SUM(E11:E13) -> 1882000 | F10: =SUM(F11:F13) -> 2271942 | H10: =SUM(H11:H13) -> 2271942
A11: B351 | B11: Értékesítési és forgalmi adók (IPA) | C11: ='Önk 2a'!C11 -> 1750000 | E11: =C11+D11 -> 1750000 | F11: ='Önk 2a'!M11 -> 2131180 | H11: =F11+G11 -> 2131180
A12: B354 | B12: Gépjármű adók | C12: ='Önk 2a'!C12 -> 115000 | E12: =C12+D12 -> 115000 | F12: ='Önk 2a'!M12 -> 121262 | H12: =F12+G12 -> 121262
A13: B355 | B13: Egyéb áruhasználati és szolgáltatási adók (tart.utáni IFA, talajterhelési díj) | C13: ='Önk 2a'!C13 -> 17000 | E13: =C13+D13 -> 17000 | F13: ='Önk 2a'!M13 -> 19500 | H13: =F13+G13 -> 19500
A14: B36 | B14: Egyéb közhatalmi bevételek (illeték, bírság) | C14: ='Önk 2a'!C14 -> 46600 | E14: =C14+D14 -> 46600 | F14: ='Önk 2a'!M14 -> 125000 | H14: =F14+G14 -> 125000
A15: B4 | B15: Működési bevételek | C15: 725138 | D15: ='PH 2b'!C9+'SZEI 2c'!C9+'HBPMK 2d'!C9+'FMC 2e'!C9+'Óvoda 2f'!C9+'Bölcsőde 2g'!C9+'Gondozási 2h'!C9 -> 617739 | E15: =C15+D15 -> 1342877 | F15: ='Önk 2a'!M15 -> 863981 | G15: ='PH 2b'!I9+'SZEI 2c'!J9+'HBPMK 2d'!J9+'FMC 2e'!J9+'Óvoda 2f'!J9+'Bölcsőde 2g'!J9+'Gondozási 2h'!J9+'SZERI 2i'!H9 -> 645458 | H15: =F15+G15 -> 1509439
A16: B5 | B16: Felhalmozási bevételek | C16: 929090 | D16: 0 | E16: 929090 | F16: ='Önk 2a'!M16 -> 915821 | G16: 0 | H16: 915821
A17: B6 | B17: Működési célú átvett pénzeszköz | C17: ='Önk 2a'!C17 -> 202011 | D17: ='PH 2b'!C11+'SZEI 2c'!C11+'HBPMK 2d'!C11+'FMC 2e'!C11+'Óvoda 2f'!C11+'Bölcsőde 2g'!C11+'Gondozási 2h'!C11 -> 0 | E17: =C17+D17 -> 202011 | F17: ='Önk 2a'!M17 -> 1069665 | G17: ='PH 2b'!I11+'SZEI 2c'!J11+'HBPMK 2d'!J11+'FMC 2e'!J11+'Óvoda 2f'!J11+'Bölcsőde 2g'!J11+'Gondozási 2h'!J11+'SZERI 2i'!H11 -> 0 | H17: =F17+G17 -> 1069665
A18: B7 | B18: Felhalmozási célú átvett pénzeszköz | C18: ='Önk 2a'!C18 -> 0 | D18: ='PH 2b'!C12+'SZEI 2c'!C12+'HBPMK 2d'!C12+'FMC 2e'!C12+'Óvoda 2f'!C12+'Bölcsőde 2g'!C12+'Gondozási 2h'!C12 -> 0 | E18: =C18+D18 -> 0 | F18: ='Önk 2a'!M18 -> 7570 | G18: ='PH 2b'!I12+'SZEI 2c'!J12+'HBPMK 2d'!J12+'FMC 2e'!J12+'Óvoda 2f'!J12+'Bölcsőde 2g'!J12+'Gondozási 2h'!J12+'SZERI 2i'!H12 -> 0 | H18: =F18+G18 -> 7570
A19: II. | B19: KÖLTSÉGVETÉSI KIADÁSOK | C19: =C20+C23+C24+C30+C31+C36+C37+C38 -> 4405234 | D19: =D20+D23+D24+D30+D31+D36+D37+D38 -> 3749638 | E19: =E20+E23+E24+E30+E31+E36+E37+E38 -> 8154872 | F19: =F20+F23+F24+F30+F31+F36+F37+F38 -> 6674034 | G19: =G20+G23+G24+G30+G31+G36+G37+G38 -> 4400103 | H19: =H20+H23+H24+H30+H31+H36+H37+H38 -> 11074137
A20: K1 | B20: Személyi juttatások | C20: 93628 | D20: ='PH 2b'!C14+'SZEI 2c'!C14+'HBPMK 2d'!C14+'FMC 2e'!C14+'Óvoda 2f'!C14+'Bölcsőde 2g'!C14+'Gondozási 2h'!C14 -> 1994354 | E20: =C20+D20 -> 2087982 | F20: ='Önk 2a'!M20 -> 87429 | G20: ='PH 2b'!I14+'SZEI 2c'!J14+'HBPMK 2d'!J14+'FMC 2e'!J14+'Óvoda 2f'!J14+'Bölcsőde 2g'!J14+'Gondozási 2h'!J14+'SZERI 2i'!H14 -> 2365339 | H20: =F20+G20 -> 2452768
A21: K11 | B21: Foglalkoztatottak személyi juttatásai | C21: ='Önk 2a'!#REF! -> #REF! | E21: =C21+D21 -> #REF! | F21: ='Önk 2a'!#REF! -> #REF! | H21: =F21+G21 -> #REF!
A22: K12 | B22: Külső személyi juttatások | C22: ='Önk 2a'!#REF! -> #REF! | E22: =C22+D22 -> #REF! | F22: ='Önk 2a'!#REF! -> #REF! | H22: =F22+G22 -> #REF!
A23: K2 | B23: Munkaadókat terhelő járulékok és szociális hozzájárulási adó | C23: ='Önk 2a'!C21 -> 14157 | D23: ='PH 2b'!C15+'SZEI 2c'!C15+'HBPMK 2d'!C15+'FMC 2e'!C15+'Óvoda 2f'!C15+'Bölcsőde 2g'!C15+'Gondozási 2h'!C15 -> 417498 | E23: =C23+D23 -> 431655 | F23: ='Önk 2a'!M21 -> 21597 | G23: ='PH 2b'!I15+'SZEI 2c'!J15+'HBPMK 2d'!J15+'FMC 2e'!J15+'Óvoda 2f'!J15+'Bölcsőde 2g'!J15+'Gondozási 2h'!J15+'SZERI 2i'!H15 -> 471306 | H23: =F23+G23 -> 492903
A24: K3 | B24: Dologi kiadások | C24: 1064483 | D24: ='PH 2b'!C16+'SZEI 2c'!C16+'HBPMK 2d'!C16+'FMC 2e'!C16+'Óvoda 2f'!C16+'Bölcsőde 2g'!C16+'Gondozási 2h'!C16 -> 1226972 | E24: =C24+D24 -> 2291455 | F24: ='Önk 2a'!M22 -> 1076972 | G24: ='PH 2b'!I16+'SZEI 2c'!J16+'HBPMK 2d'!J16+'FMC 2e'!J16+'Óvoda 2f'!J16+'Bölcsőde 2g'!J16+'Gondozási 2h'!J16+'SZERI 2i'!H16 -> 1377092 | H24: =F24+G24 -> 2454064
A25: K31 | B25: Készletbeszerzés | C25: ='Önk 2a'!#REF! -> #REF! | E25: =C25+D25 -> #REF! | F25: ='Önk 2a'!#REF! -> #REF! | H25: =F25+G25 -> #REF!
A26: K32 | B26: Kommunikációs szolgáltatások | C26: ='Önk 2a'!#REF! -> #REF! | E26: =C26+D26 -> #REF! | F26: ='Önk 2a'!#REF! -> #REF! | H26: =F26+G26 -> #REF!
A27: K33 | B27: Szolgáltatási kiadások | C27: ='Önk 2a'!#REF! -> #REF! | E27: =C27+D27 -> #REF! | F27: ='Önk 2a'!#REF! -> #REF! | H27: =F27+G27 -> #REF!
A28: K34 | B28: Kiküldetések, reklám- és propaganda kiadások | C28: ='Önk 2a'!#REF! -> #REF! | E28: =C28+D28 -> #REF! | F28: ='Önk 2a'!#REF! -> #REF! | H28: =F28+G28 -> #REF!
A29: K35 | B29: Különféle befizetések és egyéb dologi kiadások | C29: ='Önk 2a'!#REF! -> #REF! | E29: =C29+D29 -> #REF! | F29: ='Önk 2a'!#REF! -> #REF! | H29: =F29+G29 -> #REF!
A30: K4 | B30: Ellátottak pénzbeli juttatásai (6.sz.melléklet) | C30: ='Önk 2a'!C23 -> 27020 | D30: ='PH 2b'!C17+'SZEI 2c'!C17+'HBPMK 2d'!C17+'FMC 2e'!C17+'Óvoda 2f'!C17+'Bölcsőde 2g'!C17+'Gondozási 2h'!C17 -> 0 | E30: =C30+D30 -> 27020 | F30: ='Önk 2a'!M23 -> 25100 | G30: ='PH 2b'!I17+'SZEI 2c'!J17+'HBPMK 2d'!J17+'FMC 2e'!J17+'Óvoda 2f'!J17+'Bölcsőde 2g'!J17+'Gondozási 2h'!J17+'SZERI 2i'!H17 -> 13044 | H30: =F30+G30 -> 38144
A31: K5 | B31: Egyéb működési célú kiadások (4. és 8-sz.melléklet) | C31: =SUM(C32,C33) -> 1376946 | D31: ='PH 2b'!C18+'SZEI 2c'!C18+'HBPMK 2d'!C18+'FMC 2e'!C18+'Óvoda 2f'!C18+'Bölcsőde 2g'!C18+'Gondozási 2h'!C18 -> 0 | E31: =C31+D31 -> 1376946 | F31: =SUM(F32,F33) -> 3305782 | G31: ='PH 2b'!I18+'SZEI 2c'!J18+'HBPMK 2d'!J18+'FMC 2e'!J18+'Óvoda 2f'!J18+'Bölcsőde 2g'!J18+'Gondozási 2h'!J18+'SZERI 2i'!H18 -> 15100 | H31: =F31+G31 -> 3320882
A32: K50,K512 | B32: Ebből: egyéb működési célú támogatások (8.sz.melléklet) | C32: 1317481 | E32: =C32+D32 -> 1317481 | F32: ='Önk 2a'!M25 -> 2726814 | H32: =F32+G32 -> 2726814
A33: K513 | B33: Ebből: tartalék (4.sz.melléklet) | C33: =SUM(C34:C35) -> 59465 | D33: =SUM(D34:D35) -> 0 | E33: =SUM(E34:E35) -> 59465 | F33: =SUM(F34:F35) -> 578968 | G33: =SUM(G34:G35) -> 0 | H33: =SUM(H34:H35) -> 578968
B34: Működési tartalék | C34: ='Önk 2a'!C27 -> 59465 | E34: =C34+D34 -> 59465 | F34: ='Önk 2a'!M27 -> 578968 | H34: =F34+G34 -> 578968
B35: Felhalmozási tartalék | C35: ='Önk 2a'!C28 -> 0 | E35: =C35+D35 -> 0 | F35: ='Önk 2a'!M28 -> 0 | H35: =F35+G35 -> 0
A36: K6 | B36: Beruházások (3/a sz.melléklet) | C36: 940103 | D36: ='PH 2b'!C19+'SZEI 2c'!C19+'HBPMK 2d'!C19+'FMC 2e'!C19+'Óvoda 2f'!C19+'Bölcsőde 2g'!C19+'Gondozási 2h'!C19 -> 110814 | E36: =C36+D36 -> 1050917 | F36: ='Önk 2a'!M29 -> 1006385 | G36: ='PH 2b'!I19+'SZEI 2c'!J19+'HBPMK 2d'!J19+'FMC 2e'!J19+'Óvoda 2f'!J19+'Bölcsőde 2g'!J19+'Gondozási 2h'!J19+'SZERI 2i'!H19 -> 155862 | H36: =F36+G36 -> 1162247
A37: K7 | B37: Felújítások (3/c sz. melléklet) | C37: 805757 | D37: ='PH 2b'!C20+'SZEI 2c'!C20+'HBPMK 2d'!C20+'FMC 2e'!C20+'Óvoda 2f'!C20+'Bölcsőde 2g'!C20+'Gondozási 2h'!C20 -> 0 | E37: =C37+D37 -> 805757 | F37: ='Önk 2a'!M37 -> 1045769 | G37: ='PH 2b'!I20+'SZEI 2c'!J20+'HBPMK 2d'!J20+'FMC 2e'!J20+'Óvoda 2f'!J20+'Bölcsőde 2g'!J20+'Gondozási 2h'!J20+'SZERI 2i'!H20 -> 1000 | H37: =F37+G37 -> 1046769
A38: K8 | B38: Egyéb felhalmozási célú kiadások (6.sz.melléklet) | C38: 83140 | D38: ='PH 2b'!C21+'SZEI 2c'!C21+'HBPMK 2d'!C21+'FMC 2e'!C21+'Óvoda 2f'!C21+'Bölcsőde 2g'!C21+'Gondozási 2h'!C21 -> 0 | E38: =C38+D38 -> 83140 | F38: ='Önk 2a'!M42 -> 105000 | G38: ='PH 2b'!I21+'SZEI 2c'!J21+'HBPMK 2d'!J21+'FMC 2e'!J21+'Óvoda 2f'!J21+'Bölcsőde 2g'!J21+'Gondozási 2h'!J21+'SZERI 2i'!H21 -> 1360 | H38: =F38+G38 -> 106360
B39: EGYENLEG (I.-II.) | C39: =C3-C19 -> 1595675 | D39: =D3-D19 -> -2353974 | E39: =E3-E19 -> -758299 | F39: =F3-F19 -> 1051322 | G39: =G3-G19 -> -2883110 | H39: =H3-H19 -> -1831788
B40: Működési | C40: =C6+C8+C15+C17-C20-C23-C24-C30-C31 -> 2400587 | D40: =D6+D8+D15+D17-D20-D23-D24-D30-D31 -> -2246160 | E40: =E6+E8+E15+E17-E20-E23-E24-E30-E31 -> 154427 | F40: =F6+F8+F15+F17-F20-F23-F24-F30-F31 -> 1994446 | G40: =G6+G8+G15+G17-G20-G23-G24-G30-G31 -> -2728888 | H40: =H6+H8+H15+H17-H20-H23-H24-H30-H31 -> -734442
B41: Felhalmozási | C41: =C7+C16+C18-C38-C37-C36 -> -804912 | D41: =D7+D16+D18-D38-D37-D36 -> -107814 | E41: =E7+E16+E18-E38-E37-E36 -> -912726 | F41: =F7+F16+F18-F38-F37-F36 -> -943124 | G41: =G7+G16+G18-G38-G37-G36 -> -154222 | H41: =H7+H16+H18-H38-H37-H36 -> -1097346
A42: III.B8 | B42: FINANSZÍROZÁSI BEVÉTELEK | C42: =C43+C51 -> 806326 | D42: =D43+D51 -> 0 | E42: =E43+E51 -> 806326 | F42: =F43+F51 -> 1723476 | G42: =G43+G51 -> 147278 | H42: =H43+H51 -> 1870754
A43: B81 | B43: Belföldi finanszírozás bevételei | C43: =C44+C45+C46+C49+C50 -> 806326 | D43: =D44+D45+D46+D49+D50 -> 0 | E43: =E44+E45+E46+E49+E50 -> 806326 | F43: =F44+F45+F46+F49+F50 -> 1723476 | G43: =G44+G45+G46+G49+G50 -> 147278 | H43: =H44+H45+H46+H49+H50 -> 1870754
A44: B811 | B44: Hitel-, kölcsönfelvétel államháztartáson kívülről | C44: ='Önk 2a'!C49 -> 0 | E44: =C44+D44 -> 0 | F44: ='Önk 2a'!F49 -> 0 | H44: =F44+G44 -> 0
A45: B812 | B45: Belföldi értékpapírok bevételei | C45: ='Önk 2a'!C50 -> 0 | E45: =C45+D45 -> 0 | F45: ='Önk 2a'!F50 -> 0 | H45: =F45+G45 -> 0
A46: B813 | B46: Maradvány igénybevétele | C46: =SUM(C47:C48) -> 806326 | D46: =SUM(D47:D48) -> 0 | E46: =C46+D46 -> 806326 | F46: =SUM(F47:F48) -> 1723127 | G46: =SUM(G47:G48) -> 147278 | H46: =F46+G46 -> 1870405
B47: Ebből: működési | C47: ='Önk 2a'!C52 -> 582563 | E47: =C47+D47 -> 582563 | F47: ='Önk 2a'!M52 -> 932463 | G47: ='PH 2b'!E28+'SZEI 2c'!E28+'HBPMK 2d'!E28+'FMC 2e'!E28+'Óvoda 2f'!E28+'Bölcsőde 2g'!E28+'Gondozási 2h'!E28 -> 147278 | H47: =F47+G47 -> 1079741
B48: fejlesztései | C48: ='Önk 2a'!C53 -> 223763 | E48: =C48+D48 -> 223763 | F48: ='Önk 2a'!M53 -> 790664 | H48: =F48+G48 -> 790664
A49: B814 | B49: Államháztartáson belüli megelőlegezések | C49: ='Önk 2a'!C56 -> 0 | E49: =C49+D49 -> 0 | F49: ='Önk 2a'!M54 -> 349 | H49: =F49+G49 -> 349
A50: B816 | B50: Központi, önkormányzattól kapott támogatás | C50: ='Önk 2a'!C55 -> 0 | E50: =C50+D50 -> 0 | F50: ='Önk 2a'!F55 -> 0 | H50: =F50+G50 -> 0
A51: B82 | B51: Külföldi finanszírozás bevételei | C51: ='Önk 2a'!C56 -> 0 | E51: =C51+D51 -> 0 | F51: ='Önk 2a'!F56 -> 0 | H51: =F51+G51 -> 0
A52: IV.K9 | B52: FINANSZÍROZÁSI KIADÁSOK | C52: =C53+C58 -> 48027 | D52: =D53+D58 -> 0 | E52: =E53+E58 -> 48027 | F52: =F53+F58 -> 38966 | G52: =G53+G58 -> 0 | H52: =H53+H58 -> 38966
A53: K91 | B53: Belföldi finanszírozás kiadásai | C53: =SUM(C54:C57) -> 48027 | D53: =SUM(D54:D57) -> 0 | E53: =SUM(E54:E57) -> 48027 | F53: =SUM(F54:F57) -> 38966 | G53: =SUM(G54:G57) -> 0 | H53: =SUM(H54:H57) -> 38966
A54: K911 | B54: Hitel-, kölcsöntörlesztés államháztartáson kívülre | C54: ='Önk 2a'!C59 -> 0 | E54: =C54+D54 -> 0 | F54: ='Önk 2a'!F59 -> 0 | H54: =F54+G54 -> 0
A55: K912,K914 | B55: Belföldi értékpapírok kiadásai, Államháztartáson belüli megelőlegezések | C55: ='Önk 2a'!C60 -> 47190 | E55: =C55+D55 -> 47190 | F55: ='Önk 2a'!M60 -> 38199 | H55: =F55+G55 -> 38199
A56: K915 | B56: Központi, irányító szervi támogatások folyósítása | E56: =C56+D56 -> 0 | H56: =F56+G56 -> 0
A57: K917 | B57: Pénzügyi lízing kiadásai | C57: ='Önk 2a'!C62 -> 837 | E57: =C57+D57 -> 837 | F57: ='Önk 2a'!M62 -> 767 | H57: =F57+G57 -> 767
A58: K92 | B58: Külföldi finanszírozás kiadásai | C58: ='Önk 2a'!C63 -> 0 | E58: =C58+D58 -> 0 | F58: ='Önk 2a'!F63 -> 0 | H58: =F58+G58 -> 0
B59: FINANSZÍROZÁSI EGYENLEG (III.-IV.) | C59: =C42-C52 -> 758299 | D59: =D42-D52 -> 0 | E59: =E42-E52 -> 758299 | F59: =F42-F52 -> 1684510 | G59: =G42-G52 -> 147278 | H59: =H42-H52 -> 1831788
B60: BEVÉTELEK MINDÖSSZESEN (I.+III.) | C60: =C3+C42 -> 6807235 | D60: =D3+D42 -> 1395664 | E60: =E3+E42 -> 8202899 | F60: =F3+F42 -> 9448832 | G60: =G3+G42 -> 1664271 | H60: =H3+H42 -> 11113103
B61: Ebből: Működési | C61: =C6+C8+C15+C17 -> 4976821 | D61: =D6+D8+D15+D17 -> 1392664 | E61: =E6+E8+E15+E17 -> 6369485 | F61: =F6+F8+F15+F17 -> 6511326 | G61: =G6+G8+G15+G17 -> 1512993 | H61: =H6+H8+H15+H17 -> 8024319
B62: Ebből: Felhalmozási | C62: =C7+C16+C18 -> 1024088 | D62: =D7+D16+D18 -> 3000 | E62: =E7+E16+E18 -> 1027088 | F62: =F7+F16+F18 -> 1214030 | G62: =G7+G16+G18 -> 4000 | H62: =H7+H16+H18 -> 1218030
B63: Ebből: Finanszírozási | C63: =C42 -> 806326 | D63: =D42 -> 0 | E63: =E42 -> 806326 | F63: =F42 -> 1723476 | G63: =G42 -> 147278 | H63: =H42 -> 1870754
B64: KIADÁSOK MINDÖSSZESEN (II.+IV.) | C64: =C19+C52 -> 4453261 | D64: =D19+D52 -> 3749638 | E64: =E19+E52 -> 8202899 | F64: =F19+F52 -> 6713000 | G64: =G19+G52 -> 4400103 | H64: =H19+H52 -> 11113103
B65: Ebből: Működési | C65: =C20+C23+C24+C30+C31-C35 -> 2576234 | D65: =D20+D23+D24+D30+D31-D35 -> 3638824 | E65: =E20+E23+E24+E30+E31-E35 -> 6215058 | F65: =F20+F23+F24+F30+F31-F35 -> 4516880 | G65: =G20+G23+G24+G30+G31-G35 -> 4241881 | H65: =H20+H23+H24+H30+H31-H35 -> 8758761
B66: Ebből: Felhalmozási | C66: =C35+C36+C37+C38 -> 1829000 | D66: =D35+D36+D37+D38 -> 110814 | E66: =E35+E36+E37+E38 -> 1939814 | F66: =F35+F36+F37+F38 -> 2157154 | G66: =G35+G36+G37+G38 -> 158222 | H66: =H35+H36+H37+H38 -> 2315376
B67: Ebből: Finanszírozási | C67: =C52 -> 48027 | D67: =D52 -> 0 | E67: =E52 -> 48027 | F67: =F52 -> 38966 | G67: =G52 -> 0 | H67: =H52 -> 38966
B68: KÖLTSÉGVETÉSI EGYENLEG | C68: =C60-C64 -> 2353974 | D68: =D60-D64 -> -2353974 | E68: =E60-E64 -> 0 | F68: =F60-F64 -> 2735832 | G68: =G60-G64 -> -2735832 | H68: =H60-H64 -> 0
B69: Ebből: Működési | C69: =C61-C65 -> 2400587 | D69: =D61-D65 -> -2246160 | E69: =E61-E65 -> 154427 | F69: =F61-F65 -> 1994446 | G69: =G61-G65 -> -2728888 | H69: =H61-H65 -> -734442
B70: Ebből: Felhalmozási | C70: =C62-C66 -> -804912 | D70: =D62-D66 -> -107814 | E70: =E62-E66 -> -912726 | F70: =F62-F66 -> -943124 | G70: =G62-G66 -> -154222 | H70: =H62-H66 -> -1097346
B71: Ebből: Finanszírozási | C71: =C63-C67 -> 758299 | D71: =D63-D67 -> 0 | E71: =E63-E67 -> 758299 | F71: =F63-F67 -> 1684510 | G71: =G63-G67 -> 147278 | H71: =H63-H67 -> 1831788

Sheet Önk 2a
B1: Szentendre Város Önkormányzata | C1: 2018 terv | F1: 2019 terv
C2: Kötelező feladatok | D2: Nem kötelező feladatok | E2: Összesen | F2: Kötelező feladatok | G2: Nem kötelező feladatok | H2: 1. módosítás 2019.06.13. | M2: Összesen
A3: I. | B3: KÖLTSÉGVETÉSI BEVÉTELEK | C3: 6000909 | D3: =D6+D7+D8+D15+D16+D17+D18 -> 0 | E3: =E6+E7+E8+E15+E16+E17+E18 -> 6000909 | F3: =F6+F7+F8+F15+F16+F17+F18 -> 6635375 | G3: =G6+G7+G8+G15+G16+G17+G18 -> 0 | H3: =H6+H7+H8+H15+H16+H17+H18 -> 1089981 | I3: =I6+I7+I8+I15+I16+I17+I18 -> 0 | J3: =J6+J7+J8+J15+J16+J17+J18 -> 0 | K3: =K6+K7+K8+K15+K16+K17+K18 -> 0 | ... M3: =M6+M7+M8+M15+M16+M17+M18 -> 7725356
A4: B11,B12 | B4: Önkormányzatok működési támogatásai | C4: 1424039 | E4: =SUM(C4:D4) -> 1424039 | F4: 1546887 | H4: 32351 | M4: =SUM(F4:L4) -> 1579238
A5: B16 | B5: Egyéb működési célú támogatások ÁHT-n belülről (benne OEP finanszírozás) | C5: 14033 | E5: =SUM(C5:D5) -> 14033 | F5: 3500 | M5: =SUM(F5:L5) -> 3500
A6: B1 | B6: Működési célú támogatások államháztartáson belülről | C6: 1438072 | D6: =D4+D5 -> 0 | E6: =E4+E5 -> 1438072 | F6: =F4+F5 -> 1550387 | G6: =G4+G5 -> 0 | H6: =H4+H5 -> 32351 | I6: =I4+I5 -> 0 | J6: =J4+J5 -> 0 | K6: =K4+K5 -> 0 | ... M6: =M4+M5 -> 1582738
A7: B2 | B7: Felhalmozási célú támogatások államháztartáson belülről | C7: 94998 | E7: =SUM(C7:D7) -> 94998 | F7: 190656 | H7: 99983 | M7: =SUM(F7:L7) -> 290639
A8: B3 | B8: Közhatalmi bevételek | C8: 2611600 | D8: =SUM(D9,D10,D14) -> 0 | E8: =SUM(E9,E10,E14) -> 2611600 | F8: =SUM(F9,F10,F14) -> 2994942 | G8: =SUM(G9,G10,G14) -> 0 | H8: =SUM(H9,H10,H14) -> 0 | I8: =SUM(I9,I10,I14) -> 0 | J8: =SUM(J9,J10,J14) -> 0 | K8: =SUM(K9,K10,K14) -> 0 | ... M8: =SUM(M9,M10,M14) -> 2994942
A9: B34 | B9: Vagyoni tipusú adók (építményadó, ép.utáni IFA, magánsz.komm.adója, telekadó) | C9: 683000 | E9: =SUM(C9:D9) -> 683000 | F9: 598000 | M9: =SUM(F9:L9) -> 598000
A10: B35 | B10: Termékek és szolgáltatások adói | C10: 1882000 | D10: =SUM(D11:D13) -> 0 | E10: =SUM(E11:E13) -> 1882000 | F10: =SUM(F11:F13) -> 2271942 | G10: =SUM(G11:G13) -> 0 | H10: =SUM(H11:H13) -> 0 | I10: =SUM(I11:I13) -> 0 | J10: =SUM(J11:J13) -> 0 | K10: =SUM(K11:K13) -> 0 | ... M10: =SUM(M11:M13) -> 2271942
A11: B351 | B11: ebből Értékesítési és forgalmi adók (IPA) | C11: 1750000 | E11: =SUM(C11:D11) -> 1750000 | F11: 2131180 | M11: =SUM(F11:L11) -> 2131180
A12: B354 | B12: ebből Gépjármű adók | C12: 115000 | E12: =SUM(C12:D12) -> 115000 | F12: 121262 | M12: =SUM(F12:L12) -> 121262
A13: B355 | B13: ebből Egyéb áruhasználati és szolgáltatási adók (tart.utáni IFA, talajterhelési díj) | C13: 17000 | E13: =SUM(C13:D13) -> 17000 | F13: 19500 | M13: =SUM(F13:L13) -> 19500
A14: B36 | B14: Egyéb közhatalmi bevételek (illeték, bírság) | C14: 46600 | E14: =SUM(C14:D14) -> 46600 | F14: 125000 | M14: =SUM(F14:L14) -> 125000
A15: B4 | B15: Működési bevételek | C15: 725138 | D15: 0 | E15: =SUM(C15:D15) -> 725138 | F15: 774825 | H15: 89156 | M15: =SUM(F15:L15) -> 863981
A16: B5 | B16: Felhalmozási bevételek | C16: 929090 | D16: 0 | E16: 929090 | F16: 915821 | M16: =SUM(F16:L16) -> 915821
A17: B6 | B17: Működési célú átvett pénzeszköz | C17: 202011 | D17: 0 | E17: =SUM(C17:D17) -> 202011 | F17: 208744 | H17: 860921 | M17: =SUM(F17:L17) -> 1069665
A18: B7 | B18: Felhalmozási célú átvett pénzeszköz | C18: 0 | D18: 0 | E18: =SUM(C18:D18) -> 0 | F18: 0 | G18: 0 | H18: 7570 | I18: 0 | J18: 0 | K18: 0 | L18: 0 | M18: =SUM(F18:L18) -> 7570
A19: II. | B19: KÖLTSÉGVETÉSI KIADÁSOK | C19: 4405234 | D19: =D20+D21+D22+D23+D24+D29+D37+D42 -> 1303724 | E19: =E20+E21+E22+E23+E24+E29+E37+E42 -> 4405234 | F19: =F20+F21+F22+F23+F24+F29+F37+F42 -> 3218750 | G19: =G20+G21+G22+G23+G24+G29+G37+G42 -> 1821676 | H19: =H20+H21+H22+H23+H24+H29+H37+H42 -> 1633608 | I19: =I20+I21+I22+I23+I24+I29+I37+I42 -> 0 | J19: =J20+J21+J22+J23+J24+J29+J37+J42 -> 0 | K19: =K20+K21+K22+K23+K24+K29+K37+K42 -> 0 | ... M19: =M20+M21+M22+M23+M24+M29+M37+M42 -> 6674034
A20: K1 | B20: Személyi juttatások | C20: 93628 | D20: 0 | E20: 93628 | F20: 87429 | M20: =SUM(F20:L20) -> 87429
A21: K2 | B21: Munkaadókat terhelő járulékok és szociális hozzájárulási adó | C21: 14157 | D21: 0 | E21: =SUM(C21:D21) -> 14157 | F21: 21597 | M21: =SUM(F21:L21) -> 21597
A22: K3 | B22: Dologi kiadások | C22: 1064483 | D22: 0 | E22: 1064483 | F22: 1073460 | H22: 3512 | M22: =SUM(F22:L22) -> 1076972
A23: K4 | B23: Ellátottak pénzbeli juttatásai (6.sz.melléklet) | C23: 27020 | D23: 0 | E23: 27020 | F23: 25100 | M23: =SUM(F23:L23) -> 25100 | N23: ok
A24: K5 | B24: Egyéb működési célú kiadások (4. és 8-sz.melléklet) | C24: 1188222 | D24: =SUM(D25,D26) -> 188724 | E24: =SUM(E25,E26) -> 1376946 | F24: =SUM(F25,F26) -> 1611164 | G24: =SUM(G25,G26) -> 192224 | H24: =SUM(H25,H26) -> 1502394 | I24: =SUM(I25,I26) -> 0 | J24: =SUM(J25,J26) -> 0 | K24: =SUM(K25,K26) -> 0 | ... M24: =SUM(M25,M26) -> 3305782
A25: K5 | B25: Ebből: egyéb működési célú támogatások (8.sz.melléklet) | C25: 1128757 | D25: 188724 | E25: =SUM(C25:D25) -> 1317481 | F25: 1561164 | G25: 192224 | H25: 973426 | M25: =SUM(F25:L25) -> 2726814 | N25: 5347 | O25: 2721467 | P25: =N25+O25 -> 2726814 | Q25: ok
A26: K513 | B26: Ebből: tartalék (4.sz.melléklet) | C26: 59465 | E26: =SUM(C26:D26) -> 59465 | F26: =SUM(F27:F28) -> 50000 | G26: =SUM(G27:G28) -> 0 | H26: =SUM(H27:H28) -> 528968 | I26: =SUM(I27:I28) -> 0 | J26: =SUM(J27:J28) -> 0 | K26: =SUM(K27:K28) -> 0 | L26: =SUM(L27:L28) -> 0 | M26: =SUM(M27:M28) -> 578968
B27: Működési tartalék | C27: 59465 | E27: =SUM(C27:D27) -> 59465 | F27: 50000 | H27: 528968 | M27: =SUM(F27:L27) -> 578968 | N27: ok
B28: Felhalmozási tartalék | C28: 0 | E28: =SUM(C28:D28) -> 0 | F28: 0 | M28: =SUM(F28:L28) -> 0
A29: K6 | B29: Beruházások (3/a sz.melléklet) | C29: 414000 | D29: 526103 | E29: =SUM(C29:D29) -> 940103 | F29: 220000 | G29: 661832 | H29: 124553 | M29: =SUM(F29:L29) -> 1006385 | N29: ok
B30: Immateriális javak beszerzése, létesítése (K61) | C30: 0 | E30: =SUM(C30:D30) -> 0 | F30: 3624 | G30: 3624 | M30: =SUM(F30:L30) -> 7248
B31: Ingatlanok beszerzése, létesítése (K62) | C31: 675800 | E31: =SUM(C31:D31) -> 675800 | F31: 1474409 | G31: 1474409 | M31: =SUM(F31:L31) -> 2948818
B32: Informatikai eszközök beszerzése, létesítése (K63) | C32: 28031.496 | E32: =SUM(C32:D32) -> 28031.496 | F32: 17575 | G32: 17575 | M32: =SUM(F32:L32) -> 35150
B33: Egyéb tárgyi eszközök beszerzése, létesítése (K64) | C33: 36383.464 | E33: =SUM(C33:D33) -> 36383.464 | F33: 0 | G33: 0 | M33: =SUM(F33:L33) -> 0
B34: Részesedések beszerzése (K65) | C34: 30 | E34: =SUM(C34:D34) -> 30 | F34: 0 | G34: 0 | M34: =SUM(F34:L34) -> 0
B35: Meglévő részesedések növeléséhez kapcsolódó kiadások (K66) | C35: 0 | E35: =SUM(C35:D35) -> 0 | F35: 0 | G35: 0 | M35: =SUM(F35:L35) -> 0
B36: Beruházási célú előzetesen felszámított általános forgalmi adó (K67) | C36: 199858.04 | E36: =SUM(C36:D36) -> 199858.04 | F36: 403814 | G36: 403814 | M36: =SUM(F36:L36) -> 807628
A37: K7 | B37: Felújítások (3/c sz. melléklet) | C37: 300000 | D37: 505757 | E37: =SUM(C37:D37) -> 805757 | F37: 180000 | G37: 862620 | H37: 3149 | M37: =SUM(F37:L37) -> 1045769 | N37: ok
B38: Ingatlanok felújítása (K71) | C38: 634454.33 | E38: =SUM(C38:D38) -> 634454.33 | F38: 27559 | G38: 27559 | M38: =SUM(F38:L38) -> 55118
B39: Informatikai eszközök felújítása (K72) | C39: 0 | E39: =SUM(C39:D39) -> 0 | F39: 0 | G39: 0 | M39: =SUM(F39:L39) -> 0
B40: Egyéb tárgyi eszközök felújítása (K73) | C40: 0 | E40: =SUM(C40:D40) -> 0 | F40: 0 | G40: 0 | M40: =SUM(F40:L40) -> 0
B41: Felújítási célú előzetesen felszámított általános forgalmi adó (K74) | C41: 171302.67 | E41: =SUM(C41:D41) -> 171302.67 | F41: 7441 | G41: 7441 | M41: =SUM(F41:L41) -> 14882
A42: K8 | B42: Egyéb felhalmozási célú kiadások (8.sz.melléklet) | C42: 0 | D42: 83140 | E42: =SUM(C42:D42) -> 83140 | G42: =G43 -> 105000 | M42: =SUM(F42:L42) -> 105000
B43: Egyéb felhalmozási célú támogatások államháztartáson kívülre (K89) | C43: 83140 | E43: =SUM(C43:D43) -> 83140 | F43: 105000 | G43: 105000
B44: EGYENLEG (I.-II.) | C44: 1595675 | D44: =D3-D19 -> -1303724 | E44: =E3-E19 -> 1595675 | F44: =F3-F19 -> 3416625 | G44: =G3-G19 -> -1821676 | H44: =H3-H19 -> -543627 | I44: =I3-I19 -> 0 | J44: =J3-J19 -> 0 | K44: =K3-K19 -> 0 | ... M44: =M3-M19 -> 1051322
B45: Működési | C45: 2400587 | D45: =D6+D8+D15+D17-D20-D21-D22-D23-D24 -> -188724 | E45: =E6+E8+E15+E17-E20-E21-E22-E23-E24 -> 2400587 | F45: =F6+F8+F15+F17-F20-F21-F22-F23-F24 -> 2710148 | G45: =G6+G8+G15+G17-G20-G21-G22-G23-G24 -> -192224 | H45: =H6+H8+H15+H17-H20-H21-H22-H23-H24 -> -523478 | I45: =I6+I8+I15+I17-I20-I21-I22-I23-I24 -> 0 | J45: =J6+J8+J15+J17-J20-J21-J22-J23-J24 -> 0 | K45: =K6+K8+K15+K17-K20-K21-K22-K23-K24 -> 0 | ... M45: =M6+M8+M15+M17-M20-M21-M22-M23-M24 -> 1994446
B46: Felhalmozási | C46: -804912 | D46: =D7+D16+D18-D42-D29-D37 -> -1115000 | E46: =E7+E16+E18-E42-E29-E37 -> -804912 | F46: =F7+F16+F18-F42-F29-F37 -> 706477 | G46: =G7+G16+G18-G42-G29-G37 -> -1629452 | H46: =H7+H16+H18-H42-H29-H37 -> -20149 | I46: =I7+I16+I18-I42-I29-I37 -> 0 | J46: =J7+J16+J18-J42-J29-J37 -> 0 | K46: =K7+K16+K18-K42-K29-K37 -> 0 | ... M46: =M7+M16+M18-M42-M29-M37 -> -943124
A47: III.B8 | B47: FINANSZÍROZÁSI BEVÉTELEK | C47: 806326 | D47: =D48+D56 -> 0 | E47: =E48+E56 -> 806326 | F47: =F48+F56 -> 1144136 | G47: =G48+G56 -> 0 | H47: =H48+H56 -> 579340 | I47: =I48+I56 -> 0 | J47: =J48+J56 -> 0 | K47: =K48+K56 -> 0 | ... M47: =M48+M56 -> 1723476
A48: B81 | B48: Belföldi finanszírozás bevételei | C48: 806326 | E48: =SUM(E49,E50,E51,E54,) -> 806326 | F48: =SUM(F49,F50,F51,F54,) -> 1144136 | G48: =SUM(G49,G50,G51,G54,) -> 0 | H48: =SUM(H49,H50,H51,H54,) -> 579340 | I48: =SUM(I49,I50,I51,I54,) -> 0 | J48: =SUM(J49,J50,J51,J54,) -> 0 | K48: =SUM(K49,K50,K51,K54,) -> 0 | L48: =SUM(L49,L50,L51,L54,) -> 0 | M48: =SUM(M49,M50,M51,M54,) -> 1723476
A49: B811 | B49: Hitel-, kölcsönfelvétel államháztartáson kívülről | C49: 0 | F49: =SUM(M49:N49) -> 0 | G49: =SUM(N49:O49) -> 0 | H49: =SUM(O49:P49) -> 0 | I49: =SUM(P49:Q49) -> 0 | J49: =SUM(Q49:R49) -> 0 | K49: =SUM(R49:S49) -> 0 | L49: =SUM(S49:T49) -> 0
A50: B812 | B50: Belföldi értékpapírok bevételei | C50: 0 | F50: =SUM(M50:N50) -> 0 | G50: =SUM(N50:O50) -> 0 | H50: =SUM(O50:P50) -> 0 | I50: =SUM(P50:Q50) -> 0 | J50: =SUM(Q50:R50) -> 0 | K50: =SUM(R50:S50) -> 0 | L50: =SUM(S50:T50) -> 0
A51: B813 | B51: Maradvány igénybevétele | C51: 806326 | D51: =SUM(D52:D53) -> 0 | E51: =SUM(E52:E53) -> 806326 | F51: =SUM(F52:F53) -> 1144136 | G51: =SUM(G52:G53) -> 0 | H51: =SUM(H52:H53) -> 578991 | I51: =SUM(I52:I53) -> 0 | J51: =SUM(J52:J53) -> 0 | K51: =SUM(K52:K53) -> 0 | ... M51: =SUM(M52:M53) -> 1723127
B52: Ebből: működési | C52: 582563 | E52: =SUM(C52:D52) -> 582563 | F52: 353472 | H52: 578991 | M52: =SUM(F52:L52) -> 932463
B53: fejlesztései | C53: 223763 | E53: =SUM(C53:D53) -> 223763 | F53: 790664 | M53: =SUM(F53:L53) -> 790664
A54: B814 | B54: Államháztartáson belüli megelőlegezések | C54: 0 | F54: 0 | G54: 0 | H54: 349 | M54: =SUM(F54:L54) -> 349
A55: B816 | B55: Központi, önkormányzattól kapott támogatás | C55: 0 | F55: 0 | G55: 0 | M55: =SUM(F55:L55) -> 0
A56: B82 | B56: Külföldi finanszírozás bevételei | C56: 0 | F56: 0 | G56: 0 | M56: =SUM(F56:L56) -> 0
A57: IV.K9 | B57: FINANSZÍROZÁSI KIADÁSOK | C57: 2402001 | D57: =D58+D63 -> 0 | E57: =E58+E63 -> 2402001 | F57: =F58+F63 -> 2739085 | G57: =G58+G63 -> 0 | H57: =H58+H63 -> 35713 | I57: =I58+I63 -> 0 | J57: =J58+J63 -> 0 | K57: =K58+K63 -> 0 | ... M57: =M58+M63 -> 2774798
A58: K91 | B58: Belföldi finanszírozás kiadásai | C58: 2402001 | D58: =SUM(D59:D62) -> 0 | E58: =SUM(E59:E62) -> 2402001 | F58: =SUM(F59:F62) -> 2739085 | G58: =SUM(G59:G62) -> 0 | H58: =SUM(H59:H62) -> 35713 | I58: =SUM(I59:I62) -> 0 | J58: =SUM(J59:J62) -> 0 | K58: =SUM(K59:K62) -> 0 | ... M58: =SUM(M59:M62) -> 2774798
A59: K911 | B59: Hitel-, kölcsöntörlesztés államháztartáson kívülre | C59: 0 | F59: 0 | G59: 0
A60: K912, K914 | B60: Belföldi értékpapírok kiadásai, Államháztartáson belüli megelőlegezések | C60: 47190 | E60: =SUM(C60:D60) -> 47190 | F60: 39245 | H60: -1046 | M60: =SUM(F60:L60) -> 38199
A61: K915 | B61: Központi, irányító szervi támogatások folyósítása | C61: 2353974 | E61: =SUM(C61:D61) -> 2353974 | F61: ='PH 2b'!D27+'SZEI 2c'!D27+'HBPMK 2d'!D27+'FMC 2e'!D27+'Óvoda 2f'!D27+'Bölcsőde 2g'!D27+'Gondozási 2h'!D27+'SZERI 2i'!C27 -> 2699561 | H61: 36271 | M61: =SUM(F61:L61) -> 2735832
A62: K917 | B62: Pénzügyi lízing kiadásai | C62: 837 | E62: =SUM(C62:D62) -> 837 | F62: 279 | H62: 488 | M62: =SUM(F62:L62) -> 767
A63: K92 | B63: Külföldi finanszírozás kiadásai | C63: 0 | F63: 0 | G63: 0
B64: FINANSZÍROZÁSI EGYENLEG (III.-IV.) | C64: -1595675 | D64: =D47-D57 -> 0 | E64: =E47-E57 -> -1595675 | F64: =F47-F57 -> -1594949 | G64: =G47-G57 -> 0 | H64: =H47-H57 -> 543627 | I64: =I47-I57 -> 0 | J64: =J47-J57 -> 0 | K64: =K47-K57 -> 0 | ... M64: =M47-M57 -> -1051322
B65: BEVÉTELEK MINDÖSSZESEN (I.+III.) | C65: 6807235 | D65: =D3+D47 -> 0 | E65: =E3+E47 -> 6807235 | F65: =F3+F47 -> 7779511 | G65: =G3+G47 -> 0 | H65: =H3+H47 -> 1669321 | I65: =I3+I47 -> 0 | J65: =J3+J47 -> 0 | K65: =K3+K47 -> 0 | ... M65: =M3+M47 -> 9448832
B66: Ebből: Működési | C66: 4976821 | D66: =D6+D8+D15+D17 -> 0 | E66: =E6+E8+E15+E17 -> 4976821 | F66: =F6+F8+F15+F17 -> 5528898 | G66: =G6+G8+G15+G17 -> 0 | H66: =H6+H8+H15+H17 -> 982428 | I66: =I6+I8+I15+I17 -> 0 | J66: =J6+J8+J15+J17 -> 0 | K66: =K6+K8+K15+K17 -> 0 | ... M66: =M6+M8+M15+M17 -> 6511326
B67: Ebből: Felhalmozási | C67: 1024088 | D67: =D7+D16+D18 -> 0 | E67: =E7+E16+E18 -> 1024088 | F67: =F7+F16+F18 -> 1106477 | G67: =G7+G16+G18 -> 0 | H67: =H7+H16+H18 -> 107553 | I67: =I7+I16+I18 -> 0 | J67: =J7+J16+J18 -> 0 | K67: =K7+K16+K18 -> 0 | ... M67: =M7+M16+M18 -> 1214030
B68: Ebből: Finanszírozási | C68: 806326 | D68: =D47 -> 0 | E68: =E47 -> 806326 | F68: =F47 -> 1144136 | G68: =G47 -> 0 | H68: =H47 -> 579340 | I68: =I47 -> 0 | J68: =J47 -> 0 | K68: =K47 -> 0 | ... M68: =M47 -> 1723476
B69: KIADÁSOK MINDÖSSZESEN (II.+IV.) | C69: 6807235 | D69: =D19+D57 -> 1303724 | E69: =E19+E57 -> 6807235 | F69: =F19+F57 -> 5957835 | G69: =G19+G57 -> 1821676 | H69: =H19+H57 -> 1669321 | I69: =I19+I57 -> 0 | J69: =J19+J57 -> 0 | K69: =K19+K57 -> 0 | ... M69: =M19+M57 -> 9448832
B70: Ebből: Működési | C70: 2576234 | D70: =D20+D21+D22+D23+D24-D28 -> 188724 | E70: =E20+E21+E22+E23+E24-E28 -> 2576234 | F70: =F20+F21+F22+F23+F24-F28 -> 2818750 | G70: =G20+G21+G22+G23+G24-G28 -> 192224 | H70: =H20+H21+H22+H23+H24-H28 -> 1505906 | I70: =I20+I21+I22+I23+I24-I28 -> 0 | J70: =J20+J21+J22+J23+J24-J28 -> 0 | K70: =K20+K21+K22+K23+K24-K28 -> 0 | ... M70: =M20+M21+M22+M23+M24-M28 -> 4516880
B71: Ebből: Felhalmozási | C71: 1829000 | D71: =D28+D29+D37+D42 -> 1115000 | E71: =E28+E29+E37+E42 -> 1829000 | F71: =F28+F29+F37+F42 -> 400000 | G71: =G28+G29+G37+G42 -> 1629452 | H71: =H28+H29+H37+H42 -> 127702 | I71: =I28+I29+I37+I42 -> 0 | J71: =J28+J29+J37+J42 -> 0 | K71: =K28+K29+K37+K42 -> 0 | ... M71: =M28+M29+M37+M42 -> 2157154
B72: Ebből: Finanszírozási | C72: 2402001 | D72: =D57 -> 0 | E72: =E57 -> 2402001 | F72: =F57 -> 2739085 | G72: =G57 -> 0 | H72: =H57 -> 35713 | I72: =I57 -> 0 | J72: =J57 -> 0 | K72: =K57 -> 0 | ... M72: =M57 -> 2774798
B73: KÖLTSÉGVETÉSI EGYENLEG | C73: 0.0016700001 | D73: =D65-D69 -> -1303724 | E73: =E65-E69 -> 0 | F73: =F65-F69 -> 1821676 | G73: =G65-G69 -> -1821676 | H73: =H65-H69 -> 0 | I73: =I65-I69 -> 0 | J73: =J65-J69 -> 0 | K73: =K65-K69 -> 0 | ... M73: =M65-M69 -> 0
B74: Ebből: Működési | C74: 2400587 | D74: =D66-D70 -> -188724 | E74: =E66-E70 -> 2400587 | F74: =F66-F70 -> 2710148 | G74: =G66-G70 -> -192224 | H74: =H66-H70 -> -523478 | I74: =I66-I70 -> 0 | J74: =J66-J70 -> 0 | K74: =K66-K70 -> 0 | ... M74: =M66-M70 -> 1994446
B75: Ebből: Felhalmozási | C75: -804912 | D75: =D67-D71 -> -1115000 | E75: =E67-E71 -> -804912 | F75: =F67-F71 -> 706477 | G75: =G67-G71 -> -1629452 | H75: =H67-H71 -> -20149 | I75: =I67-I71 -> 0 | J75: =J67-J71 -> 0 | K75: =K67-K71 -> 0 | ... M75: =M67-M71 -> -943124
B76: Ebből: Finanszírozási | C76: -1595675 | D76: =D68-D72 -> 0 | E76: =E68-E72 -> -1595675 | F76: =F68-F72 -> -1594949 | G76: =G68-G72 -> 0 | H76: =H68-H72 -> 543627 | I76: =I68-I72 -> 0 | J76: =J68-J72 -> 0 | K76: =K68-K72 -> 0 | ... M76: =M68-M72 -> -1051322

Sheet PH 2b
B1: Polgármesteri Hivatal | C1: 2018 terv | D1: 2019 terv | I1: 2019 terv
C2: Kötelező feladatok | D2: Kötelező feladatok | E2: 1. módosítás 2019.06.13. | I2: Összesen
A3: I. | B3: KÖLTSÉGVETÉSI BEVÉTELEK | C3: 15418 | D3: =D6+D7+D8+D9+D10+D11+D12 -> 8530 | E3: =E6+E7+E8+E9+E10+E11+E12 -> 5794 | F3: =F6+F7+F8+F9+F10+F11+F12 -> 0 | G3: =G6+G7+G8+G9+G10+G11+G12 -> 0 | H3: =H6+H7+H8+H9+H10+H11+H12 -> 0 | I3: =I6+I7+I8+I9+I10+I11+I12 -> 14324
A4: B11 | B4: Önkormányzatok működési támogatásai | C4: 0 | D4: 0 | I4: =SUM(D4:H4) -> 0
A5: B16 | B5: Egyéb működési célú támogatások ÁHT-n belülről (benne OEP finanszírozás) | C5: 6859 | D5: 0 | E5: 5794 | I5: =SUM(D5:H5) -> 5794
A6: B1 | B6: Működési célú támogatások államháztartáson belülről | C6: 6859 | D6: =D4+D5 -> 0 | E6: =E4+E5 -> 5794 | F6: =F4+F5 -> 0 | G6: =G4+G5 -> 0 | H6: =H4+H5 -> 0 | I6: =SUM(D6:H6) -> 5794
A7: B2 | B7: Felhalmozási célú támogatások államháztartáson belülről | C7: 0 | D7: 0 | I7: =SUM(D7:H7) -> 0
A8: B3 | B8: Közhatalmi bevételek | C8: 0 | D8: 0 | I8: =SUM(D8:H8) -> 0
A9: B4 | B9: Működési bevételek | C9: 8559 | D9: 8530 | I9: =SUM(D9:H9) -> 8530
A10: B5 | B10: Felhalmozási bevételek | C10: 0 | D10: 0 | I10: =SUM(D10:H10) -> 0
A11: B6 | B11: Működési célú átvett pénzeszköz | C11: 0 | D11: 0 | I11: =SUM(D11:H11) -> 0
A12: B7 | B12: Felhalmozási célú átvett pénzeszköz | C12: 0 | D12: 0 | I12: =SUM(D12:H12) -> 0
A13: II. | B13: KÖLTSÉGVETÉSI KIADÁSOK | C13: 806422 | D13: =D14+D15+D16+D17+D18+D19+D20+D21 -> 852929 | E13: =E14+E15+E16+E17+E18+E19+E20+E21 -> 16432 | F13: =F14+F15+F16+F17+F18+F19+F20+F21 -> 0 | G13: =G14+G15+G16+G17+G18+G19+G20+G21 -> 0 | H13: =H14+H15+H16+H17+H18+H19+H20+H21 -> 0 | I13: =I14+I15+I16+I17+I18+I19+I20+I21 -> 869361
A14: K1 | B14: Személyi juttatások | C14: 558475 | D14: 626378 | E14: 4307 | I14: =SUM(D14:H14) -> 630685
A15: K2 | B15: Munkaadókat terhelő járulékok és szociális hozzájárulási adó | C15: 109658 | D15: 110154 | E15: 882 | I15: =SUM(D15:H15) -> 111036
A16: K3 | B16: Dologi kiadások | C16: 123489 | D16: 96597 | E16: 11243 | I16: =SUM(D16:H16) -> 107840
A17: K4 | B17: Ellátottak pénzbeli juttatásai (6.sz.melléklet) | C17: 0 | D17: 0 | I17: =SUM(D17:H17) -> 0
A18: K5 | B18: Egyéb működési célú kiadások (4. és 8-sz.melléklet) | C18: 0 | D18: 0 | I18: =SUM(D18:H18) -> 0
A19: K6 | B19: Beruházások (3/a sz.melléklet) | C19: 14800 | D19: 19800 | I19: =SUM(D19:H19) -> 19800
A20: K7 | B20: Felújítások (3/c sz. melléklet) | C20: 0 | D20: 0 | I20: =SUM(D20:H20) -> 0
A21: K8 | B21: Egyéb felhalmozási célú kiadások (8.sz.melléklet) | C21: 0 | D21: 0 | I21: =SUM(D21:H21) -> 0
B22: EGYENLEG (I.-II.) | C22: -791004 | D22: =D3-D13 -> -844399 | E22: =E3-E13 -> -10638 | F22: =F3-F13 -> 0 | G22: =G3-G13 -> 0 | H22: =H3-H13 -> 0 | I22: =I3-I13 -> -855037
B23: Működési | C23: -776204 | D23: =D6+D8+D9+D11-D14-D15-D16-D17-D18 -> -824599 | E23: =E6+E8+E9+E11-E14-E15-E16-E17-E18 -> -10638 | F23: =F6+F8+F9+F11-F14-F15-F16-F17-F18 -> 0 | G23: =G6+G8+G9+G11-G14-G15-G16-G17-G18 -> 0 | H23: =H6+H8+H9+H11-H14-H15-H16-H17-H18 -> 0 | I23: =I6+I8+I9+I11-I14-I15-I16-I17-I18 -> -835237
B24: Felhalmozási | C24: -14800 | D24: =D7+D12+D10-D19-D20-D21 -> -19800 | E24: =E7+E12+E10-E19-E20-E21 -> 0 | F24: =F7+F12+F10-F19-F20-F21 -> 0 | G24: =G7+G12+G10-G19-G20-G21 -> 0 | H24: =H7+H12+H10-H19-H20-H21 -> 0 | I24: =I7+I10+I12-I19-I20-I21 -> -19800
A25: III.B8 | B25: FINANSZÍROZÁSI BEVÉTELEK | C25: 791004 | D25: =D26 -> 844399 | E25: =E26 -> 10638 | F25: =F26 -> 0 | G25: =G26 -> 0 | H25: =H26 -> 0 | I25: =I26 -> 855037
A26: B81 | B26: Belföldi finanszírozás bevételei | C26: 791004 | D26: =D27+D28 -> 844399 | E26: =E27+E28 -> 10638 | F26: =F27+F28 -> 0 | G26: =G27+G28 -> 0 | H26: =H27+H28 -> 0 | I26: =I27+I28 -> 855037
A27: B816 | B27: Központi, önkormányzattól kapott támogatás | C27: 791004 | D27: 844399 | E27: 137 | I27: =SUM(D27:H27) -> 844536
A28: B813 | B28: Maradvány | D28: 0 | E28: 10501 | I28: =SUM(D28:H28) -> 10501
A29: IV.K9 | B29: FINANSZÍROZÁSI KIADÁSOK | C29: 0 | D29: =D30 -> 0 | E29: =E30 -> 0 | F29: =F30 -> 0 | G29: =G30 -> 0 | H29: =H30 -> 0 | I29: =I30 -> 0
A30: K91 | B30: Belföldi finanszírozás kiadásai | C30: 0 | D30: =D31 -> 0 | E30: =E31 -> 0 | F30: =F31 -> 0 | G30: =G31 -> 0 | H30: =H31 -> 0 | I30: =I31 -> 0
A31: K915 | B31: Központi, irányító szervi támogatások folyósítása | C31: 0 | D31: 0 | E31: 0 | F31: 0 | G31: 0 | H31: 0 | I31: 0
B32: FINANSZÍROZÁSI EGYENLEG (III.-IV.) | C32: 791004 | D32: =D25-D29 -> 844399 | E32: =E25-E29 -> 10638 | F32: =F25-F29 -> 0 | G32: =G25-G29 -> 0 | H32: =H25-H29 -> 0 | I32: =I25-I29 -> 855037
B33: BEVÉTELEK MINDÖSSZESEN (I.+III.) | C33: 806422 | D33: =D3+D25 -> 852929 | E33: =E3+E25 -> 16432 | F33: =F3+F25 -> 0 | G33: =G3+G25 -> 0 | H33: =H3+H25 -> 0 | I33: =I3+I25 -> 869361
B34: Ebből: Működési | C34: 15418 | D34: =D6+D8+D9+D11 -> 8530 | E34: =E6+E8+E9+E11 -> 5794 | F34: =F6+F8+F9+F11 -> 0 | G34: =G6+G8+G9+G11 -> 0 | H34: =H6+H8+H9+H11 -> 0 | I34: =I6+I8+I9+I11 -> 14324
B35: Ebből: Felhalmozási | C35: 0 | D35: =D7+D10+D12 -> 0 | E35: =E7+E10+E12 -> 0 | F35: =F7+F10+F12 -> 0 | G35: =G7+G10+G12 -> 0 | H35: =H7+H10+H12 -> 0 | I35: =I7+I10+I12 -> 0
B36: Ebből: Finanszírozási | C36: 791004 | D36: =D25 -> 844399 | E36: =E25 -> 10638 | F36: =F25 -> 0 | G36: =G25 -> 0 | H36: =H25 -> 0 | I36: =I25 -> 855037
B37: KIADÁSOK MINDÖSSZESEN (II.+IV.) | C37: 806422 | D37: =D13+D29 -> 852929 | E37: =E13+E29 -> 16432 | F37: =F13+F29 -> 0 | G37: =G13+G29 -> 0 | H37: =H13+H29 -> 0 | I37: =I13+I29 -> 869361
B38: Ebből: Működési | C38: 791622 | D38: =D14+D15+D16+D17+D18 -> 833129 | E38: =E14+E15+E16+E17+E18 -> 16432 | F38: =F14+F15+F16+F17+F18 -> 0 | G38: =G14+G15+G16+G17+G18 -> 0 | H38: =H14+H15+H16+H17+H18 -> 0 | I38: =I14+I15+I16+I17+I18 -> 849561
B39: Ebből: Felhalmozási | C39: 14800 | D39: =D19+D20+D21 -> 19800 | E39: =E19+E20+E21 -> 0 | F39: =F19+F20+F21 -> 0 | G39: =G19+G20+G21 -> 0 | H39: =H19+H20+H21 -> 0 | I39: =I19+I20+I21 -> 19800
B40: Ebből: Finanszírozási | C40: 0 | D40: =D29 -> 0 | E40: =E29 -> 0 | F40: =F29 -> 0 | G40: =G29 -> 0 | H40: =H29 -> 0 | I40: =I29 -> 0
B41: KÖLTSÉGVETÉSI EGYENLEG | C41: 0 | D41: =D33-D37 -> 0 | E41: =E33-E37 -> 0 | F41: =F33-F37 -> 0 | G41: =G33-G37 -> 0 | H41: =H33-H37 -> 0 | I41: =I33-I37 -> 0
B42: Ebből: Működési | C42: -776204 | D42: =D34-D38 -> -824599 | E42: =E34-E38 -> -10638 | F42: =F34-F38 -> 0 | G42: =G34-G38 -> 0 | H42: =H34-H38 -> 0 | I42: =I34-I38 -> -835237
B43: Ebből: Felhalmozási | C43: -14800 | D43: =D35-D39 -> -19800 | E43: =E35-E39 -> 0 | F43: =F35-F39 -> 0 | G43: =G35-G39 -> 0 | H43: =H35-H39 -> 0 | I43: =I35-I39 -> -19800
B44: Ebből: Finanszírozási | C44: 791004 | D44: =D36-D40 -> 844399 | E44: =E36-E40 -> 10638 | F44: =F36-F40 -> 0 | G44: =G36-G40 -> 0 | H44: =H36-H40 -> 0 | I44: =I36-I40 -> 855037

Sheet SZEI 2c
B1: Szentendre Egészségügyi Intézményei | C1: 2018 terv | D1: 2019 terv
C2: Nem kötelező feladatok | D2: Nem kötelező feladatok | E2: 1. módosítás 2019.06.13. | J2: Összesen
A3: I. | B3: KÖLTSÉGVETÉSI BEVÉTELEK | C3: =C6+C7+C8+C9+C10+C11+C12 -> 697776 | D3: =D6+D7+D8+D9+D10+D11+D12 -> 788330 | E3: =E6+E7+E8+E9+E10+E11+E12 -> 0 | F3: =F6+F7+F8+F9+F10+F11+F12 -> 0 | G3: =G6+G7+G8+G9+G10+G11+G12 -> 0 | H3: =H6+H7+H8+H9+H10+H11+H12 -> 0 | I3: =I6+I7+I8+I9+I10+I11+I12 -> 0 | J3: =J6+J7+J8+J9+J10+J11+J12 -> 788330
A4: B11 | B4: Önkormányzatok működési támogatásai | D4: 0 | J4: =SUM(D4:I4) -> 0
A5: B16 | B5: Egyéb működési célú támogatások ÁHT-n belülről (benne OEP finanszírozás) | C5: 667616 | D5: 754830 | J5: =SUM(D5:I5) -> 754830
A6: B1 | B6: Működési célú támogatások államháztartáson belülről | C6: =SUM(C4:C5) -> 667616 | D6: =D4+D5 -> 754830 | J6: =SUM(J4:J5) -> 754830
A7: B2 | B7: Felhalmozási célú támogatások államháztartáson belülről | D7: 4000 | J7: =SUM(D7:I7) -> 4000
A8: B3 | B8: Közhatalmi bevételek | D8: 0 | J8: =SUM(D8:I8) -> 0
A9: B4 | B9: Működési bevételek | C9: 30160 | D9: 29500 | J9: =SUM(D9:I9) -> 29500
A10: B5 | B10: Felhalmozási bevételek | D10: 0 | J10: =SUM(D10:I10) -> 0
A11: B6 | B11: Működési célú átvett pénzeszköz | D11: 0 | J11: =SUM(D11:I11) -> 0
A12: B7 | B12: Felhalmozási célú átvett pénzeszköz | D12: 0 | J12: =SUM(D12:I12) -> 0
A13: II. | B13: KÖLTSÉGVETÉSI KIADÁSOK | C13: =C14+C15+C16+C17+C18+C19+C20+C21 -> 718474 | D13: =D14+D15+D16+D17+D18+D19+D20+D21 -> 814280 | E13: =E14+E15+E16+E17+E18+E19+E20+E21 -> 40750 | F13: =F14+F15+F16+F17+F18+F19+F20+F21 -> 0 | G13: =G14+G15+G16+G17+G18+G19+G20+G21 -> 0 | H13: =H14+H15+H16+H17+H18+H19+H20+H21 -> 0 | I13: =I14+I15+I16+I17+I18+I19+I20+I21 -> 0 | J13: =J14+J15+J16+J17+J18+J19+J20+J21 -> 855030
A14: K1 | B14: Személyi juttatások | C14: 312924 | D14: 359854 | E14: 1640 | J14: =SUM(D14:I14) -> 361494
A15: K2 | B15: Munkaadókat terhelő járulékok és szociális hozzájárulási adó | C15: 61854 | D15: 72416 | E15: 844 | J15: =SUM(D15:I15) -> 73260
A16: K3 | B16: Dologi kiadások | C16: 343696 | D16: 378010 | E16: 36766 | J16: =SUM(D16:I16) -> 414776
A17: K4 | B17: Ellátottak pénzbeli juttatásai | C17: 0 | D17: 0 | J17: =SUM(D17:I17) -> 0
A18: K5 | B18: Egyéb működési célú kiadások | D18: 0 | J18: =SUM(D18:I18) -> 0
A19: K6 | B19: Beruházások | D19: 4000 | E19: 1500 | J19: =SUM(D19:I19) -> 5500
A20: K7 | B20: Felújítások | D20: 0 | J20: =SUM(D20:I20) -> 0
A21: K8 | B21: Egyéb felhalmozási célú kiadások | D21: 0 | J21: =SUM(D21:I21) -> 0
B22: EGYENLEG (I.-II.) | C22: =C3-C13 -> -20698 | D22: =D3-D13 -> -25950 | E22: =E3-E13 -> -40750 | F22: =F3-F13 -> 0 | G22: =G3-G13 -> 0 | H22: =H3-H13 -> 0 | I22: =I3-I13 -> 0 | J22: =J3-J13 -> -66700
B23: Működési | C23: =C6+C8+C9+C11-C14-C15-C16-C17-C18 -> -20698 | D23: =D6+D8+D9+D11-D14-D15-D16-D17-D18 -> -25950 | E23: =E6+E8+E9+E11-E14-E15-E16-E17-E18 -> -39250 | F23: =F6+F8+F9+F11-F14-F15-F16-F17-F18 -> 0 | G23: =G6+G8+G9+G11-G14-G15-G16-G17-G18 -> 0 | H23: =H6+H8+H9+H11-H14-H15-H16-H17-H18 -> 0 | I23: =I6+I8+I9+I11-I14-I15-I16-I17-I18 -> 0 | J23: =J6+J8+J9+J11-J14-J15-J16-J17-J18 -> -65200
B24: Felhalmozási | C24: =C7+C10+C12-C19-C20-C21 -> 0 | D24: =D7+D10+D12-D19-D20-D21 -> 0 | E24: =E7+E10+E12-E19-E20-E21 -> -1500 | F24: =F7+F10+F12-F19-F20-F21 -> 0 | G24: =G7+G10+G12-G19-G20-G21 -> 0 | H24: =H7+H10+H12-H19-H20-H21 -> 0 | I24: =I7+I10+I12-I19-I20-I21 -> 0 | J24: =J7+J10+J12-J19-J20-J21 -> -1500
A25: III.B8 | B25: FINANSZÍROZÁSI BEVÉTELEK | C25: =C26 -> 20698 | D25: =D26 -> 25950 | E25: =E26 -> 40750 | F25: =F26 -> 0 | G25: =G26 -> 0 | H25: =H26 -> 0 | I25: =I26 -> 0 | J25: =J26 -> 66700
A26: B81 | B26: Belföldi finanszírozás bevételei | C26: =C27 -> 20698 | D26: =D27+D28 -> 25950 | E26: =E27+E28 -> 40750 | F26: =F27+F28 -> 0 | G26: =G27+G28 -> 0 | H26: =H27+H28 -> 0 | I26: =I27+I28 -> 0 | J26: =SUM(D26:I26) -> 66700
A27: B816 | B27: Központi, önkormányzattól kapott támogatás | C27: 20698 | D27: 25950 | E27: 885 | J27: =SUM(D27:I27) -> 26835
A28: B813 | B28: Maradvány | D28: 0 | E28: 39865 | J28: =SUM(D28:I28) -> 39865
A29: IV.K9 | B29: FINANSZÍROZÁSI KIADÁSOK | C29: =C30 -> 0 | D29: =D30 -> 0 | E29: =E30 -> 0 | F29: =F30 -> 0 | G29: =G30 -> 0 | H29: =H30 -> 0 | I29: =I30 -> 0 | J29: =J30 -> 0
A30: K91 | B30: Belföldi finanszírozás kiadásai | C30: =C31 -> 0 | D30: =D31 -> 0 | E30: =E31 -> 0 | F30: =F31 -> 0 | G30: =G31 -> 0 | H30: =H31 -> 0 | I30: =I31 -> 0 | J30: =J31 -> 0
A31: K915 | B31: Központi, irányító szervi támogatások folyósítása | D31: 0 | E31: 0 | J31: =SUM(D31:I31) -> 0
B32: FINANSZÍROZÁSI EGYENLEG (III.-IV.) | C32: =C25-C29 -> 20698 | D32: =D25-D29 -> 25950 | E32: =E25-E29 -> 40750 | F32: =F25-F29 -> 0 | G32: =G25-G29 -> 0 | H32: =H25-H29 -> 0 | I32: =I25-I29 -> 0 | J32: =J25-J29 -> 66700
B33: BEVÉTELEK MINDÖSSZESEN (I.+III.) | C33: =C3+C25 -> 718474 | D33: =D3+D25 -> 814280 | E33: =E3+E25 -> 40750 | F33: =F3+F25 -> 0 | G33: =G3+G25 -> 0 | H33: =H3+H25 -> 0 | I33: =I3+I25 -> 0 | J33: =J3+J25 -> 855030
B34: Ebből: Működési | C34: =C6+C8+C9+C11 -> 697776 | D34: =D6+D8+D9+D11 -> 784330 | E34: =E6+E8+E9+E11 -> 0 | F34: =F6+F8+F9+F11 -> 0 | G34: =G6+G8+G9+G11 -> 0 | H34: =H6+H8+H9+H11 -> 0 | I34: =I6+I8+I9+I11 -> 0 | J34: =J6+J8+J9+J11 -> 784330
B35: Ebből: Felhalmozási | C35: =C7+C10+C12 -> 0 | D35: =D7+D10+D12 -> 4000 | E35: =E7+E10+E12 -> 0 | F35: =F7+F10+F12 -> 0 | G35: =G7+G10+G12 -> 0 | H35: =H7+H10+H12 -> 0 | I35: =I7+I10+I12 -> 0 | J35: =J7+J10+J12 -> 4000
B36: Ebből: Finanszírozási | C36: =C25 -> 20698 | D36: =D25 -> 25950 | E36: =E25 -> 40750 | F36: =F25 -> 0 | G36: =G25 -> 0 | H36: =H25 -> 0 | I36: =I25 -> 0 | J36: =J25 -> 66700
B37: KIADÁSOK MINDÖSSZESEN (II.+IV.) | C37: =C13+C29 -> 718474 | D37: =D13+D29 -> 814280 | E37: =E13+E29 -> 40750 | F37: =F13+F29 -> 0 | G37: =G13+G29 -> 0 | H37: =H13+H29 -> 0 | I37: =I13+I29 -> 0 | J37: =J13+J29 -> 855030
B38: Ebből: Működési | C38: =C14+C15+C16+C17+C18 -> 718474 | D38: =D14+D15+D16+D17+D18 -> 810280 | E38: =E14+E15+E16+E17+E18 -> 39250 | F38: =F14+F15+F16+F17+F18 -> 0 | G38: =G14+G15+G16+G17+G18 -> 0 | H38: =H14+H15+H16+H17+H18 -> 0 | I38: =I14+I15+I16+I17+I18 -> 0 | J38: =J14+J15+J16+J17+J18 -> 849530
B39: Ebből: Felhalmozási | C39: =C19+C20+C21 -> 0 | D39: =D19+D20+D21 -> 4000 | E39: =E19+E20+E21 -> 1500 | F39: =F19+F20+F21 -> 0 | G39: =G19+G20+G21 -> 0 | H39: =H19+H20+H21 -> 0 | I39: =I19+I20+I21 -> 0 | J39: =J19+J20+J21 -> 5500
B40: Ebből: Finanszírozási | C40: =C29 -> 0 | D40: =D29 -> 0 | E40: =E29 -> 0 | F40: =F29 -> 0 | G40: =G29 -> 0 | H40: =H29 -> 0 | I40: =I29 -> 0 | J40: =J29 -> 0
B41: KÖLTSÉGVETÉSI EGYENLEG | C41: =C33-C37 -> 0 | D41: =D33-D37 -> 0 | E41: =E33-E37 -> 0 | F41: =F33-F37 -> 0 | G41: =G33-G37 -> 0 | H41: =H33-H37 -> 0 | I41: =I33-I37 -> 0 | J41: =J33-J37 -> 0
B42: Ebből: Működési | C42: =C34-C38 -> -20698 | D42: =D34-D38 -> -25950 | E42: =E34-E38 -> -39250 | F42: =F34-F38 -> 0 | G42: =G34-G38 -> 0 | H42: =H34-H38 -> 0 | I42: =I34-I38 -> 0 | J42: =J34-J38 -> -65200
B43: Ebből: Felhalmozási | C43: =C35-C39 -> 0 | D43: =D35-D39 -> 0 | E43: =E35-E39 -> -1500 | F43: =F35-F39 -> 0 | G43: =G35-G39 -> 0 | H43: =H35-H39 -> 0 | I43: =I35-I39 -> 0 | J43: =J35-J39 -> -1500
B44: Ebből: Finanszírozási | C44: =C36-C40 -> 20698 | D44: =D36-D40 -> 25950 | E44: =E36-E40 -> 40750 | F44: =F36-F40 -> 0 | G44: =G36-G40 -> 0 | H44: =H36-H40 -> 0 | I44: =I36-I40 -> 0 | J44: =J36-J40 -> 66700

Sheet HBPMK 2d
B1: Hamvas Béla Pest Megyei Könyvtár | C1: 2018 terv | D1: 2019 terv
C2: Kötelező feladatok | D2: Kötelező feladatok | E2: 1. módosítás 2019.06.13. | J2: Kötelező feladatok
A3: I. | B3: KÖLTSÉGVETÉSI BEVÉTELEK | C3: =C6+C7+C8+C9+C10+C11+C12 -> 10106 | D3: =D6+D7+D8+D9+D10+D11+D12 -> 9211 | E3: =E6+E7+E8+E9+E10+E11+E12 -> 4391 | F3: =F6+F7+F8+F9+F10+F11+F12 -> 0 | G3: =G6+G7+G8+G9+G10+G11+G12 -> 0 | H3: =H6+H7+H8+H9+H10+H11+H12 -> 0 | I3: =I6+I7+I8+I9+I10+I11+I12 -> 0 | J3: =J6+J7+J8+J9+J10+J11+J12 -> 13602
A4: B11 | B4: Önkormányzatok működési támogatásai | D4: 0 | J4: =SUM(D4:I4) -> 0
A5: B16 | B5: Egyéb működési célú támogatások ÁHT-n belülről (benne OEP finanszírozás) | D5: 0 | E5: 3500 | J5: =SUM(D5:I5) -> 3500
A6: B1 | B6: Működési célú támogatások államháztartáson belülről | C6: =SUM(C4:C5) -> 0 | D6: =D4+D5 -> 0 | E6: =E4+E5 -> 3500 | F6: =F4+F5 -> 0 | G6: =G4+G5 -> 0 | H6: =H4+H5 -> 0 | I6: =I4+I5 -> 0 | J6: =J4+J5 -> 3500
A7: B2 | B7: Felhalmozási célú támogatások államháztartáson belülről | D7: 0 | J7: =SUM(D7:I7) -> 0
A8: B3 | B8: Közhatalmi bevételek | D8: 0 | J8: =SUM(D8:I8) -> 0
A9: B4 | B9: Működési bevételek | C9: 10106 | D9: 9211 | E9: 891 | J9: =SUM(D9:I9) -> 10102
A10: B5 | B10: Felhalmozási bevételek | D10: 0 | J10: =SUM(D10:I10) -> 0
A11: B6 | B11: Működési célú átvett pénzeszköz | D11: 0 | J11: =SUM(D11:I11) -> 0
A12: B7 | B12: Felhalmozási célú átvett pénzeszköz | D12: 0 | J12: =SUM(D12:I12) -> 0
A13: II. | B13: KÖLTSÉGVETÉSI KIADÁSOK | C13: =C14+C15+C16+C17+C18+C19+C20+C21 -> 263377 | D13: =D14+D15+D16+D17+D18+D19+D20+D21 -> 290435 | E13: =E14+E15+E16+E17+E18+E19+E20+E21 -> 13712 | F13: =F14+F15+F16+F17+F18+F19+F20+F21 -> 0 | G13: =G14+G15+G16+G17+G18+G19+G20+G21 -> 0 | H13: =H14+H15+H16+H17+H18+H19+H20+H21 -> 0 | I13: =I14+I15+I16+I17+I18+I19+I20+I21 -> 0 | J13: =J14+J15+J16+J17+J18+J19+J20+J21 -> 304147
A14: K1 | B14: Személyi juttatások | C14: 106046 | D14: 124446 | E14: 3508 | J14: =SUM(D14:I14) -> 127954
A15: K2 | B15: Munkaadókat terhelő járulékok és szociális hozzájárulási adó | C15: 22993 | D15: 25455 | E15: 684 | J15: =SUM(D15:I15) -> 26139
A16: K3 | B16: Dologi kiadások | C16: 66314 | D16: 66082 | E16: 4237 | J16: =SUM(D16:I16) -> 70319
A17: K4 | B17: Ellátottak pénzbeli juttatásai | C17: 0 | D17: 0 | J17: =SUM(D17:I17) -> 0
A18: K5 | B18: Egyéb működési célú kiadások | D18: 0 | J18: =SUM(D18:I18) -> 0
A19: K6 | B19: Beruházások | C19: 68024 | D19: 74452 | E19: 3923 | J19: =SUM(D19:I19) -> 78375
A20: K7 | B20: Felújítások | D20: 0 | J20: =SUM(D20:I20) -> 0
A21: K8 | B21: Egyéb felhalmozási célú kiadások | D21: 0 | E21: 1360 | J21: =SUM(D21:I21) -> 1360
B22: EGYENLEG (I.-II.) | C22: =C3-C13 -> -253271 | D22: =D3-D13 -> -281224 | E22: =E3-E13 -> -9321 | F22: =F3-F13 -> 0 | G22: =G3-G13 -> 0 | H22: =H3-H13 -> 0 | I22: =I3-I13 -> 0 | J22: =J3-J13 -> -290545
B23: Működési | C23: =C6+C8+C9+C11-C14-C15-C16-C17-C18-C19-C20 -> -253271 | D23: =D6+D8+D9+D11-D14-D15-D16-D17-D18 -> -206772 | E23: =E6+E8+E9+E11-E14-E15-E16-E17-E18 -> -4038 | F23: =F6+F8+F9+F11-F14-F15-F16-F17-F18 -> 0 | G23: =G6+G8+G9+G11-G14-G15-G16-G17-G18 -> 0 | H23: =H6+H8+H9+H11-H14-H15-H16-H17-H18 -> 0 | I23: =I6+I8+I9+I11-I14-I15-I16-I17-I18 -> 0 | J23: =J6+J8+J9+J11-J14-J15-J16-J17-J18 -> -210810
B24: Felhalmozási | C24: =C7+C10+C12-C21 -> 0 | D24: =D7+D10+D12-D19-D20-D21 -> -74452 | E24: =E7+E10+E12-E19-E20-E21 -> -5283 | F24: =F7+F10+F12-F19-F20-F21 -> 0 | G24: =G7+G10+G12-G19-G20-G21 -> 0 | H24: =H7+H10+H12-H19-H20-H21 -> 0 | I24: =I7+I10+I12-I19-I20-I21 -> 0 | J24: =J7+J10+J12-J19-J20-J21 -> -79735
A25: III.B8 | B25: FINANSZÍROZÁSI BEVÉTELEK | C25: =C26 -> 253271 | D25: =D26 -> 281224 | E25: =E26 -> 9321 | F25: =F26 -> 0 | G25: =G26 -> 0 | H25: =H26 -> 0 | I25: =I26 -> 0 | J25: =J26 -> 290545
A26: B81 | B26: Belföldi finanszírozás bevételei | C26: =C27 -> 253271 | D26: =D27+D28 -> 281224 | E26: =E27+E28 -> 9321 | F26: =F27+F28 -> 0 | G26: =G27+G28 -> 0 | H26: =H27+H28 -> 0 | I26: =I27+I28 -> 0 | J26: =J27+J28 -> 290545
A27: B816 | B27: Központi, önkormányzattól kapott támogatás | C27: 253271 | D27: 281224 | E27: 4192 | J27: =SUM(D27:I27) -> 285416
A28: B813 | B28: Maradvány | D28: 0 | E28: 5129 | J28: =SUM(D28:I28) -> 5129
A29: IV.K9 | B29: FINANSZÍROZÁSI KIADÁSOK | C29: =C30 -> 0 | D29: =D30 -> 0 | E29: =E30 -> 0 | F29: =F30 -> 0 | G29: =G30 -> 0 | H29: =H30 -> 0 | I29: =I30 -> 0 | J29: =J30 -> 0
A30: K91 | B30: Belföldi finanszírozás kiadásai | C30: =C31 -> 0 | D30: =D31 -> 0 | E30: =E31 -> 0 | F30: =F31 -> 0 | G30: =G31 -> 0 | H30: =H31 -> 0 | I30: =I31 -> 0 | J30: =J31 -> 0
A31: K915 | B31: Központi, irányító szervi támogatások folyósítása | D31: 0 | J31: =SUM(D31:I31) -> 0
B32: FINANSZÍROZÁSI EGYENLEG (III.-IV.) | C32: =C25-C29 -> 253271 | D32: =D25-D29 -> 281224 | E32: =E25-E29 -> 9321 | F32: =F25-F29 -> 0 | G32: =G25-G29 -> 0 | H32: =H25-H29 -> 0 | I32: =I25-I29 -> 0 | J32: =J25-J29 -> 290545
B33: BEVÉTELEK MINDÖSSZESEN (I.+III.) | C33: =C3+C25 -> 263377 | D33: =D3+D25 -> 290435 | E33: =E3+E25 -> 13712 | F33: =F3+F25 -> 0 | G33: =G3+G25 -> 0 | H33: =H3+H25 -> 0 | I33: =I3+I25 -> 0 | J33: =J3+J25 -> 304147
B34: Ebből: Működési | C34: =C6+C8+C9+C11 -> 10106 | D34: =D6+D8+D9 -> 9211 | E34: =E6+E8+E9 -> 4391 | F34: =F6+F8+F9 -> 0 | G34: =G6+G8+G9 -> 0 | H34: =H6+H8+H9 -> 0 | I34: =I6+I8+I9 -> 0 | J34: =J6+J8+J9 -> 13602
B35: Ebből: Felhalmozási | C35: =C7+C10+C12 -> 0 | D35: =D7+D10+D12 -> 0 | E35: =E7+E10+E12 -> 0 | F35: =F7+F10+F12 -> 0 | G35: =G7+G10+G12 -> 0 | H35: =H7+H10+H12 -> 0 | I35: =I7+I10+I12 -> 0 | J35: =J7+J10+J12 -> 0
B36: Ebből: Finanszírozási | C36: =C25 -> 253271 | D36: =D25 -> 281224 | E36: =E25 -> 9321 | F36: =F25 -> 0 | G36: =G25 -> 0 | H36: =H25 -> 0 | I36: =I25 -> 0 | J36: =J25 -> 290545
B37: KIADÁSOK MINDÖSSZESEN (II.+IV.) | C37: =C13+C29 -> 263377 | D37: =D13+D29 -> 290435 | E37: =E13+E29 -> 13712 | F37: =F13+F29 -> 0 | G37: =G13+G29 -> 0 | H37: =H13+H29 -> 0 | I37: =I13+I29 -> 0 | J37: =J13+J29 -> 304147
B38: Ebből: Működési | C38: =C14+C15+C16+C17+C18 -> 195353 | D38: =D14+D15+D16+D17+D18 -> 215983 | E38: =E14+E15+E16+E17+E18 -> 8429 | F38: =F14+F15+F16+F17+F18 -> 0 | G38: =G14+G15+G16+G17+G18 -> 0 | H38: =H14+H15+H16+H17+H18 -> 0 | I38: =I14+I15+I16+I17+I18 -> 0 | J38: =J14+J15+J16+J17+J18 -> 224412
B39: Ebből: Felhalmozási | C39: =C19+C20+C21 -> 68024 | D39: =D19+D20+D21 -> 74452 | E39: =E19+E20+E21 -> 5283 | F39: =F19+F20+F21 -> 0 | G39: =G19+G20+G21 -> 0 | H39: =H19+H20+H21 -> 0 | I39: =I19+I20+I21 -> 0 | J39: =J19+J20+J21 -> 79735
B40: Ebből: Finanszírozási | C40: =C29 -> 0 | D40: =D29 -> 0 | E40: =E29 -> 0 | F40: =F29 -> 0 | G40: =G29 -> 0 | H40: =H29 -> 0 | I40: =I29 -> 0 | J40: =J29 -> 0
B41: KÖLTSÉGVETÉSI EGYENLEG | C41: =C33-C37 -> 0 | D41: =D33-D37 -> 0 | E41: =E33-E37 -> 0 | F41: =F33-F37 -> 0 | G41: =G33-G37 -> 0 | H41: =H33-H37 -> 0 | I41: =I33-I37 -> 0 | J41: =J33-J37 -> 0
B42: Ebből: Működési | C42: =C34-C38 -> -185247 | D42: =D34-D38 -> -206772 | E42: =E34-E38 -> -4038 | F42: =F34-F38 -> 0 | G42: =G34-G38 -> 0 | H42: =H34-H38 -> 0 | I42: =I34-I38 -> 0 | J42: =J34-J38 -> -210810
B43: Ebből: Felhalmozási | C43: =C35-C39 -> -68024 | D43: =D35-D39 -> -74452 | E43: =E35-E39 -> -5283 | F43: =F35-F39 -> 0 | G43: =G35-G39 -> 0 | H43: =H35-H39 -> 0 | I43: =I35-I39 -> 0 | J43: =J35-J39 -> -79735
B44: Ebből: Finanszírozási | C44: =C36-C40 -> 253271 | D44: =D36-D40 -> 281224 | E44: =E36-E40 -> 9321 | F44: =F36-F40 -> 0 | G44: =G36-G40 -> 0 | H44: =H36-H40 -> 0 | I44: =I36-I40 -> 0 | J44: =J36-J40 -> 290545

Sheet FMC 2e
B1: Ferenczy Múzeumi Centrum | C1: 2018 terv | D1: 2019 terv
C2: Kötelező feladatok | D2: Kötelező feladatok | E2: 1. módosítás 2019.06.13. | J2: Kötelező feladatok
A3: I. | B3: KÖLTSÉGVETÉSI BEVÉTELEK | C3: =C6+C7+C8+C9+C10+C11+C12 -> 503020 | D3: =D6+D7+D8+D9+D10+D11+D12 -> 526533 | E3: =E6+E7+E8+E9+E10+E11+E12 -> 4000 | F3: =F6+F7+F8+F9+F10+F11+F12 -> 0 | G3: =G6+G7+G8+G9+G10+G11+G12 -> 0 | H3: =H6+H7+H8+H9+H10+H11+H12 -> 0 | I3: =I6+I7+I8+I9+I10+I11+I12 -> 0 | J3: =J6+J7+J8+J9+J10+J11+J12 -> 530533
A4: B11 | B4: Önkormányzatok működési támogatásai | D4: 0
A5: B15/B16 | B5: Egyéb működési célú támogatások ÁHT-n belülről (benne OEP finanszírozás) | C5: 12000 | D5: 15000 | E5: 4000 | J5: =SUM(D5:I5) -> 19000
A6: B1 | B6: Működési célú támogatások államháztartáson belülről | C6: =SUM(C4:C5) -> 12000 | D6: =SUM(D4:D5) -> 15000 | E6: =SUM(E4:E5) -> 4000 | F6: =SUM(F4:F5) -> 0 | G6: =SUM(G4:G5) -> 0 | H6: =SUM(H4:H5) -> 0 | I6: =SUM(I4:I5) -> 0 | J6: =SUM(J4:J5) -> 19000
A7: B2 | B7: Felhalmozási célú támogatások államháztartáson belülről | C7: 3000 | D7: 0 | J7: =SUM(D7:I7) -> 0
A8: B3 | B8: Közhatalmi bevételek | D8: 0
A9: B4 | B9: Működési bevételek | C9: 488020 | D9: 511533 | J9: 511533
A10: B5 | B10: Felhalmozási bevételek | D10: 0 | J10: =SUM(D10:I10) -> 0
A11: B6 | B11: Működési célú átvett pénzeszköz | D11: 0 | J11: =SUM(D11:I11) -> 0
A12: B7 | B12: Felhalmozási célú átvett pénzeszköz | D12: 0 | J12: =SUM(D12:I12) -> 0
A13: II. | B13: KÖLTSÉGVETÉSI KIADÁSOK | C13: =C14+C15+C16+C17+C18+C19+C20+C21 -> 891812 | D13: =D14+D15+D16+D17+D18+D19+D20+D21 -> 935820 | E13: =E14+E15+E16+E17+E18+E19+E20+E21 -> 92297 | F13: =F14+F15+F16+F17+F18+F19+F20+F21 -> 0 | G13: =G14+G15+G16+G17+G18+G19+G20+G21 -> 0 | H13: =H14+H15+H16+H17+H18+H19+H20+H21 -> 0 | I13: =I14+I15+I16+I17+I18+I19+I20+I21 -> 0 | J13: =J14+J15+J16+J17+J18+J19+J20+J21 -> 1028117
A14: K1 | B14: Személyi juttatások | C14: 368079 | D14: 398214 | E14: 9270 | J14: =SUM(D14:I14) -> 407484
A15: K2 | B15: Munkaadókat terhelő járulékok és szociális hozzájárulási adó | C15: 78619 | D15: 84570 | E15: 1808 | J15: =SUM(D15:I15) -> 86378
A16: K3 | B16: Dologi kiadások | C16: 427154 | D16: 418014 | E16: 53075 | J16: =SUM(D16:I16) -> 471089
A17: K4 | B17: Ellátottak pénzbeli juttatásai | C17: 0 | D17: 0 | E17: 13044 | J17: =SUM(D17:I17) -> 13044
A18: K5 | B18: Egyéb működési célú kiadások | D18: 0 | E18: 15100 | J18: =SUM(D18:I18) -> 15100
A19: K6 | B19: Beruházások | C19: =37960-20000 -> 17960 | D19: 35022 | J19: =SUM(D19:I19) -> 35022
A20: K7 | B20: Felújítások | D20: 0 | J20: =SUM(D20:I20) -> 0
A21: K8 | B21: Egyéb felhalmozási célú kiadások | D21: 0 | J21: =SUM(D21:I21) -> 0
B22: EGYENLEG (I.-II.) | C22: =C3-C13 -> -388792 | D22: =D3-D13 -> -409287 | E22: =E3-E13 -> -88297 | F22: =F3-F13 -> 0 | G22: =G3-G13 -> 0 | H22: =H3-H13 -> 0 | I22: =I3-I13 -> 0 | J22: =J3-J13 -> -497584
B23: Működési | C23: =C6+C8+C9+C11-C14-C15-C16-C17-C18-C19-C20 -> -391792 | D23: =D6+D8+D9+D11-D14-D15-D16-D17-D18 -> -374265 | E23: =E6+E8+E9+E11-E14-E15-E16-E17-E18 -> -88297 | F23: =F6+F8+F9+F11-F14-F15-F16-F17-F18 -> 0 | G23: =G6+G8+G9+G11-G14-G15-G16-G17-G18 -> 0 | H23: =H6+H8+H9+H11-H14-H15-H16-H17-H18 -> 0 | I23: =I6+I8+I9+I11-I14-I15-I16-I17-I18 -> 0 | J23: =J6+J8+J9+J11-J14-J15-J16-J17-J18 -> -462562
B24: Felhalmozási | C24: =C7+C10+C12-C21 -> 3000 | D24: =D7+D10+D12-D19-D20-D21 -> -35022 | E24: =E7+E10+E12-E19-E20-E21 -> 0 | F24: =F7+F10+F12-F19-F20-F21 -> 0 | G24: =G7+G10+G12-G19-G20-G21 -> 0 | H24: =H7+H10+H12-H19-H20-H21 -> 0 | I24: =I7+I10+I12-I19-I20-I21 -> 0 | J24: =J7+J10+J12-J19-J20-J21 -> -35022
A25: III.B8 | B25: FINANSZÍROZÁSI BEVÉTELEK | C25: =C26 -> 388792 | D25: =D26 -> 409287 | E25: =E26 -> 88297 | F25: =F26 -> 0 | G25: =G26 -> 0 | H25: =H26 -> 0 | I25: =I26 -> 0 | J25: =J26 -> 423179
A26: B81 | B26: Belföldi finanszírozás bevételei | C26: =C27 -> 388792 | D26: =D27+D28 -> 409287 | E26: =E27+E28 -> 88297 | F26: =F27+F28 -> 0 | G26: =G27+G28 -> 0 | H26: =H27+H28 -> 0 | I26: =I27+I28 -> 0 | J26: =J27 -> 423179
A27: B816 | B27: Központi, önkormányzattól kapott támogatás | C27: =426431+2046-34605-5080 -> 388792 | D27: 409287 | E27: 13892 | J27: =SUM(D27:I27) -> 423179
A28: B813 | B28: Maradvány | D28: 0 | E28: 74405 | J28: =SUM(D28:I28) -> 74405
A29: IV.K9 | B29: FINANSZÍROZÁSI KIADÁSOK | C29: =C30 -> 0 | D29: =D30 -> 0 | E29: =E30 -> 0 | F29: =F30 -> 0 | G29: =G30 -> 0 | H29: =H30 -> 0 | I29: =I30 -> 0 | J29: =J30 -> 0
A30: K91 | B30: Belföldi finanszírozás kiadásai | C30: =C31 -> 0 | D30: =D31 -> 0 | E30: =E31 -> 0 | F30: =F31 -> 0 | G30: =G31 -> 0 | H30: =H31 -> 0 | I30: =I31 -> 0 | J30: =J31 -> 0
A31: K915 | B31: Központi, irányító szervi támogatások folyósítása | D31: 0 | J31: =SUM(D31:I31) -> 0
B32: FINANSZÍROZÁSI EGYENLEG (III.-IV.) | C32: =C25-C29 -> 388792 | D32: =D25-D29 -> 409287 | E32: =E25-E29 -> 88297 | F32: =F25-F29 -> 0 | G32: =G25-G29 -> 0 | H32: =H25-H29 -> 0 | I32: =I25-I29 -> 0 | J32: =SUM(D32:I32) -> 497584
B33: BEVÉTELEK MINDÖSSZESEN (I.+III.) | C33: =C3+C25 -> 891812 | D33: =D3+D25 -> 935820 | E33: =E3+E25 -> 92297 | F33: =F3+F25 -> 0 | G33: =G3+G25 -> 0 | H33: =H3+H25 -> 0 | I33: =I3+I25 -> 0 | J33: =SUM(D33:I33) -> 1028117
B34: Ebből: Működési | C34: =C6+C8+C9+C11 -> 500020 | D34: =D6+D8+D9+D11 -> 526533 | E34: =E6+E8+E9+E11 -> 4000 | F34: =F6+F8+F9+F11 -> 0 | G34: =G6+G8+G9+G11 -> 0 | H34: =H6+H8+H9+H11 -> 0 | I34: =I6+I8+I9+I11 -> 0 | J34: =SUM(D34:I34) -> 530533
B35: Ebből: Felhalmozási | C35: =C7+C10+C12 -> 3000 | D35: =D7+D10+D12 -> 0 | E35: =E7+E10+E12 -> 0 | F35: =F7+F10+F12 -> 0 | G35: =G7+G10+G12 -> 0 | H35: =H7+H10+H12 -> 0 | I35: =I7+I10+I12 -> 0 | J35: =SUM(D35:I35) -> 0
B36: Ebből: Finanszírozási | C36: =C25 -> 388792 | D36: =D25 -> 409287 | E36: =E25 -> 88297 | F36: =F25 -> 0 | G36: =G25 -> 0 | H36: =H25 -> 0 | I36: =I25 -> 0 | J36: =SUM(D36:I36) -> 497584
B37: KIADÁSOK MINDÖSSZESEN (II.+IV.) | C37: =C13+C29 -> 891812 | D37: =D13+D29 -> 935820 | E37: =E13+E29 -> 92297 | F37: =F13+F29 -> 0 | G37: =G13+G29 -> 0 | H37: =H13+H29 -> 0 | I37: =I13+I29 -> 0 | J37: =SUM(D37:I37) -> 1028117
B38: Ebből: Működési | C38: =C14+C15+C16+C17+C18 -> 873852 | D38: =D14+D15+D16+D17+D18 -> 900798 | E38: =E14+E15+E16+E17+E18 -> 92297 | F38: =F14+F15+F16+F17+F18 -> 0 | G38: =G14+G15+G16+G17+G18 -> 0 | H38: =H14+H15+H16+H17+H18 -> 0 | I38: =I14+I15+I16+I17+I18 -> 0 | J38: =SUM(D38:I38) -> 993095
B39: Ebből: Felhalmozási | C39: =C19+C20+C21 -> 17960 | D39: =D19+D20+D21 -> 35022 | E39: =E19+E20+E21 -> 0 | F39: =F19+F20+F21 -> 0 | G39: =G19+G20+G21 -> 0 | H39: =H19+H20+H21 -> 0 | I39: =I19+I20+I21 -> 0 | J39: =SUM(D39:I39) -> 35022
B40: Ebből: Finanszírozási | C40: =C29 -> 0 | D40: =D29 -> 0 | E40: =E29 -> 0 | F40: =F29 -> 0 | G40: =G29 -> 0 | H40: =H29 -> 0 | I40: =I29 -> 0 | J40: =SUM(D40:I40) -> 0
B41: KÖLTSÉGVETÉSI EGYENLEG | C41: =C33-C37 -> 0 | D41: =D33-D37 -> 0 | E41: =E33-E37 -> 0 | F41: =F33-F37 -> 0 | G41: =G33-G37 -> 0 | H41: =H33-H37 -> 0 | I41: =I33-I37 -> 0 | J41: =SUM(D41:I41) -> 0
B42: Ebből: Működési | C42: =C34-C38 -> -373832 | D42: =D34-D38 -> -374265 | E42: =E34-E38 -> -88297 | F42: =F34-F38 -> 0 | G42: =G34-G38 -> 0 | H42: =H34-H38 -> 0 | I42: =I34-I38 -> 0 | J42: =SUM(D42:I42) -> -462562
B43: Ebből: Felhalmozási | C43: =C35-C39 -> -14960 | D43: =D35-D39 -> -35022 | E43: =E35-E39 -> 0 | F43: =F35-F39 -> 0 | G43: =G35-G39 -> 0 | H43: =H35-H39 -> 0 | I43: =I35-I39 -> 0 | J43: =SUM(D43:I43) -> -35022
B44: Ebből: Finanszírozási | C44: =C36-C40 -> 388792 | D44: =D36-D40 -> 409287 | E44: =E36-E40 -> 88297 | F44: =F36-F40 -> 0 | G44: =G36-G40 -> 0 | H44: =H36-H40 -> 0 | I44: =I36-I40 -> 0 | J44: =SUM(D44:I44) -> 497584
D45: =SUM(D29:D30) -> 0

Sheet Óvoda 2f
B1: Szentendre Városi Óvodák | C1: 2018 terv | D1: 2019 terv
C2: Kötelező feladatok | D2: Kötelező feladatok | E2: 1. módosítás 2019.06.13. | J2: Összesen
A3: I. | B3: KÖLTSÉGVETÉSI BEVÉTELEK | C3: =C6+C7+C8+C9+C10+C11+C12 -> 31565 | D3: =D6+D7+D8+D9+D10+D11+D12 -> 26710 | E3: =E6+E7+E8+E9+E10+E11+E12 -> 0 | F3: =F6+F7+F8+F9+F10+F11+F12 -> 0 | G3: =G6+G7+G8+G9+G10+G11+G12 -> 0 | H3: =H6+H7+H8+H9+H10+H11+H12 -> 0 | I3: =I6+I7+I8+I9+I10+I11+I12 -> 0 | J3: =J6+J7+J8+J9+J10+J11+J12 -> 26710
A4: B11 | B4: Önkormányzatok működési támogatásai | D4: 0 | J4: =SUM(D4:I4) -> 0
A5: B16 | B5: Egyéb működési célú támogatások ÁHT-n belülről (benne OEP finanszírozás) | D5: 0 | J5: =SUM(D5:I5) -> 0
A6: B1 | B6: Működési célú támogatások államháztartáson belülről | C6: =SUM(C4:C5) -> 0 | D6: =SUM(D4:D5) -> 0 | E6: =SUM(E4:E5) -> 0 | F6: =SUM(F4:F5) -> 0 | G6: =SUM(G4:G5) -> 0 | H6: =SUM(H4:H5) -> 0 | I6: =SUM(I4:I5) -> 0 | J6: =SUM(J4:J5) -> 0
A7: B2 | B7: Felhalmozási célú támogatások államháztartáson belülről | D7: 0 | J7: =SUM(D7:I7) -> 0
A8: B3 | B8: Közhatalmi bevételek | D8: 0 | J8: =SUM(D8:I8) -> 0
A9: B4 | B9: Működési bevételek | C9: 31565 | D9: 26710 | J9: =SUM(D9:I9) -> 26710
A10: B5 | B10: Felhalmozási bevételek | D10: 0 | J10: =SUM(D10:I10) -> 0
A11: B6 | B11: Működési célú átvett pénzeszköz | D11: 0 | J11: =SUM(D11:I11) -> 0
A12: B7 | B12: Felhalmozási célú átvett pénzeszköz | D12: 0 | J12: =SUM(D12:I12) -> 0
A13: II. | B13: KÖLTSÉGVETÉSI KIADÁSOK | C13: =C14+C15+C16+C17+C18+C19+C20+C21 -> 673176 | D13: =D14+D15+D16+D17+D18+D19+D20+D21 -> 681843 | E13: =E14+E15+E16+E17+E18+E19+E20+E21 -> 1241 | F13: =F14+F15+F16+F17+F18+F19+F20+F21 -> 0 | G13: =G14+G15+G16+G17+G18+G19+G20+G21 -> 0 | H13: =H14+H15+H16+H17+H18+H19+H20+H21 -> 0 | I13: =I14+I15+I16+I17+I18+I19+I20+I21 -> 0 | J13: =J14+J15+J16+J17+J18+J19+J20+J21 -> 683084
A14: K1 | B14: Személyi juttatások | C14: 423022 | D14: 439761 | J14: =SUM(D14:I14) -> 439761
A15: K2 | B15: Munkaadókat terhelő járulékok és szociális hozzájárulási adó | C15: 93480 | D15: 90700 | J15: =SUM(D15:I15) -> 90700
A16: K3 | B16: Dologi kiadások | C16: 151674 | D16: 146382 | E16: 1241 | J16: =SUM(D16:I16) -> 147623
A17: K4 | B17: Ellátottak pénzbeli juttatásai | C17: 0 | J17: =SUM(D17:I17) -> 0
A18: K5 | B18: Egyéb működési célú kiadások | C18: 0 | J18: =SUM(D18:I18) -> 0
A19: K6 | B19: Beruházások | C19: 5000 | D19: 5000 | J19: =SUM(D19:I19) -> 5000
A20: K7 | B20: Felújítások | J20: =SUM(D20:I20) -> 0
A21: K8 | B21: Egyéb felhalmozási célú kiadások | J21: =SUM(D21:I21) -> 0
B22: EGYENLEG (I.-II.) | C22: =C3-C13 -> -641611 | D22: =D3-D13 -> -655133 | E22: =E3-E13 -> -1241 | F22: =F3-F13 -> 0 | G22: =G3-G13 -> 0 | H22: =H3-H13 -> 0 | I22: =I3-I13 -> 0 | J22: =J3-J13 -> -656374
B23: Működési | C23: =C6+C8+C9+C11-C14-C15-C16-C17-C18-C19-C20 -> -641611 | D23: =D6+D8+D9+D11-D14-D15-D16-D17-D18 -> -650133 | E23: =E6+E8+E9+E11-E14-E15-E16-E17-E18 -> -1241 | F23: =F6+F8+F9+F11-F14-F15-F16-F17-F18 -> 0 | G23: =G6+G8+G9+G11-G14-G15-G16-G17-G18 -> 0 | H23: =H6+H8+H9+H11-H14-H15-H16-H17-H18 -> 0 | I23: =I6+I8+I9+I11-I14-I15-I16-I17-I18 -> 0 | J23: =J6+J8+J9+J11-J14-J15-J16-J17-J18 -> -651374
B24: Felhalmozási | C24: =C7+C10+C12-C21 -> 0 | D24: =D7+D10+D12-D19-D20-D21 -> -5000 | E24: =E7+E10+E12-E19-E20-E21 -> 0 | F24: =F7+F10+F12-F19-F20-F21 -> 0 | G24: =G7+G10+G12-G19-G20-G21 -> 0 | H24: =H7+H10+H12-H19-H20-H21 -> 0 | I24: =I7+I10+I12-I19-I20-I21 -> 0 | J24: =J7+J10+J12-J19-J20-J21 -> -5000
A25: III.B8 | B25: FINANSZÍROZÁSI BEVÉTELEK | C25: =C26 -> 641611 | D25: =D26 -> 655133 | E25: =E26 -> 1241 | F25: =F26 -> 0 | G25: =G26 -> 0 | H25: =H26 -> 0 | I25: =I26 -> 0 | J25: =J26 -> 656374
A26: B81 | B26: Belföldi finanszírozás bevételei | C26: =C27 -> 641611 | D26: =D27+D28 -> 655133 | E26: =E27+E28 -> 1241 | F26: =F27+F28 -> 0 | G26: =G27+G28 -> 0 | H26: =H27+H28 -> 0 | I26: =I27+I28 -> 0 | J26: =J27+J28 -> 656374
A27: B816 | B27: Központi, önkormányzattól kapott támogatás | C27: 641611 | D27: 655133 | E27: -1943 | J27: =SUM(D27:I27) -> 653190
A28: B813 | B28: Maradvány | D28: 0 | E28: 3184 | J28: =SUM(D28:I28) -> 3184
A29: IV.K9 | B29: FINANSZÍROZÁSI KIADÁSOK | C29: =C30 -> 0 | D29: =D30 -> 0 | E29: =E30 -> 0 | F29: =F30 -> 0 | G29: =G30 -> 0 | H29: =H30 -> 0 | I29: =I30 -> 0 | J29: =J30 -> 0
A30: K91 | B30: Belföldi finanszírozás kiadásai | C30: =C31 -> 0 | D30: =D31 -> 0 | E30: =E31 -> 0 | F30: =F31 -> 0 | G30: =G31 -> 0 | H30: =H31 -> 0 | I30: =I31 -> 0 | J30: =J31 -> 0
A31: K915 | B31: Központi, irányító szervi támogatások folyósítása | D31: 0 | J31: =SUM(D31:I31) -> 0
B32: FINANSZÍROZÁSI EGYENLEG (III.-IV.) | C32: =C25-C29 -> 641611 | D32: =D25-D29 -> 655133 | E32: =E25-E29 -> 1241 | F32: =F25-F29 -> 0 | G32: =G25-G29 -> 0 | H32: =H25-H29 -> 0 | I32: =I25-I29 -> 0 | J32: =J25-J29 -> 656374
B33: BEVÉTELEK MINDÖSSZESEN (I.+III.) | C33: =C3+C25 -> 673176 | D33: =D3+D25 -> 681843 | E33: =E3+E25 -> 1241 | F33: =F3+F25 -> 0 | G33: =G3+G25 -> 0 | H33: =H3+H25 -> 0 | I33: =I3+I25 -> 0 | J33: =J3+J25 -> 683084
B34: Ebből: Működési | C34: =C6+C8+C9+C11 -> 31565 | D34: =D6+D8+D9+D11 -> 26710 | E34: =E6+E8+E9+E11 -> 0 | F34: =F6+F8+F9+F11 -> 0 | G34: =G6+G8+G9+G11 -> 0 | H34: =H6+H8+H9+H11 -> 0 | I34: =I6+I8+I9+I11 -> 0 | J34: =J6+J8+J9+J11 -> 26710
B35: Ebből: Felhalmozási | C35: =C7+C10+C12 -> 0 | D35: =D7+D10+D12 -> 0 | E35: =E7+E10+E12 -> 0 | F35: =F7+F10+F12 -> 0 | G35: =G7+G10+G12 -> 0 | H35: =H7+H10+H12 -> 0 | I35: =I7+I10+I12 -> 0 | J35: =J7+J10+J12 -> 0
B36: Ebből: Finanszírozási | C36: =C25 -> 641611 | D36: =D25 -> 655133 | E36: =E25 -> 1241 | F36: =F25 -> 0 | G36: =G25 -> 0 | H36: =H25 -> 0 | I36: =I25 -> 0 | J36: =J25 -> 656374
B37: KIADÁSOK MINDÖSSZESEN (II.+IV.) | C37: =C13+C29 -> 673176 | D37: =D13+D29 -> 681843 | E37: =E13+E29 -> 1241 | F37: =F13+F29 -> 0 | G37: =G13+G29 -> 0 | H37: =H13+H29 -> 0 | I37: =I13+I29 -> 0 | J37: =J13+J29 -> 683084
B38: Ebből: Működési | C38: =C14+C15+C16+C17+C18 -> 668176 | D38: =D14+D15+D16+D17+D18 -> 676843 | E38: =E14+E15+E16+E17+E18 -> 1241 | F38: =F14+F15+F16+F17+F18 -> 0 | G38: =G14+G15+G16+G17+G18 -> 0 | H38: =H14+H15+H16+H17+H18 -> 0 | I38: =I14+I15+I16+I17+I18 -> 0 | J38: =J14+J15+J16+J17+J18 -> 678084
B39: Ebből: Felhalmozási | C39: =C19+C20+C21 -> 5000 | D39: =D19+D20+D21 -> 5000 | E39: =E19+E20+E21 -> 0 | F39: =F19+F20+F21 -> 0 | G39: =G19+G20+G21 -> 0 | H39: =H19+H20+H21 -> 0 | I39: =I19+I20+I21 -> 0 | J39: =J19+J20+J21 -> 5000
B40: Ebből: Finanszírozási | C40: =C29 -> 0 | D40: =D29 -> 0 | E40: =E29 -> 0 | F40: =F29 -> 0 | G40: =G29 -> 0 | H40: =H29 -> 0 | I40: =I29 -> 0 | J40: =J29 -> 0
B41: KÖLTSÉGVETÉSI EGYENLEG | C41: =C33-C37 -> 0 | D41: =D33-D37 -> 0 | E41: =E33-E37 -> 0 | F41: =F33-F37 -> 0 | G41: =G33-G37 -> 0 | H41: =H33-H37 -> 0 | I41: =I33-I37 -> 0 | J41: =J33-J37 -> 0
B42: Ebből: Működési | C42: =C34-C38 -> -636611 | D42: =D34-D38 -> -650133 | E42: =E34-E38 -> -1241 | F42: =F34-F38 -> 0 | G42: =G34-G38 -> 0 | H42: =H34-H38 -> 0 | I42: =I34-I38 -> 0 | J42: =J34-J38 -> -651374
B43: Ebből: Felhalmozási | C43: =C35-C39 -> -5000 | D43: =D35-D39 -> -5000 | E43: =E35-E39 -> 0 | F43: =F35-F39 -> 0 | G43: =G35-G39 -> 0 | H43: =H35-H39 -> 0 | I43: =I35-I39 -> 0 | J43: =J35-J39 -> -5000
B44: Ebből: Finanszírozási | C44: =C36-C40 -> 641611 | D44: =D36-D40 -> 655133 | E44: =E36-E40 -> 1241 | F44: =F36-F40 -> 0 | G44: =G36-G40 -> 0 | H44: =H36-H40 -> 0 | I44: =I36-I40 -> 0 | J44: =J36-J40 -> 656374

Sheet Bölcsőde 2g
B1: Püspökmajor-lakótelepi Bölcsőde | C1: 2018 terv | D1: 2019 terv
C2: Kötelező feladatok | D2: Kötelező feladatok | E2: 1. módosítás 2019.06.13. | J2: Kötelező feladatok
A3: I. | B3: KÖLTSÉGVETÉSI BEVÉTELEK | C3: =C6+C7+C8+C9+C10+C11+C12 -> 14610 | D3: =D6+D7+D8+D9+D10+D11+D12 -> 15915 | E3: =E6+E7+E8+E9+E10+E11+E12 -> 0 | F3: =F6+F7+F8+F9+F10+F11+F12 -> 0 | G3: =G6+G7+G8+G9+G10+G11+G12 -> 0 | H3: =H6+H7+H8+H9+H10+H11+H12 -> 0 | I3: =I6+I7+I8+I9+I10+I11+I12 -> 0 | J3: =J6+J7+J8+J9+J10+J11+J12 -> 15915
A4: B11 | B4: Önkormányzatok működési támogatásai | D4: 0 | J4: =SUM(D4:I4) -> 0
A5: B16 | B5: Egyéb működési célú támogatások ÁHT-n belülről (benne OEP finanszírozás) | D5: 0 | J5: =SUM(D5:I5) -> 0
A6: B1 | B6: Működési célú támogatások államháztartáson belülről | C6: =SUM(C4:C5) -> 0 | D6: =SUM(D4:D5) -> 0 | E6: =SUM(E4:E5) -> 0 | F6: =SUM(F4:F5) -> 0 | G6: =SUM(G4:G5) -> 0 | H6: =SUM(H4:H5) -> 0 | I6: =SUM(I4:I5) -> 0 | J6: =SUM(J4:J5) -> 0
A7: B2 | B7: Felhalmozási célú támogatások államháztartáson belülről | D7: 0 | J7: =SUM(D7:I7) -> 0
A8: B3 | B8: Közhatalmi bevételek | D8: 0 | J8: =SUM(D8:I8) -> 0
A9: B4 | B9: Működési bevételek | C9: 14610 | D9: 15915 | J9: =SUM(D9:I9) -> 15915
A10: B5 | B10: Felhalmozási bevételek | D10: 0 | J10: =SUM(D10:I10) -> 0
A11: B6 | B11: Működési célú átvett pénzeszköz | D11: 0 | J11: =SUM(D11:I11) -> 0
A12: B7 | B12: Felhalmozási célú átvett pénzeszköz | D12: 0 | J12: =SUM(D12:I12) -> 0
A13: II. | B13: KÖLTSÉGVETÉSI KIADÁSOK | C13: =C14+C15+C16+C17+C18+C19+C20+C21 -> 151699 | D13: =D14+D15+D16+D17+D18+D19+D20+D21 -> 187075 | E13: =E14+E15+E16+E17+E18+E19+E20+E21 -> 1467 | F13: =F14+F15+F16+F17+F18+F19+F20+F21 -> 0 | G13: =G14+G15+G16+G17+G18+G19+G20+G21 -> 0 | H13: =H14+H15+H16+H17+H18+H19+H20+H21 -> 0 | I13: =I14+I15+I16+I17+I18+I19+I20+I21 -> 0 | J13: =J14+J15+J16+J17+J18+J19+J20+J21 -> 188542
A14: K1 | B14: Személyi juttatások | C14: 90947 | D14: 117948 | E14: 1037 | J14: =SUM(D14:I14) -> 118985
A15: K2 | B15: Munkaadókat terhelő járulékok és szociális hozzájárulási adó | C15: 20735 | D15: 26820 | E15: 202 | J15: =SUM(D15:I15) -> 27022
A16: K3 | B16: Dologi kiadások | C16: 37517 | D16: 39307 | E16: 228 | J16: =SUM(D16:I16) -> 39535
A17: K4 | B17: Ellátottak pénzbeli juttatásai | C17: 0 | D17: 0 | J17: =SUM(D17:I17) -> 0
A18: K5 | B18: Egyéb működési célú kiadások | C18: 0 | D18: 0 | J18: =SUM(D18:I18) -> 0
A19: K6 | B19: Beruházások | C19: 2500 | D19: 3000 | J19: =SUM(D19:I19) -> 3000
A20: K7 | B20: Felújítások | D20: 0 | J20: =SUM(D20:I20) -> 0
A21: K8 | B21: Egyéb felhalmozási célú kiadások | D21: 0 | J21: =SUM(D21:I21) -> 0
B22: EGYENLEG (I.-II.) | C22: =C3-C13 -> -137089 | D22: =D3-D13 -> -171160 | E22: =E3-E13 -> -1467 | F22: =F3-F13 -> 0 | G22: =G3-G13 -> 0 | H22: =H3-H13 -> 0 | I22: =I3-I13 -> 0 | J22: =J3-J13 -> -172627
B23: Működési | C23: =C6+C8+C9+C11-C14-C15-C16-C17-C18-C19-C20 -> -137089 | D23: =D6+D8+D9+D11-D14-D15-D16-D17-D18 -> -168160 | E23: =E6+E8+E9+E11-E14-E15-E16-E17-E18 -> -1467 | F23: =F6+F8+F9+F11-F14-F15-F16-F17-F18 -> 0 | G23: =G6+G8+G9+G11-G14-G15-G16-G17-G18 -> 0 | H23: =H6+H8+H9+H11-H14-H15-H16-H17-H18 -> 0 | I23: =I6+I8+I9+I11-I14-I15-I16-I17-I18 -> 0 | J23: =J6+J8+J9+J11-J14-J15-J16-J17-J18 -> -169627
B24: Felhalmozási | C24: =C7+C10+C12-C21 -> 0 | D24: =D7+D10+D12-D19-D20-D21 -> -3000 | E24: =E7+E10+E12-E19-E20-E21 -> 0 | F24: =F7+F10+F12-F19-F20-F21 -> 0 | G24: =G7+G10+G12-G19-G20-G21 -> 0 | H24: =H7+H10+H12-H19-H20-H21 -> 0 | I24: =I7+I10+I12-I19-I20-I21 -> 0 | J24: =J7+J10+J12-J19-J20-J21 -> -3000
A25: III.B8 | B25: FINANSZÍROZÁSI BEVÉTELEK | C25: =C26 -> 137089 | D25: =D26 -> 171160 | E25: =E26 -> 1467 | F25: =F26 -> 0 | G25: =G26 -> 0 | H25: =H26 -> 0 | I25: =I26 -> 0 | J25: =J26 -> 172627
A26: B81 | B26: Belföldi finanszírozás bevételei | C26: =C27 -> 137089 | D26: =D27 -> 171160 | E26: =E27+E28 -> 1467 | F26: =F27 -> 0 | G26: =G27 -> 0 | H26: =H27 -> 0 | I26: =I27 -> 0 | J26: =J27+J28 -> 172627
A27: B816 | B27: Központi, önkormányzattól kapott támogatás | C27: 137089 | D27: 171160 | E27: 34 | J27: =SUM(D27:I27) -> 171194
A28: B813 | B28: Maradvány | E28: 1433 | J28: =D28+E28 -> 1433
A29: IV.K9 | B29: FINANSZÍROZÁSI KIADÁSOK | C29: =C30 -> 0 | D29: =D30 -> 0 | E29: =E30 -> 0 | F29: =F30 -> 0 | G29: =G30 -> 0 | H29: =H30 -> 0 | I29: =I30 -> 0 | J29: =J30 -> 0
A30: K91 | B30: Belföldi finanszírozás kiadásai | C30: =C31 -> 0 | D30: =D31 -> 0 | E30: =E31 -> 0 | F30: =F31 -> 0 | G30: =G31 -> 0 | H30: =H31 -> 0 | I30: =I31 -> 0 | J30: =J31 -> 0
A31: K915 | B31: Központi, irányító szervi támogatások folyósítása | D31: 0 | J31: =SUM(D31:I31) -> 0
B32: FINANSZÍROZÁSI EGYENLEG (III.-IV.) | C32: =C25-C29 -> 137089 | D32: =D25-D29 -> 171160 | E32: =E25-E29 -> 1467 | F32: =F25-F29 -> 0 | G32: =G25-G29 -> 0 | H32: =H25-H29 -> 0 | I32: =I25-I29 -> 0 | J32: =J25-J29 -> 172627
B33: BEVÉTELEK MINDÖSSZESEN (I.+III.) | C33: =C3+C25 -> 151699 | D33: =D3+D25 -> 187075 | E33: =E3+E25 -> 1467 | F33: =F3+F25 -> 0 | G33: =G3+G25 -> 0 | H33: =H3+H25 -> 0 | I33: =I3+I25 -> 0 | J33: =J3+J25 -> 188542
B34: Ebből: Működési | C34: =C6+C8+C9+C11 -> 14610 | D34: =D6+D8+D9+D11 -> 15915 | E34: =E6+E8+E9+E11 -> 0 | F34: =F6+F8+F9+F11 -> 0 | G34: =G6+G8+G9+G11 -> 0 | H34: =H6+H8+H9+H11 -> 0 | I34: =I6+I8+I9+I11 -> 0 | J34: =J6+J8+J9+J11 -> 15915
B35: Ebből: Felhalmozási | C35: =C7+C10+C12 -> 0 | D35: =D7+D10+D12 -> 0 | E35: =E7+E10+E12 -> 0 | F35: =F7+F10+F12 -> 0 | G35: =G7+G10+G12 -> 0 | H35: =H7+H10+H12 -> 0 | I35: =I7+I10+I12 -> 0 | J35: =J7+J10+J12 -> 0
B36: Ebből: Finanszírozási | C36: =C25 -> 137089 | D36: =D25 -> 171160 | E36: =E25 -> 1467 | F36: =F25 -> 0 | G36: =G25 -> 0 | H36: =H25 -> 0 | I36: =I25 -> 0 | J36: =J25 -> 172627
B37: KIADÁSOK MINDÖSSZESEN (II.+IV.) | C37: =C13+C29 -> 151699 | D37: =D13+D29 -> 187075 | E37: =E13+E29 -> 1467 | F37: =F13+F29 -> 0 | G37: =G13+G29 -> 0 | H37: =H13+H29 -> 0 | I37: =I13+I29 -> 0 | J37: =J13+J29 -> 188542
B38: Ebből: Működési | C38: =C14+C15+C16+C17+C18 -> 149199 | D38: =D14+D15+D16+D17+D18 -> 184075 | E38: =E14+E15+E16+E17+E18 -> 1467 | F38: =F14+F15+F16+F17+F18 -> 0 | G38: =G14+G15+G16+G17+G18 -> 0 | H38: =H14+H15+H16+H17+H18 -> 0 | I38: =I14+I15+I16+I17+I18 -> 0 | J38: =J14+J15+J16+J17+J18 -> 185542
B39: Ebből: Felhalmozási | C39: =C19+C20+C21 -> 2500 | D39: =D19+D20+D21 -> 3000 | E39: =E19+E20+E21 -> 0 | F39: =F19+F20+F21 -> 0 | G39: =G19+G20+G21 -> 0 | H39: =H19+H20+H21 -> 0 | I39: =I19+I20+I21 -> 0 | J39: =J19+J20+J21 -> 3000
B40: Ebből: Finanszírozási | C40: =C29 -> 0 | D40: =D29 -> 0 | E40: =E29 -> 0 | F40: =F29 -> 0 | G40: =G29 -> 0 | H40: =H29 -> 0 | I40: =I29 -> 0 | J40: =J29 -> 0
B41: KÖLTSÉGVETÉSI EGYENLEG | C41: =C33-C37 -> 0 | D41: =D33-D37 -> 0 | E41: =E33-E37 -> 0 | F41: =F33-F37 -> 0 | G41: =G33-G37 -> 0 | H41: =H33-H37 -> 0 | I41: =I33-I37 -> 0 | J41: =J33-J37 -> 0
B42: Ebből: Működési | C42: =C34-C38 -> -134589 | D42: =D34-D38 -> -168160 | E42: =E34-E38 -> -1467 | F42: =F34-F38 -> 0 | G42: =G34-G38 -> 0 | H42: =H34-H38 -> 0 | I42: =I34-I38 -> 0 | J42: =J34-J38 -> -169627
B43: Ebből: Felhalmozási | C43: =C35-C39 -> -2500 | D43: =D35-D39 -> -3000 | E43: =E35-E39 -> 0 | F43: =F35-F39 -> 0 | G43: =G35-G39 -> 0 | H43: =H35-H39 -> 0 | I43: =I35-I39 -> 0 | J43: =J35-J39 -> -3000
B44: Ebből: Finanszírozási | C44: =C36-C40 -> 137089 | D44: =D36-D40 -> 171160 | E44: =E36-E40 -> 1467 | F44: =F36-F40 -> 0 | G44: =G36-G40 -> 0 | H44: =H36-H40 -> 0 | I44: =I36-I40 -> 0 | J44: =J36-J40 -> 172627

Sheet Gondozási 2h
B1: Gondozási Központ Szentendre | C1: 2018 terv | D1: 2019 terv
C2: Kötelező feladatok | D2: Kötelező feladatok | E2: 1. módosítás 2019.06.13. | J2: Kötelező feladatok
A3: I. | B3: KÖLTSÉGVETÉSI BEVÉTELEK | C3: =C6+C7+C8+C9+C10+C11+C12 -> 123169 | D3: =D6+D7+D8+D9+D10+D11+D12 -> 127579 | E3: =E6+E7+E8+E9+E10+E11+E12 -> 0 | F3: =F6+F7+F8+F9+F10+F11+F12 -> 0 | G3: =G6+G7+G8+G9+G10+G11+G12 -> 0 | H3: =H6+H7+H8+H9+H10+H11+H12 -> 0 | I3: =I6+I7+I8+I9+I10+I11+I12 -> 0 | J3: =J6+J7+J8+J9+J10+J11+J12 -> 127579
A4: B11 | B4: Önkormányzatok működési támogatásai | D4: 0 | J4: =SUM(D4:I4) -> 0
A5: B16 | B5: Egyéb működési célú támogatások ÁHT-n belülről (benne OEP finanszírozás) | C5: 88450 | D5: 84411 | J5: =SUM(D5:I5) -> 84411
A6: B1 | B6: Működési célú támogatások államháztartáson belülről | C6: =SUM(C4:C5) -> 88450 | D6: =SUM(D4:D5) -> 84411 | E6: =SUM(E4:E5) -> 0 | F6: =SUM(F4:F5) -> 0 | G6: =SUM(G4:G5) -> 0 | H6: =SUM(H4:H5) -> 0 | I6: =SUM(I4:I5) -> 0 | J6: =SUM(J4:J5) -> 84411
A7: B2 | B7: Felhalmozási célú támogatások államháztartáson belülről | D7: 0 | J7: =SUM(D7:I7) -> 0
A8: B3 | B8: Közhatalmi bevételek | D8: 0 | J8: =SUM(D8:I8) -> 0
A9: B4 | B9: Működési bevételek | C9: 34719 | D9: 43168 | J9: =SUM(D9:I9) -> 43168
A10: B5 | B10: Felhalmozási bevételek | D10: 0 | J10: =SUM(D10:I10) -> 0
A11: B6 | B11: Működési célú átvett pénzeszköz | D11: 0 | J11: =SUM(D11:I11) -> 0
A12: B7 | B12: Felhalmozási célú átvett pénzeszköz | D12: 0 | J12: =SUM(D12:I12) -> 0
A13: II. | B13: KÖLTSÉGVETÉSI KIADÁSOK | C13: =C14+C15+C16+C17+C18+C19+C20+C21 -> 244678 | D13: =D14+D15+D16+D17+D18+D19+D20+D21 -> 282462 | E13: =E14+E15+E16+E17+E18+E19+E20+E21 -> 19043 | F13: =F14+F15+F16+F17+F18+F19+F20+F21 -> 0 | G13: =G14+G15+G16+G17+G18+G19+G20+G21 -> 0 | H13: =H14+H15+H16+H17+H18+H19+H20+H21 -> 0 | I13: =I14+I15+I16+I17+I18+I19+I20+I21 -> 0 | J13: =J14+J15+J16+J17+J18+J19+J20+J21 -> 301505
A14: K1 | B14: Személyi juttatások | C14: 134861 | D14: 164881 | E14: 14325 | J14: =SUM(D14:I14) -> 179206
A15: K2 | B15: Munkaadókat terhelő járulékok és szociális hozzájárulási adó | C15: 30159 | D15: 33523 | E15: 2793 | J15: =SUM(D15:I15) -> 36316
A16: K3 | B16: Dologi kiadások | C16: 77128 | D16: 82850 | E16: 968 | J16: =SUM(D16:I16) -> 83818
A17: K4 | B17: Ellátottak pénzbeli juttatásai | C17: 0
A18: K5 | B18: Egyéb működési célú kiadások
A19: K6 | B19: Beruházások | C19: 2530 | D19: 1208 | E19: 957 | J19: =SUM(D19:I19) -> 2165
A20: K7 | B20: Felújítások
A21: K8 | B21: Egyéb felhalmozási célú kiadások | J21: =SUM(D21:I21) -> 0
B22: EGYENLEG (I.-II.) | C22: =C3-C13 -> -121509 | D22: =D3-D13 -> -154883 | E22: =E3-E13 -> -19043 | F22: =F3-F13 -> 0 | G22: =G3-G13 -> 0 | H22: =H3-H13 -> 0 | I22: =I3-I13 -> 0 | J22: =J3-J13 -> -173926
B23: Működési | C23: =C6+C8+C9+C11-C14-C15-C16-C17-C18-C19-C20 -> -121509 | D23: =D6+D8+D9+D11-D14-D15-D16-D17-D18 -> -153675 | E23: =E6+E8+E9+E11-E14-E15-E16-E17-E18 -> -18086 | F23: =F6+F8+F9+F11-F14-F15-F16-F17-F18 -> 0 | G23: =G6+G8+G9+G11-G14-G15-G16-G17-G18 -> 0 | H23: =H6+H8+H9+H11-H14-H15-H16-H17-H18 -> 0 | I23: =I6+I8+I9+I11-I14-I15-I16-I17-I18 -> 0 | J23: =J6+J8+J9+J11-J14-J15-J16-J17-J18 -> -171761
B24: Felhalmozási | C24: =C7+C10+C12-C21 -> 0 | D24: =D7+D10+D12-D19-D20-D21 -> -1208 | E24: =E7+E10+E12-E19-E20-E21 -> -957 | F24: =F7+F10+F12-F19-F20-F21 -> 0 | G24: =G7+G10+G12-G19-G20-G21 -> 0 | H24: =H7+H10+H12-H19-H20-H21 -> 0 | I24: =I7+I10+I12-I19-I20-I21 -> 0 | J24: =J7+J10+J12-J19-J20-J21 -> -2165
A25: III.B8 | B25: FINANSZÍROZÁSI BEVÉTELEK | C25: =C26 -> 121509 | D25: =D26 -> 154883 | E25: =E26 -> 19043 | F25: =F26 -> 0 | G25: =G26 -> 0 | H25: =H26 -> 0 | I25: =I26 -> 0 | J25: =J26 -> 173926
A26: B81 | B26: Belföldi finanszírozás bevételei | C26: =C27 -> 121509 | D26: =D27 -> 154883 | E26: =E27+E28 -> 19043 | F26: =F27+F28 -> 0 | G26: =G27+G28 -> 0 | H26: =H27+H28 -> 0 | I26: =I27+I28 -> 0 | J26: =J27+J28 -> 173926
A27: B816 | B27: Központi, önkormányzattól kapott támogatás | C27: 121509 | D27: =154574+309 -> 154883 | E27: 6282 | J27: =SUM(D27:I27) -> 161165
A28: B813 | B28: Maradvány | D28: 0 | E28: 12761 | J28: =SUM(D28:I28) -> 12761
A29: IV.K9 | B29: FINANSZÍROZÁSI KIADÁSOK | C29: =C30 -> 0 | D29: =D30 -> 0 | E29: =E30 -> 0 | F29: =F30 -> 0 | G29: =G30 -> 0 | H29: =H30 -> 0 | I29: =I30 -> 0 | J29: =J30 -> 0
A30: K91 | B30: Belföldi finanszírozás kiadásai | C30: =C31 -> 0 | D30: =D31 -> 0 | E30: =E31 -> 0 | F30: =F31 -> 0 | G30: =G31 -> 0 | H30: =H31 -> 0 | I30: =I31 -> 0 | J30: =J31 -> 0
A31: K915 | B31: Központi, irányító szervi támogatások folyósítása | D31: 0 | J31: =SUM(D31:I31) -> 0
B32: FINANSZÍROZÁSI EGYENLEG (III.-IV.) | C32: =C25-C29 -> 121509 | D32: =D25-D29 -> 154883 | J32: =SUM(D32:I32) -> 154883
B33: BEVÉTELEK MINDÖSSZESEN (I.+III.) | C33: =C3+C25 -> 244678 | D33: =D3+D25 -> 282462 | J33: =SUM(D33:I33) -> 282462
B34: Ebből: Működési | C34: =C6+C8+C9+C11 -> 123169 | D34: =D6+D8+D9+D11 -> 127579 | J34: =SUM(D34:I34) -> 127579
B35: Ebből: Felhalmozási | C35: =C7+C10+C12 -> 0 | D35: =D7+D10+D12 -> 0 | J35: =SUM(D35:I35) -> 0
B36: Ebből: Finanszírozási | C36: =C25 -> 121509 | D36: =D25 -> 154883 | J36: =SUM(D36:I36) -> 154883
B37: KIADÁSOK MINDÖSSZESEN (II.+IV.) | C37: =C13+C29 -> 244678 | D37: =D13+D29 -> 282462 | J37: =SUM(D37:I37) -> 282462
B38: Ebből: Működési | C38: =C14+C15+C16+C17+C18 -> 242148 | D38: =D14+D15+D16+D17+D18 -> 281254 | J38: =SUM(D38:I38) -> 281254
B39: Ebből: Felhalmozási | C39: =C19+C20+C21 -> 2530 | D39: =D19+D20+D21 -> 1208 | J39: =SUM(D39:I39) -> 1208
B40: Ebből: Finanszírozási | C40: =C29 -> 0 | D40: =D29 -> 0 | J40: =SUM(D40:I40) -> 0
B41: KÖLTSÉGVETÉSI EGYENLEG | C41: =C33-C37 -> 0 | D41: =D33-D37 -> 0 | J41: =SUM(D41:I41) -> 0
B42: Ebből: Működési | C42: =C34-C38 -> -118979 | D42: =D34-D38 -> -153675 | J42: =SUM(D42:I42) -> -153675
B43: Ebből: Felhalmozási | C43: =C35-C39 -> -2530 | D43: =D35-D39 -> -1208 | J43: =SUM(D43:I43) -> -1208
B44: Ebből: Finanszírozási | C44: =C36-C40 -> 121509 | D44: =D36-D40 -> 154883 | J44: =SUM(D44:I44) -> 154883

Sheet SZERI 2i
B1: Szentendrei Rendészeti Igazgatóság | C1: 2019 terv
C2: Kötelező feladatok | D2: 1. módosítás 2019.06.13. | H2: Kötelező feladatok
A3: I. | B3: KÖLTSÉGVETÉSI BEVÉTELEK | C3: =C6+C7+C8+C9+C10+C11+C12 -> 0 | D3: =D6+D7+D8+D9+D10+D11+D12 -> 0 | E3: =E6+E7+E8+E9+E10+E11+E12 -> 0 | F3: =F6+F7+F8+F9+F10+F11+F12 -> 0 | G3: =G6+G7+G8+G9+G10+G11+G12 -> 0 | H3: =H6+H7+H8+H9+H10+H11+H12 -> 0
A4: B11 | B4: Önkormányzatok működési támogatásai | C4: 0 | H4: =SUM(C4:G4) -> 0
A5: B16 | B5: Egyéb működési célú támogatások ÁHT-n belülről (benne OEP finanszírozás) | C5: 0 | H5: =SUM(C5:G5) -> 0
A6: B1 | B6: Működési célú támogatások államháztartáson belülről | C6: =SUM(C4:C5) -> 0 | D6: =SUM(D4:D5) -> 0 | E6: =SUM(E4:E5) -> 0 | F6: =SUM(F4:F5) -> 0 | G6: =SUM(G4:G5) -> 0 | H6: =SUM(H4:H5) -> 0
A7: B2 | B7: Felhalmozási célú támogatások államháztartáson belülről | C7: 0 | H7: =SUM(C7:G7) -> 0
A8: B3 | B8: Közhatalmi bevételek | C8: 0 | H8: =SUM(C8:G8) -> 0
A9: B4 | B9: Működési bevételek | C9: 0 | H9: =SUM(C9:G9) -> 0
A10: B5 | B10: Felhalmozási bevételek | C10: 0 | H10: =SUM(C10:G10) -> 0
A11: B6 | B11: Működési célú átvett pénzeszköz | C11: 0 | H11: =SUM(C11:G11) -> 0
A12: B7 | B12: Felhalmozási célú átvett pénzeszköz | C12: 0 | H12: =SUM(C12:G12) -> 0
A13: II. | B13: KÖLTSÉGVETÉSI KIADÁSOK | C13: =C14+C15+C16+C17+C18+C19+C20+C21 -> 157525 | D13: =D14+D15+D16+D17+D18+D19+D20+D21 -> 12792 | E13: =E14+E15+E16+E17+E18+E19+E20+E21 -> 0 | F13: =F14+F15+F16+F17+F18+F19+F20+F21 -> 0 | G13: =G14+G15+G16+G17+G18+G19+G20+G21 -> 0 | H13: =H14+H15+H16+H17+H18+H19+H20+H21 -> 170317
A14: K1 | B14: Személyi juttatások | C14: 99770 | H14: =SUM(C14:G14) -> 99770
A15: K2 | B15: Munkaadókat terhelő járulékok és szociális hozzájárulási adó | C15: 20455 | H15: =SUM(C15:G15) -> 20455
A16: K3 | B16: Dologi kiadások | C16: 29300 | D16: 12792 | H16: =SUM(C16:G16) -> 42092
A17: K4 | B17: Ellátottak pénzbeli juttatásai | C17: 0 | H17: =SUM(C17:G17) -> 0
A18: K5 | B18: Egyéb működési célú kiadások | C18: 0 | H18: =SUM(C18:G18) -> 0
A19: K6 | B19: Beruházások | C19: 7000 | H19: =SUM(C19:G19) -> 7000
A20: K7 | B20: Felújítások | C20: 1000 | H20: =SUM(C20:G20) -> 1000
A21: K8 | B21: Egyéb felhalmozási célú kiadások | C21: 0 | H21: =SUM(C21:G21) -> 0
B22: EGYENLEG (I.-II.) | C22: =C3-C13 -> -157525 | D22: =D3-D13 -> -12792 | E22: =E3-E13 -> 0 | F22: =F3-F13 -> 0 | G22: =G3-G13 -> 0 | H22: =H3-H13 -> -170317
B23: Működési | C23: =C6+C8+C9+C11-C14-C15-C16-C17-C18 -> -149525 | D23: =D6+D8+D9+D11-D14-D15-D16-D17-D18 -> -12792 | E23: =E6+E8+E9+E11-E14-E15-E16-E17-E18 -> 0 | F23: =F6+F8+F9+F11-F14-F15-F16-F17-F18 -> 0 | G23: =G6+G8+G9+G11-G14-G15-G16-G17-G18 -> 0 | H23: =H6+H8+H9+H11-H14-H15-H16-H17-H18 -> -162317
B24: Felhalmozási | C24: =C7+C10+C12-C19-C20-C21 -> -8000 | D24: =D7+D10+D12-D19-D20-D21 -> 0 | E24: =E7+E10+E12-E19-E20-E21 -> 0 | F24: =F7+F10+F12-F19-F20-F21 -> 0 | G24: =G7+G10+G12-G19-G20-G21 -> 0 | H24: =H7+H10+H12-H19-H20-H21 -> -8000
A25: III.B8 | B25: FINANSZÍROZÁSI BEVÉTELEK | C25: =C26 -> 157525 | D25: =D26 -> 12792 | E25: =E26 -> 0 | F25: =F26 -> 0 | G25: =G26 -> 0 | H25: =H26 -> 170317
A26: B81 | B26: Belföldi finanszírozás bevételei | C26: =C27 -> 157525 | D26: =D27 -> 12792 | E26: =E27 -> 0 | F26: =F27 -> 0 | G26: =G27 -> 0 | H26: =H27 -> 170317
A27: B816 | B27: Központi, önkormányzattól kapott támogatás | C27: 157525 | D27: 12792 | H27: =SUM(C27:G27) -> 170317
A28: IV.K9 | B28: FINANSZÍROZÁSI KIADÁSOK | C28: =C29 -> 0 | D28: =D29 -> 0 | E28: =E29 -> 0 | F28: =F29 -> 0 | G28: =G29 -> 0 | H28: =H29 -> 0
A29: K91 | B29: Belföldi finanszírozás kiadásai | C29: =C30 -> 0 | D29: =D30 -> 0 | E29: =E30 -> 0 | F29: =F30 -> 0 | G29: =G30 -> 0 | H29: =H30 -> 0
A30: K915 | B30: Központi, irányító szervi támogatások folyósítása | C30: 0 | H30: =SUM(C30:G30) -> 0
B31: FINANSZÍROZÁSI EGYENLEG (III.-IV.) | C31: =C25-C28 -> 157525 | D31: =D25-D28 -> 12792 | E31: =E25-E28 -> 0 | F31: =F25-F28 -> 0 | G31: =G25-G28 -> 0 | H31: =H25-H28 -> 170317
B32: BEVÉTELEK MINDÖSSZESEN (I.+III.) | C32: =C3+C25 -> 157525 | D32: =D3+D25 -> 12792 | E32: =E3+E25 -> 0 | F32: =F3+F25 -> 0 | G32: =G3+G25 -> 0 | H32: =H3+H25 -> 170317
B33: Ebből: Működési | C33: =C6+C8+C9+C11 -> 0 | D33: =D6+D8+D9+D11 -> 0 | E33: =E6+E8+E9+E11 -> 0 | F33: =F6+F8+F9+F11 -> 0 | G33: =G6+G8+G9+G11 -> 0 | H33: =H6+H8+H9+H11 -> 0
B34: Ebből: Felhalmozási | C34: =C7+C10+C12 -> 0 | D34: =D7+D10+D12 -> 0 | E34: =E7+E10+E12 -> 0 | F34: =F7+F10+F12 -> 0 | G34: =G7+G10+G12 -> 0 | H34: =H7+H10+H12 -> 0
B35: Ebből: Finanszírozási | C35: =C25 -> 157525 | D35: =D25 -> 12792 | E35: =E25 -> 0 | F35: =F25 -> 0 | G35: =G25 -> 0 | H35: =H25 -> 170317
B36: KIADÁSOK MINDÖSSZESEN (II.+IV.) | C36: =C13+C28 -> 157525 | D36: =D13+D28 -> 12792 | E36: =E13+E28 -> 0 | F36: =F13+F28 -> 0 | G36: =G13+G28 -> 0 | H36: =H13+H28 -> 170317
B37: Ebből: Működési | C37: =C14+C15+C16+C17+C18 -> 149525 | D37: =D14+D15+D16+D17+D18 -> 12792 | E37: =E14+E15+E16+E17+E18 -> 0 | F37: =F14+F15+F16+F17+F18 -> 0 | G37: =G14+G15+G16+G17+G18 -> 0 | H37: =H14+H15+H16+H17+H18 -> 162317
B38: Ebből: Felhalmozási | C38: =C19+C20+C21 -> 8000 | D38: =D19+D20+D21 -> 0 | E38: =E19+E20+E21 -> 0 | F38: =F19+F20+F21 -> 0 | G38: =G19+G20+G21 -> 0 | H38: =H19+H20+H21 -> 8000
B39: Ebből: Finanszírozási | C39: =C28 -> 0 | D39: =D28 -> 0 | E39: =E28 -> 0 | F39: =F28 -> 0 | G39: =G28 -> 0 | H39: =H28 -> 0
B40: KÖLTSÉGVETÉSI EGYENLEG | C40: =C32-C36 -> 0 | D40: =D32-D36 -> 0 | E40: =E32-E36 -> 0 | F40: =F32-F36 -> 0 | G40: =G32-G36 -> 0 | H40: =H32-H36 -> 0
B41: Ebből: Működési | C41: =C33-C37 -> -149525 | D41: =D33-D37 -> -12792 | E41: =E33-E37 -> 0 | F41: =F33-F37 -> 0 | G41: =G33-G37 -> 0 | H41: =H33-H37 -> -162317
B42: Ebből: Felhalmozási | C42: =C34-C38 -> -8000 | D42: =D34-D38 -> 0 | E42: =E34-E38 -> 0 | F42: =F34-F38 -> 0 | G42: =G34-G38 -> 0 | H42: =H34-H38 -> -8000
B43: Ebből: Finanszírozási | C43: =C35-C39 -> 157525 | D43: =D35-D39 -> 12792 | E43: =E35-E39 -> 0 | F43: =F35-F39 -> 0 | G43: =G35-G39 -> 0 | H43: =H35-H39 -> 170317
